{"text_format":"1","workbook":"xlsx","n_sheets":5,"sheets":["Start-Einstellung","Ration","Mischung 1","Futtermittel","Druck"],"not_rendered":{"charts":0,"images":16,"macros":1,"external_links":0,"defined_names":1,"comments":5,"pivot_tables":0},"unopened":[],"bounds":{"document_bytes":16777216,"sheet_cells":100000,"rows_first":2000,"rows_last":500,"rows_between":2000,"halvings":0,"cell_chars":16384,"cell_head_chars":4096},"cells_cut":0,"cells_raw":0,"read":"whole","date_system":"1900"}

{"sheet":"Start-Einstellung","index":0,"n_rows":26,"n_cols":13,"rows_kept":26,"cut":false,"hidden":false,"merged":[[6,9,6,11],[7,9,7,11],[6,12,6,16],[8,9,8,11],[16,1,16,2],[16,4,16,5],[7,12,7,16],[9,1,10,3],[9,6,10,6],[30,15,30,16],[17,4,17,5],[22,7,24,10],[25,8,26,10],[24,1,24,3],[22,1,22,3],[21,1,21,3],[20,1,20,3],[19,1,19,3],[22,12,24,16],[25,11,26,16],[18,9,19,10],[20,8,21,10],[17,1,17,2]]}
[]
[]
[]
[]
[]
[]
[null,"Dateneingabe zu Berechnung Futteraufnahmeniveau (FAN)",null,null,null,null,"FANi",null,null,"Tierhaltungsschule Triesdorf",null,null,"Markgrafenstraße 1"]
[null,"Ration:","TM - Aufn. kg",20.5,null,700,{"$f":"IFERROR(D8/(F8^0.75*50/1000),0)","v":3.0127307952575229},null,null,"91746 Weidenbach",null,null,"11 222 333 4444"]
[null,null,null,null,null,null,null,null,null,"Adressfelder bitte mit eigenen Angaben überschreiben."]
[null,"Bitte Betriebsdaten eingeben:",null,null,null,null,"sidP Bedarf g/d"]
[]
[null,"Milchleistung kg/Tag",null,30,"Kotverluste (OFN)",null,{"$f":"3*D8*6.25*(72/100)/(70/100)","v":395.35714285714289}]
[null,"Milchprotein %",null,3.4000000000000002E-2,"Harnverluste (OUN)",null,{"$f":"0.05*F8*6.25*(78/100)","v":170.625}]
[null,"Milchfettgehalt %",null,0.04,"Oberflächenverluste (SN)",null,{"$f":"0.02*(F8^0.75)*6.25/(70/100)","v":24.301635522674538}]
[null,"Laktosegehalt %",null,4.8000000000000001E-2,"sidP Bedarf Trächtigkeit",null,{"$f":"IF(OR(D16=0,D16=\"\"),0,12.1156*EXP(0.0108*F16)/(30/100))","v":0}]
[null,"Zwischenkalbezeit Tage",null,0,"Ø Tragendtage",{"$f":"IF(D16>0,(D16-60)/2-(D16-285),0)","v":0}]
[null,"Bedarf je kg Milch",null,{"$f":"IF(D12>0,D18/D12,0)","v":45.202642185400812},"Erhaltungsbedarf",null,{"$f":"IF(D8>0,SUM(G12:G15),0)","v":590.28377837981748}]
[null,"sidP für Milchleistung",null,{"$f":"(D13*10)/6.38*D12*(95%)*6.25/(70/100)*100","v":1356.0792655620244},"Gesamt-Bedarf sidP g/d",null,{"$f":"SUM(G17+D18)","v":1946.3630439418419}]
[]
[null,"Ermittlung des Energiebedarfs ME MJ/d",null,null,"ME Mj","Ca g","Na g"]
[null,"Erhaltungsbedarf",null,null,{"$f":"IF(F8=0,0,IF(AND(F8>0,D12>0),F8^0.75*0.64,IF(AND(F8>0,D12=0),F8^0.75*0.5)))","v":87.097061713265546},{"$f":"IFERROR(IF(D8>0,D8/0.5,1),0)","v":41},{"$f":"IFERROR(IF(D8>0,D8/0.95,1),0)","v":21.578947368421055},null,"Landwirtsch. Lehranstalten Triesdorf www.triesdorf.de"]
[null,"Leistungsbedarf Milch",null,null,{"$f":"IFERROR(IF(D12>0,E24*D12,0),0)","v":143.39999999999998},{"$f":"IFERROR(IF(D12>0,D12*2.5,0),0)","v":75},{"$f":"IFERROR(IF(D12>0,D12*0.6,0),0)","v":18}]
[null,"Gesamtbedarf  ME MJ/d",null,null,{"$f":"SUM(E21:E22)","v":230.49706171326551},{"$f":"SUM(F21:F22)","v":116},39.578947368421055,"       Freie Software  - keinerlei Gewährleistung",null,null,null,null,"DLG Futterwerttabelle 1. Auflage - Stand 07/2025 https://www.dlg.org/landwirtschaft/tierhaltung"]
[null,"Bedarf je kg Milch",null,null,{"$f":"IF(D12>0,(38.5*D14+24.2*D13+16.5*D15)/0.66,0)","v":4.7799999999999994},{"$f":"IFERROR(IF(F22>0,F22/D12,0),0)","v":2.5},{"$f":"IFERROR(IF(G22>0,G22/D12,0),0)","v":0.6}]
[null,"je kg TM",null,null,{"$f":"IFERROR(IF(D8>0,E23/D8,1),0)","v":11.243759107964172},{"$f":"IFERROR(IF(D8>0,F23/D8,1),0)","v":5.6585365853658534},{"$f":"IFERROR(IF(D8>0,G23/D8,1),0)","v":1.9306803594351734}]
[null,null,null,null,null,null,null,null,"Update vom 03.07.2026",null,null,"futtertabelle@web.de"]

{"sheet":"Ration","index":1,"n_rows":36,"n_cols":64,"rows_kept":36,"cut":false,"hidden":false,"merged":[[0,0,0,4],[0,47,0,60]]}
["Trog - Ration",null,null,null,null,"TM","CA","OM","aNDFom","ADFom","OMDFANi","GE","MEFANi","CP","sidP FANi","CL","ST","bST","ZU","RMDFANi","Ca","P","Na","Mg","K","Cl","S","DCAB","Fe","Cu","Zn","Mn","Co","J","Se","siDUDP","Lysin","Methionin","Passager.  k","UDP g/kg","a","b","c","lag","sidUDP FANi","pabKH","Preis","Berechnung von Basis Fan1 auf FANi        --       DLG Information 01 | 25  -  DLG-Merknlatt 503  -  DLG-MERKBLATT 504"]
[null," Futtermenge in kg  Trockenmasse o. Frischmasse","% TM","TM kg","FM kg","kg","g","g","g","g","% ","MJ","MJ","g","g","g","g","g","g","g","g","g","g","g","g","g","g","meq","mg","mg","mg","mg","mg","mg","mg","%","g","g","% / h","g","%","%","% / h","h","g","g","€ / dt","CH4E FAN1","CH4E FANi","Harnen.","ME FANi","MCP g/kg","sidP aus MCP","EDGFANi %","UDPFANi","RDP g/d","sidPUDP g ","sidP g/kg","RDP g/kg","MCP g/d","RMDFANi","DOMFANi","MCP/DOM","UDP %"]
[{"$f":"A25","v":0},"",null,null,null,{"$f":"IF(A3=0,0,IF(AND(D3>0,E3=0),D3,IF(AND(D3=0,E3>0),E3*C3,IF(AND(D3>=0,E3>=0),\"?\"))))","v":0},{"$f":"IFERROR(G25*F3,0)","v":0},{"$f":"IFERROR(H25*F3,0)","v":0},{"$f":"IF(AND(D25=\"GF\",E25>0),I25*F3,0)","v":0},{"$f":"IFERROR(J25*F3,0)","v":0},{"$f":"IF(F3=\"?\",0,IF(F3=0,0,K25-(1.5+0.05*(K25-65))*('Start-Einstellung'!$G$8-1)))","v":0},{"$f":"IFERROR(L25*F3,0)","v":0},{"$f":"IFERROR((AY3*F3),0)","v":0},{"$f":"IFERROR(N25*F3,0)","v":0},{"$f":"IFERROR(BF3*F3,0)","v":0},{"$f":"IFERROR(P25*F3,0)","v":0},{"$f":"IFERROR(Q25*F3,0)","v":0},{"$f":"IFERROR(R25*F3,0)","v":0},{"$f":"IFERROR(S25*F3,0)","v":0},{"$f":"IF((F3=\"?\"),0,(BD3-BH3)/6.25)","v":0},{"$f":"IFERROR(U25*F3,0)","v":0},{"$f":"IFERROR(V25*F3,0)","v":0},{"$f":"IFERROR(W25*F3,0)","v":0},{"$f":"IFERROR(X25*F3,0)","v":0},{"$f":"IFERROR(Y25*F3,0)","v":0},{"$f":"IFERROR(Z25*F3,0)","v":0},{"$f":"IFERROR(AA25*F3,0)","v":0},{"$f":"IFERROR(AB25*F3,0)","v":0},{"$f":"IFERROR(AC25*F3,0)","v":0},{"$f":"IFERROR(AD25*F3,0)","v":0},{"$f":"IFERROR(AE25*F3,0)","v":0},{"$f":"IFERROR(AF25*F3,0)","v":0},{"$f":"IFERROR(AG25*F3,0)","v":0},{"$f":"IFERROR(AH25*F3,0)","v":0},{"$f":"IFERROR(AI25*F3,0)","v":0},{"$f":"IF(F3=\"?\",0,IF(F3=0,0,AJ25))","v":0},{"$f":"IFERROR(AK25*F3,0)","v":0},{"$f":"IFERROR(AL25*F3,0)","v":0},{"$f":"IF(F3=\"?\",0,IF(F3=0,0,IF(D25=\"GF\",(1.7286+0.8857*'Start-Einstellung'!$G$8),IF(D25=\"KF\",(2.2357+1.2429*'Start-Einstellung'!$G$8),IF(D25=\"SF\",(1.9607+0.9643*'Start-Einstellung'!$G$8),0)))))","v":0},{"$f":"IF(F3=\"?\",0,IF(F3=0,0,(N25-BG3)))","v":0},{"$f":"IF(F3=\"?\",0,IF(F3=0,0,AO25))","v":0},{"$f":"IF(F3=\"?\",0,IF(F3=0,0,AP25))","v":0},{"$f":"IF(F3=\"?\",0,IF(F3=0,0,(AQ25/100)))","v":0},{"$f":"IF(F3=\"?\",0,IF(F3=0,0,AR25))","v":0},{"$f":"IFERROR(AS25*F3,0)","v":0},{"$f":"IFERROR(AT25*F3,0)","v":0},{"$f":"IFERROR((AU25/100)*E25,0)","v":0},{"$f":"IF(F3=\"?\",0,IF(F3=0,0,(0.7+0.014*K25)*(H25/1000)))","v":0},{"$f":"IFERROR(IF(F3=\"?\",0,IF(F3=0,0,(((AV3/(H25/1000)+0.9*('Start-Einstellung'!$G$8-1))/'Start-Einstellung'!$G$8*(H25/1000))))),0)","v":0},{"$f":"IF(F3=\"?\",0,IF(F3=0,0,((0.0037*N25))))","v":0},{"$f":"IF(F3=\"?\",0,IF(F3=0,0,((L25*(K3-3.3)/100)-AX3-AW3)))","v":0},{"$f":"BK3*BJ3/1000","v":0},{"$f":"IFERROR((AZ3*0.78*0.85),0)","v":0},{"$f":"IF(F3=\"?\",0,IF(F3=0,0,AO3+(AP3*AQ3)/(AQ3+AM3%)*(EXP(-AM3/100*AR3))))","v":0},{"$f":"IF(F3=\"?\",0,IF(F3=0,0,(N25*(1-(BB3/100)))))","v":0},{"$f":"IF(F3=\"?\",0,IF(F3=0,0,BG3*F3))","v":0},{"$f":"IF(F3>0,(BC3*(AJ3%)),0)","v":0},{"$f":"IFERROR((BA3+BE3),0)","v":0},{"$f":"IFERROR(N25*BB3/100,0)","v":0},{"$f":"IF(F3=\"?\",0,IF(F3=0,0,AZ3*F3))","v":0},{"$f":"IFERROR((BD3-BH3)/6.25,0)","v":0},{"$f":"IFERROR((H25*K3/100),0)","v":0},{"$f":"IF(A3=0,0,IF('Start-Einstellung'!$G$8<3.4,150,IF(-11+(47.1*'Start-Einstellung'!$G$8)>180,180,(-11+(47.1*'Start-Einstellung'!$G$8)))))","v":0},{"$f":"IFERROR((BC3/N25)*100,0)","v":0}]
[0,"",null,null,null,{"$f":"IF(A4=0,0,IF(AND(D4>0,E4=0),D4,IF(AND(D4=0,E4>0),E4*C4,IF(AND(D4>=0,E4>=0),\"?\"))))","v":0},0,0,0,0,{"$f":"IF(F4=\"?\",0,IF(F4=0,0,K26-(1.5+0.05*(K26-65))*('Start-Einstellung'!$G$8-1)))","v":0},0,0,0,{"$f":"IFERROR(BF4*F4,0)","v":0},0,0,0,0,{"$f":"IF((F4=\"?\"),0,(BD4-BH4)/6.25)","v":0},0,0,0,0,0,0,0,0,0,0,0,0,0,0,0,{"$f":"IF(F4=\"?\",0,IF(F4=0,0,AJ26))","v":0},0,0,{"$f":"IF(F4=\"?\",0,IF(F4=0,0,IF(D26=\"GF\",(1.7286+0.8857*'Start-Einstellung'!$G$8),IF(D26=\"KF\",(2.2357+1.2429*'Start-Einstellung'!$G$8),IF(D26=\"SF\",(1.9607+0.9643*'Start-Einstellung'!$G$8),0)))))","v":0},{"$f":"IF(F4=\"?\",0,IF(F4=0,0,(N26-BG4)))","v":0},{"$f":"IF(F4=\"?\",0,IF(F4=0,0,AO26))","v":0},{"$f":"IF(F4=\"?\",0,IF(F4=0,0,AP26))","v":0},{"$f":"IF(F4=\"?\",0,IF(F4=0,0,(AQ26/100)))","v":0},{"$f":"IF(F4=\"?\",0,IF(F4=0,0,AR26))","v":0},0,0,{"$f":"IFERROR((AU26/100)*E26,0)","v":0},0,{"$f":"IFERROR(IF(F4=\"?\",0,IF(F4=0,0,(((AV4/(H26/1000)+0.9*('Start-Einstellung'!$G$8-1))/'Start-Einstellung'!$G$8*(H26/1000))))),0)","v":0},0,0,{"$f":"BK4*BJ4/1000","v":0},{"$f":"IFERROR((AZ4*0.78*0.85),0)","v":0},{"$f":"IF(F4=\"?\",0,IF(F4=0,0,AO4+(AP4*AQ4)/(AQ4+AM4%)*(EXP(-AM4/100*AR4))))","v":0},{"$f":"IF(F4=\"?\",0,IF(F4=0,0,(N26*(1-(BB4/100)))))","v":0},{"$f":"IF(F4=\"?\",0,IF(F4=0,0,BG4*F4))","v":0},{"$f":"IF(F4>0,(BC4*(AJ4%)),0)","v":0},{"$f":"IFERROR((BA4+BE4),0)","v":0},0,{"$f":"IF(F4=\"?\",0,IF(F4=0,0,AZ4*F4))","v":0},{"$f":"IFERROR((BD4-BH4)/6.25,0)","v":0},0,{"$f":"IF(A4=0,0,IF('Start-Einstellung'!$G$8<3.4,150,IF(-11+(47.1*'Start-Einstellung'!$G$8)>180,180,(-11+(47.1*'Start-Einstellung'!$G$8)))))","v":0},0]
[0,"",null,null,null,0,0,0,0,0,{"$f":"IF(F5=\"?\",0,IF(F5=0,0,K27-(1.5+0.05*(K27-65))*('Start-Einstellung'!$G$8-1)))","v":0},0,0,0,0,0,0,0,0,0,0,0,0,0,0,0,0,0,0,0,0,0,0,0,0,0,0,0,{"$f":"IF(F5=\"?\",0,IF(F5=0,0,IF(D27=\"GF\",(1.7286+0.8857*'Start-Einstellung'!$G$8),IF(D27=\"KF\",(2.2357+1.2429*'Start-Einstellung'!$G$8),IF(D27=\"SF\",(1.9607+0.9643*'Start-Einstellung'!$G$8),0)))))","v":0},0,0,0,0,0,0,0,0,0,{"$f":"IFERROR(IF(F5=\"?\",0,IF(F5=0,0,(((AV5/(H27/1000)+0.9*('Start-Einstellung'!$G$8-1))/'Start-Einstellung'!$G$8*(H27/1000))))),0)","v":0},0,0,0,0,0,0,0,{"$f":"IF(F5>0,(BC5*(AJ5%)),0)","v":0},0,0,0,0,0,{"$f":"IF(A5=0,0,IF('Start-Einstellung'!$G$8<3.4,150,IF(-11+(47.1*'Start-Einstellung'!$G$8)>180,180,(-11+(47.1*'Start-Einstellung'!$G$8)))))","v":0},0]
[0,"",null,null,null,0,0,0,0,0,{"$f":"IF(F6=\"?\",0,IF(F6=0,0,K28-(1.5+0.05*(K28-65))*('Start-Einstellung'!$G$8-1)))","v":0},0,0,0,0,0,0,0,0,0,0,0,0,0,0,0,0,0,0,0,0,0,0,0,0,0,0,0,{"$f":"IF(F6=\"?\",0,IF(F6=0,0,IF(D28=\"GF\",(1.7286+0.8857*'Start-Einstellung'!$G$8),IF(D28=\"KF\",(2.2357+1.2429*'Start-Einstellung'!$G$8),IF(D28=\"SF\",(1.9607+0.9643*'Start-Einstellung'!$G$8),0)))))","v":0},0,0,0,0,0,0,0,0,0,{"$f":"IFERROR(IF(F6=\"?\",0,IF(F6=0,0,(((AV6/(H28/1000)+0.9*('Start-Einstellung'!$G$8-1))/'Start-Einstellung'!$G$8*(H28/1000))))),0)","v":0},0,0,0,0,0,0,0,0,0,0,0,0,0,{"$f":"IF(A6=0,0,IF('Start-Einstellung'!$G$8<3.4,150,IF(-11+(47.1*'Start-Einstellung'!$G$8)>180,180,(-11+(47.1*'Start-Einstellung'!$G$8)))))","v":0},0]
[0,"",null,null,null,0,0,0,0,0,{"$f":"IF(F7=\"?\",0,IF(F7=0,0,K29-(1.5+0.05*(K29-65))*('Start-Einstellung'!$G$8-1)))","v":0},0,0,0,0,0,0,0,0,0,0,0,0,0,0,0,0,0,0,0,0,0,0,0,0,0,0,0,{"$f":"IF(F7=\"?\",0,IF(F7=0,0,IF(D29=\"GF\",(1.7286+0.8857*'Start-Einstellung'!$G$8),IF(D29=\"KF\",(2.2357+1.2429*'Start-Einstellung'!$G$8),IF(D29=\"SF\",(1.9607+0.9643*'Start-Einstellung'!$G$8),0)))))","v":0},0,0,0,0,0,0,0,0,0,{"$f":"IFERROR(IF(F7=\"?\",0,IF(F7=0,0,(((AV7/(H29/1000)+0.9*('Start-Einstellung'!$G$8-1))/'Start-Einstellung'!$G$8*(H29/1000))))),0)","v":0},0,0,0,0,0,0,0,0,0,0,0,0,0,{"$f":"IF(A7=0,0,IF('Start-Einstellung'!$G$8<3.4,150,IF(-11+(47.1*'Start-Einstellung'!$G$8)>180,180,(-11+(47.1*'Start-Einstellung'!$G$8)))))","v":0},0]
[0,"",null,null,null,0,0,0,0,0,{"$f":"IF(F8=\"?\",0,IF(F8=0,0,K30-(1.5+0.05*(K30-65))*('Start-Einstellung'!$G$8-1)))","v":0},0,0,0,0,0,0,0,0,0,0,0,0,0,0,0,0,0,0,0,0,0,0,0,0,0,0,0,{"$f":"IF(F8=\"?\",0,IF(F8=0,0,IF(D30=\"GF\",(1.7286+0.8857*'Start-Einstellung'!$G$8),IF(D30=\"KF\",(2.2357+1.2429*'Start-Einstellung'!$G$8),IF(D30=\"SF\",(1.9607+0.9643*'Start-Einstellung'!$G$8),0)))))","v":0},0,0,0,0,0,0,0,0,0,{"$f":"IFERROR(IF(F8=\"?\",0,IF(F8=0,0,(((AV8/(H30/1000)+0.9*('Start-Einstellung'!$G$8-1))/'Start-Einstellung'!$G$8*(H30/1000))))),0)","v":0},0,0,0,0,0,0,0,0,0,0,0,0,0,{"$f":"IF(A8=0,0,IF('Start-Einstellung'!$G$8<3.4,150,IF(-11+(47.1*'Start-Einstellung'!$G$8)>180,180,(-11+(47.1*'Start-Einstellung'!$G$8)))))","v":0},0]
[0,"",null,null,null,0,0,0,0,0,{"$f":"IF(F9=\"?\",0,IF(F9=0,0,K31-(1.5+0.05*(K31-65))*('Start-Einstellung'!$G$8-1)))","v":0},0,0,0,0,0,0,0,0,0,0,0,0,0,0,0,0,0,0,0,0,0,0,0,0,0,0,0,{"$f":"IF(F9=\"?\",0,IF(F9=0,0,IF(D31=\"GF\",(1.7286+0.8857*'Start-Einstellung'!$G$8),IF(D31=\"KF\",(2.2357+1.2429*'Start-Einstellung'!$G$8),IF(D31=\"SF\",(1.9607+0.9643*'Start-Einstellung'!$G$8),0)))))","v":0},0,0,0,0,0,0,0,0,0,{"$f":"IFERROR(IF(F9=\"?\",0,IF(F9=0,0,(((AV9/(H31/1000)+0.9*('Start-Einstellung'!$G$8-1))/'Start-Einstellung'!$G$8*(H31/1000))))),0)","v":0},0,0,0,0,0,0,0,0,0,0,0,0,0,{"$f":"IF(A9=0,0,IF('Start-Einstellung'!$G$8<3.4,150,IF(-11+(47.1*'Start-Einstellung'!$G$8)>180,180,(-11+(47.1*'Start-Einstellung'!$G$8)))))","v":0},0]
[0,"",null,null,null,0,0,0,0,0,{"$f":"IF(F10=\"?\",0,IF(F10=0,0,K32-(1.5+0.05*(K32-65))*('Start-Einstellung'!$G$8-1)))","v":0},0,0,0,0,0,0,0,0,0,0,0,0,0,0,0,0,0,0,0,0,0,0,0,0,0,0,0,{"$f":"IF(F10=\"?\",0,IF(F10=0,0,IF(D32=\"GF\",(1.7286+0.8857*'Start-Einstellung'!$G$8),IF(D32=\"KF\",(2.2357+1.2429*'Start-Einstellung'!$G$8),IF(D32=\"SF\",(1.9607+0.9643*'Start-Einstellung'!$G$8),0)))))","v":0},0,0,0,0,0,0,0,0,0,{"$f":"IFERROR(IF(F10=\"?\",0,IF(F10=0,0,(((AV10/(H32/1000)+0.9*('Start-Einstellung'!$G$8-1))/'Start-Einstellung'!$G$8*(H32/1000))))),0)","v":0},0,0,0,0,0,0,0,0,0,0,0,0,0,{"$f":"IF(A10=0,0,IF('Start-Einstellung'!$G$8<3.4,150,IF(-11+(47.1*'Start-Einstellung'!$G$8)>180,180,(-11+(47.1*'Start-Einstellung'!$G$8)))))","v":0},0]
[0,"",null,null,null,0,0,0,0,0,{"$f":"IF(F11=\"?\",0,IF(F11=0,0,K33-(1.5+0.05*(K33-65))*('Start-Einstellung'!$G$8-1)))","v":0},0,0,0,0,0,0,0,0,0,0,0,0,0,0,0,0,0,0,0,0,0,0,0,0,0,0,0,{"$f":"IF(F11=\"?\",0,IF(F11=0,0,IF(D33=\"GF\",(1.7286+0.8857*'Start-Einstellung'!$G$8),IF(D33=\"KF\",(2.2357+1.2429*'Start-Einstellung'!$G$8),IF(D33=\"SF\",(1.9607+0.9643*'Start-Einstellung'!$G$8),0)))))","v":0},0,0,0,0,0,0,0,0,0,{"$f":"IFERROR(IF(F11=\"?\",0,IF(F11=0,0,(((AV11/(H33/1000)+0.9*('Start-Einstellung'!$G$8-1))/'Start-Einstellung'!$G$8*(H33/1000))))),0)","v":0},0,0,0,0,0,0,0,0,0,0,0,0,0,{"$f":"IF(A11=0,0,IF('Start-Einstellung'!$G$8<3.4,150,IF(-11+(47.1*'Start-Einstellung'!$G$8)>180,180,(-11+(47.1*'Start-Einstellung'!$G$8)))))","v":0},0]
[0,"",null,null,null,0,0,0,0,0,{"$f":"IF(F12=\"?\",0,IF(F12=0,0,K34-(1.5+0.05*(K34-65))*('Start-Einstellung'!$G$8-1)))","v":0},0,0,0,0,0,0,0,0,0,0,0,0,0,0,0,0,0,0,0,0,0,0,0,0,0,0,0,{"$f":"IF(F12=\"?\",0,IF(F12=0,0,IF(D34=\"GF\",(1.7286+0.8857*'Start-Einstellung'!$G$8),IF(D34=\"KF\",(2.2357+1.2429*'Start-Einstellung'!$G$8),IF(D34=\"SF\",(1.9607+0.9643*'Start-Einstellung'!$G$8),0)))))","v":0},0,0,0,0,0,0,0,0,0,{"$f":"IFERROR(IF(F12=\"?\",0,IF(F12=0,0,(((AV12/(H34/1000)+0.9*('Start-Einstellung'!$G$8-1))/'Start-Einstellung'!$G$8*(H34/1000))))),0)","v":0},0,0,0,0,0,0,0,0,0,0,0,0,0,{"$f":"IF(A12=0,0,IF('Start-Einstellung'!$G$8<3.4,150,IF(-11+(47.1*'Start-Einstellung'!$G$8)>180,180,(-11+(47.1*'Start-Einstellung'!$G$8)))))","v":0},0]
[0,"",null,null,null,0,0,0,0,0,{"$f":"IF(F13=\"?\",0,IF(F13=0,0,K35-(1.5+0.05*(K35-65))*('Start-Einstellung'!$G$8-1)))","v":0},0,0,0,0,0,0,0,0,0,0,0,0,0,0,0,0,0,0,0,0,0,0,0,0,0,0,0,{"$f":"IF(F13=\"?\",0,IF(F13=0,0,IF(D35=\"GF\",(1.7286+0.8857*'Start-Einstellung'!$G$8),IF(D35=\"KF\",(2.2357+1.2429*'Start-Einstellung'!$G$8),IF(D35=\"SF\",(1.9607+0.9643*'Start-Einstellung'!$G$8),0)))))","v":0},0,0,0,0,0,0,0,0,0,{"$f":"IFERROR(IF(F13=\"?\",0,IF(F13=0,0,(((AV13/(H35/1000)+0.9*('Start-Einstellung'!$G$8-1))/'Start-Einstellung'!$G$8*(H35/1000))))),0)","v":0},0,0,0,0,0,0,0,0,0,0,0,0,0,{"$f":"IF(A13=0,0,IF('Start-Einstellung'!$G$8<3.4,150,IF(-11+(47.1*'Start-Einstellung'!$G$8)>180,180,(-11+(47.1*'Start-Einstellung'!$G$8)))))","v":0},0]
[0,"",null,null,null,0,0,0,0,0,{"$f":"IF(F14=\"?\",0,IF(F14=0,0,K36-(1.5+0.05*(K36-65))*('Start-Einstellung'!$G$8-1)))","v":0},0,0,0,0,0,0,0,0,0,0,0,0,0,0,0,0,0,0,0,0,0,0,0,0,0,0,0,{"$f":"IF(F14=\"?\",0,IF(F14=0,0,IF(D36=\"GF\",(1.7286+0.8857*'Start-Einstellung'!$G$8),IF(D36=\"KF\",(2.2357+1.2429*'Start-Einstellung'!$G$8),IF(D36=\"SF\",(1.9607+0.9643*'Start-Einstellung'!$G$8),0)))))","v":0},0,0,0,0,0,0,0,0,0,{"$f":"IFERROR(IF(F14=\"?\",0,IF(F14=0,0,(((AV14/(H36/1000)+0.9*('Start-Einstellung'!$G$8-1))/'Start-Einstellung'!$G$8*(H36/1000))))),0)","v":0},0,0,0,0,0,0,0,0,0,0,0,0,0,{"$f":"IF(A14=0,0,IF('Start-Einstellung'!$G$8<3.4,150,IF(-11+(47.1*'Start-Einstellung'!$G$8)>180,180,(-11+(47.1*'Start-Einstellung'!$G$8)))))","v":0},0]
[null," Zugabe Konzentratmischung hier in kg eingeben",null,null,null,{"$f":"IFERROR(('Mischung 1'!D15*E15)/1000,0)","v":0},{"$f":"IFERROR(('Mischung 1'!E15*E15),0)","v":0},{"$f":"IFERROR(('Mischung 1'!F15*E15),0)","v":0},{"$f":"IFERROR(('Mischung 1'!G15*E15),0)","v":0},{"$f":"IFERROR(('Mischung 1'!H15*E15),0)","v":0},null,{"$f":"IFERROR(('Mischung 1'!J15*E15),0)","v":0},{"$f":"IFERROR(('Mischung 1'!K15*E15),0)","v":0},{"$f":"IFERROR(('Mischung 1'!L15*E15),0)","v":0},{"$f":"IFERROR(('Mischung 1'!M15*E15),0)","v":0},{"$f":"IFERROR(('Mischung 1'!N15*E15),0)","v":0},{"$f":"IFERROR(('Mischung 1'!O15*E15),0)","v":0},{"$f":"IFERROR(('Mischung 1'!P15*E15),0)","v":0},{"$f":"IFERROR(('Mischung 1'!Q15*E15),0)","v":0},{"$f":"IFERROR(('Mischung 1'!R15*E15),0)","v":0},{"$f":"IFERROR(('Mischung 1'!S15*E15),0)","v":0},{"$f":"IFERROR(('Mischung 1'!T15*E15),0)","v":0},{"$f":"IFERROR(('Mischung 1'!U15*E15),0)","v":0},{"$f":"IFERROR(('Mischung 1'!V15*E15),0)","v":0},{"$f":"IFERROR(('Mischung 1'!W15*E15),0)","v":0},{"$f":"IFERROR(('Mischung 1'!X15*E15),0)","v":0},{"$f":"IFERROR(('Mischung 1'!Y15*E15),0)","v":0},{"$f":"IFERROR(('Mischung 1'!Z15*E15),0)","v":0},{"$f":"IFERROR(('Mischung 1'!AA15*E15),0)","v":0},{"$f":"IFERROR(('Mischung 1'!AB15*E15),0)","v":0},{"$f":"IFERROR(('Mischung 1'!AC15*E15),0)","v":0},{"$f":"IFERROR(('Mischung 1'!AD15*E15),0)","v":0},{"$f":"IFERROR(('Mischung 1'!AE15*E15),0)","v":0},{"$f":"IFERROR(('Mischung 1'!AF15*E15),0)","v":0},{"$f":"IFERROR(('Mischung 1'!AG15*E15),0)","v":0},null,{"$f":"IFERROR(('Mischung 1'!AI15*E15),0)","v":0},{"$f":"IFERROR(('Mischung 1'!AJ15*E15),0)","v":0},null,{"$f":"IFERROR(N37-BG15,0)","v":0},null,null,null,null,{"$f":"IFERROR(('Mischung 1'!AQ15*E15),0)","v":0},{"$f":"IFERROR(('Mischung 1'!AR15*E15),0)","v":0},{"$f":"IFERROR(('Mischung 1'!AS15*E15),0)","v":0},null,null,null,null,null,null,null,null,0,null,null,null,{"$f":"IF(F15=\"?\",0,IF(F15=0,0,BK15*F15))","v":0}]
[null,"Summe",null,null,{"$f":"SUM(E25:E36)+E17+E15","v":0},{"$f":"SUM(F3:F15)","v":0},{"$f":"SUM(G3:G15)","v":0},{"$f":"SUM(H3:H15)","v":0},{"$f":"SUM(I3:I15)","v":0},{"$f":"SUM(J3:J15)","v":0},null,{"$f":"SUM(L3:L15)","v":0},0,0,0,0,0,0,0,0,0,0,0,0,0,0,0,{"$f":"SUM(AB3:AB15)","v":0},{"$f":"SUM(AC3:AC15)","v":0},0,0,0,0,0,0,null,0,0,0,0,0,null,null,null,{"$f":"SUM(AS3:AS15)","v":0},{"$f":"SUM(AT3:AT15)","v":0},{"$f":"SUM(AU3:AU15)","v":0},null,null,null,null,null,{"$f":"SUM(BA3:BA15)","v":0},null,null,{"$f":"SUM(BD3:BD14)","v":0},null,null,null,{"$f":"SUM(BH3:BH14)","v":0},{"$f":"(BD16-BH16)/6.25","v":0}]
[null,"Wasserzugabe bitte eingeben ",null,{"$f":"IF(F16>0,(F16/E16),0)","v":0},null,null,{"$f":"IF(G16>0,G16/F16,0)","v":0},{"$f":"IF(H16>0,H16/F16,0)","v":0},{"$f":"IF(I16>0,I16/F16/1000,0)","v":0},{"$f":"IF(J16>0,J16/F16,0)","v":0},{"$f":"IF(K16>0,K16/$F$16,0)","v":0},{"$f":"IF(L16>0,L16/$F$16,0)","v":0},{"$f":"IF(M16>0,M16/$F$16,0)","v":0},{"$f":"IF(N16>0,N16/$F$16/1000,0)","v":0},{"$f":"IF(O16>0,O16/$F$16,0)","v":0},{"$f":"IF(P16>0,P16/$F$16/1000,0)","v":0},{"$f":"IF(Q16>0,Q16/$F$16/1000,0)","v":0},{"$f":"IF(R16>0,R16/$F$16/1000,0)","v":0},{"$f":"IF(S16>0,S16/$F$16/1000,0)","v":0},{"$f":"IF(T16<>0,T16/$F$16,0)","v":0},{"$f":"IF(U16>0,U16/$F$16,0)","v":0},0,0,0,0,0,0,{"$f":"IF(F16>0,((42.5*W16)+(25.6*Y16)-(28.2*Z16)-(62.4*AA16))/F16,0)","v":0},{"$f":"IFERROR(SUM(AC3:AC15)/F16,0)","v":0},{"$f":"IFERROR(SUM(AD3:AD15)/F16,0)","v":0},{"$f":"IFERROR(SUM(AE3:AE15)/F16,0)","v":0},{"$f":"IFERROR(SUM(AF3:AF15)/F16,0)","v":0},{"$f":"IFERROR(SUM(AG3:AG15)/F16,0)","v":0},{"$f":"IFERROR(SUM(AH3:AH15)/F16,0)","v":0},{"$f":"IFERROR(SUM(AI3:AI15)/F16,0)","v":0},null,{"$f":"IF(AK16>0,AK16/$F$16,0)","v":0},{"$f":"IF(AL16>0,AL16/$F$16,0)","v":0},{"$f":"SUM(AM15:AM15)","v":0},{"$f":"SUM(AN15:AN15)","v":0},null,null,null,null,{"$f":"IF(AS16>0,AS16/$F$16,0)","v":0},{"$f":"IF(AT16>0,AT16/$F$16/1000,0)","v":0},{"$f":"IF(AU16>0,AU16/$F$16,0)","v":0}]
[null,"Milcherzeugungswerte / Kennzahlen",{"$f":"SUMIF(D25:D36,\"GF\",F3:F15)","v":0},{"$f":"F16-C18","v":0},{"$f":"IF(C18>0,C18/F16,0)","v":0},{"$f":"IF(D18>0,D18/F16,0)","v":0},null,null,null,null,null,null,{"$f":"IFERROR(IF(M16>0,(M16-'Start-Einstellung'!E21)/'Start-Einstellung'!E24,0),0)","v":0},null,{"$f":"IFERROR(IF(O16>0,(O16-'Start-Einstellung'!G17)/'Start-Einstellung'!D17,0),0)","v":0},null,null,null,null,null,{"$f":"IFERROR(IF(U16>0,(U16-'Start-Einstellung'!F21)/'Start-Einstellung'!F24,0),0)","v":0},{"$f":"IF(F16>0,(V16-1.43*F16)/1.43,0)","v":0},{"$f":"IFERROR(IF(W16>0,(W16-'Start-Einstellung'!G21)/'Start-Einstellung'!G24,0),0)","v":0},{"$f":"IF(F16>0,(X16-0.8*F16)/0.8,0)","v":0},{"$f":"IF(F16>0,(Y16-8.8*F16)/1.6,0)","v":0},{"$f":"IF(F16>0,(Z16-1.5*F16)/1.4,0)","v":0},{"$f":"IF(F16>0,(AA16-1.5*F16)/0.6,0)","v":0}]
[null,null,null,null,null,null,null,{"$f":"IF(I16>0,I19/(I19+(Q19+S19-R19-2.8)/0.36)*100,0)","v":0},{"$f":"I16*0.001","v":0},null,null,null,null,null,null,null,{"$f":"Q16*0.001","v":0},{"$f":"R16*0.001","v":0},{"$f":"S16*0.001","v":0}]
[null,"Differenz + / - zu Sollwert","FANi","Milch","KM kg",{"$f":"F16-F21","v":-20.5},null,null,"SI :",null,{"$f":"IF(H19>100, 100, IF(H19<0, 100, H19))","v":0},null,{"$f":"M16-M21","v":-230.49706171326551},null,{"$f":"O16-O21","v":-1946.3630439418419},null,null,null,null,null,{"$f":"U16-U21","v":-116},0,-39.578947368421055,0,0,0,0,null,{"$f":"AC17-AC21","v":-50},{"$f":"AD17-AD21","v":-10},{"$f":"AE17-AE21","v":-50},{"$f":"AF17-AF21","v":-50},null,null,{"$f":"AI17-AI21","v":-0.2},null,{"$f":"AK17-AK21","v":0},{"$f":"AL17-AL21","v":0}]
[null,"Sollwerte aus  Start-Einstellung",{"$f":"IFERROR(('Start-Einstellung'!G8),0)","v":3.0127307952575229},{"$f":"IFERROR(('Start-Einstellung'!D12),0)","v":30},{"$f":"IFERROR(('Start-Einstellung'!F8),0)","v":700},{"$f":"IFERROR(('Start-Einstellung'!D8),0)","v":20.5},null,null,null,null,null,null,{"$f":"IFERROR(('Start-Einstellung'!E23),0)","v":230.49706171326551},null,{"$f":"IFERROR(('Start-Einstellung'!G18),0)","v":1946.3630439418419},null,null,null,null,null,{"$f":"IF('Start-Einstellung'!D12>0,'Start-Einstellung'!F23,IF(E16=0,0,IF(AB21<=-50,F16*13,IF(AB21<=0,F16*11,IF(AB21<=100,F16*8,IF(AB21<200,F16*6,IF(AB21>=200,F16*4)))))))","v":116},{"$f":"IF(F16>0,(1.43*F16)+(1.43*'Start-Einstellung'!D12),0)","v":0},{"$f":"IFERROR(('Start-Einstellung'!G23),0)","v":39.578947368421055},{"$f":"IF(F16>0,(0.8*F16)+(0.8*'Start-Einstellung'!D12),0)","v":0},{"$f":"IF(F16>0,(8.8*F16)+(1.6*'Start-Einstellung'!D12),0)","v":0},{"$f":"IF(F16>0,(1.5*F16)+(1.4*'Start-Einstellung'!D12),0)","v":0},{"$f":"IF(F16>0,(1.5*F16)+(0.6*'Start-Einstellung'!D12),0)","v":0},null,50,10,50,50,null,null,0.2,null,{"$f":"IFERROR(('Start-Einstellung'!#REF!),0)","v":0},{"$f":"IFERROR(('Start-Einstellung'!#REF!),0)","v":0}]
[]
[null,"Ausgewählte Futtermittel aus Gruber Tabelle","% TM","Art","FM kg","TM kg","CA","OM","aNDFom","ADFom","OMDFAN1","GE","MEFAN1","CP","sidP FAN1","CL","ST","bST","ZU","RMDFAN1","Ca","P","Na","Mg","K","Cl","S","DCAB","Fe","Cu","Zn","Mn","Co","J","Se","siDUDP","sidLYS FAN1","sidMETFAN1","Passager.  k","sidP udp","a","b","c","lag h","sidUDP FAN1","pabKH","Preis / €"]
[null,"Direkte Futtermittel - Nr. Eingabe möglich",null,null,null,"g/kg","g/kg TM","g/kg TM","g/kg TM","g/kg TM","% OM","MJ/kg TM","MJ/kg TM","g/kg TM","g/kg TM","g/kg TM","g/kg TM","g / kg TM","g/kg TM","g N / kg TM","g/kg TM","g/kg TM","g/kg TM","g/kg TM","g/kg TM","g/kg TM","g/kg TM","meq/ kg TM","mg/kg TM","mg/kg TM","mg/kg TM","mg/kg TM","mg/kg TM","mg/kg TM","mg/kg TM","% UDP","g/kg TM","g/kg TM","% / h","g / kg TM","%","%","% / h","h","g/kg TM","g/kg TM","€ / dt"]
[null,{"$f":"IFERROR(VLOOKUP(A25,Futtermittel!$A$3:$AR$386,2,0),\"\")","v":""},{"$f":"IFERROR(F25/1000,0)","v":0},{"$f":"IFERROR(VLOOKUP(A25,Futtermittel!$A$3:$AR$386,28,0),\"\")","v":""},{"$f":"IFERROR(F3/(C3),0)","v":0},{"$f":"IFERROR(VLOOKUP(A25,Futtermittel!$A$3:$AR$386,3,0),\"\")","v":""},{"$f":"IFERROR(VLOOKUP(A25,Futtermittel!$A$3:$AR$386,4,0),\"\")","v":""},{"$f":"IFERROR(VLOOKUP(A25,Futtermittel!$A$3:$AR$386,5,0),\"\")","v":""},{"$f":"IFERROR(VLOOKUP(A25,Futtermittel!$A$3:$AR$386,6,0),\"\")","v":""},{"$f":"IFERROR(VLOOKUP(A25,Futtermittel!$A$3:$AR$386,7,0),\"\")","v":""},{"$f":"IFERROR(VLOOKUP(A25,Futtermittel!$A$3:$AR$386,8,0),\"\")","v":""},{"$f":"IFERROR(VLOOKUP(A25,Futtermittel!$A$3:$AR$386,13,0),\"\")","v":""},{"$f":"IFERROR(VLOOKUP(A25,Futtermittel!$A$3:$AR$386,18,0),\"\")","v":""},{"$f":"IFERROR(VLOOKUP(A25,Futtermittel!$A$3:$AR$386,9,0),\"\")","v":""},{"$f":"IFERROR(VLOOKUP(A25,Futtermittel!$A$3:$AR$386,14,0),\"\")","v":""},{"$f":"IFERROR(VLOOKUP(A25,Futtermittel!$A$3:$AR$386,10,0),\"\")","v":""},{"$f":"IFERROR(VLOOKUP(A25,Futtermittel!$A$3:$AR$386,11,0),\"\")","v":""},{"$f":"IFERROR(VLOOKUP(A25,Futtermittel!$A$3:$AR$386,43,0),0)","v":0},{"$f":"IFERROR(VLOOKUP(A25,Futtermittel!$A$3:$AR$386,12,0),\"\")","v":""},{"$f":"IFERROR(VLOOKUP(A25,Futtermittel!$A$3:$AR$386,17,0),\"\")","v":""},{"$f":"IFERROR(VLOOKUP(A25,Futtermittel!$A$3:$AR$386,20,0),\"\")","v":""},{"$f":"IFERROR(VLOOKUP(A25,Futtermittel!$A$3:$AR$386,21,0),\"\")","v":""},{"$f":"IFERROR(VLOOKUP(A25,Futtermittel!$A$3:$AR$386,23,0),\"\")","v":""},{"$f":"IFERROR(VLOOKUP(A25,Futtermittel!$A$3:$AR$386,22,0),\"\")","v":""},{"$f":"IFERROR(VLOOKUP(A25,Futtermittel!$A$3:$AR$386,24,0),\"\")","v":""},{"$f":"IFERROR(VLOOKUP(A25,Futtermittel!$A$3:$AR$386,25,0),\"\")","v":""},{"$f":"IFERROR(VLOOKUP(A25,Futtermittel!$A$3:$AR$386,26,0),\"\")","v":""},{"$f":"IFERROR(VLOOKUP(A25,Futtermittel!$A$3:$AR$386,27,0),\"\")","v":""},{"$f":"IFERROR(VLOOKUP(A25,Futtermittel!$A$3:$AR$386,29,0),\"\")","v":""},{"$f":"IFERROR(VLOOKUP(A25,Futtermittel!$A$3:$AR$386,30,0),\"\")","v":""},{"$f":"IFERROR(VLOOKUP(A25,Futtermittel!$A$3:$AR$386,31,0),\"\")","v":""},{"$f":"IFERROR(VLOOKUP(A25,Futtermittel!$A$3:$AR$386,32,0),\"\")","v":""},{"$f":"IFERROR(VLOOKUP(A25,Futtermittel!$A$3:$AR$386,33,0),\"\")","v":""},{"$f":"IFERROR(VLOOKUP(A25,Futtermittel!$A$3:$AR$386,34,0),\"\")","v":""},{"$f":"IFERROR(VLOOKUP(A25,Futtermittel!$A$3:$AR$386,35,0),\"\")","v":""},{"$f":"IFERROR(VLOOKUP(A25,Futtermittel!$A$3:$AR$386,16,0),\"\")","v":""},{"$f":"IFERROR(VLOOKUP(A25,Futtermittel!$A$3:$AR$386,41,0),\"\")","v":""},{"$f":"IFERROR(VLOOKUP(A25,Futtermittel!$A$3:$AR$386,42,0),\"\")","v":""},{"$f":"IF(D25=\"GF\",4.4,IF(D25=\"KF\",6,IF(D25=\"SF\",6,\"\")))","v":""},{"$f":"IFERROR(VLOOKUP(A25,Futtermittel!$A$3:$AR$386,14,0),\"\")","v":""},{"$f":"IFERROR(VLOOKUP(A25,Futtermittel!$A$3:$AR$386,37,0),\"\")","v":""},{"$f":"IFERROR(VLOOKUP(A25,Futtermittel!$A$3:$AR$386,38,0),\"\")","v":""},{"$f":"IFERROR(VLOOKUP(A25,Futtermittel!$A$3:$AR$386,39,0),\"\")","v":""},{"$f":"IFERROR(VLOOKUP(A25,Futtermittel!$A$3:$AR$386,40,0),\"\")","v":""},{"$f":"IFERROR(VLOOKUP(A25,Futtermittel!$A$3:$AR$386,16,0),\"\")","v":""},{"$f":"IFERROR(VLOOKUP(A25,Futtermittel!$A$3:$AR$386,19,0),\"\")","v":""},{"$f":"IFERROR(VLOOKUP(A25,Futtermittel!$A$3:$AR$386,36,0),\"\")","v":""}]
[null,{"$f":"IFERROR(VLOOKUP(A26,Futtermittel!$A$3:$AR$386,2,0),\"\")","v":""},{"$f":"IFERROR(F26/1000,0)","v":0},{"$f":"IFERROR(VLOOKUP(A26,Futtermittel!$A$3:$AR$386,28,0),\"\")","v":""},0,{"$f":"IFERROR(VLOOKUP(A26,Futtermittel!$A$3:$AR$386,3,0),\"\")","v":""},{"$f":"IFERROR(VLOOKUP(A26,Futtermittel!$A$3:$AR$386,4,0),\"\")","v":""},{"$f":"IFERROR(VLOOKUP(A26,Futtermittel!$A$3:$AR$386,5,0),\"\")","v":""},{"$f":"IFERROR(VLOOKUP(A26,Futtermittel!$A$3:$AR$386,6,0),\"\")","v":""},{"$f":"IFERROR(VLOOKUP(A26,Futtermittel!$A$3:$AR$386,7,0),\"\")","v":""},{"$f":"IFERROR(VLOOKUP(A26,Futtermittel!$A$3:$AR$386,8,0),\"\")","v":""},{"$f":"IFERROR(VLOOKUP(A26,Futtermittel!$A$3:$AR$386,13,0),\"\")","v":""},{"$f":"IFERROR(VLOOKUP(A26,Futtermittel!$A$3:$AR$386,18,0),\"\")","v":""},{"$f":"IFERROR(VLOOKUP(A26,Futtermittel!$A$3:$AR$386,9,0),\"\")","v":""},{"$f":"IFERROR(VLOOKUP(A26,Futtermittel!$A$3:$AR$386,14,0),\"\")","v":""},{"$f":"IFERROR(VLOOKUP(A26,Futtermittel!$A$3:$AR$386,10,0),\"\")","v":""},{"$f":"IFERROR(VLOOKUP(A26,Futtermittel!$A$3:$AR$386,11,0),\"\")","v":""},{"$f":"IFERROR(VLOOKUP(A26,Futtermittel!$A$3:$AR$386,43,0),0)","v":0},{"$f":"IFERROR(VLOOKUP(A26,Futtermittel!$A$3:$AR$386,12,0),\"\")","v":""},{"$f":"IFERROR(VLOOKUP(A26,Futtermittel!$A$3:$AR$386,17,0),\"\")","v":""},{"$f":"IFERROR(VLOOKUP(A26,Futtermittel!$A$3:$AR$386,20,0),\"\")","v":""},{"$f":"IFERROR(VLOOKUP(A26,Futtermittel!$A$3:$AR$386,21,0),\"\")","v":""},{"$f":"IFERROR(VLOOKUP(A26,Futtermittel!$A$3:$AR$386,23,0),\"\")","v":""},{"$f":"IFERROR(VLOOKUP(A26,Futtermittel!$A$3:$AR$386,22,0),\"\")","v":""},{"$f":"IFERROR(VLOOKUP(A26,Futtermittel!$A$3:$AR$386,24,0),\"\")","v":""},{"$f":"IFERROR(VLOOKUP(A26,Futtermittel!$A$3:$AR$386,25,0),\"\")","v":""},{"$f":"IFERROR(VLOOKUP(A26,Futtermittel!$A$3:$AR$386,26,0),\"\")","v":""},{"$f":"IFERROR(VLOOKUP(A26,Futtermittel!$A$3:$AR$386,27,0),\"\")","v":""},{"$f":"IFERROR(VLOOKUP(A26,Futtermittel!$A$3:$AR$386,29,0),\"\")","v":""},{"$f":"IFERROR(VLOOKUP(A26,Futtermittel!$A$3:$AR$386,30,0),\"\")","v":""},{"$f":"IFERROR(VLOOKUP(A26,Futtermittel!$A$3:$AR$386,31,0),\"\")","v":""},{"$f":"IFERROR(VLOOKUP(A26,Futtermittel!$A$3:$AR$386,32,0),\"\")","v":""},{"$f":"IFERROR(VLOOKUP(A26,Futtermittel!$A$3:$AR$386,33,0),\"\")","v":""},{"$f":"IFERROR(VLOOKUP(A26,Futtermittel!$A$3:$AR$386,34,0),\"\")","v":""},{"$f":"IFERROR(VLOOKUP(A26,Futtermittel!$A$3:$AR$386,35,0),\"\")","v":""},{"$f":"IFERROR(VLOOKUP(A26,Futtermittel!$A$3:$AR$386,16,0),\"\")","v":""},{"$f":"IFERROR(VLOOKUP(A26,Futtermittel!$A$3:$AR$386,41,0),\"\")","v":""},{"$f":"IFERROR(VLOOKUP(A26,Futtermittel!$A$3:$AR$386,42,0),\"\")","v":""},"",{"$f":"IFERROR(VLOOKUP(A26,Futtermittel!$A$3:$AR$386,14,0),\"\")","v":""},{"$f":"IFERROR(VLOOKUP(A26,Futtermittel!$A$3:$AR$386,37,0),\"\")","v":""},{"$f":"IFERROR(VLOOKUP(A26,Futtermittel!$A$3:$AR$386,38,0),\"\")","v":""},{"$f":"IFERROR(VLOOKUP(A26,Futtermittel!$A$3:$AR$386,39,0),\"\")","v":""},{"$f":"IFERROR(VLOOKUP(A26,Futtermittel!$A$3:$AR$386,40,0),0)","v":0},{"$f":"IFERROR(VLOOKUP(A26,Futtermittel!$A$3:$AR$386,16,0),\"\")","v":""},{"$f":"IFERROR(VLOOKUP(A26,Futtermittel!$A$3:$AR$386,19,0),\"\")","v":""},{"$f":"IFERROR(VLOOKUP(A26,Futtermittel!$A$3:$AR$386,36,0),\"\")","v":""}]
[null,{"$f":"IFERROR(VLOOKUP(A27,Futtermittel!$A$3:$AR$386,2,0),\"\")","v":""},0,{"$f":"IFERROR(VLOOKUP(A27,Futtermittel!$A$3:$AR$386,28,0),\"\")","v":""},0,{"$f":"IFERROR(VLOOKUP(A27,Futtermittel!$A$3:$AR$386,3,0),\"\")","v":""},{"$f":"IFERROR(VLOOKUP(A27,Futtermittel!$A$3:$AR$386,4,0),\"\")","v":""},{"$f":"IFERROR(VLOOKUP(A27,Futtermittel!$A$3:$AR$386,5,0),\"\")","v":""},{"$f":"IFERROR(VLOOKUP(A27,Futtermittel!$A$3:$AR$386,6,0),\"\")","v":""},{"$f":"IFERROR(VLOOKUP(A27,Futtermittel!$A$3:$AR$386,7,0),\"\")","v":""},{"$f":"IFERROR(VLOOKUP(A27,Futtermittel!$A$3:$AR$386,8,0),\"\")","v":""},{"$f":"IFERROR(VLOOKUP(A27,Futtermittel!$A$3:$AR$386,13,0),\"\")","v":""},{"$f":"IFERROR(VLOOKUP(A27,Futtermittel!$A$3:$AR$386,18,0),\"\")","v":""},{"$f":"IFERROR(VLOOKUP(A27,Futtermittel!$A$3:$AR$386,9,0),\"\")","v":""},{"$f":"IFERROR(VLOOKUP(A27,Futtermittel!$A$3:$AR$386,14,0),\"\")","v":""},{"$f":"IFERROR(VLOOKUP(A27,Futtermittel!$A$3:$AR$386,10,0),\"\")","v":""},{"$f":"IFERROR(VLOOKUP(A27,Futtermittel!$A$3:$AR$386,11,0),\"\")","v":""},{"$f":"IFERROR(VLOOKUP(A27,Futtermittel!$A$3:$AR$386,43,0),0)","v":0},{"$f":"IFERROR(VLOOKUP(A27,Futtermittel!$A$3:$AR$386,12,0),\"\")","v":""},{"$f":"IFERROR(VLOOKUP(A27,Futtermittel!$A$3:$AR$386,17,0),\"\")","v":""},{"$f":"IFERROR(VLOOKUP(A27,Futtermittel!$A$3:$AR$386,20,0),\"\")","v":""},{"$f":"IFERROR(VLOOKUP(A27,Futtermittel!$A$3:$AR$386,21,0),\"\")","v":""},{"$f":"IFERROR(VLOOKUP(A27,Futtermittel!$A$3:$AR$386,23,0),\"\")","v":""},{"$f":"IFERROR(VLOOKUP(A27,Futtermittel!$A$3:$AR$386,22,0),\"\")","v":""},{"$f":"IFERROR(VLOOKUP(A27,Futtermittel!$A$3:$AR$386,24,0),\"\")","v":""},{"$f":"IFERROR(VLOOKUP(A27,Futtermittel!$A$3:$AR$386,25,0),\"\")","v":""},{"$f":"IFERROR(VLOOKUP(A27,Futtermittel!$A$3:$AR$386,26,0),\"\")","v":""},{"$f":"IFERROR(VLOOKUP(A27,Futtermittel!$A$3:$AR$386,27,0),\"\")","v":""},{"$f":"IFERROR(VLOOKUP(A27,Futtermittel!$A$3:$AR$386,29,0),\"\")","v":""},{"$f":"IFERROR(VLOOKUP(A27,Futtermittel!$A$3:$AR$386,30,0),\"\")","v":""},{"$f":"IFERROR(VLOOKUP(A27,Futtermittel!$A$3:$AR$386,31,0),\"\")","v":""},{"$f":"IFERROR(VLOOKUP(A27,Futtermittel!$A$3:$AR$386,32,0),\"\")","v":""},{"$f":"IFERROR(VLOOKUP(A27,Futtermittel!$A$3:$AR$386,33,0),\"\")","v":""},{"$f":"IFERROR(VLOOKUP(A27,Futtermittel!$A$3:$AR$386,34,0),\"\")","v":""},{"$f":"IFERROR(VLOOKUP(A27,Futtermittel!$A$3:$AR$386,35,0),\"\")","v":""},{"$f":"IFERROR(VLOOKUP(A27,Futtermittel!$A$3:$AR$386,16,0),\"\")","v":""},{"$f":"IFERROR(VLOOKUP(A27,Futtermittel!$A$3:$AR$386,41,0),\"\")","v":""},{"$f":"IFERROR(VLOOKUP(A27,Futtermittel!$A$3:$AR$386,42,0),\"\")","v":""},"",{"$f":"IFERROR(VLOOKUP(A27,Futtermittel!$A$3:$AR$386,14,0),\"\")","v":""},{"$f":"IFERROR(VLOOKUP(A27,Futtermittel!$A$3:$AR$386,37,0),\"\")","v":""},{"$f":"IFERROR(VLOOKUP(A27,Futtermittel!$A$3:$AR$386,38,0),\"\")","v":""},{"$f":"IFERROR(VLOOKUP(A27,Futtermittel!$A$3:$AR$386,39,0),\"\")","v":""},{"$f":"IFERROR(VLOOKUP(A27,Futtermittel!$A$3:$AR$386,40,0),0)","v":0},{"$f":"IFERROR(VLOOKUP(A27,Futtermittel!$A$3:$AR$386,16,0),\"\")","v":""},{"$f":"IFERROR(VLOOKUP(A27,Futtermittel!$A$3:$AR$386,19,0),\"\")","v":""},{"$f":"IFERROR(VLOOKUP(A27,Futtermittel!$A$3:$AR$386,36,0),\"\")","v":""}]
[null,{"$f":"IFERROR(VLOOKUP(A28,Futtermittel!$A$3:$AR$386,2,0),\"\")","v":""},0,{"$f":"IFERROR(VLOOKUP(A28,Futtermittel!$A$3:$AR$386,28,0),\"\")","v":""},0,{"$f":"IFERROR(VLOOKUP(A28,Futtermittel!$A$3:$AR$386,3,0),\"\")","v":""},{"$f":"IFERROR(VLOOKUP(A28,Futtermittel!$A$3:$AR$386,4,0),\"\")","v":""},{"$f":"IFERROR(VLOOKUP(A28,Futtermittel!$A$3:$AR$386,5,0),\"\")","v":""},{"$f":"IFERROR(VLOOKUP(A28,Futtermittel!$A$3:$AR$386,6,0),\"\")","v":""},{"$f":"IFERROR(VLOOKUP(A28,Futtermittel!$A$3:$AR$386,7,0),\"\")","v":""},{"$f":"IFERROR(VLOOKUP(A28,Futtermittel!$A$3:$AR$386,8,0),\"\")","v":""},{"$f":"IFERROR(VLOOKUP(A28,Futtermittel!$A$3:$AR$386,13,0),\"\")","v":""},{"$f":"IFERROR(VLOOKUP(A28,Futtermittel!$A$3:$AR$386,18,0),\"\")","v":""},{"$f":"IFERROR(VLOOKUP(A28,Futtermittel!$A$3:$AR$386,9,0),\"\")","v":""},{"$f":"IFERROR(VLOOKUP(A28,Futtermittel!$A$3:$AR$386,14,0),\"\")","v":""},{"$f":"IFERROR(VLOOKUP(A28,Futtermittel!$A$3:$AR$386,10,0),\"\")","v":""},{"$f":"IFERROR(VLOOKUP(A28,Futtermittel!$A$3:$AR$386,11,0),\"\")","v":""},{"$f":"IFERROR(VLOOKUP(A28,Futtermittel!$A$3:$AR$386,43,0),0)","v":0},{"$f":"IFERROR(VLOOKUP(A28,Futtermittel!$A$3:$AR$386,12,0),\"\")","v":""},{"$f":"IFERROR(VLOOKUP(A28,Futtermittel!$A$3:$AR$386,17,0),\"\")","v":""},{"$f":"IFERROR(VLOOKUP(A28,Futtermittel!$A$3:$AR$386,20,0),\"\")","v":""},{"$f":"IFERROR(VLOOKUP(A28,Futtermittel!$A$3:$AR$386,21,0),\"\")","v":""},{"$f":"IFERROR(VLOOKUP(A28,Futtermittel!$A$3:$AR$386,23,0),\"\")","v":""},{"$f":"IFERROR(VLOOKUP(A28,Futtermittel!$A$3:$AR$386,22,0),\"\")","v":""},{"$f":"IFERROR(VLOOKUP(A28,Futtermittel!$A$3:$AR$386,24,0),\"\")","v":""},{"$f":"IFERROR(VLOOKUP(A28,Futtermittel!$A$3:$AR$386,25,0),\"\")","v":""},{"$f":"IFERROR(VLOOKUP(A28,Futtermittel!$A$3:$AR$386,26,0),\"\")","v":""},{"$f":"IFERROR(VLOOKUP(A28,Futtermittel!$A$3:$AR$386,27,0),\"\")","v":""},{"$f":"IFERROR(VLOOKUP(A28,Futtermittel!$A$3:$AR$386,29,0),\"\")","v":""},{"$f":"IFERROR(VLOOKUP(A28,Futtermittel!$A$3:$AR$386,30,0),\"\")","v":""},{"$f":"IFERROR(VLOOKUP(A28,Futtermittel!$A$3:$AR$386,31,0),\"\")","v":""},{"$f":"IFERROR(VLOOKUP(A28,Futtermittel!$A$3:$AR$386,32,0),\"\")","v":""},{"$f":"IFERROR(VLOOKUP(A28,Futtermittel!$A$3:$AR$386,33,0),\"\")","v":""},{"$f":"IFERROR(VLOOKUP(A28,Futtermittel!$A$3:$AR$386,34,0),\"\")","v":""},{"$f":"IFERROR(VLOOKUP(A28,Futtermittel!$A$3:$AR$386,35,0),\"\")","v":""},{"$f":"IFERROR(VLOOKUP(A28,Futtermittel!$A$3:$AR$386,16,0),\"\")","v":""},{"$f":"IFERROR(VLOOKUP(A28,Futtermittel!$A$3:$AR$386,41,0),\"\")","v":""},{"$f":"IFERROR(VLOOKUP(A28,Futtermittel!$A$3:$AR$386,42,0),\"\")","v":""},"",{"$f":"IFERROR(VLOOKUP(A28,Futtermittel!$A$3:$AR$386,14,0),\"\")","v":""},{"$f":"IFERROR(VLOOKUP(A28,Futtermittel!$A$3:$AR$386,37,0),\"\")","v":""},{"$f":"IFERROR(VLOOKUP(A28,Futtermittel!$A$3:$AR$386,38,0),\"\")","v":""},{"$f":"IFERROR(VLOOKUP(A28,Futtermittel!$A$3:$AR$386,39,0),\"\")","v":""},{"$f":"IFERROR(VLOOKUP(A28,Futtermittel!$A$3:$AR$386,40,0),0)","v":0},{"$f":"IFERROR(VLOOKUP(A28,Futtermittel!$A$3:$AR$386,16,0),\"\")","v":""},{"$f":"IFERROR(VLOOKUP(A28,Futtermittel!$A$3:$AR$386,19,0),\"\")","v":""},{"$f":"IFERROR(VLOOKUP(A28,Futtermittel!$A$3:$AR$386,36,0),\"\")","v":""}]
[null,{"$f":"IFERROR(VLOOKUP(A29,Futtermittel!$A$3:$AR$386,2,0),\"\")","v":""},0,{"$f":"IFERROR(VLOOKUP(A29,Futtermittel!$A$3:$AR$386,28,0),\"\")","v":""},0,{"$f":"IFERROR(VLOOKUP(A29,Futtermittel!$A$3:$AR$386,3,0),\"\")","v":""},{"$f":"IFERROR(VLOOKUP(A29,Futtermittel!$A$3:$AR$386,4,0),\"\")","v":""},{"$f":"IFERROR(VLOOKUP(A29,Futtermittel!$A$3:$AR$386,5,0),\"\")","v":""},{"$f":"IFERROR(VLOOKUP(A29,Futtermittel!$A$3:$AR$386,6,0),\"\")","v":""},{"$f":"IFERROR(VLOOKUP(A29,Futtermittel!$A$3:$AR$386,7,0),\"\")","v":""},{"$f":"IFERROR(VLOOKUP(A29,Futtermittel!$A$3:$AR$386,8,0),\"\")","v":""},{"$f":"IFERROR(VLOOKUP(A29,Futtermittel!$A$3:$AR$386,13,0),\"\")","v":""},{"$f":"IFERROR(VLOOKUP(A29,Futtermittel!$A$3:$AR$386,18,0),\"\")","v":""},{"$f":"IFERROR(VLOOKUP(A29,Futtermittel!$A$3:$AR$386,9,0),\"\")","v":""},{"$f":"IFERROR(VLOOKUP(A29,Futtermittel!$A$3:$AR$386,14,0),\"\")","v":""},{"$f":"IFERROR(VLOOKUP(A29,Futtermittel!$A$3:$AR$386,10,0),\"\")","v":""},{"$f":"IFERROR(VLOOKUP(A29,Futtermittel!$A$3:$AR$386,11,0),\"\")","v":""},{"$f":"IFERROR(VLOOKUP(A29,Futtermittel!$A$3:$AR$386,43,0),0)","v":0},{"$f":"IFERROR(VLOOKUP(A29,Futtermittel!$A$3:$AR$386,12,0),\"\")","v":""},{"$f":"IFERROR(VLOOKUP(A29,Futtermittel!$A$3:$AR$386,17,0),\"\")","v":""},{"$f":"IFERROR(VLOOKUP(A29,Futtermittel!$A$3:$AR$386,20,0),\"\")","v":""},{"$f":"IFERROR(VLOOKUP(A29,Futtermittel!$A$3:$AR$386,21,0),\"\")","v":""},{"$f":"IFERROR(VLOOKUP(A29,Futtermittel!$A$3:$AR$386,23,0),\"\")","v":""},{"$f":"IFERROR(VLOOKUP(A29,Futtermittel!$A$3:$AR$386,22,0),\"\")","v":""},{"$f":"IFERROR(VLOOKUP(A29,Futtermittel!$A$3:$AR$386,24,0),\"\")","v":""},{"$f":"IFERROR(VLOOKUP(A29,Futtermittel!$A$3:$AR$386,25,0),\"\")","v":""},{"$f":"IFERROR(VLOOKUP(A29,Futtermittel!$A$3:$AR$386,26,0),\"\")","v":""},{"$f":"IFERROR(VLOOKUP(A29,Futtermittel!$A$3:$AR$386,27,0),\"\")","v":""},{"$f":"IFERROR(VLOOKUP(A29,Futtermittel!$A$3:$AR$386,29,0),\"\")","v":""},{"$f":"IFERROR(VLOOKUP(A29,Futtermittel!$A$3:$AR$386,30,0),\"\")","v":""},{"$f":"IFERROR(VLOOKUP(A29,Futtermittel!$A$3:$AR$386,31,0),\"\")","v":""},{"$f":"IFERROR(VLOOKUP(A29,Futtermittel!$A$3:$AR$386,32,0),\"\")","v":""},{"$f":"IFERROR(VLOOKUP(A29,Futtermittel!$A$3:$AR$386,33,0),\"\")","v":""},{"$f":"IFERROR(VLOOKUP(A29,Futtermittel!$A$3:$AR$386,34,0),\"\")","v":""},{"$f":"IFERROR(VLOOKUP(A29,Futtermittel!$A$3:$AR$386,35,0),\"\")","v":""},{"$f":"IFERROR(VLOOKUP(A29,Futtermittel!$A$3:$AR$386,16,0),\"\")","v":""},{"$f":"IFERROR(VLOOKUP(A29,Futtermittel!$A$3:$AR$386,41,0),\"\")","v":""},{"$f":"IFERROR(VLOOKUP(A29,Futtermittel!$A$3:$AR$386,42,0),\"\")","v":""},"",{"$f":"IFERROR(VLOOKUP(A29,Futtermittel!$A$3:$AR$386,14,0),\"\")","v":""},{"$f":"IFERROR(VLOOKUP(A29,Futtermittel!$A$3:$AR$386,37,0),\"\")","v":""},{"$f":"IFERROR(VLOOKUP(A29,Futtermittel!$A$3:$AR$386,38,0),\"\")","v":""},{"$f":"IFERROR(VLOOKUP(A29,Futtermittel!$A$3:$AR$386,39,0),\"\")","v":""},{"$f":"IFERROR(VLOOKUP(A29,Futtermittel!$A$3:$AR$386,40,0),0)","v":0},{"$f":"IFERROR(VLOOKUP(A29,Futtermittel!$A$3:$AR$386,16,0),\"\")","v":""},{"$f":"IFERROR(VLOOKUP(A29,Futtermittel!$A$3:$AR$386,19,0),\"\")","v":""},{"$f":"IFERROR(VLOOKUP(A29,Futtermittel!$A$3:$AR$386,36,0),\"\")","v":""}]
[null,{"$f":"IFERROR(VLOOKUP(A30,Futtermittel!$A$3:$AR$386,2,0),\"\")","v":""},0,{"$f":"IFERROR(VLOOKUP(A30,Futtermittel!$A$3:$AR$386,28,0),\"\")","v":""},0,{"$f":"IFERROR(VLOOKUP(A30,Futtermittel!$A$3:$AR$386,3,0),\"\")","v":""},{"$f":"IFERROR(VLOOKUP(A30,Futtermittel!$A$3:$AR$386,4,0),\"\")","v":""},{"$f":"IFERROR(VLOOKUP(A30,Futtermittel!$A$3:$AR$386,5,0),\"\")","v":""},{"$f":"IFERROR(VLOOKUP(A30,Futtermittel!$A$3:$AR$386,6,0),\"\")","v":""},{"$f":"IFERROR(VLOOKUP(A30,Futtermittel!$A$3:$AR$386,7,0),\"\")","v":""},{"$f":"IFERROR(VLOOKUP(A30,Futtermittel!$A$3:$AR$386,8,0),\"\")","v":""},{"$f":"IFERROR(VLOOKUP(A30,Futtermittel!$A$3:$AR$386,13,0),\"\")","v":""},{"$f":"IFERROR(VLOOKUP(A30,Futtermittel!$A$3:$AR$386,18,0),\"\")","v":""},{"$f":"IFERROR(VLOOKUP(A30,Futtermittel!$A$3:$AR$386,9,0),\"\")","v":""},{"$f":"IFERROR(VLOOKUP(A30,Futtermittel!$A$3:$AR$386,14,0),\"\")","v":""},{"$f":"IFERROR(VLOOKUP(A30,Futtermittel!$A$3:$AR$386,10,0),\"\")","v":""},{"$f":"IFERROR(VLOOKUP(A30,Futtermittel!$A$3:$AR$386,11,0),\"\")","v":""},{"$f":"IFERROR(VLOOKUP(A30,Futtermittel!$A$3:$AR$386,43,0),0)","v":0},{"$f":"IFERROR(VLOOKUP(A30,Futtermittel!$A$3:$AR$386,12,0),\"\")","v":""},{"$f":"IFERROR(VLOOKUP(A30,Futtermittel!$A$3:$AR$386,17,0),\"\")","v":""},{"$f":"IFERROR(VLOOKUP(A30,Futtermittel!$A$3:$AR$386,20,0),\"\")","v":""},{"$f":"IFERROR(VLOOKUP(A30,Futtermittel!$A$3:$AR$386,21,0),\"\")","v":""},{"$f":"IFERROR(VLOOKUP(A30,Futtermittel!$A$3:$AR$386,23,0),\"\")","v":""},{"$f":"IFERROR(VLOOKUP(A30,Futtermittel!$A$3:$AR$386,22,0),\"\")","v":""},{"$f":"IFERROR(VLOOKUP(A30,Futtermittel!$A$3:$AR$386,24,0),\"\")","v":""},{"$f":"IFERROR(VLOOKUP(A30,Futtermittel!$A$3:$AR$386,25,0),\"\")","v":""},{"$f":"IFERROR(VLOOKUP(A30,Futtermittel!$A$3:$AR$386,26,0),\"\")","v":""},{"$f":"IFERROR(VLOOKUP(A30,Futtermittel!$A$3:$AR$386,27,0),\"\")","v":""},{"$f":"IFERROR(VLOOKUP(A30,Futtermittel!$A$3:$AR$386,29,0),\"\")","v":""},{"$f":"IFERROR(VLOOKUP(A30,Futtermittel!$A$3:$AR$386,30,0),\"\")","v":""},{"$f":"IFERROR(VLOOKUP(A30,Futtermittel!$A$3:$AR$386,31,0),\"\")","v":""},{"$f":"IFERROR(VLOOKUP(A30,Futtermittel!$A$3:$AR$386,32,0),\"\")","v":""},{"$f":"IFERROR(VLOOKUP(A30,Futtermittel!$A$3:$AR$386,33,0),\"\")","v":""},{"$f":"IFERROR(VLOOKUP(A30,Futtermittel!$A$3:$AR$386,34,0),\"\")","v":""},{"$f":"IFERROR(VLOOKUP(A30,Futtermittel!$A$3:$AR$386,35,0),\"\")","v":""},{"$f":"IFERROR(VLOOKUP(A30,Futtermittel!$A$3:$AR$386,16,0),\"\")","v":""},{"$f":"IFERROR(VLOOKUP(A30,Futtermittel!$A$3:$AR$386,41,0),\"\")","v":""},{"$f":"IFERROR(VLOOKUP(A30,Futtermittel!$A$3:$AR$386,42,0),\"\")","v":""},"",{"$f":"IFERROR(VLOOKUP(A30,Futtermittel!$A$3:$AR$386,14,0),\"\")","v":""},{"$f":"IFERROR(VLOOKUP(A30,Futtermittel!$A$3:$AR$386,37,0),\"\")","v":""},{"$f":"IFERROR(VLOOKUP(A30,Futtermittel!$A$3:$AR$386,38,0),\"\")","v":""},{"$f":"IFERROR(VLOOKUP(A30,Futtermittel!$A$3:$AR$386,39,0),\"\")","v":""},{"$f":"IFERROR(VLOOKUP(A30,Futtermittel!$A$3:$AR$386,40,0),0)","v":0},{"$f":"IFERROR(VLOOKUP(A30,Futtermittel!$A$3:$AR$386,16,0),\"\")","v":""},{"$f":"IFERROR(VLOOKUP(A30,Futtermittel!$A$3:$AR$386,19,0),\"\")","v":""},{"$f":"IFERROR(VLOOKUP(A30,Futtermittel!$A$3:$AR$386,36,0),\"\")","v":""}]
[null,{"$f":"IFERROR(VLOOKUP(A31,Futtermittel!$A$3:$AR$386,2,0),\"\")","v":""},0,{"$f":"IFERROR(VLOOKUP(A31,Futtermittel!$A$3:$AR$386,28,0),\"\")","v":""},0,{"$f":"IFERROR(VLOOKUP(A31,Futtermittel!$A$3:$AR$386,3,0),\"\")","v":""},{"$f":"IFERROR(VLOOKUP(A31,Futtermittel!$A$3:$AR$386,4,0),\"\")","v":""},{"$f":"IFERROR(VLOOKUP(A31,Futtermittel!$A$3:$AR$386,5,0),\"\")","v":""},{"$f":"IFERROR(VLOOKUP(A31,Futtermittel!$A$3:$AR$386,6,0),\"\")","v":""},{"$f":"IFERROR(VLOOKUP(A31,Futtermittel!$A$3:$AR$386,7,0),\"\")","v":""},{"$f":"IFERROR(VLOOKUP(A31,Futtermittel!$A$3:$AR$386,8,0),\"\")","v":""},{"$f":"IFERROR(VLOOKUP(A31,Futtermittel!$A$3:$AR$386,13,0),\"\")","v":""},{"$f":"IFERROR(VLOOKUP(A31,Futtermittel!$A$3:$AR$386,18,0),\"\")","v":""},{"$f":"IFERROR(VLOOKUP(A31,Futtermittel!$A$3:$AR$386,9,0),\"\")","v":""},{"$f":"IFERROR(VLOOKUP(A31,Futtermittel!$A$3:$AR$386,14,0),\"\")","v":""},{"$f":"IFERROR(VLOOKUP(A31,Futtermittel!$A$3:$AR$386,10,0),\"\")","v":""},{"$f":"IFERROR(VLOOKUP(A31,Futtermittel!$A$3:$AR$386,11,0),\"\")","v":""},{"$f":"IFERROR(VLOOKUP(A31,Futtermittel!$A$3:$AR$386,43,0),0)","v":0},{"$f":"IFERROR(VLOOKUP(A31,Futtermittel!$A$3:$AR$386,12,0),\"\")","v":""},{"$f":"IFERROR(VLOOKUP(A31,Futtermittel!$A$3:$AR$386,17,0),\"\")","v":""},{"$f":"IFERROR(VLOOKUP(A31,Futtermittel!$A$3:$AR$386,20,0),\"\")","v":""},{"$f":"IFERROR(VLOOKUP(A31,Futtermittel!$A$3:$AR$386,21,0),\"\")","v":""},{"$f":"IFERROR(VLOOKUP(A31,Futtermittel!$A$3:$AR$386,23,0),\"\")","v":""},{"$f":"IFERROR(VLOOKUP(A31,Futtermittel!$A$3:$AR$386,22,0),\"\")","v":""},{"$f":"IFERROR(VLOOKUP(A31,Futtermittel!$A$3:$AR$386,24,0),\"\")","v":""},{"$f":"IFERROR(VLOOKUP(A31,Futtermittel!$A$3:$AR$386,25,0),\"\")","v":""},{"$f":"IFERROR(VLOOKUP(A31,Futtermittel!$A$3:$AR$386,26,0),\"\")","v":""},{"$f":"IFERROR(VLOOKUP(A31,Futtermittel!$A$3:$AR$386,27,0),\"\")","v":""},{"$f":"IFERROR(VLOOKUP(A31,Futtermittel!$A$3:$AR$386,29,0),\"\")","v":""},{"$f":"IFERROR(VLOOKUP(A31,Futtermittel!$A$3:$AR$386,30,0),\"\")","v":""},{"$f":"IFERROR(VLOOKUP(A31,Futtermittel!$A$3:$AR$386,31,0),\"\")","v":""},{"$f":"IFERROR(VLOOKUP(A31,Futtermittel!$A$3:$AR$386,32,0),\"\")","v":""},{"$f":"IFERROR(VLOOKUP(A31,Futtermittel!$A$3:$AR$386,33,0),\"\")","v":""},{"$f":"IFERROR(VLOOKUP(A31,Futtermittel!$A$3:$AR$386,34,0),\"\")","v":""},{"$f":"IFERROR(VLOOKUP(A31,Futtermittel!$A$3:$AR$386,35,0),\"\")","v":""},{"$f":"IFERROR(VLOOKUP(A31,Futtermittel!$A$3:$AR$386,16,0),\"\")","v":""},{"$f":"IFERROR(VLOOKUP(A31,Futtermittel!$A$3:$AR$386,41,0),\"\")","v":""},{"$f":"IFERROR(VLOOKUP(A31,Futtermittel!$A$3:$AR$386,42,0),\"\")","v":""},"",{"$f":"IFERROR(VLOOKUP(A31,Futtermittel!$A$3:$AR$386,14,0),\"\")","v":""},{"$f":"IFERROR(VLOOKUP(A31,Futtermittel!$A$3:$AR$386,37,0),\"\")","v":""},{"$f":"IFERROR(VLOOKUP(A31,Futtermittel!$A$3:$AR$386,38,0),\"\")","v":""},{"$f":"IFERROR(VLOOKUP(A31,Futtermittel!$A$3:$AR$386,39,0),\"\")","v":""},{"$f":"IFERROR(VLOOKUP(A31,Futtermittel!$A$3:$AR$386,40,0),0)","v":0},{"$f":"IFERROR(VLOOKUP(A31,Futtermittel!$A$3:$AR$386,16,0),\"\")","v":""},null,{"$f":"IFERROR(VLOOKUP(A31,Futtermittel!$A$3:$AR$386,36,0),\"\")","v":""}]
[null,{"$f":"IFERROR(VLOOKUP(A32,Futtermittel!$A$3:$AR$386,2,0),\"\")","v":""},0,{"$f":"IFERROR(VLOOKUP(A32,Futtermittel!$A$3:$AR$386,28,0),\"\")","v":""},0,{"$f":"IFERROR(VLOOKUP(A32,Futtermittel!$A$3:$AR$386,3,0),\"\")","v":""},{"$f":"IFERROR(VLOOKUP(A32,Futtermittel!$A$3:$AR$386,4,0),\"\")","v":""},{"$f":"IFERROR(VLOOKUP(A32,Futtermittel!$A$3:$AR$386,5,0),\"\")","v":""},{"$f":"IFERROR(VLOOKUP(A32,Futtermittel!$A$3:$AR$386,6,0),\"\")","v":""},{"$f":"IFERROR(VLOOKUP(A32,Futtermittel!$A$3:$AR$386,7,0),\"\")","v":""},{"$f":"IFERROR(VLOOKUP(A32,Futtermittel!$A$3:$AR$386,8,0),\"\")","v":""},{"$f":"IFERROR(VLOOKUP(A32,Futtermittel!$A$3:$AR$386,13,0),\"\")","v":""},{"$f":"IFERROR(VLOOKUP(A32,Futtermittel!$A$3:$AR$386,18,0),\"\")","v":""},{"$f":"IFERROR(VLOOKUP(A32,Futtermittel!$A$3:$AR$386,9,0),\"\")","v":""},{"$f":"IFERROR(VLOOKUP(A32,Futtermittel!$A$3:$AR$386,14,0),\"\")","v":""},{"$f":"IFERROR(VLOOKUP(A32,Futtermittel!$A$3:$AR$386,10,0),\"\")","v":""},{"$f":"IFERROR(VLOOKUP(A32,Futtermittel!$A$3:$AR$386,11,0),\"\")","v":""},{"$f":"IFERROR(VLOOKUP(A32,Futtermittel!$A$3:$AR$386,43,0),0)","v":0},{"$f":"IFERROR(VLOOKUP(A32,Futtermittel!$A$3:$AR$386,12,0),\"\")","v":""},{"$f":"IFERROR(VLOOKUP(A32,Futtermittel!$A$3:$AR$386,17,0),\"\")","v":""},{"$f":"IFERROR(VLOOKUP(A32,Futtermittel!$A$3:$AR$386,20,0),\"\")","v":""},{"$f":"IFERROR(VLOOKUP(A32,Futtermittel!$A$3:$AR$386,21,0),\"\")","v":""},{"$f":"IFERROR(VLOOKUP(A32,Futtermittel!$A$3:$AR$386,23,0),\"\")","v":""},{"$f":"IFERROR(VLOOKUP(A32,Futtermittel!$A$3:$AR$386,22,0),\"\")","v":""},{"$f":"IFERROR(VLOOKUP(A32,Futtermittel!$A$3:$AR$386,24,0),\"\")","v":""},{"$f":"IFERROR(VLOOKUP(A32,Futtermittel!$A$3:$AR$386,25,0),\"\")","v":""},{"$f":"IFERROR(VLOOKUP(A32,Futtermittel!$A$3:$AR$386,26,0),\"\")","v":""},{"$f":"IFERROR(VLOOKUP(A32,Futtermittel!$A$3:$AR$386,27,0),\"\")","v":""},{"$f":"IFERROR(VLOOKUP(A32,Futtermittel!$A$3:$AR$386,29,0),\"\")","v":""},{"$f":"IFERROR(VLOOKUP(A32,Futtermittel!$A$3:$AR$386,30,0),\"\")","v":""},{"$f":"IFERROR(VLOOKUP(A32,Futtermittel!$A$3:$AR$386,31,0),\"\")","v":""},{"$f":"IFERROR(VLOOKUP(A32,Futtermittel!$A$3:$AR$386,32,0),\"\")","v":""},{"$f":"IFERROR(VLOOKUP(A32,Futtermittel!$A$3:$AR$386,33,0),\"\")","v":""},{"$f":"IFERROR(VLOOKUP(A32,Futtermittel!$A$3:$AR$386,34,0),\"\")","v":""},{"$f":"IFERROR(VLOOKUP(A32,Futtermittel!$A$3:$AR$386,35,0),\"\")","v":""},{"$f":"IFERROR(VLOOKUP(A32,Futtermittel!$A$3:$AR$386,16,0),\"\")","v":""},{"$f":"IFERROR(VLOOKUP(A32,Futtermittel!$A$3:$AR$386,41,0),\"\")","v":""},{"$f":"IFERROR(VLOOKUP(A32,Futtermittel!$A$3:$AR$386,42,0),\"\")","v":""},"",{"$f":"IFERROR(VLOOKUP(A32,Futtermittel!$A$3:$AR$386,14,0),\"\")","v":""},{"$f":"IFERROR(VLOOKUP(A32,Futtermittel!$A$3:$AR$386,37,0),\"\")","v":""},{"$f":"IFERROR(VLOOKUP(A32,Futtermittel!$A$3:$AR$386,38,0),\"\")","v":""},{"$f":"IFERROR(VLOOKUP(A32,Futtermittel!$A$3:$AR$386,39,0),\"\")","v":""},{"$f":"IFERROR(VLOOKUP(A32,Futtermittel!$A$3:$AR$386,40,0),0)","v":0},{"$f":"IFERROR(VLOOKUP(A32,Futtermittel!$A$3:$AR$386,16,0),\"\")","v":""},{"$f":"IFERROR(VLOOKUP(A32,Futtermittel!$A$3:$AR$386,19,0),\"\")","v":""},{"$f":"IFERROR(VLOOKUP(A32,Futtermittel!$A$3:$AR$386,36,0),\"\")","v":""}]
[null,{"$f":"IFERROR(VLOOKUP(A33,Futtermittel!$A$3:$AR$386,2,0),\"\")","v":""},0,{"$f":"IFERROR(VLOOKUP(A33,Futtermittel!$A$3:$AR$386,28,0),\"\")","v":""},0,{"$f":"IFERROR(VLOOKUP(A33,Futtermittel!$A$3:$AR$386,3,0),\"\")","v":""},{"$f":"IFERROR(VLOOKUP(A33,Futtermittel!$A$3:$AR$386,4,0),\"\")","v":""},{"$f":"IFERROR(VLOOKUP(A33,Futtermittel!$A$3:$AR$386,5,0),\"\")","v":""},{"$f":"IFERROR(VLOOKUP(A33,Futtermittel!$A$3:$AR$386,6,0),\"\")","v":""},{"$f":"IFERROR(VLOOKUP(A33,Futtermittel!$A$3:$AR$386,7,0),\"\")","v":""},{"$f":"IFERROR(VLOOKUP(A33,Futtermittel!$A$3:$AR$386,8,0),\"\")","v":""},{"$f":"IFERROR(VLOOKUP(A33,Futtermittel!$A$3:$AR$386,13,0),\"\")","v":""},{"$f":"IFERROR(VLOOKUP(A33,Futtermittel!$A$3:$AR$386,18,0),\"\")","v":""},{"$f":"IFERROR(VLOOKUP(A33,Futtermittel!$A$3:$AR$386,9,0),\"\")","v":""},{"$f":"IFERROR(VLOOKUP(A33,Futtermittel!$A$3:$AR$386,14,0),\"\")","v":""},{"$f":"IFERROR(VLOOKUP(A33,Futtermittel!$A$3:$AR$386,10,0),\"\")","v":""},{"$f":"IFERROR(VLOOKUP(A33,Futtermittel!$A$3:$AR$386,11,0),\"\")","v":""},{"$f":"IFERROR(VLOOKUP(A33,Futtermittel!$A$3:$AR$386,43,0),0)","v":0},{"$f":"IFERROR(VLOOKUP(A33,Futtermittel!$A$3:$AR$386,12,0),\"\")","v":""},{"$f":"IFERROR(VLOOKUP(A33,Futtermittel!$A$3:$AR$386,17,0),\"\")","v":""},{"$f":"IFERROR(VLOOKUP(A33,Futtermittel!$A$3:$AR$386,20,0),\"\")","v":""},{"$f":"IFERROR(VLOOKUP(A33,Futtermittel!$A$3:$AR$386,21,0),\"\")","v":""},{"$f":"IFERROR(VLOOKUP(A33,Futtermittel!$A$3:$AR$386,23,0),\"\")","v":""},{"$f":"IFERROR(VLOOKUP(A33,Futtermittel!$A$3:$AR$386,22,0),\"\")","v":""},{"$f":"IFERROR(VLOOKUP(A33,Futtermittel!$A$3:$AR$386,24,0),\"\")","v":""},{"$f":"IFERROR(VLOOKUP(A33,Futtermittel!$A$3:$AR$386,25,0),\"\")","v":""},{"$f":"IFERROR(VLOOKUP(A33,Futtermittel!$A$3:$AR$386,26,0),\"\")","v":""},{"$f":"IFERROR(VLOOKUP(A33,Futtermittel!$A$3:$AR$386,27,0),\"\")","v":""},{"$f":"IFERROR(VLOOKUP(A33,Futtermittel!$A$3:$AR$386,29,0),\"\")","v":""},{"$f":"IFERROR(VLOOKUP(A33,Futtermittel!$A$3:$AR$386,30,0),\"\")","v":""},{"$f":"IFERROR(VLOOKUP(A33,Futtermittel!$A$3:$AR$386,31,0),\"\")","v":""},{"$f":"IFERROR(VLOOKUP(A33,Futtermittel!$A$3:$AR$386,32,0),\"\")","v":""},{"$f":"IFERROR(VLOOKUP(A33,Futtermittel!$A$3:$AR$386,33,0),\"\")","v":""},{"$f":"IFERROR(VLOOKUP(A33,Futtermittel!$A$3:$AR$386,34,0),\"\")","v":""},{"$f":"IFERROR(VLOOKUP(A33,Futtermittel!$A$3:$AR$386,35,0),\"\")","v":""},{"$f":"IFERROR(VLOOKUP(A33,Futtermittel!$A$3:$AR$386,16,0),\"\")","v":""},{"$f":"IFERROR(VLOOKUP(A33,Futtermittel!$A$3:$AR$386,41,0),\"\")","v":""},{"$f":"IFERROR(VLOOKUP(A33,Futtermittel!$A$3:$AR$386,42,0),\"\")","v":""},"",{"$f":"IFERROR(VLOOKUP(A33,Futtermittel!$A$3:$AR$386,14,0),\"\")","v":""},{"$f":"IFERROR(VLOOKUP(A33,Futtermittel!$A$3:$AR$386,37,0),\"\")","v":""},{"$f":"IFERROR(VLOOKUP(A33,Futtermittel!$A$3:$AR$386,38,0),\"\")","v":""},{"$f":"IFERROR(VLOOKUP(A33,Futtermittel!$A$3:$AR$386,39,0),\"\")","v":""},{"$f":"IFERROR(VLOOKUP(A33,Futtermittel!$A$3:$AR$386,40,0),0)","v":0},{"$f":"IFERROR(VLOOKUP(A33,Futtermittel!$A$3:$AR$386,16,0),\"\")","v":""},{"$f":"IFERROR(VLOOKUP(A33,Futtermittel!$A$3:$AR$386,19,0),\"\")","v":""},{"$f":"IFERROR(VLOOKUP(A33,Futtermittel!$A$3:$AR$386,36,0),\"\")","v":""}]
[null,{"$f":"IFERROR(VLOOKUP(A34,Futtermittel!$A$3:$AR$386,2,0),\"\")","v":""},0,{"$f":"IFERROR(VLOOKUP(A34,Futtermittel!$A$3:$AR$386,28,0),\"\")","v":""},0,{"$f":"IFERROR(VLOOKUP(A34,Futtermittel!$A$3:$AR$386,3,0),\"\")","v":""},{"$f":"IFERROR(VLOOKUP(A34,Futtermittel!$A$3:$AR$386,4,0),\"\")","v":""},{"$f":"IFERROR(VLOOKUP(A34,Futtermittel!$A$3:$AR$386,5,0),\"\")","v":""},{"$f":"IFERROR(VLOOKUP(A34,Futtermittel!$A$3:$AR$386,6,0),\"\")","v":""},{"$f":"IFERROR(VLOOKUP(A34,Futtermittel!$A$3:$AR$386,7,0),\"\")","v":""},{"$f":"IFERROR(VLOOKUP(A34,Futtermittel!$A$3:$AR$386,8,0),\"\")","v":""},{"$f":"IFERROR(VLOOKUP(A34,Futtermittel!$A$3:$AR$386,13,0),\"\")","v":""},{"$f":"IFERROR(VLOOKUP(A34,Futtermittel!$A$3:$AR$386,18,0),\"\")","v":""},{"$f":"IFERROR(VLOOKUP(A34,Futtermittel!$A$3:$AR$386,9,0),\"\")","v":""},{"$f":"IFERROR(VLOOKUP(A34,Futtermittel!$A$3:$AR$386,14,0),\"\")","v":""},{"$f":"IFERROR(VLOOKUP(A34,Futtermittel!$A$3:$AR$386,10,0),\"\")","v":""},{"$f":"IFERROR(VLOOKUP(A34,Futtermittel!$A$3:$AR$386,11,0),\"\")","v":""},{"$f":"IFERROR(VLOOKUP(A34,Futtermittel!$A$3:$AR$386,43,0),0)","v":0},{"$f":"IFERROR(VLOOKUP(A34,Futtermittel!$A$3:$AR$386,12,0),\"\")","v":""},{"$f":"IFERROR(VLOOKUP(A34,Futtermittel!$A$3:$AR$386,17,0),\"\")","v":""},{"$f":"IFERROR(VLOOKUP(A34,Futtermittel!$A$3:$AR$386,20,0),\"\")","v":""},{"$f":"IFERROR(VLOOKUP(A34,Futtermittel!$A$3:$AR$386,21,0),\"\")","v":""},{"$f":"IFERROR(VLOOKUP(A34,Futtermittel!$A$3:$AR$386,23,0),\"\")","v":""},{"$f":"IFERROR(VLOOKUP(A34,Futtermittel!$A$3:$AR$386,22,0),\"\")","v":""},{"$f":"IFERROR(VLOOKUP(A34,Futtermittel!$A$3:$AR$386,24,0),\"\")","v":""},{"$f":"IFERROR(VLOOKUP(A34,Futtermittel!$A$3:$AR$386,25,0),\"\")","v":""},{"$f":"IFERROR(VLOOKUP(A34,Futtermittel!$A$3:$AR$386,26,0),\"\")","v":""},{"$f":"IFERROR(VLOOKUP(A34,Futtermittel!$A$3:$AR$386,27,0),\"\")","v":""},{"$f":"IFERROR(VLOOKUP(A34,Futtermittel!$A$3:$AR$386,29,0),\"\")","v":""},{"$f":"IFERROR(VLOOKUP(A34,Futtermittel!$A$3:$AR$386,30,0),\"\")","v":""},{"$f":"IFERROR(VLOOKUP(A34,Futtermittel!$A$3:$AR$386,31,0),\"\")","v":""},{"$f":"IFERROR(VLOOKUP(A34,Futtermittel!$A$3:$AR$386,32,0),\"\")","v":""},{"$f":"IFERROR(VLOOKUP(A34,Futtermittel!$A$3:$AR$386,33,0),\"\")","v":""},{"$f":"IFERROR(VLOOKUP(A34,Futtermittel!$A$3:$AR$386,34,0),\"\")","v":""},{"$f":"IFERROR(VLOOKUP(A34,Futtermittel!$A$3:$AR$386,35,0),\"\")","v":""},{"$f":"IFERROR(VLOOKUP(A34,Futtermittel!$A$3:$AR$386,16,0),\"\")","v":""},{"$f":"IFERROR(VLOOKUP(A34,Futtermittel!$A$3:$AR$386,41,0),\"\")","v":""},{"$f":"IFERROR(VLOOKUP(A34,Futtermittel!$A$3:$AR$386,42,0),\"\")","v":""},"",{"$f":"IFERROR(VLOOKUP(A34,Futtermittel!$A$3:$AR$386,14,0),\"\")","v":""},{"$f":"IFERROR(VLOOKUP(A34,Futtermittel!$A$3:$AR$386,37,0),\"\")","v":""},{"$f":"IFERROR(VLOOKUP(A34,Futtermittel!$A$3:$AR$386,38,0),\"\")","v":""},{"$f":"IFERROR(VLOOKUP(A34,Futtermittel!$A$3:$AR$386,39,0),\"\")","v":""},{"$f":"IFERROR(VLOOKUP(A34,Futtermittel!$A$3:$AR$386,40,0),0)","v":0},{"$f":"IFERROR(VLOOKUP(A34,Futtermittel!$A$3:$AR$386,16,0),\"\")","v":""},{"$f":"IFERROR(VLOOKUP(A34,Futtermittel!$A$3:$AR$386,19,0),\"\")","v":""},{"$f":"IFERROR(VLOOKUP(A34,Futtermittel!$A$3:$AR$386,36,0),\"\")","v":""}]
[null,{"$f":"IFERROR(VLOOKUP(A35,Futtermittel!$A$3:$AR$386,2,0),\"\")","v":""},0,{"$f":"IFERROR(VLOOKUP(A35,Futtermittel!$A$3:$AR$386,28,0),\"\")","v":""},0,{"$f":"IFERROR(VLOOKUP(A35,Futtermittel!$A$3:$AR$386,3,0),\"\")","v":""},{"$f":"IFERROR(VLOOKUP(A35,Futtermittel!$A$3:$AR$386,4,0),\"\")","v":""},{"$f":"IFERROR(VLOOKUP(A35,Futtermittel!$A$3:$AR$386,5,0),\"\")","v":""},{"$f":"IFERROR(VLOOKUP(A35,Futtermittel!$A$3:$AR$386,6,0),\"\")","v":""},{"$f":"IFERROR(VLOOKUP(A35,Futtermittel!$A$3:$AR$386,7,0),\"\")","v":""},{"$f":"IFERROR(VLOOKUP(A35,Futtermittel!$A$3:$AR$386,8,0),\"\")","v":""},{"$f":"IFERROR(VLOOKUP(A35,Futtermittel!$A$3:$AR$386,13,0),\"\")","v":""},{"$f":"IFERROR(VLOOKUP(A35,Futtermittel!$A$3:$AR$386,18,0),\"\")","v":""},{"$f":"IFERROR(VLOOKUP(A35,Futtermittel!$A$3:$AR$386,9,0),\"\")","v":""},{"$f":"IFERROR(VLOOKUP(A35,Futtermittel!$A$3:$AR$386,14,0),\"\")","v":""},{"$f":"IFERROR(VLOOKUP(A35,Futtermittel!$A$3:$AR$386,10,0),\"\")","v":""},{"$f":"IFERROR(VLOOKUP(A35,Futtermittel!$A$3:$AR$386,11,0),\"\")","v":""},{"$f":"IFERROR(VLOOKUP(A35,Futtermittel!$A$3:$AR$386,43,0),0)","v":0},{"$f":"IFERROR(VLOOKUP(A35,Futtermittel!$A$3:$AR$386,12,0),\"\")","v":""},{"$f":"IFERROR(VLOOKUP(A35,Futtermittel!$A$3:$AR$386,17,0),\"\")","v":""},{"$f":"IFERROR(VLOOKUP(A35,Futtermittel!$A$3:$AR$386,20,0),\"\")","v":""},{"$f":"IFERROR(VLOOKUP(A35,Futtermittel!$A$3:$AR$386,21,0),\"\")","v":""},{"$f":"IFERROR(VLOOKUP(A35,Futtermittel!$A$3:$AR$386,23,0),\"\")","v":""},{"$f":"IFERROR(VLOOKUP(A35,Futtermittel!$A$3:$AR$386,22,0),\"\")","v":""},{"$f":"IFERROR(VLOOKUP(A35,Futtermittel!$A$3:$AR$386,24,0),\"\")","v":""},{"$f":"IFERROR(VLOOKUP(A35,Futtermittel!$A$3:$AR$386,25,0),\"\")","v":""},{"$f":"IFERROR(VLOOKUP(A35,Futtermittel!$A$3:$AR$386,26,0),\"\")","v":""},{"$f":"IFERROR(VLOOKUP(A35,Futtermittel!$A$3:$AR$386,27,0),\"\")","v":""},{"$f":"IFERROR(VLOOKUP(A35,Futtermittel!$A$3:$AR$386,29,0),\"\")","v":""},{"$f":"IFERROR(VLOOKUP(A35,Futtermittel!$A$3:$AR$386,30,0),\"\")","v":""},{"$f":"IFERROR(VLOOKUP(A35,Futtermittel!$A$3:$AR$386,31,0),\"\")","v":""},{"$f":"IFERROR(VLOOKUP(A35,Futtermittel!$A$3:$AR$386,32,0),\"\")","v":""},{"$f":"IFERROR(VLOOKUP(A35,Futtermittel!$A$3:$AR$386,33,0),\"\")","v":""},{"$f":"IFERROR(VLOOKUP(A35,Futtermittel!$A$3:$AR$386,34,0),\"\")","v":""},{"$f":"IFERROR(VLOOKUP(A35,Futtermittel!$A$3:$AR$386,35,0),\"\")","v":""},{"$f":"IFERROR(VLOOKUP(A35,Futtermittel!$A$3:$AR$386,16,0),\"\")","v":""},{"$f":"IFERROR(VLOOKUP(A35,Futtermittel!$A$3:$AR$386,41,0),\"\")","v":""},{"$f":"IFERROR(VLOOKUP(A35,Futtermittel!$A$3:$AR$386,42,0),\"\")","v":""},"",{"$f":"IFERROR(VLOOKUP(A35,Futtermittel!$A$3:$AR$386,14,0),\"\")","v":""},{"$f":"IFERROR(VLOOKUP(A35,Futtermittel!$A$3:$AR$386,37,0),\"\")","v":""},{"$f":"IFERROR(VLOOKUP(A35,Futtermittel!$A$3:$AR$386,38,0),\"\")","v":""},{"$f":"IFERROR(VLOOKUP(A35,Futtermittel!$A$3:$AR$386,39,0),\"\")","v":""},{"$f":"IFERROR(VLOOKUP(A35,Futtermittel!$A$3:$AR$386,40,0),0)","v":0},{"$f":"IFERROR(VLOOKUP(A35,Futtermittel!$A$3:$AR$386,16,0),\"\")","v":""},{"$f":"IFERROR(VLOOKUP(A35,Futtermittel!$A$3:$AR$386,19,0),\"\")","v":""},{"$f":"IFERROR(VLOOKUP(A35,Futtermittel!$A$3:$AR$386,36,0),\"\")","v":""}]
[null,{"$f":"IFERROR(VLOOKUP(A36,Futtermittel!$A$3:$AR$386,2,0),\"\")","v":""},0,{"$f":"IFERROR(VLOOKUP(A36,Futtermittel!$A$3:$AR$386,28,0),\"\")","v":""},0,{"$f":"IFERROR(VLOOKUP(A36,Futtermittel!$A$3:$AR$386,3,0),\"\")","v":""},{"$f":"IFERROR(VLOOKUP(A36,Futtermittel!$A$3:$AR$386,4,0),\"\")","v":""},{"$f":"IFERROR(VLOOKUP(A36,Futtermittel!$A$3:$AR$386,5,0),\"\")","v":""},{"$f":"IFERROR(VLOOKUP(A36,Futtermittel!$A$3:$AR$386,6,0),\"\")","v":""},{"$f":"IFERROR(VLOOKUP(A36,Futtermittel!$A$3:$AR$386,7,0),\"\")","v":""},{"$f":"IFERROR(VLOOKUP(A36,Futtermittel!$A$3:$AR$386,8,0),\"\")","v":""},{"$f":"IFERROR(VLOOKUP(A36,Futtermittel!$A$3:$AR$386,13,0),\"\")","v":""},{"$f":"IFERROR(VLOOKUP(A36,Futtermittel!$A$3:$AR$386,18,0),\"\")","v":""},{"$f":"IFERROR(VLOOKUP(A36,Futtermittel!$A$3:$AR$386,9,0),\"\")","v":""},{"$f":"IFERROR(VLOOKUP(A36,Futtermittel!$A$3:$AR$386,14,0),\"\")","v":""},{"$f":"IFERROR(VLOOKUP(A36,Futtermittel!$A$3:$AR$386,10,0),\"\")","v":""},{"$f":"IFERROR(VLOOKUP(A36,Futtermittel!$A$3:$AR$386,11,0),\"\")","v":""},{"$f":"IFERROR(VLOOKUP(A36,Futtermittel!$A$3:$AR$386,43,0),0)","v":0},{"$f":"IFERROR(VLOOKUP(A36,Futtermittel!$A$3:$AR$386,12,0),\"\")","v":""},{"$f":"IFERROR(VLOOKUP(A36,Futtermittel!$A$3:$AR$386,17,0),\"\")","v":""},{"$f":"IFERROR(VLOOKUP(A36,Futtermittel!$A$3:$AR$386,20,0),\"\")","v":""},{"$f":"IFERROR(VLOOKUP(A36,Futtermittel!$A$3:$AR$386,21,0),\"\")","v":""},{"$f":"IFERROR(VLOOKUP(A36,Futtermittel!$A$3:$AR$386,23,0),\"\")","v":""},{"$f":"IFERROR(VLOOKUP(A36,Futtermittel!$A$3:$AR$386,22,0),\"\")","v":""},{"$f":"IFERROR(VLOOKUP(A36,Futtermittel!$A$3:$AR$386,24,0),\"\")","v":""},{"$f":"IFERROR(VLOOKUP(A36,Futtermittel!$A$3:$AR$386,25,0),\"\")","v":""},{"$f":"IFERROR(VLOOKUP(A36,Futtermittel!$A$3:$AR$386,26,0),\"\")","v":""},{"$f":"IFERROR(VLOOKUP(A36,Futtermittel!$A$3:$AR$386,27,0),\"\")","v":""},{"$f":"IFERROR(VLOOKUP(A36,Futtermittel!$A$3:$AR$386,29,0),\"\")","v":""},{"$f":"IFERROR(VLOOKUP(A36,Futtermittel!$A$3:$AR$386,30,0),\"\")","v":""},{"$f":"IFERROR(VLOOKUP(A36,Futtermittel!$A$3:$AR$386,31,0),\"\")","v":""},{"$f":"IFERROR(VLOOKUP(A36,Futtermittel!$A$3:$AR$386,32,0),\"\")","v":""},{"$f":"IFERROR(VLOOKUP(A36,Futtermittel!$A$3:$AR$386,33,0),\"\")","v":""},{"$f":"IFERROR(VLOOKUP(A36,Futtermittel!$A$3:$AP$386,34,0),\"\")","v":""},{"$f":"IFERROR(VLOOKUP(A36,Futtermittel!$A$3:$AR$386,35,0),\"\")","v":""},{"$f":"IFERROR(VLOOKUP(A36,Futtermittel!$A$3:$AR$386,16,0),\"\")","v":""},{"$f":"IFERROR(VLOOKUP(A36,Futtermittel!$A$3:$AR$386,41,0),\"\")","v":""},{"$f":"IFERROR(VLOOKUP(A36,Futtermittel!$A$3:$AR$386,42,0),\"\")","v":""},"",{"$f":"IFERROR(VLOOKUP(A36,Futtermittel!$A$3:$AR$386,14,0),\"\")","v":""},{"$f":"IFERROR(VLOOKUP(A36,Futtermittel!$A$3:$AR$386,37,0),\"\")","v":""},{"$f":"IFERROR(VLOOKUP(A36,Futtermittel!$A$3:$AR$386,38,0),\"\")","v":""},{"$f":"IFERROR(VLOOKUP(A36,Futtermittel!$A$3:$AR$386,39,0),\"\")","v":""},{"$f":"IFERROR(VLOOKUP(A36,Futtermittel!$A$3:$AR$386,40,0),0)","v":0},{"$f":"IFERROR(VLOOKUP(A36,Futtermittel!$A$3:$AR$386,16,0),\"\")","v":""},{"$f":"IFERROR(VLOOKUP(A36,Futtermittel!$A$3:$AR$386,19,0),\"\")","v":""},{"$f":"IFERROR(VLOOKUP(A36,Futtermittel!$A$3:$AR$386,36,0),\"\")","v":""}]

{"sheet":"Mischung 1","index":2,"n_rows":36,"n_cols":62,"rows_kept":36,"cut":false,"hidden":false,"merged":[[0,45,0,58]]}
["Mischung",null,null,"TM","CA","OM","aNDFom","ADFom","OMDFANi","GE","MEFANi","CP","sidP FANi","CL","ST","bST","ZU","RMDFANi","Ca","P","Na","Mg","K","Cl","S","DCAB","Fe","Cu","Zn","Mn","Co","J","Se","siDUDP","Lysin","Methionin","Passagerate  k","sidP udp","a","b","c","lag","sidUDP FAN1","pabKH","Preis","Berechnung von Basis Fan1 auf FANi        --       DLG Information 01 | 25  -  DLG-Merknlatt 503  -  DLG-MERKBLATT 504"]
[null,"Futtermittel - Mischungsanteil in %","Anteil","g","g","g","g","g","% OM","MJ","MJ","g","g","g","g","g","g","g","g","g","g","g","g","g","g","meq","mg","mg","mg","mg","mg","mg","mg","% ","g","g","% / h","g","%","%","% / h","h","g","g","€ ","CH4E FAN1","CH4E FANi","Harnenergie","ME FANi","MCP g/kg","sidP aus MCP","EDGFANi %","UDPFANi","RDP g/d","sidPUDP g ","sidP g/kg","RDP g/kg","MCP g/d","RMDFANi","DOMFANi","MCP/DOM","UDP %"]
[{"$f":"A25","v":0},{"$f":"B25","v":""},null,{"$f":"IFERROR(D25*C3,0)","v":0},{"$f":"IFERROR(E25*D3/1000,0)","v":0},{"$f":"IFERROR(F25*D3/1000,0)","v":0},{"$f":"IF(AND(C25=\"GF\",C3>0),G25*D3/1000,0)","v":0},{"$f":"IFERROR(H25*D3/1000,0)","v":0},{"$f":"IF(C3>0,I25-(1.5+0.05*(I25-65))*('Start-Einstellung'!$G$8-1),0)","v":0},{"$f":"IFERROR(J25*D3/1000,0)","v":0},{"$f":"IFERROR((AW3*D3/1000),0)","v":0},{"$f":"IFERROR(L25*D3/1000,0)","v":0},{"$f":"(D3/1000)*BD3","v":0},{"$f":"IFERROR(N25*D3/1000,0)","v":0},{"$f":"IFERROR(O25*D3/1000,0)","v":0},{"$f":"IFERROR(P25*D3/1000,0)","v":0},{"$f":"IFERROR(Q25*D3/1000,0)","v":0},{"$f":"IFERROR((BB3-BF3)/6.25,0)","v":0},{"$f":"IFERROR(S25*D3/1000,0)","v":0},{"$f":"IFERROR(T25*D3/1000,0)","v":0},{"$f":"IFERROR(U25*D3/1000,0)","v":0},{"$f":"IFERROR(V25*D3/1000,0)","v":0},{"$f":"IFERROR(W25*D3/1000,0)","v":0},{"$f":"IFERROR(X25*D3/1000,0)","v":0},{"$f":"IFERROR(Y25*D3/1000,0)","v":0},{"$f":"IFERROR(Z25*D3/1000,0)","v":0},{"$f":"IFERROR(AA25*D3/1000,0)","v":0},{"$f":"IFERROR(AB25*D3/1000,0)","v":0},{"$f":"IFERROR(AC25*D3/1000,0)","v":0},{"$f":"IFERROR(AD25*D3/1000,0)","v":0},{"$f":"IFERROR(AE25*D3/1000,0)","v":0},{"$f":"IFERROR(AF25*D3/1000,0)","v":0},{"$f":"IFERROR(AG25*D3/1000,0)","v":0},{"$f":"IF(C3=0,0,AH25)","v":0},{"$f":"IFERROR(AI25*D3/1000,0)","v":0},{"$f":"IFERROR(AJ25*D3/1000,0)","v":0},{"$f":"IF(C3=0,0,IF(C25=\"GF\",(1.7286+0.8857*'Start-Einstellung'!$G$8),IF(C25=\"KF\",(2.2357+1.2429*'Start-Einstellung'!$G$8),IF(C25=\"SF\",(1.9607+0.9643*'Start-Einstellung'!$G$8),0))))","v":0},{"$f":"IFERROR(BC3*D3/1000,0)","v":0},{"$f":"IF(C3=0,0,AM25)","v":0},{"$f":"IF(C3=0,0,AN25)","v":0},{"$f":"IF(C3>0,AO25/100,0)","v":0},{"$f":"IF(C3=0,0,AP25)","v":0},{"$f":"IFERROR(AQ25*D3/1000,0)","v":0},{"$f":"IFERROR(AR25*D3/1000,0)","v":0},{"$f":"IF(C3=0,0,IF(C3>0,(AS25/100)*C3))","v":0},{"$f":"IF(C3=0,0,IF(C3>0,(0.7+0.014*I25)*(F25/1000)))","v":0},{"$f":"IFERROR(IF(C3=0,0,IF(C3>0,(((AT3/(F25/1000)+0.9*('Start-Einstellung'!$G$8-1))/'Start-Einstellung'!$G$8*(F25/1000))))),0)","v":0},{"$f":"IF(C3=0,0,IF(C3>0,(0.0037*L25)))","v":0},{"$f":"IF(C3=0,0,IF(C3>0,((J25*(I3-3.3)/100)-AV3-AU3)))","v":0},{"$f":"BI3*BH3/1000","v":0},{"$f":"IFERROR((AX3*0.78*0.85),0)","v":0},{"$f":"IF(C3>0,AM3+(AN3*AO3)/(AO3+AK3%)*(EXP(-AK3/100*AP3)),0)","v":0},{"$f":"IF(C3=0,0,IF(C3>0,(L25*(1-(AZ3/100)))))","v":0},{"$f":"IF(C3>0,BE3*(D3/1000),0)","v":0},{"$f":"IF(C3>0,(BA3*AH3%),0)","v":0},{"$f":"IFERROR((AY3+BC3),0)","v":0},{"$f":"IFERROR(L25*AZ3/100,0)","v":0},{"$f":"IF(F3>0,AX3*(D3/1000),0)","v":0},{"$f":"IFERROR((BE3-AX3)/6.25,0)","v":0},{"$f":"IFERROR((F25*I3/100),0)","v":0},{"$f":"IF(C3=0,0,IF('Start-Einstellung'!$G$8<3.4,150,IF(-11+(47.1*'Start-Einstellung'!$G$8)>180,180,(-11+(47.1*'Start-Einstellung'!$G$8)))))","v":0},{"$f":"IFERROR((BA3/L25)*100,0)","v":0}]
[0,"",null,0,{"$f":"IFERROR(E26*D4/1000,0)","v":0},{"$f":"IFERROR(F26*D4/1000,0)","v":0},{"$f":"IF(AND(C26=\"GF\",C4>0),G26*D4/1000,0)","v":0},{"$f":"IFERROR(H26*D4/1000,0)","v":0},{"$f":"IF(C4>0,I26-(1.5+0.05*(I26-65))*('Start-Einstellung'!$G$8-1),0)","v":0},{"$f":"IFERROR(J26*D4/1000,0)","v":0},{"$f":"IFERROR((AW4*D4/1000),0)","v":0},{"$f":"IFERROR(L26*D4/1000,0)","v":0},{"$f":"(D4/1000)*BD4","v":0},{"$f":"IFERROR(N26*D4/1000,0)","v":0},{"$f":"IFERROR(O26*D4/1000,0)","v":0},{"$f":"IFERROR(P26*D4/1000,0)","v":0},{"$f":"IFERROR(Q26*D4/1000,0)","v":0},{"$f":"IFERROR((BB4-BF4)/6.25,0)","v":0},{"$f":"IFERROR(S26*D4/1000,0)","v":0},{"$f":"IFERROR(T26*D4/1000,0)","v":0},{"$f":"IFERROR(U26*D4/1000,0)","v":0},{"$f":"IFERROR(V26*D4/1000,0)","v":0},{"$f":"IFERROR(W26*D4/1000,0)","v":0},{"$f":"IFERROR(X26*D4/1000,0)","v":0},{"$f":"IFERROR(Y26*D4/1000,0)","v":0},{"$f":"IFERROR(Z26*D4/1000,0)","v":0},{"$f":"IFERROR(AA26*D4/1000,0)","v":0},{"$f":"IFERROR(AB26*D4/1000,0)","v":0},{"$f":"IFERROR(AC26*D4/1000,0)","v":0},{"$f":"IFERROR(AD26*D4/1000,0)","v":0},{"$f":"IFERROR(AE26*D4/1000,0)","v":0},{"$f":"IFERROR(AF26*C4,0)","v":0},{"$f":"IFERROR(AG26*D4/1000,0)","v":0},{"$f":"IF(C4=0,0,AH26)","v":0},{"$f":"IFERROR(AI26*D4/1000,0)","v":0},{"$f":"IFERROR(AJ26*D4/1000,0)","v":0},{"$f":"IF(C4=0,0,IF(C26=\"GF\",(1.7286+0.8857*'Start-Einstellung'!$G$8),IF(C26=\"KF\",(2.2357+1.2429*'Start-Einstellung'!$G$8),IF(C26=\"SF\",(1.9607+0.9643*'Start-Einstellung'!$G$8),0))))","v":0},{"$f":"IFERROR(BC4*D4/1000,0)","v":0},{"$f":"IF(C4=0,0,AM26)","v":0},{"$f":"IF(C4=0,0,AN26)","v":0},0,{"$f":"IF(C4=0,0,AP26)","v":0},{"$f":"IFERROR(AQ26*D4/1000,0)","v":0},{"$f":"IFERROR(AR26*D4/1000,0)","v":0},0,0,{"$f":"IFERROR(IF(C4=0,0,IF(C4>0,(((AT4/(F26/1000)+0.9*('Start-Einstellung'!$G$8-1))/'Start-Einstellung'!$G$8*(F26/1000))))),0)","v":0},0,0,{"$f":"BI4*BH4/1000","v":0},{"$f":"IFERROR((AX4*0.78*0.85),0)","v":0},{"$f":"IF(C4>0,AM4+(AN4*AO4)/(AO4+AK4%)*(EXP(-AK4/100*AP4)),0)","v":0},0,{"$f":"IF(C4>0,BE4*(D4/1000),0)","v":0},{"$f":"IF(C4>0,(BA4*AH4%),0)","v":0},{"$f":"IFERROR((AY4+BC4),0)","v":0},0,{"$f":"IF(F4>0,AX4*(D4/1000),0)","v":0},{"$f":"IFERROR((BE4-AX4)/6.25,0)","v":0},0,{"$f":"IF(C4=0,0,IF('Start-Einstellung'!$G$8<3.4,150,IF(-11+(47.1*'Start-Einstellung'!$G$8)>180,180,(-11+(47.1*'Start-Einstellung'!$G$8)))))","v":0},0]
[0,"",null,0,0,0,0,0,{"$f":"IF(C5>0,I27-(1.5+0.05*(I27-65))*('Start-Einstellung'!$G$8-1),0)","v":0},0,0,0,0,0,0,0,0,0,0,0,0,0,0,0,0,0,0,0,0,0,0,0,0,0,0,0,{"$f":"IF(C5=0,0,IF(C27=\"GF\",(1.7286+0.8857*'Start-Einstellung'!$G$8),IF(C27=\"KF\",(2.2357+1.2429*'Start-Einstellung'!$G$8),IF(C27=\"SF\",(1.9607+0.9643*'Start-Einstellung'!$G$8),0))))","v":0},0,0,0,0,0,0,0,0,0,{"$f":"IFERROR(IF(C5=0,0,IF(C5>0,(((AT5/(F27/1000)+0.9*('Start-Einstellung'!$G$8-1))/'Start-Einstellung'!$G$8*(F27/1000))))),0)","v":0},0,0,0,0,0,0,0,0,0,0,0,0,0,{"$f":"IF(C5=0,0,IF('Start-Einstellung'!$G$8<3.4,150,IF(-11+(47.1*'Start-Einstellung'!$G$8)>180,180,(-11+(47.1*'Start-Einstellung'!$G$8)))))","v":0},0]
[0,"",null,0,0,0,0,0,{"$f":"IF(C6>0,I28-(1.5+0.05*(I28-65))*('Start-Einstellung'!$G$8-1),0)","v":0},0,0,0,0,0,0,0,0,0,0,0,0,0,0,0,0,0,0,0,0,0,0,0,0,0,0,0,{"$f":"IF(C6=0,0,IF(C28=\"GF\",(1.7286+0.8857*'Start-Einstellung'!$G$8),IF(C28=\"KF\",(2.2357+1.2429*'Start-Einstellung'!$G$8),IF(C28=\"SF\",(1.9607+0.9643*'Start-Einstellung'!$G$8),0))))","v":0},0,0,0,0,0,0,0,0,0,{"$f":"IFERROR(IF(C6=0,0,IF(C6>0,(((AT6/(F28/1000)+0.9*('Start-Einstellung'!$G$8-1))/'Start-Einstellung'!$G$8*(F28/1000))))),0)","v":0},0,0,0,0,0,0,0,0,0,0,0,0,0,{"$f":"IF(C6=0,0,IF('Start-Einstellung'!$G$8<3.4,150,IF(-11+(47.1*'Start-Einstellung'!$G$8)>180,180,(-11+(47.1*'Start-Einstellung'!$G$8)))))","v":0},0]
[0,"",null,0,0,0,0,0,{"$f":"IF(C7>0,I29-(1.5+0.05*(I29-65))*('Start-Einstellung'!$G$8-1),0)","v":0},0,0,0,0,0,0,0,0,0,0,0,0,0,0,0,0,0,0,0,0,0,0,0,0,0,0,0,{"$f":"IF(C7=0,0,IF(C29=\"GF\",(1.7286+0.8857*'Start-Einstellung'!$G$8),IF(C29=\"KF\",(2.2357+1.2429*'Start-Einstellung'!$G$8),IF(C29=\"SF\",(1.9607+0.9643*'Start-Einstellung'!$G$8),0))))","v":0},0,0,0,0,0,0,0,0,0,{"$f":"IFERROR(IF(C7=0,0,IF(C7>0,(((AT7/(F29/1000)+0.9*('Start-Einstellung'!$G$8-1))/'Start-Einstellung'!$G$8*(F29/1000))))),0)","v":0},0,0,0,0,0,0,0,0,0,0,0,0,0,{"$f":"IF(C7=0,0,IF('Start-Einstellung'!$G$8<3.4,150,IF(-11+(47.1*'Start-Einstellung'!$G$8)>180,180,(-11+(47.1*'Start-Einstellung'!$G$8)))))","v":0},0]
[0,"",null,0,0,0,0,0,{"$f":"IF(C8>0,I30-(1.5+0.05*(I30-65))*('Start-Einstellung'!$G$8-1),0)","v":0},0,0,0,0,0,0,0,0,0,0,0,0,0,0,0,0,0,0,0,0,0,0,0,0,0,0,0,{"$f":"IF(C8=0,0,IF(C30=\"GF\",(1.7286+0.8857*'Start-Einstellung'!$G$8),IF(C30=\"KF\",(2.2357+1.2429*'Start-Einstellung'!$G$8),IF(C30=\"SF\",(1.9607+0.9643*'Start-Einstellung'!$G$8),0))))","v":0},0,0,0,0,0,0,0,0,0,{"$f":"IFERROR(IF(C8=0,0,IF(C8>0,(((AT8/(F30/1000)+0.9*('Start-Einstellung'!$G$8-1))/'Start-Einstellung'!$G$8*(F30/1000))))),0)","v":0},0,0,0,0,0,0,0,0,0,0,0,0,0,{"$f":"IF(C8=0,0,IF('Start-Einstellung'!$G$8<3.4,150,IF(-11+(47.1*'Start-Einstellung'!$G$8)>180,180,(-11+(47.1*'Start-Einstellung'!$G$8)))))","v":0},0]
[0,"",null,0,0,0,0,0,{"$f":"IF(C9>0,I31-(1.5+0.05*(I31-65))*('Start-Einstellung'!$G$8-1),0)","v":0},0,0,0,0,0,0,0,0,0,0,0,0,0,0,0,0,0,0,0,0,0,0,0,0,0,0,0,{"$f":"IF(C9=0,0,IF(C31=\"GF\",(1.7286+0.8857*'Start-Einstellung'!$G$8),IF(C31=\"KF\",(2.2357+1.2429*'Start-Einstellung'!$G$8),IF(C31=\"SF\",(1.9607+0.9643*'Start-Einstellung'!$G$8),0))))","v":0},0,0,0,0,0,0,0,0,0,{"$f":"IFERROR(IF(C9=0,0,IF(C9>0,(((AT9/(F31/1000)+0.9*('Start-Einstellung'!$G$8-1))/'Start-Einstellung'!$G$8*(F31/1000))))),0)","v":0},0,0,0,0,0,0,0,0,0,0,0,0,0,{"$f":"IF(C9=0,0,IF('Start-Einstellung'!$G$8<3.4,150,IF(-11+(47.1*'Start-Einstellung'!$G$8)>180,180,(-11+(47.1*'Start-Einstellung'!$G$8)))))","v":0},0]
[0,"",null,0,0,0,0,0,{"$f":"IF(C10>0,I32-(1.5+0.05*(I32-65))*('Start-Einstellung'!$G$8-1),0)","v":0},0,0,0,0,0,0,0,0,0,0,0,0,0,0,0,0,0,0,0,0,0,0,0,0,0,0,0,{"$f":"IF(C10=0,0,IF(C32=\"GF\",(1.7286+0.8857*'Start-Einstellung'!$G$8),IF(C32=\"KF\",(2.2357+1.2429*'Start-Einstellung'!$G$8),IF(C32=\"SF\",(1.9607+0.9643*'Start-Einstellung'!$G$8),0))))","v":0},0,0,0,0,0,0,0,0,0,{"$f":"IFERROR(IF(C10=0,0,IF(C10>0,(((AT10/(F32/1000)+0.9*('Start-Einstellung'!$G$8-1))/'Start-Einstellung'!$G$8*(F32/1000))))),0)","v":0},0,0,0,0,0,0,0,0,0,0,0,0,0,{"$f":"IF(C10=0,0,IF('Start-Einstellung'!$G$8<3.4,150,IF(-11+(47.1*'Start-Einstellung'!$G$8)>180,180,(-11+(47.1*'Start-Einstellung'!$G$8)))))","v":0},0]
[0,"",null,0,0,0,0,0,{"$f":"IF(C11>0,I33-(1.5+0.05*(I33-65))*('Start-Einstellung'!$G$8-1),0)","v":0},0,0,0,0,0,0,0,0,0,0,0,0,0,0,0,0,0,0,0,0,0,0,0,0,0,0,0,{"$f":"IF(C11=0,0,IF(C33=\"GF\",(1.7286+0.8857*'Start-Einstellung'!$G$8),IF(C33=\"KF\",(2.2357+1.2429*'Start-Einstellung'!$G$8),IF(C33=\"SF\",(1.9607+0.9643*'Start-Einstellung'!$G$8),0))))","v":0},0,0,0,0,0,0,0,0,0,{"$f":"IFERROR(IF(C11=0,0,IF(C11>0,(((AT11/(F33/1000)+0.9*('Start-Einstellung'!$G$8-1))/'Start-Einstellung'!$G$8*(F33/1000))))),0)","v":0},0,0,0,0,0,0,0,0,0,0,0,0,0,{"$f":"IF(C11=0,0,IF('Start-Einstellung'!$G$8<3.4,150,IF(-11+(47.1*'Start-Einstellung'!$G$8)>180,180,(-11+(47.1*'Start-Einstellung'!$G$8)))))","v":0},0]
[0,"",null,0,0,0,0,0,{"$f":"IF(C12>0,I34-(1.5+0.05*(I34-65))*('Start-Einstellung'!$G$8-1),0)","v":0},0,0,0,0,0,0,0,0,0,0,0,0,0,0,0,0,0,0,0,0,0,0,0,0,0,0,0,{"$f":"IF(C12=0,0,IF(C34=\"GF\",(1.7286+0.8857*'Start-Einstellung'!$G$8),IF(C34=\"KF\",(2.2357+1.2429*'Start-Einstellung'!$G$8),IF(C34=\"SF\",(1.9607+0.9643*'Start-Einstellung'!$G$8),0))))","v":0},0,0,0,0,0,0,0,0,0,{"$f":"IFERROR(IF(C12=0,0,IF(C12>0,(((AT12/(F34/1000)+0.9*('Start-Einstellung'!$G$8-1))/'Start-Einstellung'!$G$8*(F34/1000))))),0)","v":0},0,0,0,0,0,0,0,0,0,0,0,0,0,{"$f":"IF(C12=0,0,IF('Start-Einstellung'!$G$8<3.4,150,IF(-11+(47.1*'Start-Einstellung'!$G$8)>180,180,(-11+(47.1*'Start-Einstellung'!$G$8)))))","v":0},0]
[0,"",null,0,0,0,0,0,{"$f":"IF(C13>0,I35-(1.5+0.05*(I35-65))*('Start-Einstellung'!$G$8-1),0)","v":0},0,0,0,0,0,0,0,0,0,0,0,0,0,0,0,0,0,0,0,0,0,0,0,0,0,0,0,{"$f":"IF(C13=0,0,IF(C35=\"GF\",(1.7286+0.8857*'Start-Einstellung'!$G$8),IF(C35=\"KF\",(2.2357+1.2429*'Start-Einstellung'!$G$8),IF(C35=\"SF\",(1.9607+0.9643*'Start-Einstellung'!$G$8),0))))","v":0},0,0,0,0,0,0,0,0,0,{"$f":"IFERROR(IF(C13=0,0,IF(C13>0,(((AT13/(F35/1000)+0.9*('Start-Einstellung'!$G$8-1))/'Start-Einstellung'!$G$8*(F35/1000))))),0)","v":0},0,0,0,0,0,0,0,0,0,0,0,0,0,{"$f":"IF(C13=0,0,IF('Start-Einstellung'!$G$8<3.4,150,IF(-11+(47.1*'Start-Einstellung'!$G$8)>180,180,(-11+(47.1*'Start-Einstellung'!$G$8)))))","v":0},0]
[0,"",null,0,0,0,0,0,{"$f":"IF(C14>0,I36-(1.5+0.05*(I36-65))*('Start-Einstellung'!$G$8-1),0)","v":0},0,0,0,0,0,0,0,0,0,0,0,0,0,0,0,0,0,0,0,0,0,0,0,0,0,0,0,{"$f":"IF(C14=0,0,IF(C36=\"GF\",(1.7286+0.8857*'Start-Einstellung'!$G$8),IF(C36=\"KF\",(2.2357+1.2429*'Start-Einstellung'!$G$8),IF(C36=\"SF\",(1.9607+0.9643*'Start-Einstellung'!$G$8),0))))","v":0},0,0,0,0,0,0,0,0,0,{"$f":"IFERROR(IF(C14=0,0,IF(C14>0,(((AT14/(F36/1000)+0.9*('Start-Einstellung'!$G$8-1))/'Start-Einstellung'!$G$8*(F36/1000))))),0)","v":0},0,0,0,0,0,0,0,0,0,0,0,0,0,{"$f":"IF(C14=0,0,IF('Start-Einstellung'!$G$8<3.4,150,IF(-11+(47.1*'Start-Einstellung'!$G$8)>180,180,(-11+(47.1*'Start-Einstellung'!$G$8)))))","v":0},0]
[null,"Summe",{"$f":"SUM(C3:C14)","v":0},{"$f":"SUM(D3:D14)","v":0},0,0,0,0,null,{"$f":"SUM(J3:J14)","v":0},{"$f":"SUM(K3:K14)","v":0},{"$f":"SUM(L3:L14)","v":0},{"$f":"SUM(M3:M14)","v":0},{"$f":"SUM(N3:N14)","v":0},{"$f":"SUM(O3:O14)","v":0},{"$f":"SUM(P3:P14)","v":0},{"$f":"SUM(Q3:Q14)","v":0},{"$f":"SUM(R3:R14)","v":0},{"$f":"SUM(S3:S14)","v":0},0,0,0,0,0,0,{"$f":"SUM(Z3:Z14)","v":0},{"$f":"SUM(AA3:AA14)","v":0},{"$f":"SUM(AB3:AB14)","v":0},0,0,{"$f":"IFERROR(SUM(AE3:AE14),0)","v":0},{"$f":"SUM(AF3:AF14)","v":0},0,null,{"$f":"SUM(AI3:AI14)","v":0},0,null,0,null,null,null,null,{"$f":"SUM(AQ3:AQ14)","v":0},{"$f":"IFERROR(SUM(AR3:AR14),0)","v":0},{"$f":"SUM(AS3:AS14)","v":0}]
[null,"Milcherzeugungswert / Kennzahlen",null,null,null,null,null,null,null,null,{"$f":"IF(K15>0,K15/'Start-Einstellung'!E24,0)","v":0},{"$f":"IF(D15>0,L15/D15,0)","v":0},{"$f":"IF(M15>0,M15/'Start-Einstellung'!D17,0)","v":0},{"$f":"IF(D15>0,N15/D15,0)","v":0},null,null,null,null,{"$f":"IF(S15>0,S15/'Start-Einstellung'!F24,0)","v":0},null,{"$f":"IF(U15>0,U15/'Start-Einstellung'!G24,0)","v":0}]
[]
[]
[]
[]
[]
[]
[]
[null,"Futtermittel aus Gruber Tabelle","Art","TM","CA","OM","aNDFom","ADFom","OMDFAN1","GE","MEFAN1","CP","sidP FAN1","CL","ST","bST","ZU","RMDFAN1","Ca","P","Na","Mg","K","Cl","S","DCAB","Fe","Cu","Zn","Mn","Co","J","Se","siDUDP","Lysin","Methionin",null,"sidPUDP","a","b","c","lag h","sidUDP FAN1","pabKH","Preis / €"]
[null,{"$f":"IFERROR(VLOOKUP(A25,Futtermittel!$A$3:$AR$386,2,0),\"\")","v":""},{"$f":"IFERROR(VLOOKUP(A25,Futtermittel!$A$3:$AR$386,28,0),\"\")","v":""},{"$f":"IFERROR(VLOOKUP(A25,Futtermittel!$A$3:$AR$386,3,0),\"\")","v":""},{"$f":"IFERROR(VLOOKUP(A25,Futtermittel!$A$3:$AR$386,4,0),\"\")","v":""},{"$f":"IFERROR(VLOOKUP(A25,Futtermittel!$A$3:$AR$386,5,0),\"\")","v":""},{"$f":"IFERROR(VLOOKUP(A25,Futtermittel!$A$3:$AR$386,6,0),\"\")","v":""},{"$f":"IFERROR(VLOOKUP(A25,Futtermittel!$A$3:$AR$386,7,0),\"\")","v":""},{"$f":"IFERROR(VLOOKUP(A25,Futtermittel!$A$3:$AR$386,8,0),\"\")","v":""},{"$f":"IFERROR(VLOOKUP(A25,Futtermittel!$A$3:$AR$386,13,0),\"\")","v":""},{"$f":"IFERROR(VLOOKUP(A25,Futtermittel!$A$3:$AR$386,18,0),\"\")","v":""},{"$f":"IFERROR(VLOOKUP(A25,Futtermittel!$A$3:$AR$386,9,0),\"\")","v":""},{"$f":"IFERROR(VLOOKUP(A25,Futtermittel!$A$3:$AR$386,14,0),\"\")","v":""},{"$f":"IFERROR(VLOOKUP(A25,Futtermittel!$A$3:$AR$386,10,0),\"\")","v":""},{"$f":"IFERROR(VLOOKUP(A25,Futtermittel!$A$3:$AR$386,11,0),\"\")","v":""},{"$f":"IFERROR(VLOOKUP(A25,Futtermittel!$A$3:$AR$386,43,0),\"\")","v":""},{"$f":"IFERROR(VLOOKUP(A25,Futtermittel!$A$3:$AR$386,12,0),\"\")","v":""},{"$f":"IFERROR(VLOOKUP(A25,Futtermittel!$A$3:$AR$386,17,0),\"\")","v":""},{"$f":"IFERROR(VLOOKUP(A25,Futtermittel!$A$3:$AR$386,20,0),\"\")","v":""},{"$f":"IFERROR(VLOOKUP(A25,Futtermittel!$A$3:$AR$386,21,0),\"\")","v":""},{"$f":"IFERROR(VLOOKUP(A25,Futtermittel!$A$3:$AR$386,23,0),\"\")","v":""},{"$f":"IFERROR(VLOOKUP(A25,Futtermittel!$A$3:$AR$386,22,0),\"\")","v":""},{"$f":"IFERROR(VLOOKUP(A25,Futtermittel!$A$3:$AR$386,24,0),\"\")","v":""},{"$f":"IFERROR(VLOOKUP(A25,Futtermittel!$A$3:$AR$386,25,0),\"\")","v":""},{"$f":"IFERROR(VLOOKUP(A25,Futtermittel!$A$3:$AR$386,26,0),\"\")","v":""},{"$f":"IFERROR(VLOOKUP(A25,Futtermittel!$A$3:$AR$386,27,0),\"\")","v":""},{"$f":"IFERROR(VLOOKUP(A25,Futtermittel!$A$3:$AR$386,29,0),\"\")","v":""},{"$f":"IFERROR(VLOOKUP(A25,Futtermittel!$A$3:$AR$386,30,0),\"\")","v":""},{"$f":"IFERROR(VLOOKUP(A25,Futtermittel!$A$3:$AR$386,31,0),\"\")","v":""},{"$f":"IFERROR(VLOOKUP(A25,Futtermittel!$A$3:$AR$386,32,0),\"\")","v":""},{"$f":"IFERROR(VLOOKUP(A25,Futtermittel!$A$3:$AR$386,33,0),\"\")","v":""},{"$f":"IFERROR(VLOOKUP(A25,Futtermittel!$A$3:$AR$386,34,0),\"\")","v":""},{"$f":"IFERROR(VLOOKUP(A25,Futtermittel!$A$3:$AR$386,35,0),\"\")","v":""},{"$f":"IFERROR(VLOOKUP(A25,Futtermittel!$A$3:$AR$386,16,0),\"\")","v":""},{"$f":"IFERROR(VLOOKUP(A25,Futtermittel!$A$3:$AR$386,41,0),\"\")","v":""},{"$f":"IFERROR(VLOOKUP(A25,Futtermittel!$A$3:$AR$386,42,0),\"\")","v":""},{"$f":"IF(C25=\"GF\",4.4,IF(C25=\"KF\",6,IF(C25=\"SF\",6,\"\")))","v":""},{"$f":"IFERROR(VLOOKUP(A25,Futtermittel!$A$3:$AR$386,15,0),\"\")","v":""},{"$f":"IFERROR(VLOOKUP(A25,Futtermittel!$A$3:$AR$386,37,0),\"\")","v":""},{"$f":"IFERROR(VLOOKUP(A25,Futtermittel!$A$3:$AR$386,38,0),\"\")","v":""},{"$f":"IFERROR(VLOOKUP(A25,Futtermittel!$A$3:$AR$386,39,0),\"\")","v":""},{"$f":"IFERROR(VLOOKUP(A25,Futtermittel!$A$3:$AR$386,40,0),\"\")","v":""},{"$f":"IFERROR(VLOOKUP(A25,Futtermittel!$A$3:$AR$386,15,0),\"\")","v":""},{"$f":"IFERROR(VLOOKUP(A25,Futtermittel!$A$3:$AR$386,19,0),\"\")","v":""},{"$f":"IFERROR(VLOOKUP(A25,Futtermittel!$A$3:$AR$386,36,0),\"\")","v":""}]
[null,{"$f":"IFERROR(VLOOKUP(A26,Futtermittel!$A$3:$AR$386,2,0),\"\")","v":""},{"$f":"IFERROR(VLOOKUP(A26,Futtermittel!$A$3:$AR$386,28,0),\"\")","v":""},{"$f":"IFERROR(VLOOKUP(A26,Futtermittel!$A$3:$AR$386,3,0),\"\")","v":""},{"$f":"IFERROR(VLOOKUP(A26,Futtermittel!$A$3:$AR$386,4,0),\"\")","v":""},{"$f":"IFERROR(VLOOKUP(A26,Futtermittel!$A$3:$AR$386,5,0),\"\")","v":""},{"$f":"IFERROR(VLOOKUP(A26,Futtermittel!$A$3:$AR$386,6,0),\"\")","v":""},{"$f":"IFERROR(VLOOKUP(A26,Futtermittel!$A$3:$AR$386,7,0),\"\")","v":""},{"$f":"IFERROR(VLOOKUP(A26,Futtermittel!$A$3:$AR$386,8,0),\"\")","v":""},{"$f":"IFERROR(VLOOKUP(A26,Futtermittel!$A$3:$AR$386,13,0),\"\")","v":""},{"$f":"IFERROR(VLOOKUP(A26,Futtermittel!$A$3:$AR$386,18,0),\"\")","v":""},{"$f":"IFERROR(VLOOKUP(A26,Futtermittel!$A$3:$AR$386,9,0),\"\")","v":""},{"$f":"IFERROR(VLOOKUP(A26,Futtermittel!$A$3:$AR$386,14,0),\"\")","v":""},{"$f":"IFERROR(VLOOKUP(A26,Futtermittel!$A$3:$AR$386,10,0),\"\")","v":""},{"$f":"IFERROR(VLOOKUP(A26,Futtermittel!$A$3:$AR$386,11,0),\"\")","v":""},{"$f":"IFERROR(VLOOKUP(A26,Futtermittel!$A$3:$AR$386,43,0),\"\")","v":""},{"$f":"IFERROR(VLOOKUP(A26,Futtermittel!$A$3:$AR$386,12,0),\"\")","v":""},{"$f":"IFERROR(VLOOKUP(A26,Futtermittel!$A$3:$AR$386,17,0),\"\")","v":""},{"$f":"IFERROR(VLOOKUP(A26,Futtermittel!$A$3:$AR$386,20,0),\"\")","v":""},{"$f":"IFERROR(VLOOKUP(A26,Futtermittel!$A$3:$AR$386,21,0),\"\")","v":""},{"$f":"IFERROR(VLOOKUP(A26,Futtermittel!$A$3:$AR$386,23,0),\"\")","v":""},{"$f":"IFERROR(VLOOKUP(A26,Futtermittel!$A$3:$AR$386,22,0),\"\")","v":""},{"$f":"IFERROR(VLOOKUP(A26,Futtermittel!$A$3:$AR$386,24,0),\"\")","v":""},{"$f":"IFERROR(VLOOKUP(A26,Futtermittel!$A$3:$AR$386,25,0),\"\")","v":""},{"$f":"IFERROR(VLOOKUP(A26,Futtermittel!$A$3:$AR$386,26,0),\"\")","v":""},{"$f":"IFERROR(VLOOKUP(A26,Futtermittel!$A$3:$AR$386,27,0),\"\")","v":""},{"$f":"IFERROR(VLOOKUP(A26,Futtermittel!$A$3:$AR$386,29,0),\"\")","v":""},{"$f":"IFERROR(VLOOKUP(A26,Futtermittel!$A$3:$AR$386,30,0),\"\")","v":""},{"$f":"IFERROR(VLOOKUP(A26,Futtermittel!$A$3:$AR$386,31,0),\"\")","v":""},{"$f":"IFERROR(VLOOKUP(A26,Futtermittel!$A$3:$AR$386,32,0),\"\")","v":""},{"$f":"IFERROR(VLOOKUP(A26,Futtermittel!$A$3:$AR$386,33,0),\"\")","v":""},{"$f":"IFERROR(VLOOKUP(A26,Futtermittel!$A$3:$AR$386,34,0),\"\")","v":""},{"$f":"IFERROR(VLOOKUP(A26,Futtermittel!$A$3:$AR$386,35,0),\"\")","v":""},{"$f":"IFERROR(VLOOKUP(A26,Futtermittel!$A$3:$AR$386,16,0),\"\")","v":""},{"$f":"IFERROR(VLOOKUP(A26,Futtermittel!$A$3:$AR$386,41,0),\"\")","v":""},{"$f":"IFERROR(VLOOKUP(A26,Futtermittel!$A$3:$AR$386,42,0),\"\")","v":""},{"$f":"IF(C26=\"GF\",4.4,IF(C26=\"KF\",6,IF(C26=\"SF\",6,\"\")))","v":""},{"$f":"IFERROR(VLOOKUP(A26,Futtermittel!$A$3:$AR$386,15,0),\"\")","v":""},{"$f":"IFERROR(VLOOKUP(A26,Futtermittel!$A$3:$AR$386,37,0),\"\")","v":""},{"$f":"IFERROR(VLOOKUP(A26,Futtermittel!$A$3:$AR$386,38,0),\"\")","v":""},{"$f":"IFERROR(VLOOKUP(A26,Futtermittel!$A$3:$AR$386,39,0),\"\")","v":""},{"$f":"IFERROR(VLOOKUP(A26,Futtermittel!$A$3:$AR$386,40,0),\"\")","v":""},{"$f":"IFERROR(VLOOKUP(A26,Futtermittel!$A$3:$AR$386,15,0),\"\")","v":""},{"$f":"IFERROR(VLOOKUP(A26,Futtermittel!$A$3:$AR$386,19,0),\"\")","v":""},{"$f":"IFERROR(VLOOKUP(A26,Futtermittel!$A$3:$AR$386,36,0),\"\")","v":""}]
[null,{"$f":"IFERROR(VLOOKUP(A27,Futtermittel!$A$3:$AR$386,2,0),\"\")","v":""},{"$f":"IFERROR(VLOOKUP(A27,Futtermittel!$A$3:$AR$386,28,0),\"\")","v":""},{"$f":"IFERROR(VLOOKUP(A27,Futtermittel!$A$3:$AR$386,3,0),\"\")","v":""},{"$f":"IFERROR(VLOOKUP(A27,Futtermittel!$A$3:$AR$386,4,0),\"\")","v":""},{"$f":"IFERROR(VLOOKUP(A27,Futtermittel!$A$3:$AR$386,5,0),\"\")","v":""},{"$f":"IFERROR(VLOOKUP(A27,Futtermittel!$A$3:$AR$386,6,0),\"\")","v":""},{"$f":"IFERROR(VLOOKUP(A27,Futtermittel!$A$3:$AR$386,7,0),\"\")","v":""},{"$f":"IFERROR(VLOOKUP(A27,Futtermittel!$A$3:$AR$386,8,0),\"\")","v":""},{"$f":"IFERROR(VLOOKUP(A27,Futtermittel!$A$3:$AR$386,13,0),\"\")","v":""},{"$f":"IFERROR(VLOOKUP(A27,Futtermittel!$A$3:$AR$386,18,0),\"\")","v":""},{"$f":"IFERROR(VLOOKUP(A27,Futtermittel!$A$3:$AR$386,9,0),\"\")","v":""},{"$f":"IFERROR(VLOOKUP(A27,Futtermittel!$A$3:$AR$386,14,0),\"\")","v":""},{"$f":"IFERROR(VLOOKUP(A27,Futtermittel!$A$3:$AR$386,10,0),\"\")","v":""},{"$f":"IFERROR(VLOOKUP(A27,Futtermittel!$A$3:$AR$386,11,0),\"\")","v":""},{"$f":"IFERROR(VLOOKUP(A27,Futtermittel!$A$3:$AR$386,43,0),\"\")","v":""},{"$f":"IFERROR(VLOOKUP(A27,Futtermittel!$A$3:$AR$386,12,0),\"\")","v":""},{"$f":"IFERROR(VLOOKUP(A27,Futtermittel!$A$3:$AR$386,17,0),\"\")","v":""},{"$f":"IFERROR(VLOOKUP(A27,Futtermittel!$A$3:$AR$386,20,0),\"\")","v":""},{"$f":"IFERROR(VLOOKUP(A27,Futtermittel!$A$3:$AR$386,21,0),\"\")","v":""},{"$f":"IFERROR(VLOOKUP(A27,Futtermittel!$A$3:$AR$386,23,0),\"\")","v":""},{"$f":"IFERROR(VLOOKUP(A27,Futtermittel!$A$3:$AR$386,22,0),\"\")","v":""},{"$f":"IFERROR(VLOOKUP(A27,Futtermittel!$A$3:$AR$386,24,0),\"\")","v":""},{"$f":"IFERROR(VLOOKUP(A27,Futtermittel!$A$3:$AR$386,25,0),\"\")","v":""},{"$f":"IFERROR(VLOOKUP(A27,Futtermittel!$A$3:$AR$386,26,0),\"\")","v":""},{"$f":"IFERROR(VLOOKUP(A27,Futtermittel!$A$3:$AR$386,27,0),\"\")","v":""},{"$f":"IFERROR(VLOOKUP(A27,Futtermittel!$A$3:$AR$386,29,0),\"\")","v":""},{"$f":"IFERROR(VLOOKUP(A27,Futtermittel!$A$3:$AR$386,30,0),\"\")","v":""},{"$f":"IFERROR(VLOOKUP(A27,Futtermittel!$A$3:$AR$386,31,0),\"\")","v":""},{"$f":"IFERROR(VLOOKUP(A27,Futtermittel!$A$3:$AR$386,32,0),\"\")","v":""},{"$f":"IFERROR(VLOOKUP(A27,Futtermittel!$A$3:$AR$386,33,0),\"\")","v":""},{"$f":"IFERROR(VLOOKUP(A27,Futtermittel!$A$3:$AR$386,34,0),\"\")","v":""},{"$f":"IFERROR(VLOOKUP(A27,Futtermittel!$A$3:$AR$386,35,0),\"\")","v":""},{"$f":"IFERROR(VLOOKUP(A27,Futtermittel!$A$3:$AR$386,16,0),\"\")","v":""},{"$f":"IFERROR(VLOOKUP(A27,Futtermittel!$A$3:$AR$386,41,0),\"\")","v":""},{"$f":"IFERROR(VLOOKUP(A27,Futtermittel!$A$3:$AR$386,42,0),\"\")","v":""},"",{"$f":"IFERROR(VLOOKUP(A27,Futtermittel!$A$3:$AR$386,15,0),\"\")","v":""},{"$f":"IFERROR(VLOOKUP(A27,Futtermittel!$A$3:$AR$386,37,0),\"\")","v":""},{"$f":"IFERROR(VLOOKUP(A27,Futtermittel!$A$3:$AR$386,38,0),\"\")","v":""},{"$f":"IFERROR(VLOOKUP(A27,Futtermittel!$A$3:$AR$386,39,0),\"\")","v":""},{"$f":"IFERROR(VLOOKUP(A27,Futtermittel!$A$3:$AR$386,40,0),\"\")","v":""},{"$f":"IFERROR(VLOOKUP(A27,Futtermittel!$A$3:$AR$386,15,0),\"\")","v":""},{"$f":"IFERROR(VLOOKUP(A27,Futtermittel!$A$3:$AR$386,19,0),\"\")","v":""},{"$f":"IFERROR(VLOOKUP(A27,Futtermittel!$A$3:$AR$386,36,0),\"\")","v":""}]
[null,{"$f":"IFERROR(VLOOKUP(A28,Futtermittel!$A$3:$AR$386,2,0),\"\")","v":""},{"$f":"IFERROR(VLOOKUP(A28,Futtermittel!$A$3:$AR$386,28,0),\"\")","v":""},{"$f":"IFERROR(VLOOKUP(A28,Futtermittel!$A$3:$AR$386,3,0),\"\")","v":""},{"$f":"IFERROR(VLOOKUP(A28,Futtermittel!$A$3:$AR$386,4,0),\"\")","v":""},{"$f":"IFERROR(VLOOKUP(A28,Futtermittel!$A$3:$AR$386,5,0),\"\")","v":""},{"$f":"IFERROR(VLOOKUP(A28,Futtermittel!$A$3:$AR$386,6,0),\"\")","v":""},{"$f":"IFERROR(VLOOKUP(A28,Futtermittel!$A$3:$AR$386,7,0),\"\")","v":""},{"$f":"IFERROR(VLOOKUP(A28,Futtermittel!$A$3:$AR$386,8,0),\"\")","v":""},{"$f":"IFERROR(VLOOKUP(A28,Futtermittel!$A$3:$AR$386,13,0),\"\")","v":""},{"$f":"IFERROR(VLOOKUP(A28,Futtermittel!$A$3:$AR$386,18,0),\"\")","v":""},{"$f":"IFERROR(VLOOKUP(A28,Futtermittel!$A$3:$AR$386,9,0),\"\")","v":""},{"$f":"IFERROR(VLOOKUP(A28,Futtermittel!$A$3:$AR$386,14,0),\"\")","v":""},{"$f":"IFERROR(VLOOKUP(A28,Futtermittel!$A$3:$AR$386,10,0),\"\")","v":""},{"$f":"IFERROR(VLOOKUP(A28,Futtermittel!$A$3:$AR$386,11,0),\"\")","v":""},{"$f":"IFERROR(VLOOKUP(A28,Futtermittel!$A$3:$AR$386,43,0),\"\")","v":""},{"$f":"IFERROR(VLOOKUP(A28,Futtermittel!$A$3:$AR$386,12,0),\"\")","v":""},{"$f":"IFERROR(VLOOKUP(A28,Futtermittel!$A$3:$AR$386,17,0),\"\")","v":""},{"$f":"IFERROR(VLOOKUP(A28,Futtermittel!$A$3:$AR$386,20,0),\"\")","v":""},{"$f":"IFERROR(VLOOKUP(A28,Futtermittel!$A$3:$AR$386,21,0),\"\")","v":""},{"$f":"IFERROR(VLOOKUP(A28,Futtermittel!$A$3:$AR$386,23,0),\"\")","v":""},{"$f":"IFERROR(VLOOKUP(A28,Futtermittel!$A$3:$AR$386,22,0),\"\")","v":""},{"$f":"IFERROR(VLOOKUP(A28,Futtermittel!$A$3:$AR$386,24,0),\"\")","v":""},{"$f":"IFERROR(VLOOKUP(A28,Futtermittel!$A$3:$AR$386,25,0),\"\")","v":""},{"$f":"IFERROR(VLOOKUP(A28,Futtermittel!$A$3:$AR$386,26,0),\"\")","v":""},{"$f":"IFERROR(VLOOKUP(A28,Futtermittel!$A$3:$AR$386,27,0),\"\")","v":""},{"$f":"IFERROR(VLOOKUP(A28,Futtermittel!$A$3:$AR$386,29,0),\"\")","v":""},{"$f":"IFERROR(VLOOKUP(A28,Futtermittel!$A$3:$AR$386,30,0),\"\")","v":""},{"$f":"IFERROR(VLOOKUP(A28,Futtermittel!$A$3:$AR$386,31,0),\"\")","v":""},{"$f":"IFERROR(VLOOKUP(A28,Futtermittel!$A$3:$AR$386,32,0),\"\")","v":""},{"$f":"IFERROR(VLOOKUP(A28,Futtermittel!$A$3:$AR$386,33,0),\"\")","v":""},{"$f":"IFERROR(VLOOKUP(A28,Futtermittel!$A$3:$AR$386,34,0),\"\")","v":""},{"$f":"IFERROR(VLOOKUP(A28,Futtermittel!$A$3:$AR$386,35,0),\"\")","v":""},{"$f":"IFERROR(VLOOKUP(A28,Futtermittel!$A$3:$AR$386,16,0),\"\")","v":""},{"$f":"IFERROR(VLOOKUP(A28,Futtermittel!$A$3:$AR$386,41,0),\"\")","v":""},{"$f":"IFERROR(VLOOKUP(A28,Futtermittel!$A$3:$AR$386,42,0),\"\")","v":""},"",{"$f":"IFERROR(VLOOKUP(A28,Futtermittel!$A$3:$AR$386,15,0),\"\")","v":""},{"$f":"IFERROR(VLOOKUP(A28,Futtermittel!$A$3:$AR$386,37,0),\"\")","v":""},{"$f":"IFERROR(VLOOKUP(A28,Futtermittel!$A$3:$AR$386,38,0),\"\")","v":""},{"$f":"IFERROR(VLOOKUP(A28,Futtermittel!$A$3:$AR$386,39,0),\"\")","v":""},{"$f":"IFERROR(VLOOKUP(A28,Futtermittel!$A$3:$AR$386,40,0),\"\")","v":""},{"$f":"IFERROR(VLOOKUP(A28,Futtermittel!$A$3:$AR$386,15,0),\"\")","v":""},{"$f":"IFERROR(VLOOKUP(A28,Futtermittel!$A$3:$AR$386,19,0),\"\")","v":""},{"$f":"IFERROR(VLOOKUP(A28,Futtermittel!$A$3:$AR$386,36,0),\"\")","v":""}]
[null,{"$f":"IFERROR(VLOOKUP(A29,Futtermittel!$A$3:$AR$386,2,0),\"\")","v":""},{"$f":"IFERROR(VLOOKUP(A29,Futtermittel!$A$3:$AR$386,28,0),\"\")","v":""},{"$f":"IFERROR(VLOOKUP(A29,Futtermittel!$A$3:$AR$386,3,0),\"\")","v":""},{"$f":"IFERROR(VLOOKUP(A29,Futtermittel!$A$3:$AR$386,4,0),\"\")","v":""},{"$f":"IFERROR(VLOOKUP(A29,Futtermittel!$A$3:$AR$386,5,0),\"\")","v":""},{"$f":"IFERROR(VLOOKUP(A29,Futtermittel!$A$3:$AR$386,6,0),\"\")","v":""},{"$f":"IFERROR(VLOOKUP(A29,Futtermittel!$A$3:$AR$386,7,0),\"\")","v":""},{"$f":"IFERROR(VLOOKUP(A29,Futtermittel!$A$3:$AR$386,8,0),\"\")","v":""},{"$f":"IFERROR(VLOOKUP(A29,Futtermittel!$A$3:$AR$386,13,0),\"\")","v":""},{"$f":"IFERROR(VLOOKUP(A29,Futtermittel!$A$3:$AR$386,18,0),\"\")","v":""},{"$f":"IFERROR(VLOOKUP(A29,Futtermittel!$A$3:$AR$386,9,0),\"\")","v":""},{"$f":"IFERROR(VLOOKUP(A29,Futtermittel!$A$3:$AR$386,14,0),\"\")","v":""},{"$f":"IFERROR(VLOOKUP(A29,Futtermittel!$A$3:$AR$386,10,0),\"\")","v":""},{"$f":"IFERROR(VLOOKUP(A29,Futtermittel!$A$3:$AR$386,11,0),\"\")","v":""},{"$f":"IFERROR(VLOOKUP(A29,Futtermittel!$A$3:$AR$386,43,0),\"\")","v":""},{"$f":"IFERROR(VLOOKUP(A29,Futtermittel!$A$3:$AR$386,12,0),\"\")","v":""},{"$f":"IFERROR(VLOOKUP(A29,Futtermittel!$A$3:$AR$386,17,0),\"\")","v":""},{"$f":"IFERROR(VLOOKUP(A29,Futtermittel!$A$3:$AR$386,20,0),\"\")","v":""},{"$f":"IFERROR(VLOOKUP(A29,Futtermittel!$A$3:$AR$386,21,0),\"\")","v":""},{"$f":"IFERROR(VLOOKUP(A29,Futtermittel!$A$3:$AR$386,23,0),\"\")","v":""},{"$f":"IFERROR(VLOOKUP(A29,Futtermittel!$A$3:$AR$386,22,0),\"\")","v":""},{"$f":"IFERROR(VLOOKUP(A29,Futtermittel!$A$3:$AR$386,24,0),\"\")","v":""},{"$f":"IFERROR(VLOOKUP(A29,Futtermittel!$A$3:$AR$386,25,0),\"\")","v":""},{"$f":"IFERROR(VLOOKUP(A29,Futtermittel!$A$3:$AR$386,26,0),\"\")","v":""},{"$f":"IFERROR(VLOOKUP(A29,Futtermittel!$A$3:$AR$386,27,0),\"\")","v":""},{"$f":"IFERROR(VLOOKUP(A29,Futtermittel!$A$3:$AR$386,29,0),\"\")","v":""},{"$f":"IFERROR(VLOOKUP(A29,Futtermittel!$A$3:$AR$386,30,0),\"\")","v":""},{"$f":"IFERROR(VLOOKUP(A29,Futtermittel!$A$3:$AR$386,31,0),\"\")","v":""},{"$f":"IFERROR(VLOOKUP(A29,Futtermittel!$A$3:$AR$386,32,0),\"\")","v":""},{"$f":"IFERROR(VLOOKUP(A29,Futtermittel!$A$3:$AR$386,33,0),\"\")","v":""},{"$f":"IFERROR(VLOOKUP(A29,Futtermittel!$A$3:$AR$386,34,0),\"\")","v":""},{"$f":"IFERROR(VLOOKUP(A29,Futtermittel!$A$3:$AR$386,35,0),\"\")","v":""},{"$f":"IFERROR(VLOOKUP(A29,Futtermittel!$A$3:$AR$386,16,0),\"\")","v":""},{"$f":"IFERROR(VLOOKUP(A29,Futtermittel!$A$3:$AR$386,41,0),\"\")","v":""},{"$f":"IFERROR(VLOOKUP(A29,Futtermittel!$A$3:$AR$386,42,0),\"\")","v":""},"",{"$f":"IFERROR(VLOOKUP(A29,Futtermittel!$A$3:$AR$386,15,0),\"\")","v":""},{"$f":"IFERROR(VLOOKUP(A29,Futtermittel!$A$3:$AR$386,37,0),\"\")","v":""},{"$f":"IFERROR(VLOOKUP(A29,Futtermittel!$A$3:$AR$386,38,0),\"\")","v":""},{"$f":"IFERROR(VLOOKUP(A29,Futtermittel!$A$3:$AR$386,39,0),\"\")","v":""},{"$f":"IFERROR(VLOOKUP(A29,Futtermittel!$A$3:$AR$386,40,0),\"\")","v":""},{"$f":"IFERROR(VLOOKUP(A29,Futtermittel!$A$3:$AR$386,15,0),\"\")","v":""},{"$f":"IFERROR(VLOOKUP(A29,Futtermittel!$A$3:$AR$386,19,0),\"\")","v":""},{"$f":"IFERROR(VLOOKUP(A29,Futtermittel!$A$3:$AR$386,36,0),\"\")","v":""}]
[null,{"$f":"IFERROR(VLOOKUP(A30,Futtermittel!$A$3:$AR$386,2,0),\"\")","v":""},{"$f":"IFERROR(VLOOKUP(A30,Futtermittel!$A$3:$AR$386,28,0),\"\")","v":""},{"$f":"IFERROR(VLOOKUP(A30,Futtermittel!$A$3:$AR$386,3,0),\"\")","v":""},{"$f":"IFERROR(VLOOKUP(A30,Futtermittel!$A$3:$AR$386,4,0),\"\")","v":""},{"$f":"IFERROR(VLOOKUP(A30,Futtermittel!$A$3:$AR$386,5,0),\"\")","v":""},{"$f":"IFERROR(VLOOKUP(A30,Futtermittel!$A$3:$AR$386,6,0),\"\")","v":""},{"$f":"IFERROR(VLOOKUP(A30,Futtermittel!$A$3:$AR$386,7,0),\"\")","v":""},{"$f":"IFERROR(VLOOKUP(A30,Futtermittel!$A$3:$AR$386,8,0),\"\")","v":""},{"$f":"IFERROR(VLOOKUP(A30,Futtermittel!$A$3:$AR$386,13,0),\"\")","v":""},{"$f":"IFERROR(VLOOKUP(A30,Futtermittel!$A$3:$AR$386,18,0),\"\")","v":""},{"$f":"IFERROR(VLOOKUP(A30,Futtermittel!$A$3:$AR$386,9,0),\"\")","v":""},{"$f":"IFERROR(VLOOKUP(A30,Futtermittel!$A$3:$AR$386,14,0),\"\")","v":""},{"$f":"IFERROR(VLOOKUP(A30,Futtermittel!$A$3:$AR$386,10,0),\"\")","v":""},{"$f":"IFERROR(VLOOKUP(A30,Futtermittel!$A$3:$AR$386,11,0),\"\")","v":""},{"$f":"IFERROR(VLOOKUP(A30,Futtermittel!$A$3:$AR$386,43,0),\"\")","v":""},{"$f":"IFERROR(VLOOKUP(A30,Futtermittel!$A$3:$AR$386,12,0),\"\")","v":""},{"$f":"IFERROR(VLOOKUP(A30,Futtermittel!$A$3:$AR$386,17,0),\"\")","v":""},{"$f":"IFERROR(VLOOKUP(A30,Futtermittel!$A$3:$AR$386,20,0),\"\")","v":""},{"$f":"IFERROR(VLOOKUP(A30,Futtermittel!$A$3:$AR$386,21,0),\"\")","v":""},{"$f":"IFERROR(VLOOKUP(A30,Futtermittel!$A$3:$AR$386,23,0),\"\")","v":""},{"$f":"IFERROR(VLOOKUP(A30,Futtermittel!$A$3:$AR$386,22,0),\"\")","v":""},{"$f":"IFERROR(VLOOKUP(A30,Futtermittel!$A$3:$AR$386,24,0),\"\")","v":""},{"$f":"IFERROR(VLOOKUP(A30,Futtermittel!$A$3:$AR$386,25,0),\"\")","v":""},{"$f":"IFERROR(VLOOKUP(A30,Futtermittel!$A$3:$AR$386,26,0),\"\")","v":""},{"$f":"IFERROR(VLOOKUP(A30,Futtermittel!$A$3:$AR$386,27,0),\"\")","v":""},{"$f":"IFERROR(VLOOKUP(A30,Futtermittel!$A$3:$AR$386,29,0),\"\")","v":""},{"$f":"IFERROR(VLOOKUP(A30,Futtermittel!$A$3:$AR$386,30,0),\"\")","v":""},{"$f":"IFERROR(VLOOKUP(A30,Futtermittel!$A$3:$AR$386,31,0),\"\")","v":""},{"$f":"IFERROR(VLOOKUP(A30,Futtermittel!$A$3:$AR$386,32,0),\"\")","v":""},{"$f":"IFERROR(VLOOKUP(A30,Futtermittel!$A$3:$AR$386,33,0),\"\")","v":""},{"$f":"IFERROR(VLOOKUP(A30,Futtermittel!$A$3:$AR$386,34,0),\"\")","v":""},{"$f":"IFERROR(VLOOKUP(A30,Futtermittel!$A$3:$AR$386,35,0),\"\")","v":""},{"$f":"IFERROR(VLOOKUP(A30,Futtermittel!$A$3:$AR$386,16,0),\"\")","v":""},{"$f":"IFERROR(VLOOKUP(A30,Futtermittel!$A$3:$AR$386,41,0),\"\")","v":""},{"$f":"IFERROR(VLOOKUP(A30,Futtermittel!$A$3:$AR$386,42,0),\"\")","v":""},"",{"$f":"IFERROR(VLOOKUP(A30,Futtermittel!$A$3:$AR$386,15,0),\"\")","v":""},{"$f":"IFERROR(VLOOKUP(A30,Futtermittel!$A$3:$AR$386,37,0),\"\")","v":""},{"$f":"IFERROR(VLOOKUP(A30,Futtermittel!$A$3:$AR$386,38,0),\"\")","v":""},{"$f":"IFERROR(VLOOKUP(A30,Futtermittel!$A$3:$AR$386,39,0),\"\")","v":""},{"$f":"IFERROR(VLOOKUP(A30,Futtermittel!$A$3:$AR$386,40,0),\"\")","v":""},{"$f":"IFERROR(VLOOKUP(A30,Futtermittel!$A$3:$AR$386,15,0),\"\")","v":""},{"$f":"IFERROR(VLOOKUP(A30,Futtermittel!$A$3:$AR$386,19,0),\"\")","v":""},{"$f":"IFERROR(VLOOKUP(A30,Futtermittel!$A$3:$AR$386,36,0),\"\")","v":""}]
[null,{"$f":"IFERROR(VLOOKUP(A31,Futtermittel!$A$3:$AR$386,2,0),\"\")","v":""},{"$f":"IFERROR(VLOOKUP(A31,Futtermittel!$A$3:$AR$386,28,0),\"\")","v":""},{"$f":"IFERROR(VLOOKUP(A31,Futtermittel!$A$3:$AR$386,3,0),\"\")","v":""},{"$f":"IFERROR(VLOOKUP(A31,Futtermittel!$A$3:$AR$386,4,0),\"\")","v":""},{"$f":"IFERROR(VLOOKUP(A31,Futtermittel!$A$3:$AR$386,5,0),\"\")","v":""},{"$f":"IFERROR(VLOOKUP(A31,Futtermittel!$A$3:$AR$386,6,0),\"\")","v":""},{"$f":"IFERROR(VLOOKUP(A31,Futtermittel!$A$3:$AR$386,7,0),\"\")","v":""},{"$f":"IFERROR(VLOOKUP(A31,Futtermittel!$A$3:$AR$386,8,0),\"\")","v":""},{"$f":"IFERROR(VLOOKUP(A31,Futtermittel!$A$3:$AR$386,13,0),\"\")","v":""},{"$f":"IFERROR(VLOOKUP(A31,Futtermittel!$A$3:$AR$386,18,0),\"\")","v":""},{"$f":"IFERROR(VLOOKUP(A31,Futtermittel!$A$3:$AR$386,9,0),\"\")","v":""},{"$f":"IFERROR(VLOOKUP(A31,Futtermittel!$A$3:$AR$386,14,0),\"\")","v":""},{"$f":"IFERROR(VLOOKUP(A31,Futtermittel!$A$3:$AR$386,10,0),\"\")","v":""},{"$f":"IFERROR(VLOOKUP(A31,Futtermittel!$A$3:$AR$386,11,0),\"\")","v":""},{"$f":"IFERROR(VLOOKUP(A31,Futtermittel!$A$3:$AR$386,43,0),\"\")","v":""},{"$f":"IFERROR(VLOOKUP(A31,Futtermittel!$A$3:$AR$386,12,0),\"\")","v":""},{"$f":"IFERROR(VLOOKUP(A31,Futtermittel!$A$3:$AR$386,17,0),\"\")","v":""},{"$f":"IFERROR(VLOOKUP(A31,Futtermittel!$A$3:$AR$386,20,0),\"\")","v":""},{"$f":"IFERROR(VLOOKUP(A31,Futtermittel!$A$3:$AR$386,21,0),\"\")","v":""},{"$f":"IFERROR(VLOOKUP(A31,Futtermittel!$A$3:$AR$386,23,0),\"\")","v":""},{"$f":"IFERROR(VLOOKUP(A31,Futtermittel!$A$3:$AR$386,22,0),\"\")","v":""},{"$f":"IFERROR(VLOOKUP(A31,Futtermittel!$A$3:$AR$386,24,0),\"\")","v":""},{"$f":"IFERROR(VLOOKUP(A31,Futtermittel!$A$3:$AR$386,25,0),\"\")","v":""},{"$f":"IFERROR(VLOOKUP(A31,Futtermittel!$A$3:$AR$386,26,0),\"\")","v":""},{"$f":"IFERROR(VLOOKUP(A31,Futtermittel!$A$3:$AR$386,27,0),\"\")","v":""},{"$f":"IFERROR(VLOOKUP(A31,Futtermittel!$A$3:$AR$386,29,0),\"\")","v":""},{"$f":"IFERROR(VLOOKUP(A31,Futtermittel!$A$3:$AR$386,30,0),\"\")","v":""},{"$f":"IFERROR(VLOOKUP(A31,Futtermittel!$A$3:$AR$386,31,0),\"\")","v":""},{"$f":"IFERROR(VLOOKUP(A31,Futtermittel!$A$3:$AR$386,32,0),\"\")","v":""},{"$f":"IFERROR(VLOOKUP(A31,Futtermittel!$A$3:$AR$386,33,0),\"\")","v":""},{"$f":"IFERROR(VLOOKUP(A31,Futtermittel!$A$3:$AR$386,34,0),\"\")","v":""},{"$f":"IFERROR(VLOOKUP(A31,Futtermittel!$A$3:$AR$386,35,0),\"\")","v":""},{"$f":"IFERROR(VLOOKUP(A31,Futtermittel!$A$3:$AR$386,16,0),\"\")","v":""},{"$f":"IFERROR(VLOOKUP(A31,Futtermittel!$A$3:$AR$386,41,0),\"\")","v":""},{"$f":"IFERROR(VLOOKUP(A31,Futtermittel!$A$3:$AR$386,42,0),\"\")","v":""},"",{"$f":"IFERROR(VLOOKUP(A31,Futtermittel!$A$3:$AR$386,15,0),\"\")","v":""},{"$f":"IFERROR(VLOOKUP(A31,Futtermittel!$A$3:$AR$386,37,0),\"\")","v":""},{"$f":"IFERROR(VLOOKUP(A31,Futtermittel!$A$3:$AR$386,38,0),\"\")","v":""},{"$f":"IFERROR(VLOOKUP(A31,Futtermittel!$A$3:$AR$386,39,0),\"\")","v":""},{"$f":"IFERROR(VLOOKUP(A31,Futtermittel!$A$3:$AR$386,40,0),\"\")","v":""},{"$f":"IFERROR(VLOOKUP(A31,Futtermittel!$A$3:$AR$386,15,0),\"\")","v":""},{"$f":"IFERROR(VLOOKUP(A31,Futtermittel!$A$3:$AR$386,19,0),\"\")","v":""},{"$f":"IFERROR(VLOOKUP(A31,Futtermittel!$A$3:$AR$386,36,0),\"\")","v":""}]
[null,{"$f":"IFERROR(VLOOKUP(A32,Futtermittel!$A$3:$AR$386,2,0),\"\")","v":""},{"$f":"IFERROR(VLOOKUP(A32,Futtermittel!$A$3:$AR$386,28,0),\"\")","v":""},{"$f":"IFERROR(VLOOKUP(A32,Futtermittel!$A$3:$AR$386,3,0),\"\")","v":""},{"$f":"IFERROR(VLOOKUP(A32,Futtermittel!$A$3:$AR$386,4,0),\"\")","v":""},{"$f":"IFERROR(VLOOKUP(A32,Futtermittel!$A$3:$AR$386,5,0),\"\")","v":""},{"$f":"IFERROR(VLOOKUP(A32,Futtermittel!$A$3:$AR$386,6,0),\"\")","v":""},{"$f":"IFERROR(VLOOKUP(A32,Futtermittel!$A$3:$AR$386,7,0),\"\")","v":""},{"$f":"IFERROR(VLOOKUP(A32,Futtermittel!$A$3:$AR$386,8,0),\"\")","v":""},{"$f":"IFERROR(VLOOKUP(A32,Futtermittel!$A$3:$AR$386,13,0),\"\")","v":""},{"$f":"IFERROR(VLOOKUP(A32,Futtermittel!$A$3:$AR$386,18,0),\"\")","v":""},{"$f":"IFERROR(VLOOKUP(A32,Futtermittel!$A$3:$AR$386,9,0),\"\")","v":""},{"$f":"IFERROR(VLOOKUP(A32,Futtermittel!$A$3:$AR$386,14,0),\"\")","v":""},{"$f":"IFERROR(VLOOKUP(A32,Futtermittel!$A$3:$AR$386,10,0),\"\")","v":""},{"$f":"IFERROR(VLOOKUP(A32,Futtermittel!$A$3:$AR$386,11,0),\"\")","v":""},{"$f":"IFERROR(VLOOKUP(A32,Futtermittel!$A$3:$AR$386,43,0),\"\")","v":""},{"$f":"IFERROR(VLOOKUP(A32,Futtermittel!$A$3:$AR$386,12,0),\"\")","v":""},{"$f":"IFERROR(VLOOKUP(A32,Futtermittel!$A$3:$AR$386,17,0),\"\")","v":""},{"$f":"IFERROR(VLOOKUP(A32,Futtermittel!$A$3:$AR$386,20,0),\"\")","v":""},{"$f":"IFERROR(VLOOKUP(A32,Futtermittel!$A$3:$AR$386,21,0),\"\")","v":""},{"$f":"IFERROR(VLOOKUP(A32,Futtermittel!$A$3:$AR$386,23,0),\"\")","v":""},{"$f":"IFERROR(VLOOKUP(A32,Futtermittel!$A$3:$AR$386,22,0),\"\")","v":""},{"$f":"IFERROR(VLOOKUP(A32,Futtermittel!$A$3:$AR$386,24,0),\"\")","v":""},{"$f":"IFERROR(VLOOKUP(A32,Futtermittel!$A$3:$AR$386,25,0),\"\")","v":""},{"$f":"IFERROR(VLOOKUP(A32,Futtermittel!$A$3:$AR$386,26,0),\"\")","v":""},{"$f":"IFERROR(VLOOKUP(A32,Futtermittel!$A$3:$AR$386,27,0),\"\")","v":""},{"$f":"IFERROR(VLOOKUP(A32,Futtermittel!$A$3:$AR$386,29,0),\"\")","v":""},{"$f":"IFERROR(VLOOKUP(A32,Futtermittel!$A$3:$AR$386,30,0),\"\")","v":""},{"$f":"IFERROR(VLOOKUP(A32,Futtermittel!$A$3:$AR$386,31,0),\"\")","v":""},{"$f":"IFERROR(VLOOKUP(A32,Futtermittel!$A$3:$AR$386,32,0),\"\")","v":""},{"$f":"IFERROR(VLOOKUP(A32,Futtermittel!$A$3:$AR$386,33,0),\"\")","v":""},{"$f":"IFERROR(VLOOKUP(A32,Futtermittel!$A$3:$AR$386,34,0),\"\")","v":""},{"$f":"IFERROR(VLOOKUP(A32,Futtermittel!$A$3:$AR$386,35,0),\"\")","v":""},{"$f":"IFERROR(VLOOKUP(A32,Futtermittel!$A$3:$AR$386,16,0),\"\")","v":""},{"$f":"IFERROR(VLOOKUP(A32,Futtermittel!$A$3:$AR$386,41,0),\"\")","v":""},{"$f":"IFERROR(VLOOKUP(A32,Futtermittel!$A$3:$AR$386,42,0),\"\")","v":""},"",{"$f":"IFERROR(VLOOKUP(A32,Futtermittel!$A$3:$AR$386,15,0),\"\")","v":""},{"$f":"IFERROR(VLOOKUP(A32,Futtermittel!$A$3:$AR$386,37,0),\"\")","v":""},{"$f":"IFERROR(VLOOKUP(A32,Futtermittel!$A$3:$AR$386,38,0),\"\")","v":""},{"$f":"IFERROR(VLOOKUP(A32,Futtermittel!$A$3:$AR$386,39,0),\"\")","v":""},{"$f":"IFERROR(VLOOKUP(A32,Futtermittel!$A$3:$AR$386,40,0),\"\")","v":""},{"$f":"IFERROR(VLOOKUP(A32,Futtermittel!$A$3:$AR$386,15,0),\"\")","v":""},{"$f":"IFERROR(VLOOKUP(A32,Futtermittel!$A$3:$AR$386,19,0),\"\")","v":""},{"$f":"IFERROR(VLOOKUP(A32,Futtermittel!$A$3:$AR$386,36,0),\"\")","v":""}]
[null,{"$f":"IFERROR(VLOOKUP(A33,Futtermittel!$A$3:$AR$386,2,0),\"\")","v":""},{"$f":"IFERROR(VLOOKUP(A33,Futtermittel!$A$3:$AR$386,28,0),\"\")","v":""},{"$f":"IFERROR(VLOOKUP(A33,Futtermittel!$A$3:$AR$386,3,0),\"\")","v":""},{"$f":"IFERROR(VLOOKUP(A33,Futtermittel!$A$3:$AR$386,4,0),\"\")","v":""},{"$f":"IFERROR(VLOOKUP(A33,Futtermittel!$A$3:$AR$386,5,0),\"\")","v":""},{"$f":"IFERROR(VLOOKUP(A33,Futtermittel!$A$3:$AR$386,6,0),\"\")","v":""},{"$f":"IFERROR(VLOOKUP(A33,Futtermittel!$A$3:$AR$386,7,0),\"\")","v":""},{"$f":"IFERROR(VLOOKUP(A33,Futtermittel!$A$3:$AR$386,8,0),\"\")","v":""},{"$f":"IFERROR(VLOOKUP(A33,Futtermittel!$A$3:$AR$386,13,0),\"\")","v":""},{"$f":"IFERROR(VLOOKUP(A33,Futtermittel!$A$3:$AR$386,18,0),\"\")","v":""},{"$f":"IFERROR(VLOOKUP(A33,Futtermittel!$A$3:$AR$386,9,0),\"\")","v":""},{"$f":"IFERROR(VLOOKUP(A33,Futtermittel!$A$3:$AR$386,14,0),\"\")","v":""},{"$f":"IFERROR(VLOOKUP(A33,Futtermittel!$A$3:$AR$386,10,0),\"\")","v":""},{"$f":"IFERROR(VLOOKUP(A33,Futtermittel!$A$3:$AR$386,11,0),\"\")","v":""},{"$f":"IFERROR(VLOOKUP(A33,Futtermittel!$A$3:$AR$386,43,0),\"\")","v":""},{"$f":"IFERROR(VLOOKUP(A33,Futtermittel!$A$3:$AR$386,12,0),\"\")","v":""},{"$f":"IFERROR(VLOOKUP(A33,Futtermittel!$A$3:$AR$386,17,0),\"\")","v":""},{"$f":"IFERROR(VLOOKUP(A33,Futtermittel!$A$3:$AR$386,20,0),\"\")","v":""},{"$f":"IFERROR(VLOOKUP(A33,Futtermittel!$A$3:$AR$386,21,0),\"\")","v":""},{"$f":"IFERROR(VLOOKUP(A33,Futtermittel!$A$3:$AR$386,23,0),\"\")","v":""},{"$f":"IFERROR(VLOOKUP(A33,Futtermittel!$A$3:$AR$386,22,0),\"\")","v":""},{"$f":"IFERROR(VLOOKUP(A33,Futtermittel!$A$3:$AR$386,24,0),\"\")","v":""},{"$f":"IFERROR(VLOOKUP(A33,Futtermittel!$A$3:$AR$386,25,0),\"\")","v":""},{"$f":"IFERROR(VLOOKUP(A33,Futtermittel!$A$3:$AR$386,26,0),\"\")","v":""},{"$f":"IFERROR(VLOOKUP(A33,Futtermittel!$A$3:$AR$386,27,0),\"\")","v":""},{"$f":"IFERROR(VLOOKUP(A33,Futtermittel!$A$3:$AR$386,29,0),\"\")","v":""},{"$f":"IFERROR(VLOOKUP(A33,Futtermittel!$A$3:$AR$386,30,0),\"\")","v":""},{"$f":"IFERROR(VLOOKUP(A33,Futtermittel!$A$3:$AR$386,31,0),\"\")","v":""},{"$f":"IFERROR(VLOOKUP(A33,Futtermittel!$A$3:$AR$386,32,0),\"\")","v":""},{"$f":"IFERROR(VLOOKUP(A33,Futtermittel!$A$3:$AR$386,33,0),\"\")","v":""},{"$f":"IFERROR(VLOOKUP(A33,Futtermittel!$A$3:$AR$386,34,0),\"\")","v":""},{"$f":"IFERROR(VLOOKUP(A33,Futtermittel!$A$3:$AR$386,35,0),\"\")","v":""},{"$f":"IFERROR(VLOOKUP(A33,Futtermittel!$A$3:$AR$386,16,0),\"\")","v":""},{"$f":"IFERROR(VLOOKUP(A33,Futtermittel!$A$3:$AR$386,41,0),\"\")","v":""},{"$f":"IFERROR(VLOOKUP(A33,Futtermittel!$A$3:$AR$386,42,0),\"\")","v":""},"",{"$f":"IFERROR(VLOOKUP(A33,Futtermittel!$A$3:$AR$386,15,0),\"\")","v":""},{"$f":"IFERROR(VLOOKUP(A33,Futtermittel!$A$3:$AR$386,37,0),\"\")","v":""},{"$f":"IFERROR(VLOOKUP(A33,Futtermittel!$A$3:$AR$386,38,0),\"\")","v":""},{"$f":"IFERROR(VLOOKUP(A33,Futtermittel!$A$3:$AR$386,39,0),\"\")","v":""},{"$f":"IFERROR(VLOOKUP(A33,Futtermittel!$A$3:$AR$386,40,0),\"\")","v":""},{"$f":"IFERROR(VLOOKUP(A33,Futtermittel!$A$3:$AR$386,15,0),\"\")","v":""},{"$f":"IFERROR(VLOOKUP(A33,Futtermittel!$A$3:$AR$386,19,0),\"\")","v":""},{"$f":"IFERROR(VLOOKUP(A33,Futtermittel!$A$3:$AR$386,36,0),\"\")","v":""}]
[null,{"$f":"IFERROR(VLOOKUP(A34,Futtermittel!$A$3:$AR$386,2,0),\"\")","v":""},{"$f":"IFERROR(VLOOKUP(A34,Futtermittel!$A$3:$AR$386,28,0),\"\")","v":""},{"$f":"IFERROR(VLOOKUP(A34,Futtermittel!$A$3:$AR$386,3,0),\"\")","v":""},{"$f":"IFERROR(VLOOKUP(A34,Futtermittel!$A$3:$AR$386,4,0),\"\")","v":""},{"$f":"IFERROR(VLOOKUP(A34,Futtermittel!$A$3:$AR$386,5,0),\"\")","v":""},{"$f":"IFERROR(VLOOKUP(A34,Futtermittel!$A$3:$AR$386,6,0),\"\")","v":""},{"$f":"IFERROR(VLOOKUP(A34,Futtermittel!$A$3:$AR$386,7,0),\"\")","v":""},{"$f":"IFERROR(VLOOKUP(A34,Futtermittel!$A$3:$AR$386,8,0),\"\")","v":""},{"$f":"IFERROR(VLOOKUP(A34,Futtermittel!$A$3:$AR$386,13,0),\"\")","v":""},{"$f":"IFERROR(VLOOKUP(A34,Futtermittel!$A$3:$AR$386,18,0),\"\")","v":""},{"$f":"IFERROR(VLOOKUP(A34,Futtermittel!$A$3:$AR$386,9,0),\"\")","v":""},{"$f":"IFERROR(VLOOKUP(A34,Futtermittel!$A$3:$AR$386,14,0),\"\")","v":""},{"$f":"IFERROR(VLOOKUP(A34,Futtermittel!$A$3:$AR$386,10,0),\"\")","v":""},{"$f":"IFERROR(VLOOKUP(A34,Futtermittel!$A$3:$AR$386,11,0),\"\")","v":""},{"$f":"IFERROR(VLOOKUP(A34,Futtermittel!$A$3:$AR$386,43,0),\"\")","v":""},{"$f":"IFERROR(VLOOKUP(A34,Futtermittel!$A$3:$AR$386,12,0),\"\")","v":""},{"$f":"IFERROR(VLOOKUP(A34,Futtermittel!$A$3:$AR$386,17,0),\"\")","v":""},{"$f":"IFERROR(VLOOKUP(A34,Futtermittel!$A$3:$AR$386,20,0),\"\")","v":""},{"$f":"IFERROR(VLOOKUP(A34,Futtermittel!$A$3:$AR$386,21,0),\"\")","v":""},{"$f":"IFERROR(VLOOKUP(A34,Futtermittel!$A$3:$AR$386,23,0),\"\")","v":""},{"$f":"IFERROR(VLOOKUP(A34,Futtermittel!$A$3:$AR$386,22,0),\"\")","v":""},{"$f":"IFERROR(VLOOKUP(A34,Futtermittel!$A$3:$AR$386,24,0),\"\")","v":""},{"$f":"IFERROR(VLOOKUP(A34,Futtermittel!$A$3:$AR$386,25,0),\"\")","v":""},{"$f":"IFERROR(VLOOKUP(A34,Futtermittel!$A$3:$AR$386,26,0),\"\")","v":""},{"$f":"IFERROR(VLOOKUP(A34,Futtermittel!$A$3:$AR$386,27,0),\"\")","v":""},{"$f":"IFERROR(VLOOKUP(A34,Futtermittel!$A$3:$AR$386,29,0),\"\")","v":""},{"$f":"IFERROR(VLOOKUP(A34,Futtermittel!$A$3:$AR$386,30,0),\"\")","v":""},{"$f":"IFERROR(VLOOKUP(A34,Futtermittel!$A$3:$AR$386,31,0),\"\")","v":""},{"$f":"IFERROR(VLOOKUP(A34,Futtermittel!$A$3:$AR$386,32,0),\"\")","v":""},{"$f":"IFERROR(VLOOKUP(A34,Futtermittel!$A$3:$AR$386,33,0),\"\")","v":""},{"$f":"IFERROR(VLOOKUP(A34,Futtermittel!$A$3:$AR$386,34,0),\"\")","v":""},{"$f":"IFERROR(VLOOKUP(A34,Futtermittel!$A$3:$AR$386,35,0),\"\")","v":""},{"$f":"IFERROR(VLOOKUP(A34,Futtermittel!$A$3:$AR$386,16,0),\"\")","v":""},{"$f":"IFERROR(VLOOKUP(A34,Futtermittel!$A$3:$AR$386,41,0),\"\")","v":""},{"$f":"IFERROR(VLOOKUP(A34,Futtermittel!$A$3:$AR$386,42,0),\"\")","v":""},"",{"$f":"IFERROR(VLOOKUP(A34,Futtermittel!$A$3:$AR$386,15,0),\"\")","v":""},{"$f":"IFERROR(VLOOKUP(A34,Futtermittel!$A$3:$AR$386,37,0),\"\")","v":""},{"$f":"IFERROR(VLOOKUP(A34,Futtermittel!$A$3:$AR$386,38,0),\"\")","v":""},{"$f":"IFERROR(VLOOKUP(A34,Futtermittel!$A$3:$AR$386,39,0),\"\")","v":""},{"$f":"IFERROR(VLOOKUP(A34,Futtermittel!$A$3:$AR$386,40,0),\"\")","v":""},{"$f":"IFERROR(VLOOKUP(A34,Futtermittel!$A$3:$AR$386,15,0),\"\")","v":""},{"$f":"IFERROR(VLOOKUP(A34,Futtermittel!$A$3:$AR$386,19,0),\"\")","v":""},{"$f":"IFERROR(VLOOKUP(A34,Futtermittel!$A$3:$AR$386,36,0),\"\")","v":""}]
[null,{"$f":"IFERROR(VLOOKUP(A35,Futtermittel!$A$3:$AR$386,2,0),\"\")","v":""},{"$f":"IFERROR(VLOOKUP(A35,Futtermittel!$A$3:$AR$386,28,0),\"\")","v":""},{"$f":"IFERROR(VLOOKUP(A35,Futtermittel!$A$3:$AR$386,3,0),\"\")","v":""},{"$f":"IFERROR(VLOOKUP(A35,Futtermittel!$A$3:$AR$386,4,0),\"\")","v":""},{"$f":"IFERROR(VLOOKUP(A35,Futtermittel!$A$3:$AR$386,5,0),\"\")","v":""},{"$f":"IFERROR(VLOOKUP(A35,Futtermittel!$A$3:$AR$386,6,0),\"\")","v":""},{"$f":"IFERROR(VLOOKUP(A35,Futtermittel!$A$3:$AR$386,7,0),\"\")","v":""},{"$f":"IFERROR(VLOOKUP(A35,Futtermittel!$A$3:$AR$386,8,0),\"\")","v":""},{"$f":"IFERROR(VLOOKUP(A35,Futtermittel!$A$3:$AR$386,13,0),\"\")","v":""},{"$f":"IFERROR(VLOOKUP(A35,Futtermittel!$A$3:$AR$386,18,0),\"\")","v":""},{"$f":"IFERROR(VLOOKUP(A35,Futtermittel!$A$3:$AR$386,9,0),\"\")","v":""},{"$f":"IFERROR(VLOOKUP(A35,Futtermittel!$A$3:$AR$386,14,0),\"\")","v":""},{"$f":"IFERROR(VLOOKUP(A35,Futtermittel!$A$3:$AR$386,10,0),\"\")","v":""},{"$f":"IFERROR(VLOOKUP(A35,Futtermittel!$A$3:$AR$386,11,0),\"\")","v":""},{"$f":"IFERROR(VLOOKUP(A35,Futtermittel!$A$3:$AR$386,43,0),\"\")","v":""},{"$f":"IFERROR(VLOOKUP(A35,Futtermittel!$A$3:$AR$386,12,0),\"\")","v":""},{"$f":"IFERROR(VLOOKUP(A35,Futtermittel!$A$3:$AR$386,17,0),\"\")","v":""},{"$f":"IFERROR(VLOOKUP(A35,Futtermittel!$A$3:$AR$386,20,0),\"\")","v":""},{"$f":"IFERROR(VLOOKUP(A35,Futtermittel!$A$3:$AR$386,21,0),\"\")","v":""},{"$f":"IFERROR(VLOOKUP(A35,Futtermittel!$A$3:$AR$386,23,0),\"\")","v":""},{"$f":"IFERROR(VLOOKUP(A35,Futtermittel!$A$3:$AR$386,22,0),\"\")","v":""},{"$f":"IFERROR(VLOOKUP(A35,Futtermittel!$A$3:$AR$386,24,0),\"\")","v":""},{"$f":"IFERROR(VLOOKUP(A35,Futtermittel!$A$3:$AR$386,25,0),\"\")","v":""},{"$f":"IFERROR(VLOOKUP(A35,Futtermittel!$A$3:$AR$386,26,0),\"\")","v":""},{"$f":"IFERROR(VLOOKUP(A35,Futtermittel!$A$3:$AR$386,27,0),\"\")","v":""},{"$f":"IFERROR(VLOOKUP(A35,Futtermittel!$A$3:$AR$386,29,0),\"\")","v":""},{"$f":"IFERROR(VLOOKUP(A35,Futtermittel!$A$3:$AR$386,30,0),\"\")","v":""},{"$f":"IFERROR(VLOOKUP(A35,Futtermittel!$A$3:$AR$386,31,0),\"\")","v":""},{"$f":"IFERROR(VLOOKUP(A35,Futtermittel!$A$3:$AR$386,32,0),\"\")","v":""},{"$f":"IFERROR(VLOOKUP(A35,Futtermittel!$A$3:$AR$386,33,0),\"\")","v":""},{"$f":"IFERROR(VLOOKUP(A35,Futtermittel!$A$3:$AR$386,34,0),\"\")","v":""},{"$f":"IFERROR(VLOOKUP(A35,Futtermittel!$A$3:$AR$386,35,0),\"\")","v":""},{"$f":"IFERROR(VLOOKUP(A35,Futtermittel!$A$3:$AR$386,16,0),\"\")","v":""},{"$f":"IFERROR(VLOOKUP(A35,Futtermittel!$A$3:$AR$386,41,0),\"\")","v":""},{"$f":"IFERROR(VLOOKUP(A35,Futtermittel!$A$3:$AR$386,42,0),\"\")","v":""},"",{"$f":"IFERROR(VLOOKUP(A35,Futtermittel!$A$3:$AR$386,15,0),\"\")","v":""},{"$f":"IFERROR(VLOOKUP(A35,Futtermittel!$A$3:$AR$386,37,0),\"\")","v":""},{"$f":"IFERROR(VLOOKUP(A35,Futtermittel!$A$3:$AR$386,38,0),\"\")","v":""},{"$f":"IFERROR(VLOOKUP(A35,Futtermittel!$A$3:$AR$386,39,0),\"\")","v":""},{"$f":"IFERROR(VLOOKUP(A35,Futtermittel!$A$3:$AR$386,40,0),\"\")","v":""},{"$f":"IFERROR(VLOOKUP(A35,Futtermittel!$A$3:$AR$386,15,0),\"\")","v":""},{"$f":"IFERROR(VLOOKUP(A35,Futtermittel!$A$3:$AR$386,19,0),\"\")","v":""},{"$f":"IFERROR(VLOOKUP(A35,Futtermittel!$A$3:$AR$386,36,0),\"\")","v":""}]
[null,{"$f":"IFERROR(VLOOKUP(A36,Futtermittel!$A$3:$AR$386,2,0),\"\")","v":""},{"$f":"IFERROR(VLOOKUP(A36,Futtermittel!$A$3:$AR$386,28,0),\"\")","v":""},{"$f":"IFERROR(VLOOKUP(A36,Futtermittel!$A$3:$AR$386,3,0),\"\")","v":""},{"$f":"IFERROR(VLOOKUP(A36,Futtermittel!$A$3:$AR$386,4,0),\"\")","v":""},{"$f":"IFERROR(VLOOKUP(A36,Futtermittel!$A$3:$AR$386,5,0),\"\")","v":""},{"$f":"IFERROR(VLOOKUP(A36,Futtermittel!$A$3:$AR$386,6,0),\"\")","v":""},{"$f":"IFERROR(VLOOKUP(A36,Futtermittel!$A$3:$AR$386,7,0),\"\")","v":""},{"$f":"IFERROR(VLOOKUP(A36,Futtermittel!$A$3:$AR$386,8,0),\"\")","v":""},{"$f":"IFERROR(VLOOKUP(A36,Futtermittel!$A$3:$AR$386,13,0),\"\")","v":""},{"$f":"IFERROR(VLOOKUP(A36,Futtermittel!$A$3:$AR$386,18,0),\"\")","v":""},{"$f":"IFERROR(VLOOKUP(A36,Futtermittel!$A$3:$AR$386,9,0),\"\")","v":""},{"$f":"IFERROR(VLOOKUP(A36,Futtermittel!$A$3:$AR$386,14,0),\"\")","v":""},{"$f":"IFERROR(VLOOKUP(A36,Futtermittel!$A$3:$AR$386,10,0),\"\")","v":""},{"$f":"IFERROR(VLOOKUP(A36,Futtermittel!$A$3:$AR$386,11,0),\"\")","v":""},{"$f":"IFERROR(VLOOKUP(A36,Futtermittel!$A$3:$AR$386,43,0),\"\")","v":""},{"$f":"IFERROR(VLOOKUP(A36,Futtermittel!$A$3:$AR$386,12,0),\"\")","v":""},{"$f":"IFERROR(VLOOKUP(A36,Futtermittel!$A$3:$AR$386,17,0),\"\")","v":""},{"$f":"IFERROR(VLOOKUP(A36,Futtermittel!$A$3:$AR$386,20,0),\"\")","v":""},{"$f":"IFERROR(VLOOKUP(A36,Futtermittel!$A$3:$AR$386,21,0),\"\")","v":""},{"$f":"IFERROR(VLOOKUP(A36,Futtermittel!$A$3:$AR$386,23,0),\"\")","v":""},{"$f":"IFERROR(VLOOKUP(A36,Futtermittel!$A$3:$AR$386,22,0),\"\")","v":""},{"$f":"IFERROR(VLOOKUP(A36,Futtermittel!$A$3:$AR$386,24,0),\"\")","v":""},{"$f":"IFERROR(VLOOKUP(A36,Futtermittel!$A$3:$AR$386,25,0),\"\")","v":""},{"$f":"IFERROR(VLOOKUP(A36,Futtermittel!$A$3:$AR$386,26,0),\"\")","v":""},{"$f":"IFERROR(VLOOKUP(A36,Futtermittel!$A$3:$AR$386,27,0),\"\")","v":""},{"$f":"IFERROR(VLOOKUP(A36,Futtermittel!$A$3:$AR$386,29,0),\"\")","v":""},{"$f":"IFERROR(VLOOKUP(A36,Futtermittel!$A$3:$AR$386,30,0),\"\")","v":""},{"$f":"IFERROR(VLOOKUP(A36,Futtermittel!$A$3:$AR$386,31,0),\"\")","v":""},{"$f":"IFERROR(VLOOKUP(A36,Futtermittel!$A$3:$AR$386,32,0),\"\")","v":""},{"$f":"IFERROR(VLOOKUP(A36,Futtermittel!$A$3:$AR$386,33,0),\"\")","v":""},{"$f":"IFERROR(VLOOKUP(A36,Futtermittel!$A$3:$AR$386,34,0),\"\")","v":""},{"$f":"IFERROR(VLOOKUP(A36,Futtermittel!$A$3:$AR$386,35,0),\"\")","v":""},{"$f":"IFERROR(VLOOKUP(A36,Futtermittel!$A$3:$AR$386,16,0),\"\")","v":""},{"$f":"IFERROR(VLOOKUP(A36,Futtermittel!$A$3:$AR$386,41,0),\"\")","v":""},{"$f":"IFERROR(VLOOKUP(A36,Futtermittel!$A$3:$AR$386,42,0),\"\")","v":""},"",{"$f":"IFERROR(VLOOKUP(A36,Futtermittel!$A$3:$AR$386,15,0),\"\")","v":""},{"$f":"IFERROR(VLOOKUP(A36,Futtermittel!$A$3:$AR$386,37,0),\"\")","v":""},{"$f":"IFERROR(VLOOKUP(A36,Futtermittel!$A$3:$AR$386,38,0),\"\")","v":""},{"$f":"IFERROR(VLOOKUP(A36,Futtermittel!$A$3:$AR$386,39,0),\"\")","v":""},{"$f":"IFERROR(VLOOKUP(A36,Futtermittel!$A$3:$AR$386,40,0),\"\")","v":""},{"$f":"IFERROR(VLOOKUP(A36,Futtermittel!$A$3:$AR$386,15,0),\"\")","v":""},{"$f":"IFERROR(VLOOKUP(A36,Futtermittel!$A$3:$AR$386,19,0),\"\")","v":""},{"$f":"IFERROR(VLOOKUP(A36,Futtermittel!$A$3:$AR$386,36,0),\"\")","v":""}]

{"sheet":"Futtermittel","index":3,"n_rows":395,"n_cols":46,"rows_kept":395,"cut":false,"hidden":false,"merged":[[0,0,1,0],[0,1,1,1]]}
["Ration",null,"TM/FM","CA","OM","aNDFom","ADFom","OMD","CP","CL","ST","ZU","GE","sidP","sidP- UDP","siDUDP","RMD","ME","pabKH","Ca","P","Mg","Na","K","Cl","S","DCAB","Fu-Art","Fe","Cu","Zn","Mn","Co","J","Se","Kosten €","a","b","c","lag","Lysin","Methionin","bST","Datum","LID","Primary ID"]
[null,null,"g / kg FM","g / kg TM","g / kg TM","g / kg TM","g / kg TM","% OM","g / kg TM","g / kg TM","g / kg TM","g / kg TM","MJ / kg TM","g / kg TM","g / kg TM","%",null,"MJ/ kg TM","g / kg TM","g / kg TM","g / kg TM","g / kg TM","g / kg TM","g / kg TM","g / kg TM","g / kg TM","meq / kg",null,"mg / kg TM","mg / kg TM","mg / kg TM","mg / kg TM","mg / kg TM","mg / kg TM","mg / kg TM","€ / dt","%","%","% / h","h","g / kg TM","g / kg TM","g / kg TM"]
[10010010,"Ackergras, Herbst  -  frisch",180,160,{"$f":"1000-D3","v":840},420,250,78,200,40,0,100,17.399999999999999,104,38,87,9,10.7,null,5,3.8,2,0.5,30,5.6,1.5,538,"GF",150,9,36,75,null,null,0.04,0,14,78,15,1.3,5.4,1.7,0,null,1,10010010]
[10020010,"Ackergras, jung  -  frisch",160,110,{"$f":"1000-D4","v":890},420,250,81,190,35,0,158,18,108,37,87,6,11.6,null,5,3.8,2,0.5,30,5.6,1.5,538,"GF",150,9,36,75,null,null,0.04,0,14,78,15,1.3,5.4,1.7,0,null,2,10020010]
[10070010,"Gras  -  frisch",180,92,908,518,297,74,149,28,0,116,18.100000000000001,95,28,86,2,10.7,null,6.2,3.2,2.2000000000000002,0.5,27,5.6,2,430,"GF",137,9,48,164,null,null,0.04,0,14,78,15,1.3,5.4,1.7,0,null,7,10070010]
[10090010,"Gras, frisch o. kons. 1. Aufw.  -  frisch",175,89,911,524,284,73,156,32,0,64,18.399999999999999,96,30,86,4,10.7,null,5.8,2.7,1.8,1.1000000000000001,21.3,7.3,2.2000000000000002,250,"GF",589,6,34,100,null,null,0.08,0,14,78,15,1.3,5.4,1.7,0,null,9,10090010]
[10100010,"Gras, frisch o. kons. 2. Aufw.  -  frisch",175,96,904,564,292,70,159,31,0,49,18.3,93,30,86,5,10,null,6.8,2.5,2,1.4,18.7,8.6999999999999993,2.7,126,"GF",690,7,37,113,null,null,0.05,0,14,78,15,1.3,5.4,1.7,0,null,10,10100010]
[10110010,"Gras, frisch o. kons. 3. Aufw.  -  frisch",175,107,893,550,279,71,161,31,0,61,18.100000000000001,93,31,86,5,10.1,null,7.6,2.6,2.2999999999999998,1.3,19,8.9,2.8,117,"GF",746,7,33,115,null,null,0.05,0,14,78,15,1.3,5.4,1.7,0,null,11,10110010]
[10120010,"Gras, frisch o. kons. 4. Aufw.  -  frisch",175,124,876,531,260,72,179,33,0,41,18,97,34,86,7,10.199999999999999,null,7.8,2.8,2.2000000000000002,0.4,19.7,8.9,2.2999999999999998,127,"GF",235,8,30,56,null,null,0.05,0,14,78,15,1.3,5.4,1.7,0,null,12,10120010]
[10130010,"Gras, frisch o. kons. 5. Aufw.  -  frisch",175,140,860,506,245,74,184,35,0,39,17.7,98,35,86,8,10.4,null,6.9,3.3,2.1,0.3,24.7,8.9,2.5,238,"GF",437,8,29,54,null,null,0.05,0,14,78,15,1.3,5.4,1.7,0,null,13,10130010]
[10140010,"Gras, frisch o. kons. FolgeAufw.  -  frisch",175,100,900,544,291,70,156,30,0,65,18.2,93,30,86,4,10.1,null,7,2.7,2.2000000000000002,0.8,19.2,4.4000000000000004,1.5,309,"GF",399,9,25,60,null,null,0.05,0,14,78,15,1.3,5.4,1.7,0,null,14,10140010]
[10180010,"Weide, Frühjahr, jung  -  frisch",160,100,900,420,225,80,200,35,0,90,18.399999999999999,110,38,86,8,11.8,null,6.5,4.5,2,0.5,30,5.6,2,507,"GF",150,9,36,75,null,null,0.04,0,14,78,15,1.3,5.4,1.7,0,null,18,10180010]
[10190010,"Weide, Frühjahr, mittel  -  frisch",160,100,900,450,240,77,200,40,0,85,18.5,107,38,86,8,11.3,null,5,3.8,2,0.5,30,5.6,2,507,"GF",150,9,36,75,null,null,0.04,0,14,78,15,1.3,5.4,1.7,0,null,19,10190010]
[10200010,"Weide, Frühjahr, älter  -  frisch",180,100,900,480,260,74,180,40,0,80,18.5,100,34,86,6,10.8,null,5,3.8,2,0.5,30,5.6,2,507,"GF",200,9,48,164,null,null,0.04,0,14,78,15,1.3,5.4,1.7,0,null,20,10200010]
[10210010,"Weide, Sommer, jung  -  frisch",160,100,900,420,225,74,200,35,0,90,18.399999999999999,104,38,86,9,10.7,null,5,3.8,2,0.5,30,5.6,2,507,"GF",150,9,36,75,null,null,0.04,0,14,78,15,1.3,5.4,1.7,0,null,21,10210010]
[10220010,"Weide, Sommer, älter  -  frisch",180,100,900,480,265,70,180,40,0,80,18.5,97,34,86,7,10.1,null,6.5,4.5,2,0.5,30,5.6,2,507,"GF",200,9,48,164,null,null,0.04,0,14,78,15,1.3,5.4,1.7,0,null,22,10220010]
[10230010,"Raps, Ganzpflanze  -  frisch",110,147,853,315,185,81,194,37,0,111,17.5,88,19,86,11,11.3,null,17,4.5,2.6,1.3,32,7.4,5.2,343,"GF",230,6,37,120,null,null,0.1,0,57,36,18,0,4.8,1.9,0,null,23,10230010]
[10240010,"Getreideganzpflanze für GPS  -  frisch",430,41,959,496,323,66,83,23,164,134,18.3,73,10,58,-5,9.6,null,2.2999999999999998,1.7,0.9,0.3,13.5,4.0999999999999996,1.6,143,"GF",200,5,29,68,null,null,0.02,0,24,68,13,0.7,5.5,1.5,16,null,24,10240010]
[10260010,"GPS, Gerste  -  frisch",430,55,945,463,297,66,92,23,115,57,18.399999999999999,74,11,58,-3,9.6999999999999993,null,4.9000000000000004,3.2,1.1000000000000001,0.4,20,7.2,1.7,220,"GF",200,7,25,43,null,null,0.12,0,24,68,13,0.7,5.5,1.5,12,null,26,10260010]
[10270010,"GPS, Hafer  -  frisch",430,62,938,366,294,69,109,32,245,75,18.3,77,13,58,-2,10,null,7.2,3,1.6,0.2,17,3.2,1.5,260,"GF",200,8,40,78,null,null,0.05,0,24,68,13,0.7,5.5,1.5,25,null,27,10270010]
[10280010,"GPS, Roggen  -  frisch",430,43,957,489,326,66,82,22,86,103,18.5,73,10,58,-5,9.8000000000000007,null,2.2999999999999998,2.4,0.9,0.3,19.899999999999999,4.0999999999999996,1.6,307,"GF",200,5,29,68,null,null,0.02,0,24,68,13,0.7,5.5,1.5,9,null,28,10280010]
[10300010,"GPS, Weizen  -  frisch",430,46,954,462,290,67,90,23,236,75,18.3,74,11,58,-4,9.6999999999999993,null,2.4,2.2000000000000002,1.2,0.1,14,4.0999999999999996,1.6,147,"GF",450,8,35,45,null,null,0.08,0,24,68,13,0.7,5.5,1.5,24,null,30,10300010]
[10350010,"Grüngetreide, mittl. OMD  -  frisch",280,66,934,576,361,70,103,24,29,79,18.399999999999999,85,20,89,-3,10.199999999999999,null,3,2.7,1.1000000000000001,1,23.2,5,1.8,384,"GF",175,9,32,63,null,null,0.05,0,14,78,15,1.3,5.5,1.3,3,null,35,10350010]
[10400010,"Luzerne, 1. A. mittl. OMD  -  frisch",175,103,897,514,329,69,175,29,0,12,18.3,85,23,89,9,9.8000000000000007,null,9.6,2.7,1.8,0.5,23.4,4,2.4,358,"GF",546,7,22,48,null,null,0.1,0,48,42,19,0,5.2,1.5,0,null,40,10400010]
[10410010,"Luzerne, 1. A. niedr. OMD  -  frisch",175,104,896,501,365,65,185,20,0,45,18.100000000000001,83,25,89,11,9.1,null,9.6,2.7,1.8,0.5,23.4,4,2.4,358,"GF",546,7,22,48,null,null,0.1,0,48,42,19,0,5.2,1.5,0,null,41,10410010]
[10420010,"Luzerne, Folgeaufw. mittl. OMD  -  frisch",175,104,896,529,339,64,176,27,0,21,18.3,81,24,89,10,9,null,12.4,3,2.1,0.2,24.5,2.2000000000000002,2.1,443,"GF",403,8,26,47,null,null,0.1,0,48,42,19,0,5.2,1.5,0,null,42,10420010]
[10430010,"Luzerne, Folgeaufw. niedr.  OMD  -  frisch",175,92,908,516,373,62,186,21,0,39,18.399999999999999,81,25,89,12,8.6999999999999993,null,12.4,3,2.1,0.2,24.5,2.2000000000000002,2.1,443,"GF",403,8,26,47,null,null,0.1,0,48,42,19,0,5.2,1.5,0,null,43,10430010]
[10450010,"Luzerne, hohe OMD  -  frisch",350,121,879,400,300,71,194,27,0,25,18,88,26,89,11,9.9,null,14.3,3.2,2.2999999999999998,0.5,26.9,4.3,2.4,439,"GF",418,7,29,43,null,null,0.1,0,48,42,19,0,5.2,1.5,0,null,45,10450010]
[10460010,"Luzerne, sehr niedr. OMD  -  frisch",350,108,892,474,363,60,177,22,0,30,18.100000000000001,77,24,89,11,8.3000000000000007,null,13,3.1,2.2999999999999998,0.5,24.6,3.4,2.2999999999999998,412,"GF",288,8,26,39,null,null,0.1,0,48,42,19,0,5.2,1.5,0,null,46,10460010]
[10560010,"Mais, Restpflanze nach Kolbenenernte  -  frisch",253,54,946,711,411,46,52,12,11,55,18.2,51,8,62,-4,6.3,null,5,1,1.6,0.6,10,3,1.2,123,"GF",305,5,50,80,null,null,0.02,0,58,31,4,1.5,3.4,2.1,1,null,56,10560010]
[10580010,"Rotklee  -  frisch",149,117,883,426,293,75,204,23,0,62,17.899999999999999,79,14,85,14,10.5,null,15,2.5,3.6,0.4,30,5.5,3.3,424,"GF",155,12,75,74,null,null,0.11,0,66,30,17,0,5.0999999999999996,1.75,0,null,58,10580010]
[10620010,"Weißklee  -  frisch",130,110,890,400,250,76,220,32,0,35,18.399999999999999,82,15,85,16,11,null,15,3.2,3.6,0.4,23.4,5,2.2000000000000002,338,"GF",145,10,26,50,null,null,0.11,0,66,30,17,0,5,1.6,0,null,62,10620010]
[20670010,"Futterrrübe  -  frisch",150,83,917,125,100,88,77,7,0,614,16.100000000000001,88,8,73,-9,11.5,null,2.9,2.5,1.4,3.8,32,11.8,1.4,564,"SF",54,7,33,44,null,null,0.03,0,21,79,13,0,4.2,1.2,0,null,67,20670010]
[20680010,"Getreide, Schlempe a. d. Bioethanolgew.  -  frisch",199,82,918,441,162,78,300,47,60,67,19.5,140,69,92,19,11.8,null,1,8,3,0.3,15,0.4,4,136,"SF",90,7,74,75,null,null,1.1000000000000001,0,27,57,18,0.8,2.1,1.5,9,null,68,20680010]
[20690010,"Kartoffel  -  frisch",220,59,941,75,45,90,96,4,710,31,17.100000000000001,96,11,85,-7,12.6,null,0.5,2.2999999999999998,1.2,0.1,20.9,2.7,1.8,351,"SF",39,6,16,9,null,null,0.05,0,21,79,13,0,5.4,1.4,213,null,69,20690010]
[20760010,"Zuckerrübe  -  frisch",230,80,920,150,90,91,60,4,0,696,15.7,89,6,73,-12,11.8,null,2.6,1.4,1.6,2,10,3,0.9,202,"SF",56,6,26,67,null,null,1.4,0,21,79,13,0,5.3,1.5,0,null,76,20760010]
[41310010,"Zuckerrübe, Dicksaft, Vinasse  -  frisch",446,102,898,0,0,88,305,18,0,19,18.7,132,53,73,18,12.9,null,1.5,3.8,0.2,8.5,41,2.5,15.6,375,"KF",35,2,25,35,null,null,0.3,0,19,77,11,0,0.9,0.4,0,null,131,41310010]
[20640012,"Biertreber  -  frisch/siliert",250,41,959,643,239,68,243,97,22,11,21.2,156,91,83,6,11.3,null,3.6,6,2,0.4,0.8,1.6,3,-194,"SF",200,25,135,40,null,null,0.1,0,27,46,6,3.5,3.5,2.2000000000000002,2,null,64,20640012]
[20660012,"Erbsen, Pülpe  -  frisch/siliert",182,26,974,329,243,84,121,7,402,0,18.5,93,12,97,-2,12.6,null,2,3,2.4,0.6,9,4,1.5,50,"SF",100,8,12,22,null,null,0.1,0,42,58,15,0.8,8.4,0.9,84,null,66,20660012]
[20710012,"Lupine, Samen, Pülpe  -  frisch/siliert",174,25,975,171,129,87,170,6,0,72,19.100000000000001,98,14,75,4,13.5,null,2.1,4.5,1.9,0.4,12,0.7,2.7,136,"SF",30,12,45,30,null,null,0.1,0,29,71,17,0,4.7,0.7,0,null,71,20710012]
[20730012,"Roggen, Pressschl. a. Bioethanolg.  -  frisch/sil.",350,40,960,563,240,60,232,65,25,27,20.5,110,53,92,14,9.3000000000000007,null,1,8,3,0.3,15,0.4,4,136,"SF",90,7,74,75,null,null,1.1000000000000001,0,27,57,18,0.8,2.1,1.5,4,null,73,20730012]
[20740012,"Zuckerrübe, Rübenkleinteile  -  frisch/siliert",185,86,914,244,127,84,78,5,0,108,17.399999999999999,84,8,73,-8,12.1,null,2.6,1.4,1.6,2,10,3,0.9,202,"SF",56,5,36,61,null,null,1.4,0,21,79,13,0,6.4,2.4,0,null,74,20740012]
[20750012,"Zuckerrübe, Rübenpressschnitzel  -  frisch/siliert",250,67,933,425,237,89,103,8,0,50,18.100000000000001,93,11,73,-6,13.3,null,4,1,2,0.4,5,1.1000000000000001,3.5,-104,"SF",800,8,22,74,null,null,0.2,0,21,79,13,0,8.1999999999999993,2.1,0,null,75,20750012]
[41300010,"Milchzuckermelasse  -  feucht",430,228,772,0,0,90,60,3,0,570,13.3,null,null,null,null,9.8000000000000007,null,5.9,13,2.8,27,68,14.3,10.8,1838,"KF",2,24,7,2,null,null,0.5,0,null,null,null,null,null,null,0,null,130,41300010]
[41250012,"Mais, Körner m. Teilen d. Spindel  -  feucht siliert",650,15,985,106,33,90,99,45,685,17,18.899999999999999,114,26,96,-10,14,null,0.3,3.2,1.7,0.1,3.6,0.5,1.2,8,"KF",200,2,20,40,null,null,0.1,0,54,39,3,0.5,2.8,2,171,null,125,41250012]
[10150030,"Gras, gute OMD  -  getrocknet/Heu",860,74,926,512,279,76,189,32,0,116,18.7,100,31,80,7,11.2,null,4.3,3.1,1.7,0.8,18.5,5.8,1.6,245,"GF",400,6,32,138,null,null,0.03,0,35,57,10,0,5.4,1.7,0,null,15,10150030]
[10160030,"Gras, mittl. OMD  -  getrocknet/Heu",860,68,932,605,336,65,138,19,0,89,18.399999999999999,82,22,80,3,9.3000000000000007,null,4.0999999999999996,2.1,1.2,0.3,14.5,5.4,1.2,157,"GF",400,6,25,110,null,null,0.02,0,35,57,10,0,5.4,1.7,0,null,16,10160030]
[10170030,"Gras, überständig  -  getrocknet/Heu",860,66,934,645,375,59,111,17,0,73,18.3,73,18,80,1,8.4,null,5.3,2.1,2,0.4,18.3,8.9,2.2999999999999998,92,"GF",235,8,30,56,null,null,0.01,0,35,57,10,0,5.4,1.7,0,null,17,10170030]
[10440030,"Luzerne  -  Heu",860,81,919,595,425,65,148,16,0,31,18.3,77,18,54,4,9.3000000000000007,null,11.4,2.5,2.2000000000000002,0.2,24.8,2.2000000000000002,2.1,449,"GF",403,8,26,47,null,null,0.1,0,33,55,11,0,5.2,1.5,0,null,44,10440030]
[10030020,"Ackergras, 1. Aufw.  -  siliert",350,89,911,492,258,77,150,32,0,82,18.399999999999999,88,19,87,4,11.3,null,4.5999999999999996,2.9,1.3,0.3,30.5,5.5,1.5,545,"GF",221,4,26,56,null,null,0.08,0,57,35,12,0,5.4,1.7,0,null,3,10030020]
[10040020,"Ackergras, FolgeAufw.  -  siliert",350,81,919,491,273,76,153,30,0,105,18.399999999999999,89,20,87,4,11.2,null,5.4,2.9,1.8,0.5,25.8,5,2.5,385,"GF",219,6,29,85,null,null,0.05,0,57,35,12,0,5.4,1.7,0,null,4,10040020]
[10050020,"Ackergras, gut  -  siliert",400,120,880,420,250,79,150,30,0,80,17.7,88,19,87,4,11.3,null,5.3,3.6,1.5,0.6,32,6.8,2.1,523,"GF",382,7,33,77,null,null,0.08,0,57,35,12,0,5.4,1.7,0,null,5,10050020]
[10060020,"Ackergras, mittel  -  siliert",400,135,865,475,300,71,145,30,0,50,17.5,80,18,87,5,9.9,null,6.6,3.5,2.5,1.4,21,4.4000000000000004,1.2,400,"GF",399,11,43,103,null,null,0.05,0,57,35,12,0,5.4,1.7,0,null,6,10060020]
[10080020,"Gras  -  siliert",350,99,901,541,285,71,159,32,0,49,18.3,83,20,87,6,10.199999999999999,null,6.6,2.7,2,1.1000000000000001,20,7.3,2.2000000000000002,217,"GF",589,6,34,100,null,null,0.1,0,57,35,12,0,5.4,1.7,0,null,8,10080020]
[10090020,"Gras, frisch o. kons. 1. Aufw.  -  siliert",350,89,911,524,284,73,156,32,0,64,18.399999999999999,86,20,87,5,10.7,null,5.8,2.7,1.8,1.1000000000000001,21.3,7.3,2.2000000000000002,250,"GF",589,6,34,100,null,null,0.08,0,57,35,12,0,5.4,1.7,0,null,9,10090020]
[10100020,"Gras, frisch o. kons. 2. Aufw.  -  siliert",350,96,904,564,292,70,159,31,0,49,18.3,83,20,87,7,10,null,6.8,2.5,2,1.4,18.7,8.6999999999999993,2.7,126,"GF",690,7,37,113,null,null,0.05,0,57,35,12,0,5.4,1.7,0,null,10,10100020]
[10110020,"Gras, frisch o. kons. 3. Aufw.  -  siliert",350,107,893,550,279,71,161,31,0,61,18.100000000000001,83,21,87,7,10.1,null,7.6,2.6,2.2999999999999998,1.3,19,8.9,2.8,117,"GF",746,7,33,115,null,null,0.05,0,57,35,12,0,5.4,1.7,0,null,11,10110020]
[10120020,"Gras, frisch o. kons. 4. Aufw.  -  siliert",350,124,876,531,260,72,179,33,0,41,18,86,23,87,9,10.199999999999999,null,7.8,2.8,2.2000000000000002,0.4,19.7,8.9,2.2999999999999998,127,"GF",235,8,30,56,null,null,0.05,0,57,35,12,0,5.4,1.7,0,null,12,10120020]
[10130020,"Gras, frisch o. kons. 5. Aufw.  -  siliert",350,140,860,506,245,74,184,35,0,39,17.7,87,23,87,10,10.4,null,6.9,3.3,2.1,0.3,24.7,8.9,2.5,238,"GF",437,8,29,54,null,null,0.05,0,57,35,12,0,5.4,1.7,0,null,13,10130020]
[10140020,"Gras, frisch o. kons. FolgeAufw.  -  siliert",350,100,900,544,291,70,156,30,0,65,18.2,83,20,87,6,10.1,null,7,2.7,2.2000000000000002,0.8,19.2,4.4000000000000004,1.5,309,"GF",399,9,25,60,null,null,0.05,0,57,35,12,0,5.4,1.7,0,null,14,10140020]
[10250020,"GPS, siliert  -  siliert",430,47,953,476,317,66,87,24,114,82,18.5,82,19,89,-5,9.8000000000000007,null,2.7,2.2000000000000002,1,0.3,16.8,4.0999999999999996,1.6,228,"GF",200,5,29,68,null,null,0.02,0,54,39,3,0.5,5.5,1.5,11,null,25,10250020]
[10260020,"GPS, Gerste  -  siliert",430,55,945,463,297,66,92,23,115,57,18.399999999999999,82,20,89,-4,9.6999999999999993,null,4.9000000000000004,3.2,1.1000000000000001,0.4,20,7.2,1.7,220,"GF",200,7,25,43,null,null,0.12,0,54,39,3,0.5,5.5,1.5,12,null,26,10260020]
[10270020,"GPS, Hafer  -  siliert",430,62,938,366,294,69,109,32,245,75,18.3,88,23,89,-2,10,null,7.2,3,1.6,0.2,17,3.2,1.5,260,"GF",200,8,40,78,null,null,0.05,0,54,39,3,0.5,5.5,1.5,25,null,27,10270020]
[10280020,"GPS, Roggen  -  siliert",430,43,957,489,326,66,82,22,86,103,18.5,81,18,89,-5,9.8000000000000007,null,2.2999999999999998,2.4,0.9,0.3,19.899999999999999,4.0999999999999996,1.6,307,"GF",200,5,29,68,null,null,0.02,0,54,39,3,0.5,5.5,1.5,9,null,28,10280020]
[10290020,"GPS, Sandhafer  -  siliert",430,91,909,577,300,61,117,30,50,117,17.899999999999999,81,25,89,1,8.6,null,7.2,3,1.6,0.2,17,3.2,1.5,260,"GF",200,8,40,78,null,null,0.05,0,54,39,3,0.5,5.5,1.5,5,null,29,10290020]
[10300020,"GPS, Weizen  -  siliert",430,46,954,462,290,67,90,23,236,75,18.3,83,19,89,-4,9.6999999999999993,null,2.4,2.2000000000000002,1.2,0.1,14,4.0999999999999996,1.6,147,"GF",450,8,35,45,null,null,0.08,0,54,39,3,0.5,5.5,1.5,24,null,30,10300020]
[10310020,"Gras, sehr gute OMD  -  siliert",350,101,899,434,271,81,172,38,0,47,18.5,95,23,90,6,12.1,null,7.5,3.8,2.7,1.3,27.8,8.5,3.2,329,"GF",877,8,36,117,null,null,0.1,0,57,35,12,0,5.4,1.7,0,null,31,10310020]
[10320020,"Gras, gute OMD  -  siliert",350,97,{"$f":"1000-D68","v":903},450,274,76,171,35,0,43,18.5,91,23,90,7,11.2,null,7.5,3.8,2.7,1.3,27.8,8.5,3.2,329,"GF",877,8,36,117,null,null,0.1,0,57,35,12,0,5.4,1.7,0,null,32,10320020]
[10330020,"Gras, mittl. OMD  -  siliert",350,98,902,484,291,70,176,32,0,49,18.399999999999999,86,23,90,9,10.1,null,6.8,3.7,2.5,1.6,25.8,9,3.1,283,"GF",838,8,35,112,null,null,0.1,0,57,35,12,0,5.4,1.7,0,null,33,10330020]
[10340020,"Gras, niedr. OMD  -  siliert",350,97,903,522,306,62,163,29,0,47,18.3,77,21,90,9,8.6999999999999993,null,6.1,3.5,2.4,1.3,23,8.9,2.8,220,"GF",746,7,33,115,null,null,0.1,0,57,35,12,0,5.4,1.7,0,null,34,10340020]
[10360020,"Hornkleegras, mittl. OMD  -  siliert",350,159,841,393,320,67,137,25,0,22,17,72,17,94,6,8.9,null,7,4,2.5,0.5,35,5,2,652,"GF",419,6,27,50,null,null,0.2,0,53,40,14,0,5.0999999999999996,1.75,0,null,36,10360020]
[10370020,"Kleegras, 1.Aufw.  -  siliert",350,84,916,507,282,74,131,25,0,67,18.3,83,16,94,2,10.8,null,6.6,2.6,1.7,0.4,25.9,5.2,1.9,415,"GF",419,6,27,50,null,null,0.2,0,53,40,14,0,5.2,1.6,0,null,37,10370020]
[10380020,"Kleegras, Folgeaufwüchse  -  siliert",350,85,915,495,294,75,148,25,0,95,18.2,86,18,94,4,10.9,null,8.6999999999999993,2.6,1.9,0.5,25.9,6.5,2.2999999999999998,358,"GF",332,7,29,72,null,null,0.2,0,53,40,14,0,5.2,1.6,0,null,38,10380020]
[10390020,"Landsberger Gemenge, Silage  -  siliert",282,93,907,483,289,74,161,26,0,52,18.3,86,19,94,6,10.7,null,5.6,3.2,1.4,0.4,29.6,5.2,1.9,510,"GF",419,6,27,50,null,null,0.2,0,53,40,14,0,5.2,1.6,0,null,39,10390020]
[10400020,"Luzerne, 1. A. mittl. OMD  -  siliert",350,103,897,514,329,69,175,29,0,12,18.3,83,22,89,9,9.8000000000000007,null,9.6,2.7,1.8,0.5,23.4,4,2.4,358,"GF",546,7,22,48,null,null,0.1,0,67,23,13,0,5.2,1.5,0,null,40,10400020]
[10410020,"Luzerne, 1. A. niedr. OMD  -  siliert",350,104,896,501,365,65,185,20,0,45,18.100000000000001,81,23,89,11,9.1,null,9.6,2.7,1.8,0.5,23.4,4,2.4,358,"GF",546,7,22,48,null,null,0.1,0,67,23,13,0,5.2,1.5,0,null,41,10410020]
[10420020,"Luzerne, Folgeaufw. mittl. OMD  -  siliert",350,104,896,529,339,64,176,27,0,21,18.3,79,22,89,11,9,null,12.4,3,2.1,0.2,24.5,2.2000000000000002,2.1,443,"GF",403,8,26,47,null,null,0.1,0,67,23,13,0,5.2,1.5,0,null,42,10420020]
[10430020,"Luzerne, Folgeaufw. niedr.  OMD  -  siliert",350,92,908,516,373,62,186,21,0,39,18.399999999999999,79,23,89,12,8.6999999999999993,null,12.4,3,2.1,0.2,24.5,2.2000000000000002,2.1,443,"GF",403,8,26,47,null,null,0.1,0,67,23,13,0,5.2,1.5,0,null,43,10430020]
[10450020,"Luzerne, hohe OMD  -  siliert",350,121,879,400,300,71,194,27,0,25,18,86,24,89,12,9.9,null,14.3,3.2,2.2999999999999998,0.5,26.9,4.3,2.4,439,"GF",418,7,29,43,null,null,0.1,0,67,23,13,0,5.2,1.5,0,null,45,10450020]
[10460020,"Luzerne, sehr niedr. OMD  -  siliert",350,108,892,474,363,60,177,22,0,30,18.100000000000001,75,22,89,11,8.3000000000000007,null,13,3.1,2.2999999999999998,0.5,24.6,3.4,2.2999999999999998,412,"GF",288,8,26,39,null,null,0.1,0,67,23,13,0,5.2,1.5,0,null,46,10460020]
[10470030,"Luzerne  -  Trockengrün",880,114,886,444,337,77,182,20,0,42,17.899999999999999,104,36,84,6,11,null,11.2,3.4,2.5,0.4,28.1,7.7,1,457,"GF",280,11,25,53,null,null,0.54,0,34,56,8,0,5.2,1.5,0,null,47,10470030]
[10480020,"Luzernegrass  -  siliert",350,86,914,493,318,75,157,27,0,82,18.3,87,19,89,5,10.9,null,7.9,2.9,1.8,0.5,25.7,5,2,414,"GF",420,6,25,61,null,null,0.08,0,67,23,13,0,5.3,1.6,0,null,48,10480020]
[10490020,"Mais, Ganzpflanze, hohe OMD  -  siliert",347,39,961,389,205,77,83,30,319,11,18.600000000000001,86,13,62,-8,11.7,null,1.7,2,1.5,0.1,9.3000000000000007,1.5,1,138,"GF",60,4,22,19,null,null,0.01,0,58,31,4,1.5,3.4,2.1,48,null,49,10490020]
[10500020,"Mais, Ganzpflanze, mittl. OMD  -  siliert",343,40,960,401,215,74,80,30,309,11,18.600000000000001,83,12,62,-7,11.2,null,1.8,2.1,1.5,0.1,9.6999999999999993,1.5,1,148,"GF",63,4,22,19,null,null,0.01,0,58,31,4,1.5,3.4,2.1,46,null,50,10500020]
[10510020,"Mais, Ganzpflanze, niedr. OMD  -  siliert",338,41,959,417,227,71,76,29,298,12,18.600000000000001,79,11,62,-7,10.6,null,1.8,2.1,1.5,0.1,9.8000000000000007,1.5,0.7,169,"GF",62,4,23,20,null,null,0.01,0,58,31,4,1.5,3.4,2.1,45,null,51,10510020]
[10520020,"Mais, Ganzpflanze, hohe NDFD  -  siliert",336,40,960,409,214,76,82,29,301,12,18.600000000000001,85,12,62,-8,11.5,null,1.7,2,1.4,0.1,8.6,1.5,1,120,"GF",58,4,21,16,null,null,0.01,0,58,31,4,1.5,3.4,2.1,45,null,52,10520020]
[10530020,"Mais, Ganzpflanze, niedr. NDFD  -  siliert",350,39,961,391,216,72,78,31,320,10,18.600000000000001,80,12,62,-7,10.8,null,1.7,2,1.4,0.1,8.6,1.5,0.8,132,"GF",58,4,21,16,null,null,0.01,0,58,31,4,1.5,3.4,2.1,48,null,53,10530020]
[10540020,"Mais, Ganzpflanze, Stärkegehalt hoch  -  siliert",356,38,962,381,203,74,78,31,358,10,18.600000000000001,83,12,62,-8,11.2,null,1.6,2,1.4,0.1,8.9,1.4,0.7,149,"GF",62,4,20,16,null,null,0.01,0,58,31,4,1.5,3.4,2.1,54,null,54,10540020]
[10550020,"Mais, Ganzpflanze, Stärkegehalt niedrig  -  siliert",320,43,957,438,238,74,84,28,227,14,18.7,83,13,62,-7,11.1,null,1.9,2.2000000000000002,1.5,0.1,12.2,2.2000000000000002,1.1000000000000001,186,"GF",80,4,28,28,null,null,0.01,0,58,31,4,1.5,3.4,2.1,34,null,55,10550020]
[10570020,"Rotklee  -  siliert",350,91,909,438,266,77,146,32,0,51,18.399999999999999,84,15,94,4,11.3,null,15,2.5,3.6,0.4,30,5.5,3.3,424,"GF",155,12,75,74,null,null,0.11,0,49,46,17,0,5.0999999999999996,1.75,0,null,57,10570020]
[10590020,"Rotkleegras  -  siliert",350,97,903,441,305,72,154,27,0,56,18.2,83,19,94,6,10.4,null,7,4,2.5,0.5,35,5,2,652,"GF",193,10,61,103,null,null,0.2,0,53,40,14,0,5.0999999999999996,1.75,0,null,59,10590020]
[10600020,"  -  siliert",275,70,930,493,310,64,72,23,177,12,18.100000000000001,70,10,62,-5,9.1999999999999993,null,2.6,2.4,2.1,0,18,null,null,null,"GF",null,6,33,null,null,null,null,0,42,41,19,1.5,3.4,2.1,null,null,60,10600020]
[10630020,"Zuckerrübe, Blattsilage  -  siliert",160,171,829,350,205,79,149,34,0,16,17,86,21,94,5,10.8,null,10,2.4,4,7,27,14.4,5.6,240,"GF",240,17,52,215,null,null,0.04,0,57,35,12,0,5.4,1.6,0,null,63,10630020]
[20650020,"Biertreber, gepresst  -  siliert",280,50,950,570,255,69,245,110,10,5,21.4,157,92,83,6,11.5,null,3.6,6,2,0.4,0.8,1.6,3,-194,"SF",200,25,135,40,null,null,0.1,0,27,46,6,3.5,3.5,2.2000000000000002,1,null,65,20650020]
[20700020,"Kartoffel, Pülpe  -  siliert",150,40,960,365,315,94,70,2,400,16,17.8,99,9,75,-12,14,null,2.1,1,1,0.1,14,4,3,63,"SF",401,14,65,23,null,null,0.1,0,20,78,12,0,5.4,1.4,100,null,70,20700020]
[20720020,"Mohrrübe, Trester  -  siliert",140,80,920,711,512,76,87,25,0,68,18.100000000000001,79,9,75,-5,11.2,null,4.2,2.9,1.9,10,16.3,4,1.7,633,"SF",1816,228,710,292,null,null,0.01,0,21,79,13,0,2.2999999999999998,0.9,0,null,72,20720020]
[41260020,"Mais, Kleberfutter  -  siliert",440,50,950,420,120,84,170,30,340,0,18.8,93,14,84,5,12.8,null,2.6,8.6999999999999993,2,0.2,9.8000000000000007,2.4,3.5,-27,"KF",401,40,61,27,null,null,0.1,0,50,45,35,0,2.8,1.4,34,null,126,41260020]
[41270020,"Mais, Kolben mit Lieschen  -  siliert",590,23,977,231,110,85,75,38,575,19,18.600000000000001,96,14,67,-11,13,null,0.6,2.5,1.1000000000000001,0.2,5.3,2.5,0.4,49,"KF",100,4,22,20,null,null,0.12,0,54,39,3,0.5,3.4,2.1,144,null,127,41270020]
[10090030,"Gras, frisch o. kons. 1. Aufw.  -  trocken",860,89,911,524,284,73,156,32,0,64,18.399999999999999,91,25,80,4,10.7,null,5.8,2.7,1.8,1.1000000000000001,21.3,7.3,2.2000000000000002,250,"GF",589,6,34,100,null,null,0.08,0,35,57,10,0,5.4,1.7,0,null,9,10090030]
[10100030,"Gras, frisch o. kons. 2. Aufw.  -  trocken",860,96,904,564,292,70,159,31,0,49,18.3,88,26,80,5,10,null,6.8,2.5,2,1.4,18.7,8.6999999999999993,2.7,126,"GF",690,7,37,113,null,null,0.05,0,35,57,10,0,5.4,1.7,0,null,10,10100030]
[10110030,"Gras, frisch o. kons. 3. Aufw.  -  trocken",860,107,893,550,279,71,161,31,0,61,18.100000000000001,89,26,80,5,10.1,null,7.6,2.6,2.2999999999999998,1.3,19,8.9,2.8,117,"GF",746,7,33,115,null,null,0.05,0,35,57,10,0,5.4,1.7,0,null,11,10110030]
[10120030,"Gras, frisch o. kons. 4. Aufw.  -  trocken",860,124,876,531,260,72,179,33,0,41,18,92,29,80,8,10.199999999999999,null,7.8,2.8,2.2000000000000002,0.4,19.7,8.9,2.2999999999999998,127,"GF",235,8,30,56,null,null,0.05,0,35,57,10,0,5.4,1.7,0,null,12,10120030]
[10130030,"Gras, frisch o. kons. 5. Aufw.  -  trocken",860,140,860,506,245,74,184,35,0,39,17.7,93,30,80,8,10.4,null,6.9,3.3,2.1,0.3,24.7,8.9,2.5,238,"GF",437,8,29,54,null,null,0.05,0,35,57,10,0,5.4,1.7,0,null,13,10130030]
[10140030,"Gras, frisch o. kons. FolgeAufw.  -  trocken",860,100,900,544,291,70,156,30,0,65,18.2,88,25,80,5,10.1,null,7,2.7,2.2000000000000002,0.8,19.2,4.4000000000000004,1.5,309,"GF",399,9,25,60,null,null,0.05,0,35,57,10,0,5.4,1.7,0,null,14,10140030]
[10610000,"Stroh, Gerste  -  trocken",860,57,943,800,464,50,46,19,14,3,18.399999999999999,49,2,26,-5,7.1,null,5,0.8,0.9,2,17,8,2,172,"GF",305,5,50,80,null,null,0.02,0,35,57,10,0,2.1,0.5,2,null,61,10610000]
[30770030,"Ackerbohne, Samen nativ  -  trocken",880,40,960,133,68,91,296,16,443,32,19.100000000000001,118,31,84,20,13.8,null,1.4,6.3,1.6,0.2,15.8,2.1,0.9,298,"KF",30,12,45,30,null,null,0.18,0,42,58,14,0.4,6.2,0.75,89,null,77,30770030]
[30780030,"Ackerbohne, Samenschalen  -  trocken",883,35,965,569,501,59,152,10,147,20,18.899999999999999,71,14,75,8,8.5,null,5.5,1.6,2,0.2,13,0.5,1.2,253,"KF",89,10,35,26,null,null,0.21,0,42,58,14,0.4,6.6,1.2,29,null,78,30780030]
[30790030,"Erbsen, Samen nativ  -  trocken",880,37,963,158,80,90,230,17,491,48,18.7,114,28,99,12,13.5,null,1.1000000000000001,4.7,1.5,0.2,13.3,1,1.6,221,"KF",30,12,45,30,null,null,0.1,0,42,58,15,0.8,7.2,0.95,103,null,79,30790030]
[30800030,"Erbsen, Samenproteinkonzentrat  -  trocken",916,67,933,6,3,86,815,82,0,1,23.2,176,96,97,95,14.4,null,2,8,2.4,0.6,10,4,2.5,13,"KF",100,8,35,28,null,null,0.1,0,42,58,15,0.8,8.4,0.9,0,null,80,30800030]
[30810030,"Erbsen, Samenschalen  -  trocken",900,27,973,745,648,66,55,9,106,0,18.7,69,5,75,-8,9.9,null,5.5,1.6,2,0.2,13,0.5,1.2,253,"KF",89,10,35,26,null,null,0.21,0,42,58,15,0.8,6.6,1.2,22,null,81,30810030]
[30820030,"Gerste, Samen  -  trocken",880,30,970,243,75,87,123,33,506,32,18.7,99,15,90,-3,13.4,null,0.7,4,1.3,0.3,5,1,1.5,19,"KF",50,8,50,25,null,null,0.1,0,26,72,19,0,3.6,1.5,76,null,82,30820030]
[30830030,"Getreide, Trockensch. a. Bioethanolg.  -  trocken",900,50,950,441,162,78,356,81,35,45,21.1,147,74,92,26,12.8,null,1,10,3,0.3,15,0.4,4,136,"KF",100,7,74,75,null,null,1.1000000000000001,0,26,62,18,0,2.1,1.5,5,null,83,30830030]
[30840030,"Hafer, Samen  -  trocken",880,28,972,274,122,77,123,48,453,16,19.2,85,10,59,-1,12,null,1.2,3.6,1.2,0.4,5,1,1.5,24,"KF",70,6,32,18,null,null,0.06,0,26,72,19,0,4.0999999999999996,1.5,45,null,84,30840030]
[30850030,"Hafer, Samen, Haferschälkleie  -  trocken",900,43,957,560,340,64,58,16,104,11,18.5,66,5,59,-7,9.5,null,1.1000000000000001,1.8,2.2000000000000002,0.2,5.5,0.4,1.1000000000000001,70,"KF",99,6,31,49,null,null,null,0,48,45,18,0.2,3.7,1.6,10,null,85,30850030]
[30860030,"Kartoffeleiweiß  -  trocken",900,22,978,65,19,85,860,40,0,10,23.3,null,null,null,87,14,null,0.1,2.5,0.5,0.3,5.5,1.1000000000000001,10,-501,"KF",507,42,23,6,null,null,1.1000000000000001,0,19,77,11,0,7.7,2.2000000000000002,0,null,86,30860030]
[30870030,"Kokospalme, Nuss, Fruchtfleischexp.  -  trocken",900,69,931,520,275,79,229,68,0,103,19.8,110,37,88,12,12.5,null,1.8,6.6,3.8,1,24.1,7.2,3.3,252,"KF",372,40,42,81,null,null,null,0,12,84,23,1.1000000000000001,2.7,1.6,0,null,87,30870030]
[30880030,"Mais, Korn  -  trocken",880,17,983,115,31,85,93,52,711,19,18.899999999999999,108,25,96,-9,13.2,null,0.3,3.2,1.7,0.1,3.6,0.5,1.2,8,"KF",81,4,32,46,null,null,0.06,0,21,77,7,0.1,2.8,2,299,null,88,30880030]
[30890030,"Lein, Samen nativ  -  trocken",910,50,950,260,174,65,227,370,0,35,26.7,95,34,90,15,14.1,null,3,6,4.5,0.8,8,0.2,0.6,197,"KF",113,null,91,25,null,null,null,0,35,62,13,0.1,4.4000000000000004,2.2000000000000002,0,null,89,30890030]
[30900030,"Lein, Samen, ExtrSchr. aufgefettet  -  trocken",890,66,934,242,116,73,385,52,20,45,20.399999999999999,140,72,90,32,11.2,null,4.0999999999999996,9.4,6.1,1.1000000000000001,14.9,0.7,4.2,147,"KF",254,21,67,43,null,null,0.15,0,17,79,14,0.5,3.5,1.5,2,null,90,30900030]
[30910030,"Lein, Samen, Presskuchen  -  trocken",910,64,936,234,112,72,357,98,20,45,21.3,125,58,90,31,11.7,null,4,9.1,5.9,1.1000000000000001,14.4,0.7,4.0999999999999996,141,"KF",246,20,65,42,null,null,0.15,0,12,84,23,1.1000000000000001,3.5,1.5,2,null,91,30910030]
[30920030,"Mais, Korn, Maiskleberfutter  -  trocken",900,64,936,265,155,84,223,37,163,37,19.100000000000001,96,18,82,13,12.9,null,0.7,11.5,5.0999999999999996,3,15.9,2.7,6.9,31,"KF",159,10,85,24,null,null,0.16,0,50,45,35,0,3.1,1.6,34,null,92,30920030]
[30930030,"Getreide, Samen, Malzkeime  -  trocken",900,31,969,350,205,78,205,21,199,106,19.100000000000001,115,39,86,7,11.8,null,0.1,0.5,1.6,0.3,11,2.7,6.4,-181,"KF",191,11,85,53,null,null,0.05,0,26,62,18,0,4.4000000000000004,1.4,20,null,93,30930030]
[30940030,"Zuckerrübe, Melasseschnitzel  -  trocken",900,75,925,399,226,90,96,13,0,171,17.7,96,14,73,-8,13.1,null,11,0.8,1.8,1.7,11.3,1.4,3,137,"KF",589,14,22,74,null,null,0.25,0,19,77,11,0,5.5,1.6,0,null,94,30940030]
[30950030,"Palmkern, Presskuchen  -  trocken",923,45,955,718,386,69,167,69,3,15,20.2,90,25,82,6,11,null,2.2999999999999998,5.9,3.2,0.1,7.8,2.2000000000000002,2.6,-20,"KF",100,30,68,240,null,null,0.1,0,12,84,23,1.1000000000000001,3.1,1.85,null,null,95,30950030]
[30960030,"Raps, Samen nativ  -  trocken",920,42,958,160,25,74,230,450,36,45,28.4,113,42,88,12,17.600000000000001,null,3,7.6,3.1,0.2,8.6,0.6,0.7,168,"KF",100,12,88,48,null,null,1,0,22,71,14,0,5.6,1.4,4,null,96,30960030]
[30970130,"Raps, Samen, ExtrSchr.  -  trocken",890,79,921,298,217,79,385,35,72,86,19.600000000000001,146,73,81,30,11.7,null,8.6999999999999993,11.9,6,0.5,14,0.4,7.9,-124,"KF",322,8,80,75,null,null,1.1000000000000001,0,16,79,12,0.1,4.4000000000000004,2,7,null,97,30970130]
[30970230,"Raps, Samen, ExtrSchr.  -  trocken",890,79,921,298,217,79,385,35,72,86,19.600000000000001,165,93,81,26,11.7,null,8.6999999999999993,11.9,6,0.5,14,0.4,7.9,-124,"KF",322,8,80,75,null,null,1.1000000000000001,0,9,86,8,0,4.4000000000000004,2,7,null,97,30970230]
[30970330,"Raps, Samen, ExtrSchr.  -  trocken",890,79,921,298,217,79,385,35,72,86,19.600000000000001,145,73,81,30,11.7,null,8.6999999999999993,11.9,6,0.5,14,0.4,7.9,-124,"KF",322,8,80,75,null,null,1.1000000000000001,0,16,78,12,0.2,4.4000000000000004,2,7,null,97,30970330]
[30970430,"Raps, Samen, ExtrSchr.  -  trocken",890,79,921,298,217,79,385,35,72,86,19.600000000000001,128,56,81,33,11.7,null,8.6999999999999993,11.9,6,0.5,14,0.4,7.9,-124,"KF",322,8,80,75,null,null,1.1000000000000001,0,25,69,17,0.1,4.4000000000000004,2,7,null,97,30970430]
[30980130,"Raps, Samen, ExtrSchr. therm. beh.  -  trocken",890,86,914,305,212,79,371,37,81,92,19.399999999999999,152,80,82,26,11.7,null,8.6999999999999993,11.9,6,0.5,14,0.4,7.9,-124,"KF",322,7,74,75,null,null,1.1000000000000001,0,22,69,10,0,4.4000000000000004,2,8,null,98,30980130]
[30980230,"Raps, Samen, ExtrSchr. therm. beh.  -  trocken",890,86,914,305,212,79,371,37,81,92,19.399999999999999,177,105,82,21,11.7,null,8.6999999999999993,11.9,6,0.5,14,0.4,7.9,-124,"KF",322,7,74,75,null,null,1.1000000000000001,0,12,78,8,0,4.4000000000000004,2,8,null,98,30980230]
[30980330,"Raps, Samen, ExtrSchr. therm. beh.  -  trocken",890,86,{"$f":"1000-D132","v":914},305,212,79,371,37,81,92,19.399999999999999,133,61,82,30,11.7,null,8.6999999999999993,11.9,6,0.5,14,0.4,7.9,-124,"KF",322,7,74,75,null,null,1.1000000000000001,0,32,60,13,0,4.4000000000000004,2,8,null,98,30980330]
[30990030,"Raps, Samen, Presskuchen  -  trocken",900,63,937,244,204,81,331,134,49,93,21.7,114,39,88,28,14,null,8.1999999999999993,11.9,5.5,0.5,15,0.4,7.9,-98,"KF",100,7,74,75,null,null,1.1000000000000001,0,38,56,26,0,5.2,1.9,5,null,99,30990030]
[31000030,"Raps, Öl  -  trocken",990,1,999,0,0,84,0,999,0,0,39.799999999999997,83,0,0,-20,30,null,null,null,null,null,null,null,null,null,"KF",10,null,null,null,null,null,null,0,null,null,null,null,0,0,0,null,100,31000030]
[31010030,"Roggen, Samen  -  trocken",880,19,981,162,36,87,104,20,592,67,18.3,92,8,75,-5,13,null,0.6,3.1,1.2,0.2,5.6,1,1.5,30,"KF",30,4,23,6,null,null,0.1,0,33,62,41,0,3.8,1.6,89,null,101,31010030]
[31020030,"Roggen, Samen, Kleie  -  trocken",880,45,955,420,110,77,155,34,225,80,18.899999999999999,87,14,59,3,11.7,null,1.7,9.5,4,0.2,13.5,1.1000000000000001,2,198,"KF",null,null,null,null,null,null,null,0,48,45,18,0.2,3.7,1.5,23,null,102,31020030]
[31030030,"Schokomehl, der Back-  Süßwarenind.  -  trocken",900,38,962,124,60,87,139,98,434,114,19.899999999999999,102,19,92,-1,14.3,null,0.9,2.2999999999999998,1,4.7,5.5,9,1.5,-2,"KF",256,10,17,17,null,null,null,0,41,55,19,0.6,3.3,1.5,43,null,103,31030030]
[31040030,"Sojabohne, Samen nativ  -  trocken",895,68,932,159,73,94,390,229,51,87,23.9,144,57,99,32,18.399999999999999,null,2.8,6.6,2.8,0.2,22.6,0.3,2.2999999999999998,435,"KF",89,15,48,20,null,null,0.25,0,51,47,11,0.9,6.1,1.35,5,null,104,31040030]
[31050130,"Sojabohne, Samen, ExtrSchr.  -  trocken",890,67,933,154,87,92,500,18,68,104,19.899999999999999,219,134,96,37,13.9,null,3.1,7,3,0.2,22,0.5,4.8,258,"KF",254,16,58,40,null,null,0.25,0,6,94,10,1.6,6.2,1.35,7,null,105,31050130]
[31050230,"Sojabohne, Samen, ExtrSchr.  -  trocken",890,67,933,154,87,92,500,18,68,104,19.899999999999999,239,154,96,34,13.9,null,3.1,7,3,0.2,22,0.5,4.8,258,"KF",254,16,58,40,null,null,0.25,0,5,95,8,1.7,6.2,1.35,7,null,105,31050230]
[31050330,"Sojabohne, Samen, ExtrSchr.  -  trocken",890,67,933,154,87,92,500,18,68,104,19.899999999999999,203,118,96,40,13.9,null,3.1,7,3,0.2,22,0.5,4.8,258,"KF",254,16,58,40,null,null,0.25,0,8,93,12,1.5,6.2,1.35,7,null,105,31050330]
[31060030,"Sojabohne, ExtrSchr. aus gesch. Saat  -  trocken",890,67,933,124,90,92,525,20,45,103,20.100000000000001,227,142,96,40,14.1,null,3.5,7.3,3.4,0.2,25,0.5,4,385,"KF",null,null,null,null,null,null,null,0,6,94,10,1.6,6.2,1.35,5,null,106,31060030]
[31070030,"Sojabohne, ExtrSchr. pansenstabil  -  trocken",890,58,942,273,150,90,507,12,22,103,20.100000000000001,320,236,84,16,13.7,null,3,6.4,2.7,0.2,23,1.3,4.5,280,"KF",254,22,57,35,null,null,0.25,0,7,89,4,6,6.5,1,2,null,107,31070030]
[31080030,"Sojabohne, Samen, Presskuchen  -  trocken",890,64,936,136,77,92,455,98,60,70,21.6,211,126,99,32,15.6,null,3,6.8,2.6,0.1,21,0.5,4.7,235,"KF",254,16,58,40,null,null,0.25,0,6,94,10,1.6,6.2,1.35,6,null,108,31080030]
[31090030,"Sojabohne, Samenschalen  -  trocken",900,50,950,680,460,79,135,25,80,26,18.899999999999999,90,15,75,0,12.1,null,5.5,1.6,2,0.2,13,0.5,1.2,253,"KF",89,10,35,26,null,null,0.21,0,51,47,11,0.9,6.5,1,8,null,109,31090030]
[31100030,"Sojabohne, Öl  -  trocken",990,1,999,0,0,85,0,999,0,0,39.799999999999997,84,0,0,-20,30.6,null,null,null,null,null,null,null,null,null,"KF",10,null,null,null,null,null,null,0,null,null,null,null,0,0,0,null,110,31100030]
[31110030,"Sonnenbl. ExtrSchr. a. gesch. Saat  -  trocken",910,64,936,225,154,73,439,20,44,100,19.8,124,56,79,43,10.6,null,3.7,10.6,3,0.3,13,3.2,3.8,18,"KF",350,30,46,56,null,null,0.1,0,20,76,19,0.2,2.9,1.8,4,null,111,31110030]
[31120030,"Sonnenbl. ExtrSchr. a. teilgesch. Saat  -  trocken",890,78,922,389,267,67,366,23,38,51,19.399999999999999,108,47,79,34,9.5,null,4.4000000000000004,11,5.5,0.2,13,3.2,3.8,14,"KF",350,30,46,56,null,null,0.1,0,20,76,19,0.2,3.4,2.1,4,null,112,31120030]
[31130030,"Sonnenblume, ExtrSchr. schalenreich  -  trocken",890,52,948,529,440,61,245,22,33,40,19.399999999999999,89,31,79,19,8.8000000000000007,null,2.8,8.5,5,0.1,12,1.1000000000000001,2.2999999999999998,137,"KF",259,28,68,34,null,null,0.3,0,20,76,19,0.2,3.7,2.2000000000000002,3,null,113,31130030]
[31140030,"Sonnenblume, Samen, Presskuchen  -  trocken",937,71,929,305,252,79,349,116,35,55,21.4,134,61,96,28,13.3,null,3.4,10.3,5.5,0.2,12,3.1,3.7,-2,"KF",100,15,40,45,null,null,0.1,0,12,84,23,1.1000000000000001,3.5,2.2000000000000002,4,null,114,31140030]
[31150030,"Süßlupine blau, Samen nativ  -  trocken",880,42,958,254,190,93,379,61,100,61,20.8,120,31,66,32,15.3,null,2.1,3.2,1.9,0.4,15.5,0.7,2.7,226,"KF",30,12,45,30,null,null,0.1,0,29,71,17,0,5,0.6,null,null,115,31150030]
[31160030,"Süßlupine weiß, Samen nativ  -  trocken",881,40,960,190,137,95,385,94,84,65,21.6,122,32,66,32,16.399999999999999,null,2.1,4.5,1.9,0.4,12,0.7,2.7,136,"KF",30,12,45,30,null,null,0.1,0,29,71,17,0,4.7,0.7,null,null,116,31160030]
[31170030,"Maniok, Tapioca Typ 55  -  trocken",880,58,942,75,null,86,29,7,671,30,16.899999999999999,85,5,73,-16,12,null,1.5,1,1,0.4,null,null,null,null,"KF",null,null,null,null,null,null,null,0,19,77,11,0,3.7,1.1000000000000001,101,null,117,31170030]
[31180030,"Triticale, Samen  -  trocken",880,21,979,161,35,89,118,19,645,43,18.3,98,11,88,-4,13.4,null,0.4,3.5,1.2,0.2,5.4,1,1.5,25,"KF",100,6,50,44,null,null,0.8,0,31,66,27,0,3.2,1.7,97,null,118,31180030]
[31190030,"Weizen, Samen  -  trocken",880,19,981,142,38,87,134,25,622,31,18.600000000000001,101,16,88,-2,13.2,null,0.5,3.2,1.3,0.1,4.5,0.7,1.9,-19,"KF",78,7,65,35,null,null,0.1,0,20,78,21,0.1,2.8,1.6,93,null,119,31190030]
[31200030,"Weizen, Samen, Kleber(futter?)  -  trocken",900,46,954,274,63,82,149,45,61,27,19.5,90,12,84,3,13,null,1.1000000000000001,9,3.5,0.3,9.5,1.3,1.8,107,"KF",100,12,80,120,null,null,0.2,0,50,45,35,0,1.6,1.6,6,null,120,31200030]
[31210030,"Weizen, Samen, Kleie  -  trocken",880,51,949,408,100,77,171,48,292,64,19.100000000000001,86,13,52,6,11.7,null,1.8,13,5.3,0.5,12,1.4,2,165,"KF",100,12,106,173,null,null,0.1,0,48,45,18,0.2,4,1.5,29,null,121,31210030]
[31220030,"Weizen, Samen, Kleie  -  trocken",880,60,940,396,146,77,179,49,194,64,19.100000000000001,86,14,52,7,11.8,null,1.4,13,5.2,0.1,13,0.6,2.2999999999999998,177,"KF",206,17,103,149,null,null,0.17,0,48,45,18,0.2,4,1.5,19,null,122,31220030]
[31230030,"Weizen, Samen, Weizengrießkleie  -  trocken",880,55,945,275,160,80,173,48,226,70,19.100000000000001,89,14,52,5,12.3,null,1.1000000000000001,12,4.5999999999999996,0.1,13,0.9,2.2999999999999998,168,"KF",171,17,103,149,null,null,0.17,0,48,45,18,0.2,4,1.4,23,null,123,31230030]
[31240030,"Zitrusfrucht, Trester  -  trocken",900,62,938,240,190,90,132,70,0,243,19.100000000000001,105,21,73,-4,14.2,null,20,1,null,null,null,null,null,null,"KF",null,null,null,null,null,null,null,0,19,77,11,0,2.6,1,0,null,124,31240030]
[41280030,"Zuckerrohr, Melasse  -  trocken",740,118,882,0,0,89,47,5,0,649,15.1,85,7,67,-13,11.1,null,9.6,1,4.5,1.8,null,null,null,null,"KF",null,null,null,null,null,null,null,0,35,57,10,0,null,null,0,null,128,41280030]
[41290030,"Zuckerrübe, Melasse  -  trocken",770,111,889,0,0,89,139,1,0,654,15.6,101,22,73,-2,11.2,null,2.1,0.3,0.1,6.8,53.4,2.2000000000000002,4.3,1332,"KF",175,10,60,52,null,null,0.1,0,19,77,11,0,2.5,1.6,0,null,129,41290030]
[51320030,"Futterharnstoff  -  trocken",990,0,1000,0,0,100,2875,0,0,0,10.7,99,0,null,436,10.7,null,0,0,0,0,0,0,0,0,"KF",10,null,null,null,null,null,null,0,100,0,0,0,0,0,0,null,132,51320030]
[51330000,"Glycerin, rein",990,0,1000,0,0,100,0,0,0,0,18.3,99,0,null,-24,15.6,null,0,0,0,0,0,0,0,0,"KF",0,0,0,0,null,null,0,0,100,null,null,null,0,0,0,null,133,51330000]
[51340000,"Glycerin, roh",900,63,937,0,0,100,0,0,0,0,14.6,93,0,null,-22,12.2,null,0,0,0,25,25,0,0,1727,"KF",0,0,0,0,null,null,0,0,100,null,null,null,0,0,0,null,134,51340000]
[51350000,"Propylenglykol",990,0,1000,0,0,92,0,0,0,0,18.899999999999999,91,0,null,-22,14.8,null,null,null,null,null,null,null,null,null,"KF",null,null,null,null,null,null,null,0,101,null,null,null,0,0,0,null,135,51350000]
[null,null,null,null,1000,null,null,null,null,null,null,null,null,null,null,null,null,null,null,null,null,null,null,null,null,null,null,null,null,null,null,null,null,null,null,0]
[null,null,null,null,1000,null,null,null,null,null,null,null,null,null,null,null,null,null,null,null,null,null,null,null,null,null,null,null,null,null,null,null,null,null,null,0]
[null,null,null,null,1000,null,null,null,null,null,null,null,null,null,null,null,null,null,null,null,null,null,null,null,null,null,null,null,null,null,null,null,null,null,null,0]
[59000001,"Milchleistungsfutter - Beispiel Rationsberechng.",890,65,935,290,113,83,188,40,262,108,18.7,119,53,85,4,12.5,null,8.4,5.8,3.4,2.1,12,1.2,2.6,207,"KF",null,null,null,null,null,null,null,0,23,71,11,1.4]
[59000002,"Mineralfutter - Beispiel Rationsberechnung",900,968,32,null,null,70,null,null,null,null,null,null,null,null,null,null,null,210,null,null,84,null,null,null,null,"KF",null,null,null,null,null,null,null,0]
[59000003,null,null,null,1000]
[59000004,null,null,null,1000]
[59000005,null,null,null,1000]
[59000006,null,null,null,1000]
[59000007,null,null,null,1000]
[59000008,null,null,null,1000]
[59000009,null,null,null,1000]
[59000010,null,null,null,1000]
[59000011,null,null,null,1000]
[59000012,null,null,null,1000]
[59000013,null,null,null,1000]
[59000014,null,null,null,1000]
[59000015,null,null,null,1000]
[59000016,null,null,null,1000]
[59000017,null,null,null,1000]
[59000018,null,null,null,1000]
[59000019,null,null,null,1000]
[59000020,null,null,null,1000]
[59000021,null,null,null,1000]
[59000022,null,null,null,1000]
[59000023,null,null,null,1000]
[59000024,null,null,null,1000]
[59000025,null,null,null,1000]
[59000026,null,null,null,1000]
[59000027,null,null,null,{"$f":"1000-D196","v":1000}]
[59000028,null,null,null,1000]
[59000029,null,null,null,1000]
[59000030,null,null,null,1000]
[]
[]
[]
[]
[]
[]
[]
[]
[]
[]
[]
[]
[]
[]
[]
[]
[]
[]
[]
[]
[]
[]
[]
[]
[]
[]
[]
[]
[]
[]
[]
[]
[]
[]
[]
[]
[]
[]
[]
[]
[]
[]
[]
[]
[]
[]
[]
[]
[]
[]
[]
[]
[]
[]
[]
[]
[]
[]
[]
[]
[]
[]
[]
[]
[]
[]
[]
[]
[]
[]
[]
[]
[]
[]
[]
[]
[]
[]
[]
[]
[]
[]
[]
[]
[]
[]
[]
[]
[]
[]
[]
[]
[]
[]
[]
[]
[]
[]
[]
[]
[]
[]
[]
[]
[]
[]
[]
[]
[]
[]
[]
[]
[]
[]
[]
[]
[]
[]
[]
[]
[]
[]
[]
[]
[]
[]
[]
[]
[]
[]
[]
[]
[]
[]
[]
[]
[]
[]
[]
[]
[]
[]
[]
[]
[]
[]
[]
[]
[]
[]
[]
[]
[]
[]
[]
[]
[]
[]
[]
[]
[]
[]
[]
[]
[]
[]
[]
[]
[]
[]
[]
[]
[]
[]
[]
[]
[]
[]
[]
[]
[]
[]
[]
[]
[]
[]
[]
[]
[null,"webFuLab einlesen, ab A 390"]
[null,{"$f":"C391","v":0},{"$f":"H391","v":0},{"$f":"K391","v":0},{"$f":"1000-D389","v":1000},{"$f":"AK391","v":0},{"$f":"AL391","v":0},{"$f":"ED391","v":0},{"$f":"L391","v":0},{"$f":"AV391","v":0},{"$f":"AQ391","v":0},{"$f":"AR391","v":0},{"$f":"EO391","v":0},{"$f":"EM391","v":0},{"$f":"EK391","v":0},{"$f":"EI391","v":0},{"$f":"EN391","v":0},{"$f":"EB391","v":0},{"$f":"AT391","v":0},{"$f":"BM391","v":0},{"$f":"BN391","v":0},{"$f":"BP391","v":0},{"$f":"BO391","v":0},{"$f":"BQ391","v":0},{"$f":"BR391","v":0},{"$f":"BS391","v":0},null,"GF",{"$f":"BT391","v":0},{"$f":"BU391","v":0},{"$f":"BV391","v":0},{"$f":"BW391","v":0},null,null,{"$f":"BX391","v":0},null,{"$f":"EE391","v":0},{"$f":"EF391","v":0},{"$f":"EG391","v":0},{"$f":"EH391","v":0},{"$f":"EX398","v":0},{"$f":"EY398","v":0},{"$f":"AU391","v":0},{"$f":"DL391","v":"00:00:00"}]
[]
[]
[]
[]
[null,"Analyse-csv einlesen, ab A 396"]
[null,{"$f":"R398","v":0},{"$f":"S398","v":0},{"$f":"X398","v":0},{"$f":"1000-D395","v":1000},{"$f":"AD398","v":0},{"$f":"AC398","v":0},{"$f":"EU398","v":0},{"$f":"T398","v":0},{"$f":"Y398","v":0},{"$f":"V398","v":0},{"$f":"AA398","v":0},{"$f":"ET398","v":0},{"$f":"EW398","v":0},null,{"$f":"FD398","v":0},{"$f":"FA398","v":0},{"$f":"EV398","v":0},null,{"$f":"AY398","v":0},{"$f":"AZ398","v":0},{"$f":"BC398","v":0},{"$f":"BB398","v":0},{"$f":"BA398","v":0},{"$f":"AW398","v":0},{"$f":"BD398","v":0},{"$f":"AX398","v":0},"GF",{"$f":"BH398","v":0},{"$f":"BE398","v":0},{"$f":"BG398","v":0},{"$f":"BF398","v":0},{"$f":"BI398","v":0},{"$f":"BJ398","v":0},{"$f":"AV398","v":0},null,{"$f":"FF398","v":0},{"$f":"FG398","v":0},{"$f":"FH398","v":0},{"$f":"FI398","v":0},{"$f":"EX398","v":0},{"$f":"EY398","v":0},null,{"$f":"B398","v":"00:00:00"}]

{"sheet":"Druck","index":4,"n_rows":35,"n_cols":16,"rows_kept":35,"cut":false,"hidden":false,"merged":[[23,6,23,7],[32,8,32,10],[32,11,32,12],[18,6,18,7],[30,9,30,10],[30,11,30,12],[31,9,31,10],[31,11,31,12],[27,9,27,10],[27,11,27,12],[28,9,28,10],[28,11,28,12],[29,9,29,10],[29,11,29,12],[24,9,24,10],[24,11,24,12],[25,9,25,10],[25,11,25,12],[26,9,26,10],[26,11,26,12],[21,9,21,10],[21,11,21,12],[22,9,22,10],[22,11,22,12],[23,9,23,10],[23,11,23,12],[1,10,1,12],[1,13,1,15],[18,8,18,9],[18,10,18,12],[20,9,20,10],[20,11,20,12],[32,0,32,2],[32,3,32,4],[33,3,33,4],[34,3,34,4],[34,0,34,2],[33,0,33,2],[31,1,31,2],[20,3,20,4],[21,3,21,4],[22,3,22,4],[23,3,23,4],[24,3,24,4],[25,3,25,4],[26,3,26,4],[27,3,27,4],[28,3,28,4],[29,3,29,4],[30,3,30,4],[31,3,31,4],[26,1,26,2],[27,1,27,2],[28,1,28,2],[29,1,29,2],[30,1,30,2],[21,1,21,2],[22,1,22,2],[23,1,23,2],[24,1,24,2],[25,1,25,2],[1,2,1,4],[1,5,1,7],[18,0,18,1],[20,1,20,2],[18,2,18,4]]}
[]
["Betrieb:",{"$f":"'Start-Einstellung'!J7","v":"Tierhaltungsschule Triesdorf"},{"$f":"'Start-Einstellung'!M7","v":"Markgrafenstraße 1"},null,null,{"$f":"'Start-Einstellung'!M8","v":"11 222 333 4444"},null,null,"Betrieb:",{"$f":"B2","v":"Tierhaltungsschule Triesdorf"},{"$f":"C2","v":"Markgrafenstraße 1"},null,null,{"$f":"F2","v":"11 222 333 4444"}]
[]
["Nr.","Trogration","TM kg","FM kg","sidP","ME","CL","CP","Nr.","Konzentrat - Mischung","% Ant.","FM kg","sidP","ME","CL","CP"]
[{"$f":"Ration!A3","v":0},{"$f":"Ration!B3","v":""},{"$f":"Ration!F3","v":0},{"$f":"Ration!E25","v":0},{"$f":"Ration!O3","v":0},{"$f":"Ration!M3","v":0},{"$f":"Ration!P3","v":0},{"$f":"Ration!N3","v":0},{"$f":"'Mischung 1'!A3","v":0},{"$f":"'Mischung 1'!B3","v":""},{"$f":"'Mischung 1'!C3","v":0},{"$f":"'Mischung 1'!C3","v":0},{"$f":"'Mischung 1'!M3","v":0},{"$f":"'Mischung 1'!K3","v":0},{"$f":"'Mischung 1'!N3","v":0},{"$f":"'Mischung 1'!L3","v":0}]
[{"$f":"Ration!A4","v":0},{"$f":"Ration!B4","v":""},{"$f":"Ration!F4","v":0},{"$f":"Ration!E26","v":0},{"$f":"Ration!O4","v":0},{"$f":"Ration!M4","v":0},{"$f":"Ration!P4","v":0},{"$f":"Ration!N4","v":0},{"$f":"'Mischung 1'!A4","v":0},{"$f":"'Mischung 1'!B4","v":""},{"$f":"'Mischung 1'!C4","v":0},{"$f":"'Mischung 1'!C4","v":0},{"$f":"'Mischung 1'!M4","v":0},{"$f":"'Mischung 1'!K4","v":0},{"$f":"'Mischung 1'!N4","v":0},{"$f":"'Mischung 1'!L4","v":0}]
[{"$f":"Ration!A5","v":0},{"$f":"Ration!B5","v":""},{"$f":"Ration!F5","v":0},{"$f":"Ration!E27","v":0},{"$f":"Ration!O5","v":0},{"$f":"Ration!M5","v":0},{"$f":"Ration!P5","v":0},{"$f":"Ration!N5","v":0},{"$f":"'Mischung 1'!A5","v":0},{"$f":"'Mischung 1'!B5","v":""},{"$f":"'Mischung 1'!C5","v":0},{"$f":"'Mischung 1'!C5","v":0},{"$f":"'Mischung 1'!M5","v":0},{"$f":"'Mischung 1'!K5","v":0},{"$f":"'Mischung 1'!N5","v":0},{"$f":"'Mischung 1'!L5","v":0}]
[{"$f":"Ration!A6","v":0},{"$f":"Ration!B6","v":""},{"$f":"Ration!F6","v":0},{"$f":"Ration!E28","v":0},{"$f":"Ration!O6","v":0},{"$f":"Ration!M6","v":0},{"$f":"Ration!P6","v":0},{"$f":"Ration!N6","v":0},{"$f":"'Mischung 1'!A6","v":0},{"$f":"'Mischung 1'!B6","v":""},{"$f":"'Mischung 1'!C6","v":0},{"$f":"'Mischung 1'!C6","v":0},{"$f":"'Mischung 1'!M6","v":0},{"$f":"'Mischung 1'!K6","v":0},{"$f":"'Mischung 1'!N6","v":0},{"$f":"'Mischung 1'!L6","v":0}]
[{"$f":"Ration!A7","v":0},{"$f":"Ration!B7","v":""},{"$f":"Ration!F7","v":0},{"$f":"Ration!E29","v":0},{"$f":"Ration!O7","v":0},{"$f":"Ration!M7","v":0},{"$f":"Ration!P7","v":0},{"$f":"Ration!N7","v":0},{"$f":"'Mischung 1'!A7","v":0},{"$f":"'Mischung 1'!B7","v":""},{"$f":"'Mischung 1'!C7","v":0},{"$f":"'Mischung 1'!C7","v":0},{"$f":"'Mischung 1'!M7","v":0},{"$f":"'Mischung 1'!K7","v":0},{"$f":"'Mischung 1'!N7","v":0},{"$f":"'Mischung 1'!L7","v":0}]
[{"$f":"Ration!A8","v":0},{"$f":"Ration!B8","v":""},{"$f":"Ration!F8","v":0},{"$f":"Ration!E30","v":0},{"$f":"Ration!O8","v":0},{"$f":"Ration!M8","v":0},{"$f":"Ration!P8","v":0},{"$f":"Ration!N8","v":0},{"$f":"'Mischung 1'!A8","v":0},{"$f":"'Mischung 1'!B8","v":""},{"$f":"'Mischung 1'!C8","v":0},{"$f":"'Mischung 1'!C8","v":0},{"$f":"'Mischung 1'!M8","v":0},{"$f":"'Mischung 1'!K8","v":0},{"$f":"'Mischung 1'!N8","v":0},{"$f":"'Mischung 1'!L8","v":0}]
[{"$f":"Ration!A9","v":0},{"$f":"Ration!B9","v":""},{"$f":"Ration!F9","v":0},{"$f":"Ration!E31","v":0},{"$f":"Ration!O9","v":0},{"$f":"Ration!M9","v":0},{"$f":"Ration!P9","v":0},{"$f":"Ration!N9","v":0},{"$f":"'Mischung 1'!A9","v":0},{"$f":"'Mischung 1'!B9","v":""},{"$f":"'Mischung 1'!C9","v":0},{"$f":"'Mischung 1'!C9","v":0},{"$f":"'Mischung 1'!M9","v":0},{"$f":"'Mischung 1'!K9","v":0},{"$f":"'Mischung 1'!N9","v":0},{"$f":"'Mischung 1'!L9","v":0}]
[{"$f":"Ration!A10","v":0},{"$f":"Ration!B10","v":""},{"$f":"Ration!F10","v":0},{"$f":"Ration!E32","v":0},{"$f":"Ration!O10","v":0},{"$f":"Ration!M10","v":0},{"$f":"Ration!P10","v":0},{"$f":"Ration!N10","v":0},{"$f":"'Mischung 1'!A10","v":0},{"$f":"'Mischung 1'!B10","v":""},{"$f":"'Mischung 1'!C10","v":0},{"$f":"'Mischung 1'!C10","v":0},{"$f":"'Mischung 1'!M10","v":0},{"$f":"'Mischung 1'!K10","v":0},{"$f":"'Mischung 1'!N10","v":0},{"$f":"'Mischung 1'!L10","v":0}]
[{"$f":"Ration!A11","v":0},{"$f":"Ration!B11","v":""},{"$f":"Ration!F11","v":0},{"$f":"Ration!E33","v":0},{"$f":"Ration!O11","v":0},{"$f":"Ration!M11","v":0},{"$f":"Ration!P11","v":0},{"$f":"Ration!N11","v":0},{"$f":"'Mischung 1'!A11","v":0},{"$f":"'Mischung 1'!B11","v":""},{"$f":"'Mischung 1'!C11","v":0},{"$f":"'Mischung 1'!C11","v":0},{"$f":"'Mischung 1'!M11","v":0},{"$f":"'Mischung 1'!K11","v":0},{"$f":"'Mischung 1'!N11","v":0},{"$f":"'Mischung 1'!L11","v":0}]
[{"$f":"Ration!A12","v":0},{"$f":"Ration!B12","v":""},{"$f":"Ration!F12","v":0},{"$f":"Ration!E34","v":0},{"$f":"Ration!O12","v":0},{"$f":"Ration!M12","v":0},{"$f":"Ration!P12","v":0},{"$f":"Ration!N12","v":0},{"$f":"'Mischung 1'!A12","v":0},{"$f":"'Mischung 1'!B12","v":""},{"$f":"'Mischung 1'!C12","v":0},{"$f":"'Mischung 1'!C12","v":0},{"$f":"'Mischung 1'!M12","v":0},{"$f":"'Mischung 1'!K12","v":0},{"$f":"'Mischung 1'!N12","v":0},{"$f":"'Mischung 1'!L12","v":0}]
[{"$f":"Ration!A13","v":0},{"$f":"Ration!B13","v":""},{"$f":"Ration!F13","v":0},{"$f":"Ration!E35","v":0},{"$f":"Ration!O13","v":0},{"$f":"Ration!M13","v":0},{"$f":"Ration!P13","v":0},{"$f":"Ration!N13","v":0},{"$f":"'Mischung 1'!A13","v":0},{"$f":"'Mischung 1'!B13","v":""},{"$f":"'Mischung 1'!C13","v":0},{"$f":"'Mischung 1'!C13","v":0},{"$f":"'Mischung 1'!M13","v":0},{"$f":"'Mischung 1'!K13","v":0},{"$f":"'Mischung 1'!N13","v":0},{"$f":"'Mischung 1'!L13","v":0}]
[{"$f":"Ration!A14","v":0},{"$f":"Ration!B14","v":""},{"$f":"Ration!F14","v":0},{"$f":"Ration!E36","v":0},{"$f":"Ration!O14","v":0},{"$f":"Ration!M14","v":0},{"$f":"Ration!P14","v":0},{"$f":"Ration!N14","v":0},{"$f":"'Mischung 1'!A14","v":0},{"$f":"'Mischung 1'!B14","v":""},{"$f":"'Mischung 1'!C14","v":0},{"$f":"'Mischung 1'!C14","v":0},{"$f":"'Mischung 1'!M14","v":0},{"$f":"'Mischung 1'!K14","v":0},{"$f":"'Mischung 1'!N14","v":0},{"$f":"'Mischung 1'!L14","v":0}]
[null,"Summe",{"$f":"SUM(C5:C16)","v":0},{"$f":"SUM(D5:D16)","v":0},0,0,{"$f":"Ration!P17","v":0},{"$f":"Ration!N17","v":0},null,"Summe",{"$f":"SUM(K5:K16)","v":0},{"$f":"SUM(L5:L16)","v":0},0,0,{"$f":"'Mischung 1'!N16","v":0},{"$f":"'Mischung 1'!L16","v":0}]
[]
["Beladung Futtermischwagen für Anzahl:",null,100,null,null,null,"MEW",null,"Futtermischung in kg:",null,5000]
[]
[{"$f":"A5","v":0},{"$f":"B5","v":""},null,{"$f":"D5*$C$19","v":0},null,null,"sidP",{"$f":"Ration!O18","v":0},{"$f":"I5","v":0},{"$f":"'Mischung 1'!B3","v":""},null,{"$f":"$K$19*'Mischung 1'!C3","v":0}]
[{"$f":"A6","v":0},"",null,{"$f":"D6*$C$19","v":0},null,null,"ME",{"$f":"Ration!M18","v":0},{"$f":"I6","v":0},{"$f":"'Mischung 1'!B4","v":""},null,{"$f":"$K$19*'Mischung 1'!C4","v":0}]
[0,"",null,0,null,null,null,null,{"$f":"I7","v":0},{"$f":"'Mischung 1'!B5","v":""},null,{"$f":"$K$19*'Mischung 1'!C5","v":0}]
[0,"",null,0,null,null,"Rationswerte",null,{"$f":"I8","v":0},{"$f":"'Mischung 1'!B6","v":""},null,{"$f":"$K$19*'Mischung 1'!C6","v":0}]
[0,"",null,0,null,null,"aNDFom",{"$f":"Ration!I17","v":0},{"$f":"I9","v":0},{"$f":"'Mischung 1'!B7","v":""},null,{"$f":"$K$19*'Mischung 1'!C7","v":0}]
[0,"",null,0,null,null,"SI",{"$f":"Ration!K20","v":0},{"$f":"I10","v":0},{"$f":"'Mischung 1'!B8","v":""},null,{"$f":"$K$19*'Mischung 1'!C8","v":0}]
[0,"",null,0,null,null,"RMD",{"$f":"Ration!T17","v":0},{"$f":"I11","v":0},{"$f":"'Mischung 1'!B9","v":""},null,{"$f":"$K$19*'Mischung 1'!C9","v":0}]
[0,"",null,0,null,null,"GF kg",{"$f":"Ration!C18","v":0},{"$f":"I12","v":0},{"$f":"'Mischung 1'!B10","v":""},null,{"$f":"$K$19*'Mischung 1'!C10","v":0}]
[0,"",null,0,null,null,"KF kg",{"$f":"Ration!D18","v":0},{"$f":"I13","v":0},{"$f":"'Mischung 1'!B11","v":""},null,{"$f":"$K$19*'Mischung 1'!C11","v":0}]
[0,"",null,0,null,null,"GF %",{"$f":"Ration!E18","v":0},{"$f":"I14","v":0},{"$f":"'Mischung 1'!B12","v":""},null,{"$f":"$K$19*'Mischung 1'!C12","v":0}]
[0,"",null,0,null,null,"KF %",{"$f":"Ration!F18","v":0},{"$f":"I15","v":0},{"$f":"'Mischung 1'!B13","v":""},null,{"$f":"$K$19*'Mischung 1'!C13","v":0}]
[0,"",null,0,null,null,"Ca",{"$f":"Ration!U16","v":0},{"$f":"I16","v":0},{"$f":"'Mischung 1'!B14","v":""},null,{"$f":"$K$19*'Mischung 1'!C14","v":0}]
["Mischung",null,null,{"$f":"Ration!E15*Druck!C19","v":0},null,null,"P",{"$f":"Ration!V16","v":0},"Gesamt",null,null,{"$f":"SUM(L21:M32)","v":0}]
["Wasser",null,null,{"$f":"Ration!E17*Druck!C19","v":0},null,null,"Na",{"$f":"Ration!W16","v":0}]
["Gesamt",null,null,{"$f":"SUM(D21:E34)","v":0},null,null,"Mg",{"$f":"Ration!X16","v":0}]