{"text_format":"1","workbook":"xlsx","n_sheets":5,"sheets":["Start-Einstellung","Ration","Mischung 1","Gruber Tabelle","Druck"],"not_rendered":{"charts":0,"images":17,"macros":1,"external_links":0,"defined_names":1,"comments":5,"pivot_tables":0},"unopened":[],"bounds":{"document_bytes":16777216,"sheet_cells":100000,"rows_first":2000,"rows_last":500,"rows_between":2000,"halvings":0,"cell_chars":16384,"cell_head_chars":4096},"cells_cut":0,"cells_raw":0,"read":"whole","date_system":"1900"}

{"sheet":"Start-Einstellung","index":0,"n_rows":26,"n_cols":13,"rows_kept":26,"cut":false,"hidden":false,"merged":[[16,1,16,2],[17,1,17,2],[16,4,16,5],[30,15,30,16],[22,11,23,16],[24,11,25,16],[17,4,17,5],[22,7,24,10],[25,8,26,10],[24,1,24,3],[22,1,22,3],[21,1,21,3],[20,1,20,3],[19,1,19,3],[7,12,7,16],[9,1,10,3],[9,6,10,6],[6,9,6,11],[7,9,7,11],[6,12,6,16],[8,9,8,11]]}
[]
[]
[]
[]
[]
[]
[null,"Dateneingabe zu Berechnung Futteraufnahmeniveau (FAN)",null,null,null,null,"FANi",null,null,"Tierhaltungsschule",null,null,"Markgrafenstraße 12"]
[null,"Ration:","TM - Aufn. kg",21,null,700,{"$f":"IFERROR(D8/(F8^0.75*50/1000),0)","v":3.0862120341662429},null,null,"91746 Weidenbach",null,null,"09 216 111 1111"]
[null,null,null,null,null,null,null,null,null,"Adressfelder bitte mit eigenen Angaben überschreiben."]
[null,"Bitte Betriebsdaten eingeben:",null,null,null,null,"sidP Bedarf g/d"]
[]
[null,"Milchleistung kg/Tag",null,30,"Kotverluste (OFN)",null,{"$f":"3*D8*6.25*(72/100)/(70/100)","v":405}]
[null,"Milchprotein %",null,3.5000000000000003E-2,"Harnverluste (OUN)",null,{"$f":"0.05*F8*6.25*(78/100)","v":170.625}]
[null,"Milchfettgehalt %",null,0.04,"Oberflächenverluste (SN)",null,{"$f":"0.02*(F8^0.75)*6.25/(70/100)","v":24.301635522674538}]
[null,"Laktosegehalt %",null,4.8000000000000001E-2,"sidP Bedarf Trächtigkeit",null,{"$f":"IF(OR(D16=0,D16=\"\"),0,12.1156*EXP(0.0108*F16)/(30/100))","v":73.146675794537671}]
[null,"Zwischenkalbezeit Tage",null,400,"Ø Tragendtage",{"$f":"IF(D16>0,(D16-60)/2-(D16-285),0)","v":55}]
[null,"Bedarf je kg Milch",null,{"$f":"IF(D12>0,D18/D12,0)","v":46.532131661442016},"Erhaltungsbedarf",null,{"$f":"IF(D8>0,SUM(G12:G15),0)","v":673.0733113172123}]
[null,"sidP für Milchleistung",null,{"$f":"(D13*10)/6.38*D12*(95%)*6.25/(70/100)*100","v":1395.9639498432605},"Gesamt-Bedarf sidP g/d",null,{"$f":"SUM(G17+D18)","v":2069.0372611604726}]
[]
[null,"Ermittlung des Energiebedarfs ME MJ/d",null,null,"ME Mj","Ca g","Na g"]
[null,"Erhaltungsbedarf",null,null,{"$f":"IF(F8=0,0,IF(AND(F8>0,D12>0),F8^0.75*0.64,IF(AND(F8>0,D12=0),F8^0.75*0.5)))","v":87.097061713265546},{"$f":"IFERROR(IF(D8>0,D8/0.5,1),0)","v":42},{"$f":"IFERROR(IF(D8>0,D8/0.95,1),0)","v":22.105263157894736}]
[null,"Leistungsbedarf Milch",null,null,{"$f":"IFERROR(IF(D12>0,E24*D12,0),0)","v":144.5},{"$f":"IFERROR(IF(D12>0,D12*2.5,0),0)","v":75},{"$f":"IFERROR(IF(D12>0,D12*0.6,0),0)","v":18}]
[null,"Gesamtbedarf  ME MJ/d",null,null,{"$f":"SUM(E21:E22)","v":231.59706171326553},{"$f":"SUM(F21:F22)","v":117},40.10526315789474,"       Freie Software  - keinerlei Gewährleistung",null,null,null,"www.triesdorf.de"]
[null,"Bedarf je kg Milch",null,null,{"$f":"IF(D12>0,(38.5*D14+24.2*D13+16.5*D15)/0.66,0)","v":4.8166666666666664},{"$f":"IFERROR(IF(F22>0,F22/D12,0),0)","v":2.5},{"$f":"IFERROR(IF(G22>0,G22/D12,0),0)","v":0.6}]
[null,"je kg TM",null,null,{"$f":"IFERROR(IF(D8>0,E23/D8,1),0)","v":11.028431510155501},{"$f":"IFERROR(IF(D8>0,F23/D8,1),0)","v":5.5714285714285712},{"$f":"IFERROR(IF(D8>0,G23/D8,1),0)","v":1.9097744360902258},null,null,null,null,"ths@triesdorf.de"]
[null,null,null,null,null,null,null,null,"Update vom 03.07.2026"]

{"sheet":"Ration","index":1,"n_rows":36,"n_cols":64,"rows_kept":36,"cut":false,"hidden":false,"merged":[[0,0,0,4],[0,47,0,60]]}
["Trog - Ration",null,null,null,null,"TM","CA","OM","aNDFom","ADFom","OMDFANi","GE","MEFANi","CP","sidP FANi","CL","ST","bST","ZU","RMDFANi","Ca","P","Na","Mg","K","Cl","S","DCAB","Fe","Cu","Zn","Mn","Co","J","Se","siDUDP","Lysin","Methionin","Passager.  k","UDP g/kg","a","b","c","lag","sidUDP FANi","pabKH","Preis","Berechnung von Basis Fan1 auf FANi        --       DLG Information 01 | 25  -  DLG-Merknlatt 503  -  DLG-MERKBLATT 504"]
[null," Futtermenge in kg  Trockenmasse o. Frischmasse","% TM","TM kg","FM kg","kg","g","g","g","g","% ","MJ","MJ","g","g","g","g","g","g","g","g","g","g","g","g","g","g","meq","mg","mg","mg","mg","mg","mg","mg","%","g","g","% / h","g","%","%","% / h","h","g","g","€ / dt","CH4E FAN1","CH4E FANi","Harnen.","ME FANi","MCP g/kg","sidP aus MCP","EDGFANi %","UDPFANi","RDP g/d","sidPUDP g ","sidP g/kg","RDP g/kg","MCP g/d","RMDFANi","DOMFANi","MCP/DOM","UDP %"]
[{"$f":"A25","v":0},"",null,null,null,{"$f":"IF(A3=0,0,IF(AND(D3>0,E3=0),D3,IF(AND(D3=0,E3>0),E3*C3,IF(AND(D3>=0,E3>=0),\"?\"))))","v":0},{"$f":"IFERROR(G25*F3,0)","v":0},{"$f":"IFERROR(H25*F3,0)","v":0},{"$f":"IF(AND(D25=\"GF\",E25>0),I25*F3,0)","v":0},{"$f":"IFERROR(J25*F3,0)","v":0},{"$f":"IF(F3=\"?\",0,IF(F3=0,0,K25-(1.5+0.05*(K25-65))*('Start-Einstellung'!$G$8-1)))","v":0},{"$f":"IFERROR(L25*F3,0)","v":0},{"$f":"IFERROR((AY3*F3),0)","v":0},{"$f":"IFERROR(N25*F3,0)","v":0},{"$f":"IFERROR(BF3*F3,0)","v":0},{"$f":"IFERROR(P25*F3,0)","v":0},{"$f":"IFERROR(Q25*F3,0)","v":0},{"$f":"IFERROR(R25*F3,0)","v":0},{"$f":"IFERROR(S25*F3,0)","v":0},{"$f":"IF((F3=\"?\"),0,(BD3-BH3)/6.25)","v":0},{"$f":"IFERROR(U25*F3,0)","v":0},{"$f":"IFERROR(V25*F3,0)","v":0},{"$f":"IFERROR(W25*F3,0)","v":0},{"$f":"IFERROR(X25*F3,0)","v":0},{"$f":"IFERROR(Y25*F3,0)","v":0},{"$f":"IFERROR(Z25*F3,0)","v":0},{"$f":"IFERROR(AA25*F3,0)","v":0},{"$f":"IFERROR(AB25*F3,0)","v":0},{"$f":"IFERROR(AC25*F3,0)","v":0},{"$f":"IFERROR(AD25*F3,0)","v":0},{"$f":"IFERROR(AE25*F3,0)","v":0},{"$f":"IFERROR(AF25*F3,0)","v":0},{"$f":"IFERROR(AG25*F3,0)","v":0},{"$f":"IFERROR(AH25*F3,0)","v":0},{"$f":"IFERROR(AI25*F3,0)","v":0},{"$f":"IF(F3=\"?\",0,IF(F3=0,0,AJ25))","v":0},{"$f":"IFERROR(AK25*F3,0)","v":0},{"$f":"IFERROR(AL25*F3,0)","v":0},{"$f":"IF(F3=\"?\",0,IF(F3=0,0,IF(D25=\"GF\",(1.7286+0.8857*'Start-Einstellung'!$G$8),IF(D25=\"KF\",(2.2357+1.2429*'Start-Einstellung'!$G$8),IF(D25=\"SF\",(1.9607+0.9643*'Start-Einstellung'!$G$8),0)))))","v":0},{"$f":"IF(F3=\"?\",0,IF(F3=0,0,(N25-BG3)))","v":0},{"$f":"IF(F3=\"?\",0,IF(F3=0,0,AO25))","v":0},{"$f":"IF(F3=\"?\",0,IF(F3=0,0,AP25))","v":0},{"$f":"IF(F3=\"?\",0,IF(F3=0,0,(AQ25/100)))","v":0},{"$f":"IF(F3=\"?\",0,IF(F3=0,0,AR25))","v":0},{"$f":"IFERROR(AS25*F3,0)","v":0},{"$f":"IFERROR(AT25*F3,0)","v":0},{"$f":"IFERROR((AU25/100)*E25,0)","v":0},{"$f":"IF(F3=\"?\",0,IF(F3=0,0,(0.7+0.014*K25)*(H25/1000)))","v":0},{"$f":"IFERROR(IF(F3=\"?\",0,IF(F3=0,0,(((AV3/(H25/1000)+0.9*('Start-Einstellung'!$G$8-1))/'Start-Einstellung'!$G$8*(H25/1000))))),0)","v":0},{"$f":"IF(F3=\"?\",0,IF(F3=0,0,((0.0037*N25))))","v":0},{"$f":"IF(F3=\"?\",0,IF(F3=0,0,((L25*(K3-3.3)/100)-AX3-AW3)))","v":0},{"$f":"BK3*BJ3/1000","v":0},{"$f":"IFERROR((AZ3*0.78*0.85),0)","v":0},{"$f":"IF(F3=\"?\",0,IF(F3=0,0,AO3+(AP3*AQ3)/(AQ3+AM3%)*(EXP(-AM3/100*AR3))))","v":0},{"$f":"IF(F3=\"?\",0,IF(F3=0,0,(N25*(1-(BB3/100)))))","v":0},{"$f":"IF(F3=\"?\",0,IF(F3=0,0,BG3*F3))","v":0},{"$f":"IF(F3>0,(BC3*(AJ3%)),0)","v":0},{"$f":"IFERROR((BA3+BE3),0)","v":0},{"$f":"IFERROR(N25*BB3/100,0)","v":0},{"$f":"IF(F3=\"?\",0,IF(F3=0,0,AZ3*F3))","v":0},{"$f":"IFERROR((BD3-BH3)/6.25,0)","v":0},{"$f":"IFERROR((H25*K3/100),0)","v":0},{"$f":"IF(A3=0,0,IF('Start-Einstellung'!$G$8<3.4,150,IF(-11+(47.1*'Start-Einstellung'!$G$8)>180,180,(-11+(47.1*'Start-Einstellung'!$G$8)))))","v":0},{"$f":"IFERROR((BC3/N25)*100,0)","v":0}]
[0,"",null,null,null,{"$f":"IF(A4=0,0,IF(AND(D4>0,E4=0),D4,IF(AND(D4=0,E4>0),E4*C4,IF(AND(D4>=0,E4>=0),\"?\"))))","v":0},0,0,0,0,{"$f":"IF(F4=\"?\",0,IF(F4=0,0,K26-(1.5+0.05*(K26-65))*('Start-Einstellung'!$G$8-1)))","v":0},0,0,0,{"$f":"IFERROR(BF4*F4,0)","v":0},0,0,0,0,{"$f":"IF((F4=\"?\"),0,(BD4-BH4)/6.25)","v":0},0,0,0,0,0,0,0,0,0,0,0,0,0,0,0,{"$f":"IF(F4=\"?\",0,IF(F4=0,0,AJ26))","v":0},0,0,{"$f":"IF(F4=\"?\",0,IF(F4=0,0,IF(D26=\"GF\",(1.7286+0.8857*'Start-Einstellung'!$G$8),IF(D26=\"KF\",(2.2357+1.2429*'Start-Einstellung'!$G$8),IF(D26=\"SF\",(1.9607+0.9643*'Start-Einstellung'!$G$8),0)))))","v":0},{"$f":"IF(F4=\"?\",0,IF(F4=0,0,(N26-BG4)))","v":0},{"$f":"IF(F4=\"?\",0,IF(F4=0,0,AO26))","v":0},{"$f":"IF(F4=\"?\",0,IF(F4=0,0,AP26))","v":0},{"$f":"IF(F4=\"?\",0,IF(F4=0,0,(AQ26/100)))","v":0},{"$f":"IF(F4=\"?\",0,IF(F4=0,0,AR26))","v":0},0,0,{"$f":"IFERROR((AU26/100)*E26,0)","v":0},0,{"$f":"IFERROR(IF(F4=\"?\",0,IF(F4=0,0,(((AV4/(H26/1000)+0.9*('Start-Einstellung'!$G$8-1))/'Start-Einstellung'!$G$8*(H26/1000))))),0)","v":0},0,0,{"$f":"BK4*BJ4/1000","v":0},{"$f":"IFERROR((AZ4*0.78*0.85),0)","v":0},{"$f":"IF(F4=\"?\",0,IF(F4=0,0,AO4+(AP4*AQ4)/(AQ4+AM4%)*(EXP(-AM4/100*AR4))))","v":0},{"$f":"IF(F4=\"?\",0,IF(F4=0,0,(N26*(1-(BB4/100)))))","v":0},{"$f":"IF(F4=\"?\",0,IF(F4=0,0,BG4*F4))","v":0},{"$f":"IF(F4>0,(BC4*(AJ4%)),0)","v":0},{"$f":"IFERROR((BA4+BE4),0)","v":0},0,{"$f":"IF(F4=\"?\",0,IF(F4=0,0,AZ4*F4))","v":0},{"$f":"IFERROR((BD4-BH4)/6.25,0)","v":0},0,{"$f":"IF(A4=0,0,IF('Start-Einstellung'!$G$8<3.4,150,IF(-11+(47.1*'Start-Einstellung'!$G$8)>180,180,(-11+(47.1*'Start-Einstellung'!$G$8)))))","v":0},0]
[0,"",null,null,null,0,0,0,0,0,{"$f":"IF(F5=\"?\",0,IF(F5=0,0,K27-(1.5+0.05*(K27-65))*('Start-Einstellung'!$G$8-1)))","v":0},0,0,0,0,0,0,0,0,0,0,0,0,0,0,0,0,0,0,0,0,0,0,0,0,0,0,0,{"$f":"IF(F5=\"?\",0,IF(F5=0,0,IF(D27=\"GF\",(1.7286+0.8857*'Start-Einstellung'!$G$8),IF(D27=\"KF\",(2.2357+1.2429*'Start-Einstellung'!$G$8),IF(D27=\"SF\",(1.9607+0.9643*'Start-Einstellung'!$G$8),0)))))","v":0},0,0,0,0,0,0,0,0,0,{"$f":"IFERROR(IF(F5=\"?\",0,IF(F5=0,0,(((AV5/(H27/1000)+0.9*('Start-Einstellung'!$G$8-1))/'Start-Einstellung'!$G$8*(H27/1000))))),0)","v":0},0,0,0,0,{"$f":"IF(F5=\"?\",0,IF(F5=0,0,AO5+(AP5*AQ5)/(AQ5+AM5%)*(EXP(-AM5/100*AR5))))","v":0},0,0,{"$f":"IF(F5>0,(BC5*(AJ5%)),0)","v":0},0,0,0,0,0,{"$f":"IF(A5=0,0,IF('Start-Einstellung'!$G$8<3.4,150,IF(-11+(47.1*'Start-Einstellung'!$G$8)>180,180,(-11+(47.1*'Start-Einstellung'!$G$8)))))","v":0},0]
[0,"",null,null,null,0,0,0,0,0,{"$f":"IF(F6=\"?\",0,IF(F6=0,0,K28-(1.5+0.05*(K28-65))*('Start-Einstellung'!$G$8-1)))","v":0},0,0,0,0,0,0,0,0,0,0,0,0,0,0,0,0,0,0,0,0,0,0,0,0,0,0,0,{"$f":"IF(F6=\"?\",0,IF(F6=0,0,IF(D28=\"GF\",(1.7286+0.8857*'Start-Einstellung'!$G$8),IF(D28=\"KF\",(2.2357+1.2429*'Start-Einstellung'!$G$8),IF(D28=\"SF\",(1.9607+0.9643*'Start-Einstellung'!$G$8),0)))))","v":0},0,0,0,0,0,0,0,0,0,{"$f":"IFERROR(IF(F6=\"?\",0,IF(F6=0,0,(((AV6/(H28/1000)+0.9*('Start-Einstellung'!$G$8-1))/'Start-Einstellung'!$G$8*(H28/1000))))),0)","v":0},0,0,0,0,{"$f":"IF(F6=\"?\",0,IF(F6=0,0,AO6+(AP6*AQ6)/(AQ6+AM6%)*(EXP(-AM6/100*AR6))))","v":0},0,0,0,0,0,0,0,0,{"$f":"IF(A6=0,0,IF('Start-Einstellung'!$G$8<3.4,150,IF(-11+(47.1*'Start-Einstellung'!$G$8)>180,180,(-11+(47.1*'Start-Einstellung'!$G$8)))))","v":0},0]
[0,"",null,null,null,0,0,0,0,0,{"$f":"IF(F7=\"?\",0,IF(F7=0,0,K29-(1.5+0.05*(K29-65))*('Start-Einstellung'!$G$8-1)))","v":0},0,0,0,0,0,0,0,0,0,0,0,0,0,0,0,0,0,0,0,0,0,0,0,0,0,0,0,{"$f":"IF(F7=\"?\",0,IF(F7=0,0,IF(D29=\"GF\",(1.7286+0.8857*'Start-Einstellung'!$G$8),IF(D29=\"KF\",(2.2357+1.2429*'Start-Einstellung'!$G$8),IF(D29=\"SF\",(1.9607+0.9643*'Start-Einstellung'!$G$8),0)))))","v":0},0,0,0,0,0,0,0,0,0,{"$f":"IFERROR(IF(F7=\"?\",0,IF(F7=0,0,(((AV7/(H29/1000)+0.9*('Start-Einstellung'!$G$8-1))/'Start-Einstellung'!$G$8*(H29/1000))))),0)","v":0},0,0,0,0,0,0,0,0,0,0,0,0,0,{"$f":"IF(A7=0,0,IF('Start-Einstellung'!$G$8<3.4,150,IF(-11+(47.1*'Start-Einstellung'!$G$8)>180,180,(-11+(47.1*'Start-Einstellung'!$G$8)))))","v":0},0]
[0,"",null,null,null,0,0,0,0,0,{"$f":"IF(F8=\"?\",0,IF(F8=0,0,K30-(1.5+0.05*(K30-65))*('Start-Einstellung'!$G$8-1)))","v":0},0,0,0,0,0,0,0,0,0,0,0,0,0,0,0,0,0,0,0,0,0,0,0,0,0,0,0,{"$f":"IF(F8=\"?\",0,IF(F8=0,0,IF(D30=\"GF\",(1.7286+0.8857*'Start-Einstellung'!$G$8),IF(D30=\"KF\",(2.2357+1.2429*'Start-Einstellung'!$G$8),IF(D30=\"SF\",(1.9607+0.9643*'Start-Einstellung'!$G$8),0)))))","v":0},0,0,0,0,0,0,0,0,0,{"$f":"IFERROR(IF(F8=\"?\",0,IF(F8=0,0,(((AV8/(H30/1000)+0.9*('Start-Einstellung'!$G$8-1))/'Start-Einstellung'!$G$8*(H30/1000))))),0)","v":0},0,0,0,0,0,0,0,0,0,0,0,0,0,{"$f":"IF(A8=0,0,IF('Start-Einstellung'!$G$8<3.4,150,IF(-11+(47.1*'Start-Einstellung'!$G$8)>180,180,(-11+(47.1*'Start-Einstellung'!$G$8)))))","v":0},0]
[0,"",null,null,null,0,0,0,0,0,{"$f":"IF(F9=\"?\",0,IF(F9=0,0,K31-(1.5+0.05*(K31-65))*('Start-Einstellung'!$G$8-1)))","v":0},0,0,0,0,0,0,0,0,0,0,0,0,0,0,0,0,0,0,0,0,0,0,0,0,0,0,0,{"$f":"IF(F9=\"?\",0,IF(F9=0,0,IF(D31=\"GF\",(1.7286+0.8857*'Start-Einstellung'!$G$8),IF(D31=\"KF\",(2.2357+1.2429*'Start-Einstellung'!$G$8),IF(D31=\"SF\",(1.9607+0.9643*'Start-Einstellung'!$G$8),0)))))","v":0},0,0,0,0,0,0,0,0,0,{"$f":"IFERROR(IF(F9=\"?\",0,IF(F9=0,0,(((AV9/(H31/1000)+0.9*('Start-Einstellung'!$G$8-1))/'Start-Einstellung'!$G$8*(H31/1000))))),0)","v":0},0,0,0,0,0,0,0,0,0,0,0,0,0,{"$f":"IF(A9=0,0,IF('Start-Einstellung'!$G$8<3.4,150,IF(-11+(47.1*'Start-Einstellung'!$G$8)>180,180,(-11+(47.1*'Start-Einstellung'!$G$8)))))","v":0},0]
[0,"",null,null,null,0,0,0,0,0,{"$f":"IF(F10=\"?\",0,IF(F10=0,0,K32-(1.5+0.05*(K32-65))*('Start-Einstellung'!$G$8-1)))","v":0},0,0,0,0,0,0,0,0,0,0,0,0,0,0,0,0,0,0,0,0,0,0,0,0,0,0,0,{"$f":"IF(F10=\"?\",0,IF(F10=0,0,IF(D32=\"GF\",(1.7286+0.8857*'Start-Einstellung'!$G$8),IF(D32=\"KF\",(2.2357+1.2429*'Start-Einstellung'!$G$8),IF(D32=\"SF\",(1.9607+0.9643*'Start-Einstellung'!$G$8),0)))))","v":0},0,0,0,0,0,0,0,0,0,{"$f":"IFERROR(IF(F10=\"?\",0,IF(F10=0,0,(((AV10/(H32/1000)+0.9*('Start-Einstellung'!$G$8-1))/'Start-Einstellung'!$G$8*(H32/1000))))),0)","v":0},0,0,0,0,0,0,0,0,0,0,0,0,0,{"$f":"IF(A10=0,0,IF('Start-Einstellung'!$G$8<3.4,150,IF(-11+(47.1*'Start-Einstellung'!$G$8)>180,180,(-11+(47.1*'Start-Einstellung'!$G$8)))))","v":0},0]
[0,"",null,null,null,0,0,0,0,0,{"$f":"IF(F11=\"?\",0,IF(F11=0,0,K33-(1.5+0.05*(K33-65))*('Start-Einstellung'!$G$8-1)))","v":0},0,0,0,0,0,0,0,0,0,0,0,0,0,0,0,0,0,0,0,0,0,0,0,0,0,0,0,{"$f":"IF(F11=\"?\",0,IF(F11=0,0,IF(D33=\"GF\",(1.7286+0.8857*'Start-Einstellung'!$G$8),IF(D33=\"KF\",(2.2357+1.2429*'Start-Einstellung'!$G$8),IF(D33=\"SF\",(1.9607+0.9643*'Start-Einstellung'!$G$8),0)))))","v":0},0,0,0,0,0,0,0,0,0,{"$f":"IFERROR(IF(F11=\"?\",0,IF(F11=0,0,(((AV11/(H33/1000)+0.9*('Start-Einstellung'!$G$8-1))/'Start-Einstellung'!$G$8*(H33/1000))))),0)","v":0},0,0,0,0,0,0,0,0,0,0,0,0,0,{"$f":"IF(A11=0,0,IF('Start-Einstellung'!$G$8<3.4,150,IF(-11+(47.1*'Start-Einstellung'!$G$8)>180,180,(-11+(47.1*'Start-Einstellung'!$G$8)))))","v":0},0]
[0,"",null,null,null,0,0,0,0,0,{"$f":"IF(F12=\"?\",0,IF(F12=0,0,K34-(1.5+0.05*(K34-65))*('Start-Einstellung'!$G$8-1)))","v":0},0,0,0,0,0,0,0,0,0,0,0,0,0,0,0,0,0,0,0,0,0,0,0,0,0,0,0,{"$f":"IF(F12=\"?\",0,IF(F12=0,0,IF(D34=\"GF\",(1.7286+0.8857*'Start-Einstellung'!$G$8),IF(D34=\"KF\",(2.2357+1.2429*'Start-Einstellung'!$G$8),IF(D34=\"SF\",(1.9607+0.9643*'Start-Einstellung'!$G$8),0)))))","v":0},0,0,0,0,0,0,0,0,0,{"$f":"IFERROR(IF(F12=\"?\",0,IF(F12=0,0,(((AV12/(H34/1000)+0.9*('Start-Einstellung'!$G$8-1))/'Start-Einstellung'!$G$8*(H34/1000))))),0)","v":0},0,0,0,0,0,0,0,0,0,0,0,0,0,{"$f":"IF(A12=0,0,IF('Start-Einstellung'!$G$8<3.4,150,IF(-11+(47.1*'Start-Einstellung'!$G$8)>180,180,(-11+(47.1*'Start-Einstellung'!$G$8)))))","v":0},0]
[0,"",null,null,null,0,0,0,0,0,{"$f":"IF(F13=\"?\",0,IF(F13=0,0,K35-(1.5+0.05*(K35-65))*('Start-Einstellung'!$G$8-1)))","v":0},0,0,0,0,0,0,0,0,0,0,0,0,0,0,0,0,0,0,0,0,0,0,0,0,0,0,0,{"$f":"IF(F13=\"?\",0,IF(F13=0,0,IF(D35=\"GF\",(1.7286+0.8857*'Start-Einstellung'!$G$8),IF(D35=\"KF\",(2.2357+1.2429*'Start-Einstellung'!$G$8),IF(D35=\"SF\",(1.9607+0.9643*'Start-Einstellung'!$G$8),0)))))","v":0},0,0,0,0,0,0,0,0,0,{"$f":"IFERROR(IF(F13=\"?\",0,IF(F13=0,0,(((AV13/(H35/1000)+0.9*('Start-Einstellung'!$G$8-1))/'Start-Einstellung'!$G$8*(H35/1000))))),0)","v":0},0,0,0,0,0,0,0,0,0,0,0,0,0,{"$f":"IF(A13=0,0,IF('Start-Einstellung'!$G$8<3.4,150,IF(-11+(47.1*'Start-Einstellung'!$G$8)>180,180,(-11+(47.1*'Start-Einstellung'!$G$8)))))","v":0},0]
[0,"",null,null,null,0,0,0,0,0,{"$f":"IF(F14=\"?\",0,IF(F14=0,0,K36-(1.5+0.05*(K36-65))*('Start-Einstellung'!$G$8-1)))","v":0},0,0,0,0,0,0,0,0,0,0,0,0,0,0,0,0,0,0,0,0,0,0,0,0,0,0,0,{"$f":"IF(F14=\"?\",0,IF(F14=0,0,IF(D36=\"GF\",(1.7286+0.8857*'Start-Einstellung'!$G$8),IF(D36=\"KF\",(2.2357+1.2429*'Start-Einstellung'!$G$8),IF(D36=\"SF\",(1.9607+0.9643*'Start-Einstellung'!$G$8),0)))))","v":0},0,0,0,0,0,0,0,0,0,{"$f":"IFERROR(IF(F14=\"?\",0,IF(F14=0,0,(((AV14/(H36/1000)+0.9*('Start-Einstellung'!$G$8-1))/'Start-Einstellung'!$G$8*(H36/1000))))),0)","v":0},0,0,0,0,0,0,0,0,0,0,0,0,0,{"$f":"IF(A14=0,0,IF('Start-Einstellung'!$G$8<3.4,150,IF(-11+(47.1*'Start-Einstellung'!$G$8)>180,180,(-11+(47.1*'Start-Einstellung'!$G$8)))))","v":0},0]
[null," Zugabe Konzentratmischung hier in kg eingeben",null,null,null,{"$f":"IFERROR(('Mischung 1'!D15*E15)/1000,0)","v":0},{"$f":"IFERROR(('Mischung 1'!E15*E15),0)","v":0},{"$f":"IFERROR(('Mischung 1'!F15*E15),0)","v":0},{"$f":"IFERROR(('Mischung 1'!G15*E15),0)","v":0},{"$f":"IFERROR(('Mischung 1'!H15*E15),0)","v":0},null,{"$f":"IFERROR(('Mischung 1'!J15*E15),0)","v":0},{"$f":"IFERROR(('Mischung 1'!K15*E15),0)","v":0},{"$f":"IFERROR(('Mischung 1'!L15*E15),0)","v":0},{"$f":"IFERROR(('Mischung 1'!M15*E15),0)","v":0},{"$f":"IFERROR(('Mischung 1'!N15*E15),0)","v":0},{"$f":"IFERROR(('Mischung 1'!O15*E15),0)","v":0},{"$f":"IFERROR(('Mischung 1'!P15*E15),0)","v":0},{"$f":"IFERROR(('Mischung 1'!Q15*E15),0)","v":0},{"$f":"IFERROR(('Mischung 1'!R15*E15),0)","v":0},{"$f":"IFERROR(('Mischung 1'!S15*E15),0)","v":0},{"$f":"IFERROR(('Mischung 1'!T15*E15),0)","v":0},{"$f":"IFERROR(('Mischung 1'!U15*E15),0)","v":0},{"$f":"IFERROR(('Mischung 1'!V15*E15),0)","v":0},{"$f":"IFERROR(('Mischung 1'!W15*E15),0)","v":0},{"$f":"IFERROR(('Mischung 1'!X15*E15),0)","v":0},{"$f":"IFERROR(('Mischung 1'!Y15*E15),0)","v":0},{"$f":"IFERROR(('Mischung 1'!Z15*E15),0)","v":0},{"$f":"IFERROR(('Mischung 1'!AA15*E15),0)","v":0},{"$f":"IFERROR(('Mischung 1'!AB15*E15),0)","v":0},{"$f":"IFERROR(('Mischung 1'!AC15*E15),0)","v":0},{"$f":"IFERROR(('Mischung 1'!AD15*E15),0)","v":0},{"$f":"IFERROR(('Mischung 1'!AE15*E15),0)","v":0},{"$f":"IFERROR(('Mischung 1'!AF15*E15),0)","v":0},{"$f":"IFERROR(('Mischung 1'!AG15*E15),0)","v":0},null,{"$f":"IFERROR(('Mischung 1'!AI15*E15),0)","v":0},{"$f":"IFERROR(('Mischung 1'!AJ15*E15),0)","v":0},null,{"$f":"IFERROR(N37-BG15,0)","v":0},null,null,null,null,{"$f":"IFERROR(('Mischung 1'!AQ15*E15),0)","v":0},{"$f":"IFERROR(('Mischung 1'!AR15*E15),0)","v":0},{"$f":"IFERROR(('Mischung 1'!AS15*E15),0)","v":0},null,null,null,null,null,null,null,null,0,null,null,null,{"$f":"IF(F15=\"?\",0,IF(F15=0,0,BK15*F15))","v":0}]
[null,"Summe",null,null,{"$f":"SUM(E25:E36)+E17+E15","v":0},{"$f":"SUM(F3:F15)","v":0},{"$f":"SUM(G3:G15)","v":0},{"$f":"SUM(H3:H15)","v":0},{"$f":"SUM(I3:I15)","v":0},{"$f":"SUM(J3:J15)","v":0},null,{"$f":"SUM(L3:L15)","v":0},0,0,0,0,0,0,0,0,0,0,0,0,0,0,0,{"$f":"SUM(AB3:AB15)","v":0},{"$f":"SUM(AC3:AC15)","v":0},0,0,0,0,0,0,null,0,0,0,0,0,null,null,null,{"$f":"SUM(AS3:AS15)","v":0},{"$f":"SUM(AT3:AT15)","v":0},{"$f":"SUM(AU3:AU15)","v":0},null,null,null,null,null,{"$f":"SUM(BA3:BA15)","v":0},null,null,{"$f":"SUM(BD3:BD14)","v":0},null,null,null,{"$f":"SUM(BH3:BH14)","v":0},{"$f":"(BD16-BH16)/6.25","v":0}]
[null,"Wasserzugabe bitte eingeben ",null,{"$f":"IF(F16>0,(F16/E16),0)","v":0},null,null,{"$f":"IF(G16>0,G16/F16,0)","v":0},{"$f":"IF(H16>0,H16/F16,0)","v":0},{"$f":"IF(I16>0,I16/F16/1000,0)","v":0},{"$f":"IF(J16>0,J16/F16,0)","v":0},{"$f":"IF(K16>0,K16/$F$16,0)","v":0},{"$f":"IF(L16>0,L16/$F$16,0)","v":0},{"$f":"IF(M16>0,M16/$F$16,0)","v":0},{"$f":"IF(N16>0,N16/$F$16/1000,0)","v":0},{"$f":"IF(O16>0,O16/$F$16,0)","v":0},{"$f":"IF(P16>0,P16/$F$16/1000,0)","v":0},{"$f":"IF(Q16>0,Q16/$F$16/1000,0)","v":0},{"$f":"IF(R16>0,R16/$F$16/1000,0)","v":0},{"$f":"IF(S16>0,S16/$F$16/1000,0)","v":0},{"$f":"IF(T16<>0,T16/$F$16,0)","v":0},{"$f":"IF(U16>0,U16/$F$16,0)","v":0},0,0,0,0,0,0,{"$f":"IF(F16>0,((42.5*W16)+(25.6*Y16)-(28.2*Z16)-(62.4*AA16))/F16,0)","v":0},{"$f":"IFERROR(SUM(AC3:AC15)/F16,0)","v":0},{"$f":"IFERROR(SUM(AD3:AD15)/F16,0)","v":0},{"$f":"IFERROR(SUM(AE3:AE15)/F16,0)","v":0},{"$f":"IFERROR(SUM(AF3:AF15)/F16,0)","v":0},{"$f":"IFERROR(SUM(AG3:AG15)/F16,0)","v":0},{"$f":"IFERROR(SUM(AH3:AH15)/F16,0)","v":0},{"$f":"IFERROR(SUM(AI3:AI15)/F16,0)","v":0},null,{"$f":"IF(AK16>0,AK16/$F$16,0)","v":0},{"$f":"IF(AL16>0,AL16/$F$16,0)","v":0},{"$f":"SUM(AM15:AM15)","v":0},{"$f":"SUM(AN15:AN15)","v":0},null,null,null,null,{"$f":"IF(AS16>0,AS16/$F$16,0)","v":0},{"$f":"IF(AT16>0,AT16/$F$16/1000,0)","v":0},{"$f":"IF(AU16>0,AU16/$F$16,0)","v":0}]
[null,"Milcherzeugungswerte / Kennzahlen",{"$f":"SUMIF(D25:D36,\"GF\",F3:F15)","v":0},{"$f":"F16-C18","v":0},{"$f":"IF(C18>0,C18/F16,0)","v":0},{"$f":"IF(D18>0,D18/F16,0)","v":0},null,null,null,null,null,null,{"$f":"IFERROR(IF(M16>0,(M16-'Start-Einstellung'!E21)/'Start-Einstellung'!E24,0),0)","v":0},null,{"$f":"IFERROR(IF(O16>0,(O16-'Start-Einstellung'!G17)/'Start-Einstellung'!D17,0),0)","v":0},null,null,null,null,null,{"$f":"IFERROR(IF(U16>0,(U16-'Start-Einstellung'!F21)/'Start-Einstellung'!F24,0),0)","v":0},{"$f":"IF(F16>0,(V16-1.43*F16)/1.43,0)","v":0},{"$f":"IFERROR(IF(W16>0,(W16-'Start-Einstellung'!G21)/'Start-Einstellung'!G24,0),0)","v":0},{"$f":"IF(F16>0,(X16-0.8*F16)/0.8,0)","v":0},{"$f":"IF(F16>0,(Y16-8.8*F16)/1.6,0)","v":0},{"$f":"IF(F16>0,(Z16-1.5*F16)/1.4,0)","v":0},{"$f":"IF(F16>0,(AA16-1.5*F16)/0.6,0)","v":0}]
[null,null,null,null,null,null,null,{"$f":"IF(I16>0,I19/(I19+(Q19+S19-R19-2.8)/0.36)*100,0)","v":0},{"$f":"I16*0.001","v":0},null,null,null,null,null,null,null,{"$f":"Q16*0.001","v":0},{"$f":"R16*0.001","v":0},{"$f":"S16*0.001","v":0}]
[null,"Differenz + / - zu Sollwert","FANi","Milch","KM kg",{"$f":"F16-F21","v":-21},null,null,"SI :",null,{"$f":"IF(H19>100, 100, IF(H19<0, 100, H19))","v":0},null,{"$f":"M16-M21","v":-231.59706171326553},null,{"$f":"O16-O21","v":-2069.0372611604726},null,null,null,null,null,{"$f":"U16-U21","v":-117},0,-40.10526315789474,0,0,0,0,null,{"$f":"AC17-AC21","v":-50},{"$f":"AD17-AD21","v":-10},{"$f":"AE17-AE21","v":-50},{"$f":"AF17-AF21","v":-50},null,null,{"$f":"AI17-AI21","v":-0.2},null,{"$f":"AK17-AK21","v":0},{"$f":"AL17-AL21","v":0}]
[null,"Sollwerte aus  Start-Einstellung",{"$f":"IFERROR(('Start-Einstellung'!G8),0)","v":3.0862120341662429},{"$f":"IFERROR(('Start-Einstellung'!D12),0)","v":30},{"$f":"IFERROR(('Start-Einstellung'!F8),0)","v":700},{"$f":"IFERROR(('Start-Einstellung'!D8),0)","v":21},null,null,null,null,null,null,{"$f":"IFERROR(('Start-Einstellung'!E23),0)","v":231.59706171326553},null,{"$f":"IFERROR(('Start-Einstellung'!G18),0)","v":2069.0372611604726},null,null,null,null,null,{"$f":"IF('Start-Einstellung'!D12>0,'Start-Einstellung'!F23,IF(E16=0,0,IF(AB21<=-50,F16*13,IF(AB21<=0,F16*11,IF(AB21<=100,F16*8,IF(AB21<200,F16*6,IF(AB21>=200,F16*4)))))))","v":117},{"$f":"IF(F16>0,(1.43*F16)+(1.43*'Start-Einstellung'!D12),0)","v":0},{"$f":"IFERROR(('Start-Einstellung'!G23),0)","v":40.10526315789474},{"$f":"IF(F16>0,(0.8*F16)+(0.8*'Start-Einstellung'!D12),0)","v":0},{"$f":"IF(F16>0,(8.8*F16)+(1.6*'Start-Einstellung'!D12),0)","v":0},{"$f":"IF(F16>0,(1.5*F16)+(1.4*'Start-Einstellung'!D12),0)","v":0},{"$f":"IF(F16>0,(1.5*F16)+(0.6*'Start-Einstellung'!D12),0)","v":0},null,50,10,50,50,null,null,0.2,null,{"$f":"IFERROR(('Start-Einstellung'!#REF!),0)","v":0},{"$f":"IFERROR(('Start-Einstellung'!#REF!),0)","v":0}]
[]
[null,"Ausgewählte Futtermittel aus Gruber Tabelle","% TM","Art","FM kg","TM kg","CA","OM","aNDFom","ADFom","OMDFAN1","GE","MEFAN1","CP","sidP FAN1","CL","ST","bST","ZU","RMDFAN1","Ca","P","Na","Mg","K","Cl","S","DCAB","Fe","Cu","Zn","Mn","Co","J","Se","siDUDP","sidLYS FAN1","sidMETFAN1","Passager.  k","sidP udp","a","b","c","lag h","sidUDP FAN1","pabKH","Preis / €"]
[null,"Direkte Futtermittel - Nr. Eingabe möglich",null,null,null,"g/kg","g/kg TM","g/kg TM","g/kg TM","g/kg TM","% OM","MJ/kg TM","MJ/kg TM","g/kg TM","g/kg TM","g/kg TM","g/kg TM","g / kg TM","g/kg TM","g N / kg TM","g/kg TM","g/kg TM","g/kg TM","g/kg TM","g/kg TM","g/kg TM","g/kg TM","meq/ kg TM","mg/kg TM","mg/kg TM","mg/kg TM","mg/kg TM","mg/kg TM","mg/kg TM","mg/kg TM","% UDP","g/kg TM","g/kg TM","% / h","g / kg TM","%","%","% / h","h","g/kg TM","g/kg TM","€ / dt"]
[null,{"$f":"IFERROR(VLOOKUP(A25,'Gruber Tabelle'!$A$3:$AR$386,2,0),\"\")","v":""},{"$f":"IFERROR(F25/1000,0)","v":0},{"$f":"IFERROR(VLOOKUP(A25,'Gruber Tabelle'!$A$3:$AR$386,28,0),\"\")","v":""},{"$f":"IFERROR(F3/(C3),0)","v":0},{"$f":"IFERROR(VLOOKUP(A25,'Gruber Tabelle'!$A$3:$AR$386,3,0),\"\")","v":""},{"$f":"IFERROR(VLOOKUP(A25,'Gruber Tabelle'!$A$3:$AR$386,4,0),\"\")","v":""},{"$f":"IFERROR(1000-G25,0)","v":0},{"$f":"IFERROR(VLOOKUP(A25,'Gruber Tabelle'!$A$3:$AR$386,6,0),\"\")","v":""},{"$f":"IFERROR(VLOOKUP(A25,'Gruber Tabelle'!$A$3:$AR$386,7,0),\"\")","v":""},{"$f":"IFERROR(VLOOKUP(A25,'Gruber Tabelle'!$A$3:$AR$386,8,0),\"\")","v":""},{"$f":"IFERROR(VLOOKUP(A25,'Gruber Tabelle'!$A$3:$AR$386,13,0),\"\")","v":""},{"$f":"IFERROR(VLOOKUP(A25,'Gruber Tabelle'!$A$3:$AR$386,18,0),\"\")","v":""},{"$f":"IFERROR(VLOOKUP(A25,'Gruber Tabelle'!$A$3:$AR$386,9,0),\"\")","v":""},{"$f":"IFERROR(VLOOKUP(A25,'Gruber Tabelle'!$A$3:$AR$386,14,0),\"\")","v":""},{"$f":"IFERROR(VLOOKUP(A25,'Gruber Tabelle'!$A$3:$AR$386,10,0),\"\")","v":""},{"$f":"IFERROR(VLOOKUP(A25,'Gruber Tabelle'!$A$3:$AR$386,11,0),\"\")","v":""},{"$f":"IFERROR(VLOOKUP(A25,'Gruber Tabelle'!$A$3:$AR$386,43,0),0)","v":0},{"$f":"IFERROR(VLOOKUP(A25,'Gruber Tabelle'!$A$3:$AR$386,12,0),\"\")","v":""},{"$f":"IFERROR(VLOOKUP(A25,'Gruber Tabelle'!$A$3:$AR$386,17,0),\"\")","v":""},{"$f":"IFERROR(VLOOKUP(A25,'Gruber Tabelle'!$A$3:$AR$386,20,0),\"\")","v":""},{"$f":"IFERROR(VLOOKUP(A25,'Gruber Tabelle'!$A$3:$AR$386,21,0),\"\")","v":""},{"$f":"IFERROR(VLOOKUP(A25,'Gruber Tabelle'!$A$3:$AR$386,23,0),\"\")","v":""},{"$f":"IFERROR(VLOOKUP(A25,'Gruber Tabelle'!$A$3:$AR$386,22,0),\"\")","v":""},{"$f":"IFERROR(VLOOKUP(A25,'Gruber Tabelle'!$A$3:$AR$386,24,0),\"\")","v":""},{"$f":"IFERROR(VLOOKUP(A25,'Gruber Tabelle'!$A$3:$AR$386,25,0),\"\")","v":""},{"$f":"IFERROR(VLOOKUP(A25,'Gruber Tabelle'!$A$3:$AR$386,26,0),\"\")","v":""},{"$f":"IFERROR(VLOOKUP(A25,'Gruber Tabelle'!$A$3:$AP$386,27,0),\"\")","v":""},{"$f":"IFERROR(VLOOKUP(A25,'Gruber Tabelle'!$A$3:$AP$386,29,0),\"\")","v":""},{"$f":"IFERROR(VLOOKUP(A25,'Gruber Tabelle'!$A$3:$AP$386,30,0),\"\")","v":""},{"$f":"IFERROR(VLOOKUP(A25,'Gruber Tabelle'!$A$3:$AP$386,31,0),\"\")","v":""},{"$f":"IFERROR(VLOOKUP(A25,'Gruber Tabelle'!$A$3:$AP$386,32,0),\"\")","v":""},{"$f":"IFERROR(VLOOKUP(A25,'Gruber Tabelle'!$A$3:$AP$386,33,0),\"\")","v":""},{"$f":"IFERROR(VLOOKUP(A25,'Gruber Tabelle'!$A$3:$AP$386,34,0),\"\")","v":""},{"$f":"IFERROR(VLOOKUP(A25,'Gruber Tabelle'!$A$3:$AP$386,35,0),\"\")","v":""},{"$f":"IFERROR(VLOOKUP(A25,'Gruber Tabelle'!$A$3:$AR$386,16,0),\"\")","v":""},{"$f":"IFERROR(VLOOKUP(A25,'Gruber Tabelle'!$A$3:$AR$386,41,0),\"\")","v":""},{"$f":"IFERROR(VLOOKUP(A25,'Gruber Tabelle'!$A$3:$AR$386,42,0),\"\")","v":""},{"$f":"IF(D25=\"GF\",4.4,IF(D25=\"KF\",6,IF(D25=\"SF\",6,\"\")))","v":""},{"$f":"IFERROR(VLOOKUP(A25,'Gruber Tabelle'!$A$3:$AR$386,15,0),\"\")","v":""},{"$f":"IFERROR(VLOOKUP(A25,'Gruber Tabelle'!$A$3:$AR$386,37,0),\"\")","v":""},{"$f":"IFERROR(VLOOKUP(A25,'Gruber Tabelle'!$A$3:$AR$386,38,0),\"\")","v":""},{"$f":"IFERROR(VLOOKUP(A25,'Gruber Tabelle'!$A$3:$AR$386,39,0),\"\")","v":""},0,{"$f":"IFERROR(VLOOKUP(A25,'Gruber Tabelle'!$A$3:$AR$386,16,0),\"\")","v":""},{"$f":"IFERROR(VLOOKUP(A25,'Gruber Tabelle'!$A$3:$AR$386,19,0),\"\")","v":""},{"$f":"IFERROR(VLOOKUP(A25,'Gruber Tabelle'!$A$3:$AP$386,36,0),\"\")","v":""}]
[null,{"$f":"IFERROR(VLOOKUP(A26,'Gruber Tabelle'!$A$3:$AR$386,2,0),\"\")","v":""},{"$f":"IFERROR(F26/1000,0)","v":0},{"$f":"IFERROR(VLOOKUP(A26,'Gruber Tabelle'!$A$3:$AR$386,28,0),\"\")","v":""},0,{"$f":"IFERROR(VLOOKUP(A26,'Gruber Tabelle'!$A$3:$AR$386,3,0),\"\")","v":""},{"$f":"IFERROR(VLOOKUP(A26,'Gruber Tabelle'!$A$3:$AR$386,4,0),\"\")","v":""},{"$f":"IFERROR(1000-G26,0)","v":0},{"$f":"IFERROR(VLOOKUP(A26,'Gruber Tabelle'!$A$3:$AR$386,6,0),\"\")","v":""},{"$f":"IFERROR(VLOOKUP(A26,'Gruber Tabelle'!$A$3:$AR$386,7,0),\"\")","v":""},{"$f":"IFERROR(VLOOKUP(A26,'Gruber Tabelle'!$A$3:$AR$386,8,0),\"\")","v":""},{"$f":"IFERROR(VLOOKUP(A26,'Gruber Tabelle'!$A$3:$AR$386,13,0),\"\")","v":""},{"$f":"IFERROR(VLOOKUP(A26,'Gruber Tabelle'!$A$3:$AR$386,18,0),\"\")","v":""},{"$f":"IFERROR(VLOOKUP(A26,'Gruber Tabelle'!$A$3:$AR$386,9,0),\"\")","v":""},{"$f":"IFERROR(VLOOKUP(A26,'Gruber Tabelle'!$A$3:$AR$386,14,0),\"\")","v":""},{"$f":"IFERROR(VLOOKUP(A26,'Gruber Tabelle'!$A$3:$AR$386,10,0),\"\")","v":""},{"$f":"IFERROR(VLOOKUP(A26,'Gruber Tabelle'!$A$3:$AR$386,11,0),\"\")","v":""},{"$f":"IFERROR(VLOOKUP(A26,'Gruber Tabelle'!$A$3:$AR$386,43,0),0)","v":0},{"$f":"IFERROR(VLOOKUP(A26,'Gruber Tabelle'!$A$3:$AR$386,12,0),\"\")","v":""},{"$f":"IFERROR(VLOOKUP(A26,'Gruber Tabelle'!$A$3:$AR$386,17,0),\"\")","v":""},{"$f":"IFERROR(VLOOKUP(A26,'Gruber Tabelle'!$A$3:$AR$386,20,0),\"\")","v":""},{"$f":"IFERROR(VLOOKUP(A26,'Gruber Tabelle'!$A$3:$AR$386,21,0),\"\")","v":""},{"$f":"IFERROR(VLOOKUP(A26,'Gruber Tabelle'!$A$3:$AR$386,23,0),\"\")","v":""},{"$f":"IFERROR(VLOOKUP(A26,'Gruber Tabelle'!$A$3:$AR$386,22,0),\"\")","v":""},{"$f":"IFERROR(VLOOKUP(A26,'Gruber Tabelle'!$A$3:$AR$386,24,0),\"\")","v":""},{"$f":"IFERROR(VLOOKUP(A26,'Gruber Tabelle'!$A$3:$AR$386,25,0),\"\")","v":""},{"$f":"IFERROR(VLOOKUP(A26,'Gruber Tabelle'!$A$3:$AR$386,26,0),\"\")","v":""},{"$f":"IFERROR(VLOOKUP(A26,'Gruber Tabelle'!$A$3:$AP$386,27,0),\"\")","v":""},{"$f":"IFERROR(VLOOKUP(A26,'Gruber Tabelle'!$A$3:$AP$386,29,0),\"\")","v":""},{"$f":"IFERROR(VLOOKUP(A26,'Gruber Tabelle'!$A$3:$AP$386,30,0),\"\")","v":""},{"$f":"IFERROR(VLOOKUP(A26,'Gruber Tabelle'!$A$3:$AP$386,31,0),\"\")","v":""},{"$f":"IFERROR(VLOOKUP(A26,'Gruber Tabelle'!$A$3:$AP$386,32,0),\"\")","v":""},{"$f":"IFERROR(VLOOKUP(A26,'Gruber Tabelle'!$A$3:$AP$386,33,0),\"\")","v":""},{"$f":"IFERROR(VLOOKUP(A26,'Gruber Tabelle'!$A$3:$AP$386,34,0),\"\")","v":""},{"$f":"IFERROR(VLOOKUP(A26,'Gruber Tabelle'!$A$3:$AP$386,35,0),\"\")","v":""},{"$f":"IFERROR(VLOOKUP(A26,'Gruber Tabelle'!$A$3:$AR$386,16,0),\"\")","v":""},{"$f":"IFERROR(VLOOKUP(A26,'Gruber Tabelle'!$A$3:$AR$386,41,0),\"\")","v":""},{"$f":"IFERROR(VLOOKUP(A26,'Gruber Tabelle'!$A$3:$AR$386,42,0),\"\")","v":""},"",{"$f":"IFERROR(VLOOKUP(A26,'Gruber Tabelle'!$A$3:$AR$386,15,0),\"\")","v":""},{"$f":"IFERROR(VLOOKUP(A26,'Gruber Tabelle'!$A$3:$AR$386,37,0),\"\")","v":""},{"$f":"IFERROR(VLOOKUP(A26,'Gruber Tabelle'!$A$3:$AR$386,38,0),\"\")","v":""},{"$f":"IFERROR(VLOOKUP(A26,'Gruber Tabelle'!$A$3:$AR$386,39,0),\"\")","v":""},{"$f":"IFERROR(VLOOKUP(A26,'Gruber Tabelle'!$A$3:$AR$386,40,0),0)","v":0},{"$f":"IFERROR(VLOOKUP(A26,'Gruber Tabelle'!$A$3:$AR$386,16,0),\"\")","v":""},{"$f":"IFERROR(VLOOKUP(A26,'Gruber Tabelle'!$A$3:$AR$386,19,0),\"\")","v":""},{"$f":"IFERROR(VLOOKUP(A26,'Gruber Tabelle'!$A$3:$AP$386,36,0),\"\")","v":""}]
[null,{"$f":"IFERROR(VLOOKUP(A27,'Gruber Tabelle'!$A$3:$AR$386,2,0),\"\")","v":""},0,{"$f":"IFERROR(VLOOKUP(A27,'Gruber Tabelle'!$A$3:$AR$386,28,0),\"\")","v":""},0,{"$f":"IFERROR(VLOOKUP(A27,'Gruber Tabelle'!$A$3:$AR$386,3,0),\"\")","v":""},{"$f":"IFERROR(VLOOKUP(A27,'Gruber Tabelle'!$A$3:$AR$386,4,0),\"\")","v":""},0,{"$f":"IFERROR(VLOOKUP(A27,'Gruber Tabelle'!$A$3:$AR$386,6,0),\"\")","v":""},{"$f":"IFERROR(VLOOKUP(A27,'Gruber Tabelle'!$A$3:$AR$386,7,0),\"\")","v":""},{"$f":"IFERROR(VLOOKUP(A27,'Gruber Tabelle'!$A$3:$AR$386,8,0),\"\")","v":""},{"$f":"IFERROR(VLOOKUP(A27,'Gruber Tabelle'!$A$3:$AR$386,13,0),\"\")","v":""},{"$f":"IFERROR(VLOOKUP(A27,'Gruber Tabelle'!$A$3:$AR$386,18,0),\"\")","v":""},{"$f":"IFERROR(VLOOKUP(A27,'Gruber Tabelle'!$A$3:$AR$386,9,0),\"\")","v":""},{"$f":"IFERROR(VLOOKUP(A27,'Gruber Tabelle'!$A$3:$AR$386,14,0),\"\")","v":""},{"$f":"IFERROR(VLOOKUP(A27,'Gruber Tabelle'!$A$3:$AR$386,10,0),\"\")","v":""},{"$f":"IFERROR(VLOOKUP(A27,'Gruber Tabelle'!$A$3:$AR$386,11,0),\"\")","v":""},{"$f":"IFERROR(VLOOKUP(A27,'Gruber Tabelle'!$A$3:$AR$386,43,0),0)","v":0},{"$f":"IFERROR(VLOOKUP(A27,'Gruber Tabelle'!$A$3:$AR$386,12,0),\"\")","v":""},{"$f":"IFERROR(VLOOKUP(A27,'Gruber Tabelle'!$A$3:$AR$386,17,0),\"\")","v":""},{"$f":"IFERROR(VLOOKUP(A27,'Gruber Tabelle'!$A$3:$AR$386,20,0),\"\")","v":""},{"$f":"IFERROR(VLOOKUP(A27,'Gruber Tabelle'!$A$3:$AR$386,21,0),\"\")","v":""},{"$f":"IFERROR(VLOOKUP(A27,'Gruber Tabelle'!$A$3:$AR$386,23,0),\"\")","v":""},{"$f":"IFERROR(VLOOKUP(A27,'Gruber Tabelle'!$A$3:$AR$386,22,0),\"\")","v":""},{"$f":"IFERROR(VLOOKUP(A27,'Gruber Tabelle'!$A$3:$AR$386,24,0),\"\")","v":""},{"$f":"IFERROR(VLOOKUP(A27,'Gruber Tabelle'!$A$3:$AR$386,25,0),\"\")","v":""},{"$f":"IFERROR(VLOOKUP(A27,'Gruber Tabelle'!$A$3:$AR$386,26,0),\"\")","v":""},{"$f":"IFERROR(VLOOKUP(A27,'Gruber Tabelle'!$A$3:$AP$386,27,0),\"\")","v":""},{"$f":"IFERROR(VLOOKUP(A27,'Gruber Tabelle'!$A$3:$AP$386,29,0),\"\")","v":""},{"$f":"IFERROR(VLOOKUP(A27,'Gruber Tabelle'!$A$3:$AP$386,30,0),\"\")","v":""},{"$f":"IFERROR(VLOOKUP(A27,'Gruber Tabelle'!$A$3:$AP$386,31,0),\"\")","v":""},{"$f":"IFERROR(VLOOKUP(A27,'Gruber Tabelle'!$A$3:$AP$386,32,0),\"\")","v":""},{"$f":"IFERROR(VLOOKUP(A27,'Gruber Tabelle'!$A$3:$AP$386,33,0),\"\")","v":""},{"$f":"IFERROR(VLOOKUP(A27,'Gruber Tabelle'!$A$3:$AP$386,34,0),\"\")","v":""},{"$f":"IFERROR(VLOOKUP(A27,'Gruber Tabelle'!$A$3:$AP$386,35,0),\"\")","v":""},{"$f":"IFERROR(VLOOKUP(A27,'Gruber Tabelle'!$A$3:$AR$386,16,0),\"\")","v":""},{"$f":"IFERROR(VLOOKUP(A27,'Gruber Tabelle'!$A$3:$AR$386,41,0),\"\")","v":""},{"$f":"IFERROR(VLOOKUP(A27,'Gruber Tabelle'!$A$3:$AR$386,42,0),\"\")","v":""},"",{"$f":"IFERROR(VLOOKUP(A27,'Gruber Tabelle'!$A$3:$AR$386,15,0),\"\")","v":""},{"$f":"IFERROR(VLOOKUP(A27,'Gruber Tabelle'!$A$3:$AR$386,37,0),\"\")","v":""},{"$f":"IFERROR(VLOOKUP(A27,'Gruber Tabelle'!$A$3:$AR$386,38,0),\"\")","v":""},{"$f":"IFERROR(VLOOKUP(A27,'Gruber Tabelle'!$A$3:$AR$386,39,0),\"\")","v":""},{"$f":"IFERROR(VLOOKUP(A27,'Gruber Tabelle'!$A$3:$AR$386,40,0),0)","v":0},{"$f":"IFERROR(VLOOKUP(A27,'Gruber Tabelle'!$A$3:$AR$386,16,0),\"\")","v":""},{"$f":"IFERROR(VLOOKUP(A27,'Gruber Tabelle'!$A$3:$AR$386,19,0),\"\")","v":""},{"$f":"IFERROR(VLOOKUP(A27,'Gruber Tabelle'!$A$3:$AP$386,36,0),\"\")","v":""}]
[null,{"$f":"IFERROR(VLOOKUP(A28,'Gruber Tabelle'!$A$3:$AR$386,2,0),\"\")","v":""},0,{"$f":"IFERROR(VLOOKUP(A28,'Gruber Tabelle'!$A$3:$AR$386,28,0),\"\")","v":""},0,{"$f":"IFERROR(VLOOKUP(A28,'Gruber Tabelle'!$A$3:$AR$386,3,0),\"\")","v":""},{"$f":"IFERROR(VLOOKUP(A28,'Gruber Tabelle'!$A$3:$AR$386,4,0),\"\")","v":""},0,{"$f":"IFERROR(VLOOKUP(A28,'Gruber Tabelle'!$A$3:$AR$386,6,0),\"\")","v":""},{"$f":"IFERROR(VLOOKUP(A28,'Gruber Tabelle'!$A$3:$AR$386,7,0),\"\")","v":""},{"$f":"IFERROR(VLOOKUP(A28,'Gruber Tabelle'!$A$3:$AR$386,8,0),\"\")","v":""},{"$f":"IFERROR(VLOOKUP(A28,'Gruber Tabelle'!$A$3:$AR$386,13,0),\"\")","v":""},{"$f":"IFERROR(VLOOKUP(A28,'Gruber Tabelle'!$A$3:$AR$386,18,0),\"\")","v":""},{"$f":"IFERROR(VLOOKUP(A28,'Gruber Tabelle'!$A$3:$AR$386,9,0),\"\")","v":""},{"$f":"IFERROR(VLOOKUP(A28,'Gruber Tabelle'!$A$3:$AR$386,14,0),\"\")","v":""},{"$f":"IFERROR(VLOOKUP(A28,'Gruber Tabelle'!$A$3:$AR$386,10,0),\"\")","v":""},{"$f":"IFERROR(VLOOKUP(A28,'Gruber Tabelle'!$A$3:$AR$386,11,0),\"\")","v":""},{"$f":"IFERROR(VLOOKUP(A28,'Gruber Tabelle'!$A$3:$AR$386,43,0),0)","v":0},{"$f":"IFERROR(VLOOKUP(A28,'Gruber Tabelle'!$A$3:$AR$386,12,0),\"\")","v":""},{"$f":"IFERROR(VLOOKUP(A28,'Gruber Tabelle'!$A$3:$AR$386,17,0),\"\")","v":""},{"$f":"IFERROR(VLOOKUP(A28,'Gruber Tabelle'!$A$3:$AR$386,20,0),\"\")","v":""},{"$f":"IFERROR(VLOOKUP(A28,'Gruber Tabelle'!$A$3:$AR$386,21,0),\"\")","v":""},{"$f":"IFERROR(VLOOKUP(A28,'Gruber Tabelle'!$A$3:$AR$386,23,0),\"\")","v":""},{"$f":"IFERROR(VLOOKUP(A28,'Gruber Tabelle'!$A$3:$AR$386,22,0),\"\")","v":""},{"$f":"IFERROR(VLOOKUP(A28,'Gruber Tabelle'!$A$3:$AR$386,24,0),\"\")","v":""},{"$f":"IFERROR(VLOOKUP(A28,'Gruber Tabelle'!$A$3:$AR$386,25,0),\"\")","v":""},{"$f":"IFERROR(VLOOKUP(A28,'Gruber Tabelle'!$A$3:$AR$386,26,0),\"\")","v":""},{"$f":"IFERROR(VLOOKUP(A28,'Gruber Tabelle'!$A$3:$AP$386,27,0),\"\")","v":""},{"$f":"IFERROR(VLOOKUP(A28,'Gruber Tabelle'!$A$3:$AP$386,29,0),\"\")","v":""},{"$f":"IFERROR(VLOOKUP(A28,'Gruber Tabelle'!$A$3:$AP$386,30,0),\"\")","v":""},{"$f":"IFERROR(VLOOKUP(A28,'Gruber Tabelle'!$A$3:$AP$386,31,0),\"\")","v":""},{"$f":"IFERROR(VLOOKUP(A28,'Gruber Tabelle'!$A$3:$AP$386,32,0),\"\")","v":""},{"$f":"IFERROR(VLOOKUP(A28,'Gruber Tabelle'!$A$3:$AP$386,33,0),\"\")","v":""},{"$f":"IFERROR(VLOOKUP(A28,'Gruber Tabelle'!$A$3:$AP$386,34,0),\"\")","v":""},{"$f":"IFERROR(VLOOKUP(A28,'Gruber Tabelle'!$A$3:$AP$386,35,0),\"\")","v":""},{"$f":"IFERROR(VLOOKUP(A28,'Gruber Tabelle'!$A$3:$AR$386,16,0),\"\")","v":""},{"$f":"IFERROR(VLOOKUP(A28,'Gruber Tabelle'!$A$3:$AR$386,41,0),\"\")","v":""},{"$f":"IFERROR(VLOOKUP(A28,'Gruber Tabelle'!$A$3:$AR$386,42,0),\"\")","v":""},"",{"$f":"IFERROR(VLOOKUP(A28,'Gruber Tabelle'!$A$3:$AR$386,15,0),\"\")","v":""},{"$f":"IFERROR(VLOOKUP(A28,'Gruber Tabelle'!$A$3:$AR$386,37,0),\"\")","v":""},{"$f":"IFERROR(VLOOKUP(A28,'Gruber Tabelle'!$A$3:$AR$386,38,0),\"\")","v":""},{"$f":"IFERROR(VLOOKUP(A28,'Gruber Tabelle'!$A$3:$AR$386,39,0),\"\")","v":""},{"$f":"IFERROR(VLOOKUP(A28,'Gruber Tabelle'!$A$3:$AR$386,40,0),0)","v":0},{"$f":"IFERROR(VLOOKUP(A28,'Gruber Tabelle'!$A$3:$AR$386,16,0),\"\")","v":""},{"$f":"IFERROR(VLOOKUP(A28,'Gruber Tabelle'!$A$3:$AR$386,19,0),\"\")","v":""},{"$f":"IFERROR(VLOOKUP(A28,'Gruber Tabelle'!$A$3:$AP$386,36,0),\"\")","v":""}]
[null,{"$f":"IFERROR(VLOOKUP(A29,'Gruber Tabelle'!$A$3:$AR$386,2,0),\"\")","v":""},0,{"$f":"IFERROR(VLOOKUP(A29,'Gruber Tabelle'!$A$3:$AR$386,28,0),\"\")","v":""},0,{"$f":"IFERROR(VLOOKUP(A29,'Gruber Tabelle'!$A$3:$AR$386,3,0),\"\")","v":""},{"$f":"IFERROR(VLOOKUP(A29,'Gruber Tabelle'!$A$3:$AR$386,4,0),\"\")","v":""},0,{"$f":"IFERROR(VLOOKUP(A29,'Gruber Tabelle'!$A$3:$AR$386,6,0),\"\")","v":""},{"$f":"IFERROR(VLOOKUP(A29,'Gruber Tabelle'!$A$3:$AR$386,7,0),\"\")","v":""},{"$f":"IFERROR(VLOOKUP(A29,'Gruber Tabelle'!$A$3:$AR$386,8,0),\"\")","v":""},{"$f":"IFERROR(VLOOKUP(A29,'Gruber Tabelle'!$A$3:$AR$386,13,0),\"\")","v":""},{"$f":"IFERROR(VLOOKUP(A29,'Gruber Tabelle'!$A$3:$AR$386,18,0),\"\")","v":""},{"$f":"IFERROR(VLOOKUP(A29,'Gruber Tabelle'!$A$3:$AR$386,9,0),\"\")","v":""},{"$f":"IFERROR(VLOOKUP(A29,'Gruber Tabelle'!$A$3:$AR$386,14,0),\"\")","v":""},{"$f":"IFERROR(VLOOKUP(A29,'Gruber Tabelle'!$A$3:$AR$386,10,0),\"\")","v":""},{"$f":"IFERROR(VLOOKUP(A29,'Gruber Tabelle'!$A$3:$AR$386,11,0),\"\")","v":""},{"$f":"IFERROR(VLOOKUP(A29,'Gruber Tabelle'!$A$3:$AR$386,43,0),0)","v":0},{"$f":"IFERROR(VLOOKUP(A29,'Gruber Tabelle'!$A$3:$AR$386,12,0),\"\")","v":""},{"$f":"IFERROR(VLOOKUP(A29,'Gruber Tabelle'!$A$3:$AR$386,17,0),\"\")","v":""},{"$f":"IFERROR(VLOOKUP(A29,'Gruber Tabelle'!$A$3:$AR$386,20,0),\"\")","v":""},{"$f":"IFERROR(VLOOKUP(A29,'Gruber Tabelle'!$A$3:$AR$386,21,0),\"\")","v":""},{"$f":"IFERROR(VLOOKUP(A29,'Gruber Tabelle'!$A$3:$AR$386,23,0),\"\")","v":""},{"$f":"IFERROR(VLOOKUP(A29,'Gruber Tabelle'!$A$3:$AR$386,22,0),\"\")","v":""},{"$f":"IFERROR(VLOOKUP(A29,'Gruber Tabelle'!$A$3:$AR$386,24,0),\"\")","v":""},{"$f":"IFERROR(VLOOKUP(A29,'Gruber Tabelle'!$A$3:$AR$386,25,0),\"\")","v":""},{"$f":"IFERROR(VLOOKUP(A29,'Gruber Tabelle'!$A$3:$AR$386,26,0),\"\")","v":""},{"$f":"IFERROR(VLOOKUP(A29,'Gruber Tabelle'!$A$3:$AP$386,27,0),\"\")","v":""},{"$f":"IFERROR(VLOOKUP(A29,'Gruber Tabelle'!$A$3:$AP$386,29,0),\"\")","v":""},{"$f":"IFERROR(VLOOKUP(A29,'Gruber Tabelle'!$A$3:$AP$386,30,0),\"\")","v":""},{"$f":"IFERROR(VLOOKUP(A29,'Gruber Tabelle'!$A$3:$AP$386,31,0),\"\")","v":""},{"$f":"IFERROR(VLOOKUP(A29,'Gruber Tabelle'!$A$3:$AP$386,32,0),\"\")","v":""},{"$f":"IFERROR(VLOOKUP(A29,'Gruber Tabelle'!$A$3:$AP$386,33,0),\"\")","v":""},{"$f":"IFERROR(VLOOKUP(A29,'Gruber Tabelle'!$A$3:$AP$386,34,0),\"\")","v":""},{"$f":"IFERROR(VLOOKUP(A29,'Gruber Tabelle'!$A$3:$AP$386,35,0),\"\")","v":""},{"$f":"IFERROR(VLOOKUP(A29,'Gruber Tabelle'!$A$3:$AR$386,16,0),\"\")","v":""},{"$f":"IFERROR(VLOOKUP(A29,'Gruber Tabelle'!$A$3:$AR$386,41,0),\"\")","v":""},{"$f":"IFERROR(VLOOKUP(A29,'Gruber Tabelle'!$A$3:$AR$386,42,0),\"\")","v":""},"",{"$f":"IFERROR(VLOOKUP(A29,'Gruber Tabelle'!$A$3:$AR$386,15,0),\"\")","v":""},{"$f":"IFERROR(VLOOKUP(A29,'Gruber Tabelle'!$A$3:$AR$386,37,0),\"\")","v":""},{"$f":"IFERROR(VLOOKUP(A29,'Gruber Tabelle'!$A$3:$AR$386,38,0),\"\")","v":""},{"$f":"IFERROR(VLOOKUP(A29,'Gruber Tabelle'!$A$3:$AR$386,39,0),\"\")","v":""},{"$f":"IFERROR(VLOOKUP(A29,'Gruber Tabelle'!$A$3:$AR$386,40,0),0)","v":0},{"$f":"IFERROR(VLOOKUP(A29,'Gruber Tabelle'!$A$3:$AR$386,16,0),\"\")","v":""},{"$f":"IFERROR(VLOOKUP(A29,'Gruber Tabelle'!$A$3:$AR$386,19,0),\"\")","v":""},{"$f":"IFERROR(VLOOKUP(A29,'Gruber Tabelle'!$A$3:$AP$386,36,0),\"\")","v":""}]
[null,{"$f":"IFERROR(VLOOKUP(A30,'Gruber Tabelle'!$A$3:$AR$386,2,0),\"\")","v":""},0,{"$f":"IFERROR(VLOOKUP(A30,'Gruber Tabelle'!$A$3:$AR$386,28,0),\"\")","v":""},0,{"$f":"IFERROR(VLOOKUP(A30,'Gruber Tabelle'!$A$3:$AR$386,3,0),\"\")","v":""},{"$f":"IFERROR(VLOOKUP(A30,'Gruber Tabelle'!$A$3:$AR$386,4,0),\"\")","v":""},0,{"$f":"IFERROR(VLOOKUP(A30,'Gruber Tabelle'!$A$3:$AR$386,6,0),\"\")","v":""},{"$f":"IFERROR(VLOOKUP(A30,'Gruber Tabelle'!$A$3:$AR$386,7,0),\"\")","v":""},{"$f":"IFERROR(VLOOKUP(A30,'Gruber Tabelle'!$A$3:$AR$386,8,0),\"\")","v":""},{"$f":"IFERROR(VLOOKUP(A30,'Gruber Tabelle'!$A$3:$AR$386,13,0),\"\")","v":""},{"$f":"IFERROR(VLOOKUP(A30,'Gruber Tabelle'!$A$3:$AR$386,18,0),\"\")","v":""},{"$f":"IFERROR(VLOOKUP(A30,'Gruber Tabelle'!$A$3:$AR$386,9,0),\"\")","v":""},{"$f":"IFERROR(VLOOKUP(A30,'Gruber Tabelle'!$A$3:$AR$386,14,0),\"\")","v":""},{"$f":"IFERROR(VLOOKUP(A30,'Gruber Tabelle'!$A$3:$AR$386,10,0),\"\")","v":""},{"$f":"IFERROR(VLOOKUP(A30,'Gruber Tabelle'!$A$3:$AR$386,11,0),\"\")","v":""},{"$f":"IFERROR(VLOOKUP(A30,'Gruber Tabelle'!$A$3:$AR$386,43,0),0)","v":0},{"$f":"IFERROR(VLOOKUP(A30,'Gruber Tabelle'!$A$3:$AR$386,12,0),\"\")","v":""},{"$f":"IFERROR(VLOOKUP(A30,'Gruber Tabelle'!$A$3:$AR$386,17,0),\"\")","v":""},{"$f":"IFERROR(VLOOKUP(A30,'Gruber Tabelle'!$A$3:$AR$386,20,0),\"\")","v":""},{"$f":"IFERROR(VLOOKUP(A30,'Gruber Tabelle'!$A$3:$AR$386,21,0),\"\")","v":""},{"$f":"IFERROR(VLOOKUP(A30,'Gruber Tabelle'!$A$3:$AR$386,23,0),\"\")","v":""},{"$f":"IFERROR(VLOOKUP(A30,'Gruber Tabelle'!$A$3:$AR$386,22,0),\"\")","v":""},{"$f":"IFERROR(VLOOKUP(A30,'Gruber Tabelle'!$A$3:$AR$386,24,0),\"\")","v":""},{"$f":"IFERROR(VLOOKUP(A30,'Gruber Tabelle'!$A$3:$AR$386,25,0),\"\")","v":""},{"$f":"IFERROR(VLOOKUP(A30,'Gruber Tabelle'!$A$3:$AR$386,26,0),\"\")","v":""},{"$f":"IFERROR(VLOOKUP(A30,'Gruber Tabelle'!$A$3:$AP$386,27,0),\"\")","v":""},{"$f":"IFERROR(VLOOKUP(A30,'Gruber Tabelle'!$A$3:$AP$386,29,0),\"\")","v":""},{"$f":"IFERROR(VLOOKUP(A30,'Gruber Tabelle'!$A$3:$AP$386,30,0),\"\")","v":""},{"$f":"IFERROR(VLOOKUP(A30,'Gruber Tabelle'!$A$3:$AP$386,31,0),\"\")","v":""},{"$f":"IFERROR(VLOOKUP(A30,'Gruber Tabelle'!$A$3:$AP$386,32,0),\"\")","v":""},{"$f":"IFERROR(VLOOKUP(A30,'Gruber Tabelle'!$A$3:$AP$386,33,0),\"\")","v":""},{"$f":"IFERROR(VLOOKUP(A30,'Gruber Tabelle'!$A$3:$AP$386,34,0),\"\")","v":""},{"$f":"IFERROR(VLOOKUP(A30,'Gruber Tabelle'!$A$3:$AP$386,35,0),\"\")","v":""},{"$f":"IFERROR(VLOOKUP(A30,'Gruber Tabelle'!$A$3:$AR$386,16,0),\"\")","v":""},{"$f":"IFERROR(VLOOKUP(A30,'Gruber Tabelle'!$A$3:$AR$386,41,0),\"\")","v":""},{"$f":"IFERROR(VLOOKUP(A30,'Gruber Tabelle'!$A$3:$AR$386,42,0),\"\")","v":""},"",{"$f":"IFERROR(VLOOKUP(A30,'Gruber Tabelle'!$A$3:$AR$386,15,0),\"\")","v":""},{"$f":"IFERROR(VLOOKUP(A30,'Gruber Tabelle'!$A$3:$AR$386,37,0),\"\")","v":""},{"$f":"IFERROR(VLOOKUP(A30,'Gruber Tabelle'!$A$3:$AR$386,38,0),\"\")","v":""},{"$f":"IFERROR(VLOOKUP(A30,'Gruber Tabelle'!$A$3:$AR$386,39,0),\"\")","v":""},{"$f":"IFERROR(VLOOKUP(A30,'Gruber Tabelle'!$A$3:$AR$386,40,0),0)","v":0},{"$f":"IFERROR(VLOOKUP(A30,'Gruber Tabelle'!$A$3:$AR$386,16,0),\"\")","v":""},{"$f":"IFERROR(VLOOKUP(A30,'Gruber Tabelle'!$A$3:$AR$386,19,0),\"\")","v":""},{"$f":"IFERROR(VLOOKUP(A30,'Gruber Tabelle'!$A$3:$AP$386,36,0),\"\")","v":""}]
[null,{"$f":"IFERROR(VLOOKUP(A31,'Gruber Tabelle'!$A$3:$AR$386,2,0),\"\")","v":""},0,{"$f":"IFERROR(VLOOKUP(A31,'Gruber Tabelle'!$A$3:$AR$386,28,0),\"\")","v":""},0,{"$f":"IFERROR(VLOOKUP(A31,'Gruber Tabelle'!$A$3:$AR$386,3,0),\"\")","v":""},{"$f":"IFERROR(VLOOKUP(A31,'Gruber Tabelle'!$A$3:$AR$386,4,0),\"\")","v":""},0,{"$f":"IFERROR(VLOOKUP(A31,'Gruber Tabelle'!$A$3:$AR$386,6,0),\"\")","v":""},null,{"$f":"IFERROR(VLOOKUP(A31,'Gruber Tabelle'!$A$3:$AR$386,8,0),\"\")","v":""},{"$f":"IFERROR(VLOOKUP(A31,'Gruber Tabelle'!$A$3:$AR$386,13,0),\"\")","v":""},{"$f":"IFERROR(VLOOKUP(A31,'Gruber Tabelle'!$A$3:$AR$386,18,0),\"\")","v":""},{"$f":"IFERROR(VLOOKUP(A31,'Gruber Tabelle'!$A$3:$AR$386,9,0),\"\")","v":""},{"$f":"IFERROR(VLOOKUP(A31,'Gruber Tabelle'!$A$3:$AR$386,14,0),\"\")","v":""},{"$f":"IFERROR(VLOOKUP(A31,'Gruber Tabelle'!$A$3:$AR$386,10,0),\"\")","v":""},{"$f":"IFERROR(VLOOKUP(A31,'Gruber Tabelle'!$A$3:$AR$386,11,0),\"\")","v":""},{"$f":"IFERROR(VLOOKUP(A31,'Gruber Tabelle'!$A$3:$AR$386,43,0),0)","v":0},{"$f":"IFERROR(VLOOKUP(A31,'Gruber Tabelle'!$A$3:$AR$386,12,0),\"\")","v":""},{"$f":"IFERROR(VLOOKUP(A31,'Gruber Tabelle'!$A$3:$AR$386,17,0),\"\")","v":""},{"$f":"IFERROR(VLOOKUP(A31,'Gruber Tabelle'!$A$3:$AR$386,20,0),\"\")","v":""},{"$f":"IFERROR(VLOOKUP(A31,'Gruber Tabelle'!$A$3:$AR$386,21,0),\"\")","v":""},{"$f":"IFERROR(VLOOKUP(A31,'Gruber Tabelle'!$A$3:$AR$386,23,0),\"\")","v":""},{"$f":"IFERROR(VLOOKUP(A31,'Gruber Tabelle'!$A$3:$AR$386,22,0),\"\")","v":""},{"$f":"IFERROR(VLOOKUP(A31,'Gruber Tabelle'!$A$3:$AR$386,24,0),\"\")","v":""},{"$f":"IFERROR(VLOOKUP(A31,'Gruber Tabelle'!$A$3:$AR$386,25,0),\"\")","v":""},{"$f":"IFERROR(VLOOKUP(A31,'Gruber Tabelle'!$A$3:$AR$386,26,0),\"\")","v":""},{"$f":"IFERROR(VLOOKUP(A31,'Gruber Tabelle'!$A$3:$AP$386,27,0),\"\")","v":""},{"$f":"IFERROR(VLOOKUP(A31,'Gruber Tabelle'!$A$3:$AP$386,29,0),\"\")","v":""},{"$f":"IFERROR(VLOOKUP(A31,'Gruber Tabelle'!$A$3:$AP$386,30,0),\"\")","v":""},{"$f":"IFERROR(VLOOKUP(A31,'Gruber Tabelle'!$A$3:$AP$386,31,0),\"\")","v":""},{"$f":"IFERROR(VLOOKUP(A31,'Gruber Tabelle'!$A$3:$AP$386,32,0),\"\")","v":""},{"$f":"IFERROR(VLOOKUP(A31,'Gruber Tabelle'!$A$3:$AP$386,33,0),\"\")","v":""},{"$f":"IFERROR(VLOOKUP(A31,'Gruber Tabelle'!$A$3:$AP$386,34,0),\"\")","v":""},{"$f":"IFERROR(VLOOKUP(A31,'Gruber Tabelle'!$A$3:$AP$386,35,0),\"\")","v":""},{"$f":"IFERROR(VLOOKUP(A31,'Gruber Tabelle'!$A$3:$AR$386,16,0),\"\")","v":""},{"$f":"IFERROR(VLOOKUP(A31,'Gruber Tabelle'!$A$3:$AR$386,41,0),\"\")","v":""},{"$f":"IFERROR(VLOOKUP(A31,'Gruber Tabelle'!$A$3:$AR$386,42,0),\"\")","v":""},"",{"$f":"IFERROR(VLOOKUP(A31,'Gruber Tabelle'!$A$3:$AR$386,15,0),\"\")","v":""},{"$f":"IFERROR(VLOOKUP(A31,'Gruber Tabelle'!$A$3:$AR$386,37,0),\"\")","v":""},{"$f":"IFERROR(VLOOKUP(A31,'Gruber Tabelle'!$A$3:$AR$386,38,0),\"\")","v":""},{"$f":"IFERROR(VLOOKUP(A31,'Gruber Tabelle'!$A$3:$AR$386,39,0),\"\")","v":""},{"$f":"IFERROR(VLOOKUP(A31,'Gruber Tabelle'!$A$3:$AR$386,40,0),0)","v":0},{"$f":"IFERROR(VLOOKUP(A31,'Gruber Tabelle'!$A$3:$AR$386,16,0),\"\")","v":""},null,{"$f":"IFERROR(VLOOKUP(A31,'Gruber Tabelle'!$A$3:$AP$386,36,0),\"\")","v":""}]
[null,{"$f":"IFERROR(VLOOKUP(A32,'Gruber Tabelle'!$A$3:$AR$386,2,0),\"\")","v":""},0,{"$f":"IFERROR(VLOOKUP(A32,'Gruber Tabelle'!$A$3:$AR$386,28,0),\"\")","v":""},0,{"$f":"IFERROR(VLOOKUP(A32,'Gruber Tabelle'!$A$3:$AR$386,3,0),\"\")","v":""},{"$f":"IFERROR(VLOOKUP(A32,'Gruber Tabelle'!$A$3:$AR$386,4,0),\"\")","v":""},0,{"$f":"IFERROR(VLOOKUP(A32,'Gruber Tabelle'!$A$3:$AR$386,6,0),\"\")","v":""},{"$f":"IFERROR(VLOOKUP(A32,'Gruber Tabelle'!$A$3:$AR$386,7,0),\"\")","v":""},{"$f":"IFERROR(VLOOKUP(A32,'Gruber Tabelle'!$A$3:$AR$386,8,0),\"\")","v":""},{"$f":"IFERROR(VLOOKUP(A32,'Gruber Tabelle'!$A$3:$AR$386,13,0),\"\")","v":""},{"$f":"IFERROR(VLOOKUP(A32,'Gruber Tabelle'!$A$3:$AR$386,18,0),\"\")","v":""},{"$f":"IFERROR(VLOOKUP(A32,'Gruber Tabelle'!$A$3:$AR$386,9,0),\"\")","v":""},{"$f":"IFERROR(VLOOKUP(A32,'Gruber Tabelle'!$A$3:$AR$386,14,0),\"\")","v":""},{"$f":"IFERROR(VLOOKUP(A32,'Gruber Tabelle'!$A$3:$AR$386,10,0),\"\")","v":""},{"$f":"IFERROR(VLOOKUP(A32,'Gruber Tabelle'!$A$3:$AR$386,11,0),\"\")","v":""},{"$f":"IFERROR(VLOOKUP(A32,'Gruber Tabelle'!$A$3:$AR$386,43,0),0)","v":0},{"$f":"IFERROR(VLOOKUP(A32,'Gruber Tabelle'!$A$3:$AR$386,12,0),\"\")","v":""},{"$f":"IFERROR(VLOOKUP(A32,'Gruber Tabelle'!$A$3:$AR$386,17,0),\"\")","v":""},{"$f":"IFERROR(VLOOKUP(A32,'Gruber Tabelle'!$A$3:$AR$386,20,0),\"\")","v":""},{"$f":"IFERROR(VLOOKUP(A32,'Gruber Tabelle'!$A$3:$AR$386,21,0),\"\")","v":""},{"$f":"IFERROR(VLOOKUP(A32,'Gruber Tabelle'!$A$3:$AR$386,23,0),\"\")","v":""},{"$f":"IFERROR(VLOOKUP(A32,'Gruber Tabelle'!$A$3:$AR$386,22,0),\"\")","v":""},{"$f":"IFERROR(VLOOKUP(A32,'Gruber Tabelle'!$A$3:$AR$386,24,0),\"\")","v":""},{"$f":"IFERROR(VLOOKUP(A32,'Gruber Tabelle'!$A$3:$AR$386,25,0),\"\")","v":""},{"$f":"IFERROR(VLOOKUP(A32,'Gruber Tabelle'!$A$3:$AR$386,26,0),\"\")","v":""},{"$f":"IFERROR(VLOOKUP(A32,'Gruber Tabelle'!$A$3:$AP$386,27,0),\"\")","v":""},{"$f":"IFERROR(VLOOKUP(A32,'Gruber Tabelle'!$A$3:$AP$386,29,0),\"\")","v":""},{"$f":"IFERROR(VLOOKUP(A32,'Gruber Tabelle'!$A$3:$AP$386,30,0),\"\")","v":""},{"$f":"IFERROR(VLOOKUP(A32,'Gruber Tabelle'!$A$3:$AP$386,31,0),\"\")","v":""},{"$f":"IFERROR(VLOOKUP(A32,'Gruber Tabelle'!$A$3:$AP$386,32,0),\"\")","v":""},{"$f":"IFERROR(VLOOKUP(A32,'Gruber Tabelle'!$A$3:$AP$386,33,0),\"\")","v":""},{"$f":"IFERROR(VLOOKUP(A32,'Gruber Tabelle'!$A$3:$AP$386,34,0),\"\")","v":""},{"$f":"IFERROR(VLOOKUP(A32,'Gruber Tabelle'!$A$3:$AP$386,35,0),\"\")","v":""},{"$f":"IFERROR(VLOOKUP(A32,'Gruber Tabelle'!$A$3:$AR$386,16,0),\"\")","v":""},{"$f":"IFERROR(VLOOKUP(A32,'Gruber Tabelle'!$A$3:$AR$386,41,0),\"\")","v":""},{"$f":"IFERROR(VLOOKUP(A32,'Gruber Tabelle'!$A$3:$AR$386,42,0),\"\")","v":""},"",{"$f":"IFERROR(VLOOKUP(A32,'Gruber Tabelle'!$A$3:$AR$386,15,0),\"\")","v":""},{"$f":"IFERROR(VLOOKUP(A32,'Gruber Tabelle'!$A$3:$AR$386,37,0),\"\")","v":""},{"$f":"IFERROR(VLOOKUP(A32,'Gruber Tabelle'!$A$3:$AR$386,38,0),\"\")","v":""},{"$f":"IFERROR(VLOOKUP(A32,'Gruber Tabelle'!$A$3:$AR$386,39,0),\"\")","v":""},{"$f":"IFERROR(VLOOKUP(A32,'Gruber Tabelle'!$A$3:$AR$386,40,0),0)","v":0},{"$f":"IFERROR(VLOOKUP(A32,'Gruber Tabelle'!$A$3:$AR$386,16,0),\"\")","v":""},{"$f":"IFERROR(VLOOKUP(A32,'Gruber Tabelle'!$A$3:$AR$386,19,0),\"\")","v":""},{"$f":"IFERROR(VLOOKUP(A32,'Gruber Tabelle'!$A$3:$AP$386,36,0),\"\")","v":""}]
[null,{"$f":"IFERROR(VLOOKUP(A33,'Gruber Tabelle'!$A$3:$AR$386,2,0),\"\")","v":""},0,{"$f":"IFERROR(VLOOKUP(A33,'Gruber Tabelle'!$A$3:$AR$386,28,0),\"\")","v":""},0,{"$f":"IFERROR(VLOOKUP(A33,'Gruber Tabelle'!$A$3:$AR$386,3,0),\"\")","v":""},{"$f":"IFERROR(VLOOKUP(A33,'Gruber Tabelle'!$A$3:$AR$386,4,0),\"\")","v":""},0,{"$f":"IFERROR(VLOOKUP(A33,'Gruber Tabelle'!$A$3:$AR$386,6,0),\"\")","v":""},{"$f":"IFERROR(VLOOKUP(A33,'Gruber Tabelle'!$A$3:$AR$386,7,0),\"\")","v":""},{"$f":"IFERROR(VLOOKUP(A33,'Gruber Tabelle'!$A$3:$AR$386,8,0),\"\")","v":""},{"$f":"IFERROR(VLOOKUP(A33,'Gruber Tabelle'!$A$3:$AR$386,13,0),\"\")","v":""},{"$f":"IFERROR(VLOOKUP(A33,'Gruber Tabelle'!$A$3:$AR$386,18,0),\"\")","v":""},{"$f":"IFERROR(VLOOKUP(A33,'Gruber Tabelle'!$A$3:$AR$386,9,0),\"\")","v":""},{"$f":"IFERROR(VLOOKUP(A33,'Gruber Tabelle'!$A$3:$AR$386,14,0),\"\")","v":""},{"$f":"IFERROR(VLOOKUP(A33,'Gruber Tabelle'!$A$3:$AR$386,10,0),\"\")","v":""},{"$f":"IFERROR(VLOOKUP(A33,'Gruber Tabelle'!$A$3:$AR$386,11,0),\"\")","v":""},{"$f":"IFERROR(VLOOKUP(A33,'Gruber Tabelle'!$A$3:$AR$386,43,0),0)","v":0},{"$f":"IFERROR(VLOOKUP(A33,'Gruber Tabelle'!$A$3:$AR$386,12,0),\"\")","v":""},{"$f":"IFERROR(VLOOKUP(A33,'Gruber Tabelle'!$A$3:$AR$386,17,0),\"\")","v":""},{"$f":"IFERROR(VLOOKUP(A33,'Gruber Tabelle'!$A$3:$AR$386,20,0),\"\")","v":""},{"$f":"IFERROR(VLOOKUP(A33,'Gruber Tabelle'!$A$3:$AR$386,21,0),\"\")","v":""},{"$f":"IFERROR(VLOOKUP(A33,'Gruber Tabelle'!$A$3:$AR$386,23,0),\"\")","v":""},{"$f":"IFERROR(VLOOKUP(A33,'Gruber Tabelle'!$A$3:$AR$386,22,0),\"\")","v":""},{"$f":"IFERROR(VLOOKUP(A33,'Gruber Tabelle'!$A$3:$AR$386,24,0),\"\")","v":""},{"$f":"IFERROR(VLOOKUP(A33,'Gruber Tabelle'!$A$3:$AR$386,25,0),\"\")","v":""},{"$f":"IFERROR(VLOOKUP(A33,'Gruber Tabelle'!$A$3:$AR$386,26,0),\"\")","v":""},{"$f":"IFERROR(VLOOKUP(A33,'Gruber Tabelle'!$A$3:$AP$386,27,0),\"\")","v":""},{"$f":"IFERROR(VLOOKUP(A33,'Gruber Tabelle'!$A$3:$AP$386,29,0),\"\")","v":""},{"$f":"IFERROR(VLOOKUP(A33,'Gruber Tabelle'!$A$3:$AP$386,30,0),\"\")","v":""},{"$f":"IFERROR(VLOOKUP(A33,'Gruber Tabelle'!$A$3:$AP$386,31,0),\"\")","v":""},{"$f":"IFERROR(VLOOKUP(A33,'Gruber Tabelle'!$A$3:$AP$386,32,0),\"\")","v":""},{"$f":"IFERROR(VLOOKUP(A33,'Gruber Tabelle'!$A$3:$AP$386,33,0),\"\")","v":""},{"$f":"IFERROR(VLOOKUP(A33,'Gruber Tabelle'!$A$3:$AP$386,34,0),\"\")","v":""},{"$f":"IFERROR(VLOOKUP(A33,'Gruber Tabelle'!$A$3:$AP$386,35,0),\"\")","v":""},{"$f":"IFERROR(VLOOKUP(A33,'Gruber Tabelle'!$A$3:$AR$386,16,0),\"\")","v":""},{"$f":"IFERROR(VLOOKUP(A33,'Gruber Tabelle'!$A$3:$AR$386,41,0),\"\")","v":""},{"$f":"IFERROR(VLOOKUP(A33,'Gruber Tabelle'!$A$3:$AR$386,42,0),\"\")","v":""},"",{"$f":"IFERROR(VLOOKUP(A33,'Gruber Tabelle'!$A$3:$AR$386,15,0),\"\")","v":""},{"$f":"IFERROR(VLOOKUP(A33,'Gruber Tabelle'!$A$3:$AR$386,37,0),\"\")","v":""},{"$f":"IFERROR(VLOOKUP(A33,'Gruber Tabelle'!$A$3:$AR$386,38,0),\"\")","v":""},{"$f":"IFERROR(VLOOKUP(A33,'Gruber Tabelle'!$A$3:$AR$386,39,0),\"\")","v":""},{"$f":"IFERROR(VLOOKUP(A33,'Gruber Tabelle'!$A$3:$AR$386,40,0),0)","v":0},{"$f":"IFERROR(VLOOKUP(A33,'Gruber Tabelle'!$A$3:$AR$386,16,0),\"\")","v":""},{"$f":"IFERROR(VLOOKUP(A33,'Gruber Tabelle'!$A$3:$AR$386,19,0),\"\")","v":""},{"$f":"IFERROR(VLOOKUP(A33,'Gruber Tabelle'!$A$3:$AP$386,36,0),\"\")","v":""}]
[null,{"$f":"IFERROR(VLOOKUP(A34,'Gruber Tabelle'!$A$3:$AR$386,2,0),\"\")","v":""},0,{"$f":"IFERROR(VLOOKUP(A34,'Gruber Tabelle'!$A$3:$AR$386,28,0),\"\")","v":""},0,{"$f":"IFERROR(VLOOKUP(A34,'Gruber Tabelle'!$A$3:$AR$386,3,0),\"\")","v":""},{"$f":"IFERROR(VLOOKUP(A34,'Gruber Tabelle'!$A$3:$AR$386,4,0),\"\")","v":""},0,{"$f":"IFERROR(VLOOKUP(A34,'Gruber Tabelle'!$A$3:$AR$386,6,0),\"\")","v":""},{"$f":"IFERROR(VLOOKUP(A34,'Gruber Tabelle'!$A$3:$AR$386,7,0),\"\")","v":""},{"$f":"IFERROR(VLOOKUP(A34,'Gruber Tabelle'!$A$3:$AR$386,8,0),\"\")","v":""},{"$f":"IFERROR(VLOOKUP(A34,'Gruber Tabelle'!$A$3:$AR$386,13,0),\"\")","v":""},{"$f":"IFERROR(VLOOKUP(A34,'Gruber Tabelle'!$A$3:$AR$386,18,0),\"\")","v":""},{"$f":"IFERROR(VLOOKUP(A34,'Gruber Tabelle'!$A$3:$AR$386,9,0),\"\")","v":""},{"$f":"IFERROR(VLOOKUP(A34,'Gruber Tabelle'!$A$3:$AR$386,14,0),\"\")","v":""},{"$f":"IFERROR(VLOOKUP(A34,'Gruber Tabelle'!$A$3:$AR$386,10,0),\"\")","v":""},{"$f":"IFERROR(VLOOKUP(A34,'Gruber Tabelle'!$A$3:$AR$386,11,0),\"\")","v":""},{"$f":"IFERROR(VLOOKUP(A34,'Gruber Tabelle'!$A$3:$AR$386,43,0),0)","v":0},{"$f":"IFERROR(VLOOKUP(A34,'Gruber Tabelle'!$A$3:$AR$386,12,0),\"\")","v":""},{"$f":"IFERROR(VLOOKUP(A34,'Gruber Tabelle'!$A$3:$AR$386,17,0),\"\")","v":""},{"$f":"IFERROR(VLOOKUP(A34,'Gruber Tabelle'!$A$3:$AR$386,20,0),\"\")","v":""},{"$f":"IFERROR(VLOOKUP(A34,'Gruber Tabelle'!$A$3:$AR$386,21,0),\"\")","v":""},{"$f":"IFERROR(VLOOKUP(A34,'Gruber Tabelle'!$A$3:$AR$386,23,0),\"\")","v":""},{"$f":"IFERROR(VLOOKUP(A34,'Gruber Tabelle'!$A$3:$AR$386,22,0),\"\")","v":""},{"$f":"IFERROR(VLOOKUP(A34,'Gruber Tabelle'!$A$3:$AR$386,24,0),\"\")","v":""},{"$f":"IFERROR(VLOOKUP(A34,'Gruber Tabelle'!$A$3:$AR$386,25,0),\"\")","v":""},{"$f":"IFERROR(VLOOKUP(A34,'Gruber Tabelle'!$A$3:$AR$386,26,0),\"\")","v":""},{"$f":"IFERROR(VLOOKUP(A34,'Gruber Tabelle'!$A$3:$AP$386,27,0),\"\")","v":""},{"$f":"IFERROR(VLOOKUP(A34,'Gruber Tabelle'!$A$3:$AP$386,29,0),\"\")","v":""},{"$f":"IFERROR(VLOOKUP(A34,'Gruber Tabelle'!$A$3:$AP$386,30,0),\"\")","v":""},{"$f":"IFERROR(VLOOKUP(A34,'Gruber Tabelle'!$A$3:$AP$386,31,0),\"\")","v":""},{"$f":"IFERROR(VLOOKUP(A34,'Gruber Tabelle'!$A$3:$AP$386,32,0),\"\")","v":""},{"$f":"IFERROR(VLOOKUP(A34,'Gruber Tabelle'!$A$3:$AP$386,33,0),\"\")","v":""},{"$f":"IFERROR(VLOOKUP(A34,'Gruber Tabelle'!$A$3:$AP$386,34,0),\"\")","v":""},{"$f":"IFERROR(VLOOKUP(A34,'Gruber Tabelle'!$A$3:$AP$386,35,0),\"\")","v":""},{"$f":"IFERROR(VLOOKUP(A34,'Gruber Tabelle'!$A$3:$AR$386,16,0),\"\")","v":""},{"$f":"IFERROR(VLOOKUP(A34,'Gruber Tabelle'!$A$3:$AR$386,41,0),\"\")","v":""},{"$f":"IFERROR(VLOOKUP(A34,'Gruber Tabelle'!$A$3:$AR$386,42,0),\"\")","v":""},"",{"$f":"IFERROR(VLOOKUP(A34,'Gruber Tabelle'!$A$3:$AR$386,15,0),\"\")","v":""},{"$f":"IFERROR(VLOOKUP(A34,'Gruber Tabelle'!$A$3:$AR$386,37,0),\"\")","v":""},{"$f":"IFERROR(VLOOKUP(A34,'Gruber Tabelle'!$A$3:$AR$386,38,0),\"\")","v":""},{"$f":"IFERROR(VLOOKUP(A34,'Gruber Tabelle'!$A$3:$AR$386,39,0),\"\")","v":""},{"$f":"IFERROR(VLOOKUP(A34,'Gruber Tabelle'!$A$3:$AR$386,40,0),0)","v":0},{"$f":"IFERROR(VLOOKUP(A34,'Gruber Tabelle'!$A$3:$AR$386,16,0),\"\")","v":""},{"$f":"IFERROR(VLOOKUP(A34,'Gruber Tabelle'!$A$3:$AR$386,19,0),\"\")","v":""},{"$f":"IFERROR(VLOOKUP(A34,'Gruber Tabelle'!$A$3:$AP$386,36,0),\"\")","v":""}]
[null,{"$f":"IFERROR(VLOOKUP(A35,'Gruber Tabelle'!$A$3:$AR$386,2,0),\"\")","v":""},0,{"$f":"IFERROR(VLOOKUP(A35,'Gruber Tabelle'!$A$3:$AR$386,28,0),\"\")","v":""},0,{"$f":"IFERROR(VLOOKUP(A35,'Gruber Tabelle'!$A$3:$AR$386,3,0),\"\")","v":""},{"$f":"IFERROR(VLOOKUP(A35,'Gruber Tabelle'!$A$3:$AR$386,4,0),\"\")","v":""},0,{"$f":"IFERROR(VLOOKUP(A35,'Gruber Tabelle'!$A$3:$AR$386,6,0),\"\")","v":""},{"$f":"IFERROR(VLOOKUP(A35,'Gruber Tabelle'!$A$3:$AR$386,7,0),\"\")","v":""},{"$f":"IFERROR(VLOOKUP(A35,'Gruber Tabelle'!$A$3:$AR$386,8,0),\"\")","v":""},{"$f":"IFERROR(VLOOKUP(A35,'Gruber Tabelle'!$A$3:$AR$386,13,0),\"\")","v":""},{"$f":"IFERROR(VLOOKUP(A35,'Gruber Tabelle'!$A$3:$AR$386,18,0),\"\")","v":""},{"$f":"IFERROR(VLOOKUP(A35,'Gruber Tabelle'!$A$3:$AR$386,9,0),\"\")","v":""},{"$f":"IFERROR(VLOOKUP(A35,'Gruber Tabelle'!$A$3:$AR$386,14,0),\"\")","v":""},{"$f":"IFERROR(VLOOKUP(A35,'Gruber Tabelle'!$A$3:$AR$386,10,0),\"\")","v":""},{"$f":"IFERROR(VLOOKUP(A35,'Gruber Tabelle'!$A$3:$AR$386,11,0),\"\")","v":""},{"$f":"IFERROR(VLOOKUP(A35,'Gruber Tabelle'!$A$3:$AR$386,43,0),0)","v":0},{"$f":"IFERROR(VLOOKUP(A35,'Gruber Tabelle'!$A$3:$AR$386,12,0),\"\")","v":""},{"$f":"IFERROR(VLOOKUP(A35,'Gruber Tabelle'!$A$3:$AR$386,17,0),\"\")","v":""},{"$f":"IFERROR(VLOOKUP(A35,'Gruber Tabelle'!$A$3:$AR$386,20,0),\"\")","v":""},{"$f":"IFERROR(VLOOKUP(A35,'Gruber Tabelle'!$A$3:$AR$386,21,0),\"\")","v":""},{"$f":"IFERROR(VLOOKUP(A35,'Gruber Tabelle'!$A$3:$AR$386,23,0),\"\")","v":""},{"$f":"IFERROR(VLOOKUP(A35,'Gruber Tabelle'!$A$3:$AR$386,22,0),\"\")","v":""},{"$f":"IFERROR(VLOOKUP(A35,'Gruber Tabelle'!$A$3:$AR$386,24,0),\"\")","v":""},{"$f":"IFERROR(VLOOKUP(A35,'Gruber Tabelle'!$A$3:$AR$386,25,0),\"\")","v":""},{"$f":"IFERROR(VLOOKUP(A35,'Gruber Tabelle'!$A$3:$AR$386,26,0),\"\")","v":""},{"$f":"IFERROR(VLOOKUP(A35,'Gruber Tabelle'!$A$3:$AP$386,27,0),\"\")","v":""},{"$f":"IFERROR(VLOOKUP(A35,'Gruber Tabelle'!$A$3:$AP$386,29,0),\"\")","v":""},{"$f":"IFERROR(VLOOKUP(A35,'Gruber Tabelle'!$A$3:$AP$386,30,0),\"\")","v":""},{"$f":"IFERROR(VLOOKUP(A35,'Gruber Tabelle'!$A$3:$AP$386,31,0),\"\")","v":""},{"$f":"IFERROR(VLOOKUP(A35,'Gruber Tabelle'!$A$3:$AP$386,32,0),\"\")","v":""},{"$f":"IFERROR(VLOOKUP(A35,'Gruber Tabelle'!$A$3:$AP$386,33,0),\"\")","v":""},{"$f":"IFERROR(VLOOKUP(A35,'Gruber Tabelle'!$A$3:$AP$386,34,0),\"\")","v":""},{"$f":"IFERROR(VLOOKUP(A35,'Gruber Tabelle'!$A$3:$AP$386,35,0),\"\")","v":""},{"$f":"IFERROR(VLOOKUP(A35,'Gruber Tabelle'!$A$3:$AR$386,16,0),\"\")","v":""},{"$f":"IFERROR(VLOOKUP(A35,'Gruber Tabelle'!$A$3:$AR$386,41,0),\"\")","v":""},{"$f":"IFERROR(VLOOKUP(A35,'Gruber Tabelle'!$A$3:$AR$386,42,0),\"\")","v":""},"",{"$f":"IFERROR(VLOOKUP(A35,'Gruber Tabelle'!$A$3:$AR$386,15,0),\"\")","v":""},{"$f":"IFERROR(VLOOKUP(A35,'Gruber Tabelle'!$A$3:$AR$386,37,0),\"\")","v":""},{"$f":"IFERROR(VLOOKUP(A35,'Gruber Tabelle'!$A$3:$AR$386,38,0),\"\")","v":""},{"$f":"IFERROR(VLOOKUP(A35,'Gruber Tabelle'!$A$3:$AR$386,39,0),\"\")","v":""},{"$f":"IFERROR(VLOOKUP(A35,'Gruber Tabelle'!$A$3:$AR$386,40,0),0)","v":0},{"$f":"IFERROR(VLOOKUP(A35,'Gruber Tabelle'!$A$3:$AR$386,16,0),\"\")","v":""},{"$f":"IFERROR(VLOOKUP(A35,'Gruber Tabelle'!$A$3:$AR$386,19,0),\"\")","v":""},{"$f":"IFERROR(VLOOKUP(A35,'Gruber Tabelle'!$A$3:$AP$386,36,0),\"\")","v":""}]
[null,{"$f":"IFERROR(VLOOKUP(A36,'Gruber Tabelle'!$A$3:$AR$386,2,0),\"\")","v":""},0,{"$f":"IFERROR(VLOOKUP(A36,'Gruber Tabelle'!$A$3:$AR$386,28,0),\"\")","v":""},0,{"$f":"IFERROR(VLOOKUP(A36,'Gruber Tabelle'!$A$3:$AR$386,3,0),\"\")","v":""},{"$f":"IFERROR(VLOOKUP(A36,'Gruber Tabelle'!$A$3:$AR$386,4,0),\"\")","v":""},0,{"$f":"IFERROR(VLOOKUP(A36,'Gruber Tabelle'!$A$3:$AR$386,6,0),\"\")","v":""},{"$f":"IFERROR(VLOOKUP(A36,'Gruber Tabelle'!$A$3:$AR$386,7,0),\"\")","v":""},{"$f":"IFERROR(VLOOKUP(A36,'Gruber Tabelle'!$A$3:$AR$386,8,0),\"\")","v":""},{"$f":"IFERROR(VLOOKUP(A36,'Gruber Tabelle'!$A$3:$AR$386,13,0),\"\")","v":""},{"$f":"IFERROR(VLOOKUP(A36,'Gruber Tabelle'!$A$3:$AR$386,18,0),\"\")","v":""},{"$f":"IFERROR(VLOOKUP(A36,'Gruber Tabelle'!$A$3:$AR$386,9,0),\"\")","v":""},{"$f":"IFERROR(VLOOKUP(A36,'Gruber Tabelle'!$A$3:$AR$386,14,0),\"\")","v":""},{"$f":"IFERROR(VLOOKUP(A36,'Gruber Tabelle'!$A$3:$AR$386,10,0),\"\")","v":""},{"$f":"IFERROR(VLOOKUP(A36,'Gruber Tabelle'!$A$3:$AR$386,11,0),\"\")","v":""},{"$f":"IFERROR(VLOOKUP(A36,'Gruber Tabelle'!$A$3:$AR$386,43,0),0)","v":0},{"$f":"IFERROR(VLOOKUP(A36,'Gruber Tabelle'!$A$3:$AR$386,12,0),\"\")","v":""},{"$f":"IFERROR(VLOOKUP(A36,'Gruber Tabelle'!$A$3:$AR$386,17,0),\"\")","v":""},{"$f":"IFERROR(VLOOKUP(A36,'Gruber Tabelle'!$A$3:$AR$386,20,0),\"\")","v":""},{"$f":"IFERROR(VLOOKUP(A36,'Gruber Tabelle'!$A$3:$AR$386,21,0),\"\")","v":""},{"$f":"IFERROR(VLOOKUP(A36,'Gruber Tabelle'!$A$3:$AR$386,23,0),\"\")","v":""},{"$f":"IFERROR(VLOOKUP(A36,'Gruber Tabelle'!$A$3:$AR$386,22,0),\"\")","v":""},{"$f":"IFERROR(VLOOKUP(A36,'Gruber Tabelle'!$A$3:$AR$386,24,0),\"\")","v":""},{"$f":"IFERROR(VLOOKUP(A36,'Gruber Tabelle'!$A$3:$AR$386,25,0),\"\")","v":""},{"$f":"IFERROR(VLOOKUP(A36,'Gruber Tabelle'!$A$3:$AR$386,26,0),\"\")","v":""},{"$f":"IFERROR(VLOOKUP(A36,'Gruber Tabelle'!$A$3:$AP$386,27,0),\"\")","v":""},{"$f":"IFERROR(VLOOKUP(A36,'Gruber Tabelle'!$A$3:$AP$386,29,0),\"\")","v":""},{"$f":"IFERROR(VLOOKUP(A36,'Gruber Tabelle'!$A$3:$AP$386,30,0),\"\")","v":""},{"$f":"IFERROR(VLOOKUP(A36,'Gruber Tabelle'!$A$3:$AP$386,31,0),\"\")","v":""},{"$f":"IFERROR(VLOOKUP(A36,'Gruber Tabelle'!$A$3:$AP$386,32,0),\"\")","v":""},{"$f":"IFERROR(VLOOKUP(A36,'Gruber Tabelle'!$A$3:$AP$386,33,0),\"\")","v":""},{"$f":"IFERROR(VLOOKUP(A36,'Gruber Tabelle'!$A$3:$AP$386,34,0),\"\")","v":""},{"$f":"IFERROR(VLOOKUP(A36,'Gruber Tabelle'!$A$3:$AP$386,35,0),\"\")","v":""},{"$f":"IFERROR(VLOOKUP(A36,'Gruber Tabelle'!$A$3:$AR$386,16,0),\"\")","v":""},{"$f":"IFERROR(VLOOKUP(A36,'Gruber Tabelle'!$A$3:$AR$386,41,0),\"\")","v":""},{"$f":"IFERROR(VLOOKUP(A36,'Gruber Tabelle'!$A$3:$AR$386,42,0),\"\")","v":""},"",{"$f":"IFERROR(VLOOKUP(A36,'Gruber Tabelle'!$A$3:$AR$386,15,0),\"\")","v":""},{"$f":"IFERROR(VLOOKUP(A36,'Gruber Tabelle'!$A$3:$AR$386,37,0),\"\")","v":""},{"$f":"IFERROR(VLOOKUP(A36,'Gruber Tabelle'!$A$3:$AR$386,38,0),\"\")","v":""},{"$f":"IFERROR(VLOOKUP(A36,'Gruber Tabelle'!$A$3:$AR$386,39,0),\"\")","v":""},{"$f":"IFERROR(VLOOKUP(A36,'Gruber Tabelle'!$A$3:$AR$386,40,0),0)","v":0},{"$f":"IFERROR(VLOOKUP(A36,'Gruber Tabelle'!$A$3:$AR$386,16,0),\"\")","v":""},{"$f":"IFERROR(VLOOKUP(A36,'Gruber Tabelle'!$A$3:$AR$386,19,0),\"\")","v":""},{"$f":"IFERROR(VLOOKUP(A36,'Gruber Tabelle'!$A$3:$AP$386,36,0),\"\")","v":""}]

{"sheet":"Mischung 1","index":2,"n_rows":36,"n_cols":62,"rows_kept":36,"cut":false,"hidden":false,"merged":[[0,45,0,58]]}
["Mischung",null,null,"TM","CA","OM","aNDFom","ADFom","OMDFANi","GE","MEFANi","CP","sidP FANi","CL","ST","bST","ZU","RMDFANi","Ca","P","Na","Mg","K","Cl","S","DCAB","Fe","Cu","Zn","Mn","Co","J","Se","siDUDP","Lysin","Methionin","Passagerate  k","sidP udp","a","b","c","lag","sidUDP FAN1","pabKH","Preis","Berechnung von Basis Fan1 auf FANi        --       DLG Information 01 | 25  -  DLG-Merknlatt 503  -  DLG-MERKBLATT 504"]
[null,"Futtermittel - Mischungsanteil in %","Anteil","g","g","g","g","g","% OM","MJ","MJ","g","g","g","g","g","g","g","g","g","g","g","g","g","g","meq","mg","mg","mg","mg","mg","mg","mg","% ","g","g","% / h","g","%","%","% / h","h","g","g","€ ","CH4E FAN1","CH4E FANi","Harnenergie","ME FANi","MCP g/kg","sidP aus MCP","EDGFANi %","UDPFANi","RDP g/d","sidPUDP g ","sidP g/kg","RDP g/kg","MCP g/d","RMDFANi","DOMFANi","MCP/DOM","UDP %"]
[{"$f":"A25","v":0},{"$f":"B25","v":""},null,{"$f":"IFERROR(D25*C3,0)","v":0},{"$f":"IFERROR(E25*D3/1000,0)","v":0},{"$f":"IFERROR(F25*D3/1000,0)","v":0},{"$f":"IF(AND(C25=\"GF\",C3>0),G25*D3/1000,0)","v":0},{"$f":"IFERROR(H25*D3/1000,0)","v":0},{"$f":"IF(C3>0,I25-(1.5+0.05*(I25-65))*('Start-Einstellung'!$G$8-1),0)","v":0},{"$f":"IFERROR(J25*D3/1000,0)","v":0},{"$f":"IFERROR((AW3*D3/1000),0)","v":0},{"$f":"IFERROR(L25*D3/1000,0)","v":0},{"$f":"(D3/1000)*BD3","v":0},{"$f":"IFERROR(N25*D3/1000,0)","v":0},{"$f":"IFERROR(O25*D3/1000,0)","v":0},{"$f":"IFERROR(P25*D3/1000,0)","v":0},{"$f":"IFERROR(Q25*D3/1000,0)","v":0},{"$f":"IFERROR((BB3-BF3)/6.25,0)","v":0},{"$f":"IFERROR(S25*D3/1000,0)","v":0},{"$f":"IFERROR(T25*D3/1000,0)","v":0},{"$f":"IFERROR(U25*D3/1000,0)","v":0},{"$f":"IFERROR(V25*D3/1000,0)","v":0},{"$f":"IFERROR(W25*D3/1000,0)","v":0},{"$f":"IFERROR(X25*D3/1000,0)","v":0},{"$f":"IFERROR(Y25*D3/1000,0)","v":0},{"$f":"IFERROR(Z25*D3/1000,0)","v":0},{"$f":"IFERROR(AA25*D3/1000,0)","v":0},{"$f":"IFERROR(AB25*D3/1000,0)","v":0},{"$f":"IFERROR(AC25*D3/1000,0)","v":0},{"$f":"IFERROR(AD25*D3/1000,0)","v":0},{"$f":"IFERROR(AE25*D3/1000,0)","v":0},{"$f":"IFERROR(AF25*D3/1000,0)","v":0},{"$f":"IFERROR(AG25*D3/1000,0)","v":0},{"$f":"IF(C3=0,0,AH25)","v":0},{"$f":"IFERROR(AI25*D3/1000,0)","v":0},{"$f":"IFERROR(AJ25*D3/1000,0)","v":0},{"$f":"IF(C3=0,0,IF(C25=\"GF\",(1.7286+0.8857*'Start-Einstellung'!$G$8),IF(C25=\"KF\",(2.2357+1.2429*'Start-Einstellung'!$G$8),IF(C25=\"SF\",(1.9607+0.9643*'Start-Einstellung'!$G$8),0))))","v":0},{"$f":"IFERROR(BC3*D3/1000,0)","v":0},{"$f":"IF(C3=0,0,AM25)","v":0},{"$f":"IF(C3=0,0,AN25)","v":0},{"$f":"IF(C3>0,AO25/100,0)","v":0},{"$f":"IF(C3=0,0,AP25)","v":0},{"$f":"IFERROR(AQ25*D3/1000,0)","v":0},{"$f":"IFERROR(AR25*D3/1000,0)","v":0},{"$f":"IF(C3=0,0,IF(C3>0,(AS25/100)*C3))","v":0},{"$f":"IF(C3=0,0,IF(C3>0,(0.7+0.014*I25)*(F25/1000)))","v":0},{"$f":"IFERROR(IF(C3=0,0,IF(C3>0,(((AT3/(F25/1000)+0.9*('Start-Einstellung'!$G$8-1))/'Start-Einstellung'!$G$8*(F25/1000))))),0)","v":0},{"$f":"IF(C3=0,0,IF(C3>0,(0.0037*L25)))","v":0},{"$f":"IF(C3=0,0,IF(C3>0,((J25*(I3-3.3)/100)-AV3-AU3)))","v":0},{"$f":"BI3*BH3/1000","v":0},{"$f":"IFERROR((AX3*0.78*0.85),0)","v":0},{"$f":"IF(C3>0,AM3+(AN3*AO3)/(AO3+AK3%)*(EXP(-AK3/100*AP3)),0)","v":0},{"$f":"IF(C3=0,0,IF(C3>0,(L25*(1-(AZ3/100)))))","v":0},{"$f":"IF(C3>0,BE3*(D3/1000),0)","v":0},{"$f":"IF(C3>0,(BA3*AH3%),0)","v":0},{"$f":"IFERROR((AY3+BC3),0)","v":0},{"$f":"IFERROR(L25*AZ3/100,0)","v":0},{"$f":"IF(F3>0,AX3*(D3/1000),0)","v":0},{"$f":"IFERROR((BE3-AX3)/6.25,0)","v":0},{"$f":"IFERROR((F25*I3/100),0)","v":0},{"$f":"IF(C3=0,0,IF('Start-Einstellung'!$G$8<3.4,150,IF(-11+(47.1*'Start-Einstellung'!$G$8)>180,180,(-11+(47.1*'Start-Einstellung'!$G$8)))))","v":0},{"$f":"IFERROR((BA3/L25)*100,0)","v":0}]
[0,"",null,0,{"$f":"IFERROR(E26*D4/1000,0)","v":0},{"$f":"IFERROR(F26*D4/1000,0)","v":0},{"$f":"IF(AND(C26=\"GF\",C4>0),G26*D4/1000,0)","v":0},{"$f":"IFERROR(H26*D4/1000,0)","v":0},{"$f":"IF(C4>0,I26-(1.5+0.05*(I26-65))*('Start-Einstellung'!$G$8-1),0)","v":0},{"$f":"IFERROR(J26*D4/1000,0)","v":0},{"$f":"IFERROR((AW4*D4/1000),0)","v":0},{"$f":"IFERROR(L26*D4/1000,0)","v":0},{"$f":"(D4/1000)*BD4","v":0},{"$f":"IFERROR(N26*D4/1000,0)","v":0},{"$f":"IFERROR(O26*D4/1000,0)","v":0},{"$f":"IFERROR(P26*D4/1000,0)","v":0},{"$f":"IFERROR(Q26*D4/1000,0)","v":0},{"$f":"IFERROR((BB4-BF4)/6.25,0)","v":0},{"$f":"IFERROR(S26*D4/1000,0)","v":0},{"$f":"IFERROR(T26*D4/1000,0)","v":0},{"$f":"IFERROR(U26*D4/1000,0)","v":0},{"$f":"IFERROR(V26*D4/1000,0)","v":0},{"$f":"IFERROR(W26*D4/1000,0)","v":0},{"$f":"IFERROR(X26*D4/1000,0)","v":0},{"$f":"IFERROR(Y26*D4/1000,0)","v":0},{"$f":"IFERROR(Z26*D4/1000,0)","v":0},{"$f":"IFERROR(AA26*D4/1000,0)","v":0},{"$f":"IFERROR(AB26*D4/1000,0)","v":0},{"$f":"IFERROR(AC26*D4/1000,0)","v":0},{"$f":"IFERROR(AD26*D4/1000,0)","v":0},{"$f":"IFERROR(AE26*D4/1000,0)","v":0},{"$f":"IFERROR(AF26*C4,0)","v":0},{"$f":"IFERROR(AG26*D4/1000,0)","v":0},{"$f":"IF(C4=0,0,AH26)","v":0},{"$f":"IFERROR(AI26*D4/1000,0)","v":0},{"$f":"IFERROR(AJ26*D4/1000,0)","v":0},{"$f":"IF(C4=0,0,IF(C26=\"GF\",(1.7286+0.8857*'Start-Einstellung'!$G$8),IF(C26=\"KF\",(2.2357+1.2429*'Start-Einstellung'!$G$8),IF(C26=\"SF\",(1.9607+0.9643*'Start-Einstellung'!$G$8),0))))","v":0},{"$f":"IFERROR(BC4*D4/1000,0)","v":0},{"$f":"IF(C4=0,0,AM26)","v":0},{"$f":"IF(C4=0,0,AN26)","v":0},0,{"$f":"IF(C4=0,0,AP26)","v":0},{"$f":"IFERROR(AQ26*D4/1000,0)","v":0},{"$f":"IFERROR(AR26*D4/1000,0)","v":0},0,0,{"$f":"IFERROR(IF(C4=0,0,IF(C4>0,(((AT4/(F26/1000)+0.9*('Start-Einstellung'!$G$8-1))/'Start-Einstellung'!$G$8*(F26/1000))))),0)","v":0},0,0,{"$f":"BI4*BH4/1000","v":0},{"$f":"IFERROR((AX4*0.78*0.85),0)","v":0},{"$f":"IF(C4>0,AM4+(AN4*AO4)/(AO4+AK4%)*(EXP(-AK4/100*AP4)),0)","v":0},0,{"$f":"IF(C4>0,BE4*(D4/1000),0)","v":0},{"$f":"IF(C4>0,(BA4*AH4%),0)","v":0},{"$f":"IFERROR((AY4+BC4),0)","v":0},0,{"$f":"IF(F4>0,AX4*(D4/1000),0)","v":0},{"$f":"IFERROR((BE4-AX4)/6.25,0)","v":0},0,{"$f":"IF(C4=0,0,IF('Start-Einstellung'!$G$8<3.4,150,IF(-11+(47.1*'Start-Einstellung'!$G$8)>180,180,(-11+(47.1*'Start-Einstellung'!$G$8)))))","v":0},0]
[0,"",null,0,0,0,0,0,{"$f":"IF(C5>0,I27-(1.5+0.05*(I27-65))*('Start-Einstellung'!$G$8-1),0)","v":0},0,0,0,0,0,0,0,0,0,0,0,0,0,0,0,0,0,0,0,0,0,0,0,0,0,0,0,{"$f":"IF(C5=0,0,IF(C27=\"GF\",(1.7286+0.8857*'Start-Einstellung'!$G$8),IF(C27=\"KF\",(2.2357+1.2429*'Start-Einstellung'!$G$8),IF(C27=\"SF\",(1.9607+0.9643*'Start-Einstellung'!$G$8),0))))","v":0},0,0,0,0,0,0,0,0,0,{"$f":"IFERROR(IF(C5=0,0,IF(C5>0,(((AT5/(F27/1000)+0.9*('Start-Einstellung'!$G$8-1))/'Start-Einstellung'!$G$8*(F27/1000))))),0)","v":0},0,0,0,0,0,0,0,0,0,0,0,0,0,{"$f":"IF(C5=0,0,IF('Start-Einstellung'!$G$8<3.4,150,IF(-11+(47.1*'Start-Einstellung'!$G$8)>180,180,(-11+(47.1*'Start-Einstellung'!$G$8)))))","v":0},0]
[0,"",null,0,0,0,0,0,{"$f":"IF(C6>0,I28-(1.5+0.05*(I28-65))*('Start-Einstellung'!$G$8-1),0)","v":0},0,0,0,0,0,0,0,0,0,0,0,0,0,0,0,0,0,0,0,0,0,0,0,0,0,0,0,{"$f":"IF(C6=0,0,IF(C28=\"GF\",(1.7286+0.8857*'Start-Einstellung'!$G$8),IF(C28=\"KF\",(2.2357+1.2429*'Start-Einstellung'!$G$8),IF(C28=\"SF\",(1.9607+0.9643*'Start-Einstellung'!$G$8),0))))","v":0},0,0,0,0,0,0,0,0,0,{"$f":"IFERROR(IF(C6=0,0,IF(C6>0,(((AT6/(F28/1000)+0.9*('Start-Einstellung'!$G$8-1))/'Start-Einstellung'!$G$8*(F28/1000))))),0)","v":0},0,0,0,0,0,0,0,0,0,0,0,0,0,{"$f":"IF(C6=0,0,IF('Start-Einstellung'!$G$8<3.4,150,IF(-11+(47.1*'Start-Einstellung'!$G$8)>180,180,(-11+(47.1*'Start-Einstellung'!$G$8)))))","v":0},0]
[0,"",null,0,0,0,0,0,{"$f":"IF(C7>0,I29-(1.5+0.05*(I29-65))*('Start-Einstellung'!$G$8-1),0)","v":0},0,0,0,0,0,0,0,0,0,0,0,0,0,0,0,0,0,0,0,0,0,0,0,0,0,0,0,{"$f":"IF(C7=0,0,IF(C29=\"GF\",(1.7286+0.8857*'Start-Einstellung'!$G$8),IF(C29=\"KF\",(2.2357+1.2429*'Start-Einstellung'!$G$8),IF(C29=\"SF\",(1.9607+0.9643*'Start-Einstellung'!$G$8),0))))","v":0},0,0,0,0,0,0,0,0,0,{"$f":"IFERROR(IF(C7=0,0,IF(C7>0,(((AT7/(F29/1000)+0.9*('Start-Einstellung'!$G$8-1))/'Start-Einstellung'!$G$8*(F29/1000))))),0)","v":0},0,0,0,0,0,0,0,0,0,0,0,0,0,{"$f":"IF(C7=0,0,IF('Start-Einstellung'!$G$8<3.4,150,IF(-11+(47.1*'Start-Einstellung'!$G$8)>180,180,(-11+(47.1*'Start-Einstellung'!$G$8)))))","v":0},0]
[0,"",null,0,0,0,0,0,{"$f":"IF(C8>0,I30-(1.5+0.05*(I30-65))*('Start-Einstellung'!$G$8-1),0)","v":0},0,0,0,0,0,0,0,0,0,0,0,0,0,0,0,0,0,0,0,0,0,0,0,0,0,0,0,{"$f":"IF(C8=0,0,IF(C30=\"GF\",(1.7286+0.8857*'Start-Einstellung'!$G$8),IF(C30=\"KF\",(2.2357+1.2429*'Start-Einstellung'!$G$8),IF(C30=\"SF\",(1.9607+0.9643*'Start-Einstellung'!$G$8),0))))","v":0},0,0,0,0,0,0,0,0,0,{"$f":"IFERROR(IF(C8=0,0,IF(C8>0,(((AT8/(F30/1000)+0.9*('Start-Einstellung'!$G$8-1))/'Start-Einstellung'!$G$8*(F30/1000))))),0)","v":0},0,0,0,0,0,0,0,0,0,0,0,0,0,{"$f":"IF(C8=0,0,IF('Start-Einstellung'!$G$8<3.4,150,IF(-11+(47.1*'Start-Einstellung'!$G$8)>180,180,(-11+(47.1*'Start-Einstellung'!$G$8)))))","v":0},0]
[0,"",null,0,0,0,0,0,{"$f":"IF(C9>0,I31-(1.5+0.05*(I31-65))*('Start-Einstellung'!$G$8-1),0)","v":0},0,0,0,0,0,0,0,0,0,0,0,0,0,0,0,0,0,0,0,0,0,0,0,0,0,0,0,{"$f":"IF(C9=0,0,IF(C31=\"GF\",(1.7286+0.8857*'Start-Einstellung'!$G$8),IF(C31=\"KF\",(2.2357+1.2429*'Start-Einstellung'!$G$8),IF(C31=\"SF\",(1.9607+0.9643*'Start-Einstellung'!$G$8),0))))","v":0},0,0,0,0,0,0,0,0,0,{"$f":"IFERROR(IF(C9=0,0,IF(C9>0,(((AT9/(F31/1000)+0.9*('Start-Einstellung'!$G$8-1))/'Start-Einstellung'!$G$8*(F31/1000))))),0)","v":0},0,0,0,0,0,0,0,0,0,0,0,0,0,{"$f":"IF(C9=0,0,IF('Start-Einstellung'!$G$8<3.4,150,IF(-11+(47.1*'Start-Einstellung'!$G$8)>180,180,(-11+(47.1*'Start-Einstellung'!$G$8)))))","v":0},0]
[0,"",null,0,0,0,0,0,{"$f":"IF(C10>0,I32-(1.5+0.05*(I32-65))*('Start-Einstellung'!$G$8-1),0)","v":0},0,0,0,0,0,0,0,0,0,0,0,0,0,0,0,0,0,0,0,0,0,0,0,0,0,0,0,{"$f":"IF(C10=0,0,IF(C32=\"GF\",(1.7286+0.8857*'Start-Einstellung'!$G$8),IF(C32=\"KF\",(2.2357+1.2429*'Start-Einstellung'!$G$8),IF(C32=\"SF\",(1.9607+0.9643*'Start-Einstellung'!$G$8),0))))","v":0},0,0,0,0,0,0,0,0,0,{"$f":"IFERROR(IF(C10=0,0,IF(C10>0,(((AT10/(F32/1000)+0.9*('Start-Einstellung'!$G$8-1))/'Start-Einstellung'!$G$8*(F32/1000))))),0)","v":0},0,0,0,0,0,0,0,0,0,0,0,0,0,{"$f":"IF(C10=0,0,IF('Start-Einstellung'!$G$8<3.4,150,IF(-11+(47.1*'Start-Einstellung'!$G$8)>180,180,(-11+(47.1*'Start-Einstellung'!$G$8)))))","v":0},0]
[0,"",null,0,0,0,0,0,{"$f":"IF(C11>0,I33-(1.5+0.05*(I33-65))*('Start-Einstellung'!$G$8-1),0)","v":0},0,0,0,0,0,0,0,0,0,0,0,0,0,0,0,0,0,0,0,0,0,0,0,0,0,0,0,{"$f":"IF(C11=0,0,IF(C33=\"GF\",(1.7286+0.8857*'Start-Einstellung'!$G$8),IF(C33=\"KF\",(2.2357+1.2429*'Start-Einstellung'!$G$8),IF(C33=\"SF\",(1.9607+0.9643*'Start-Einstellung'!$G$8),0))))","v":0},0,0,0,0,0,0,0,0,0,{"$f":"IFERROR(IF(C11=0,0,IF(C11>0,(((AT11/(F33/1000)+0.9*('Start-Einstellung'!$G$8-1))/'Start-Einstellung'!$G$8*(F33/1000))))),0)","v":0},0,0,0,0,0,0,0,0,0,0,0,0,0,{"$f":"IF(C11=0,0,IF('Start-Einstellung'!$G$8<3.4,150,IF(-11+(47.1*'Start-Einstellung'!$G$8)>180,180,(-11+(47.1*'Start-Einstellung'!$G$8)))))","v":0},0]
[0,"",null,0,0,0,0,0,{"$f":"IF(C12>0,I34-(1.5+0.05*(I34-65))*('Start-Einstellung'!$G$8-1),0)","v":0},0,0,0,0,0,0,0,0,0,0,0,0,0,0,0,0,0,0,0,0,0,0,0,0,0,0,0,{"$f":"IF(C12=0,0,IF(C34=\"GF\",(1.7286+0.8857*'Start-Einstellung'!$G$8),IF(C34=\"KF\",(2.2357+1.2429*'Start-Einstellung'!$G$8),IF(C34=\"SF\",(1.9607+0.9643*'Start-Einstellung'!$G$8),0))))","v":0},0,0,0,0,0,0,0,0,0,{"$f":"IFERROR(IF(C12=0,0,IF(C12>0,(((AT12/(F34/1000)+0.9*('Start-Einstellung'!$G$8-1))/'Start-Einstellung'!$G$8*(F34/1000))))),0)","v":0},0,0,0,0,0,0,0,0,0,0,0,0,0,{"$f":"IF(C12=0,0,IF('Start-Einstellung'!$G$8<3.4,150,IF(-11+(47.1*'Start-Einstellung'!$G$8)>180,180,(-11+(47.1*'Start-Einstellung'!$G$8)))))","v":0},0]
[0,"",null,0,0,0,0,0,{"$f":"IF(C13>0,I35-(1.5+0.05*(I35-65))*('Start-Einstellung'!$G$8-1),0)","v":0},0,0,0,0,0,0,0,0,0,0,0,0,0,0,0,0,0,0,0,0,0,0,0,0,0,0,0,{"$f":"IF(C13=0,0,IF(C35=\"GF\",(1.7286+0.8857*'Start-Einstellung'!$G$8),IF(C35=\"KF\",(2.2357+1.2429*'Start-Einstellung'!$G$8),IF(C35=\"SF\",(1.9607+0.9643*'Start-Einstellung'!$G$8),0))))","v":0},0,0,0,0,0,0,0,0,0,{"$f":"IFERROR(IF(C13=0,0,IF(C13>0,(((AT13/(F35/1000)+0.9*('Start-Einstellung'!$G$8-1))/'Start-Einstellung'!$G$8*(F35/1000))))),0)","v":0},0,0,0,0,0,0,0,0,0,0,0,0,0,{"$f":"IF(C13=0,0,IF('Start-Einstellung'!$G$8<3.4,150,IF(-11+(47.1*'Start-Einstellung'!$G$8)>180,180,(-11+(47.1*'Start-Einstellung'!$G$8)))))","v":0},0]
[0,"",null,0,0,0,0,0,{"$f":"IF(C14>0,I36-(1.5+0.05*(I36-65))*('Start-Einstellung'!$G$8-1),0)","v":0},0,0,0,0,0,0,0,0,0,0,0,0,0,0,0,0,0,0,0,0,0,0,0,0,0,0,0,{"$f":"IF(C14=0,0,IF(C36=\"GF\",(1.7286+0.8857*'Start-Einstellung'!$G$8),IF(C36=\"KF\",(2.2357+1.2429*'Start-Einstellung'!$G$8),IF(C36=\"SF\",(1.9607+0.9643*'Start-Einstellung'!$G$8),0))))","v":0},0,0,0,0,0,0,0,0,0,{"$f":"IFERROR(IF(C14=0,0,IF(C14>0,(((AT14/(F36/1000)+0.9*('Start-Einstellung'!$G$8-1))/'Start-Einstellung'!$G$8*(F36/1000))))),0)","v":0},0,0,0,0,0,0,0,0,0,0,0,0,0,{"$f":"IF(C14=0,0,IF('Start-Einstellung'!$G$8<3.4,150,IF(-11+(47.1*'Start-Einstellung'!$G$8)>180,180,(-11+(47.1*'Start-Einstellung'!$G$8)))))","v":0},0]
[null,"Summe",{"$f":"SUM(C3:C14)","v":0},{"$f":"SUM(D3:D14)","v":0},0,0,0,0,null,{"$f":"SUM(J3:J14)","v":0},{"$f":"SUM(K3:K14)","v":0},{"$f":"SUM(L3:L14)","v":0},{"$f":"SUM(M3:M14)","v":0},{"$f":"SUM(N3:N14)","v":0},{"$f":"SUM(O3:O14)","v":0},{"$f":"SUM(P3:P14)","v":0},{"$f":"SUM(Q3:Q14)","v":0},{"$f":"SUM(R3:R14)","v":0},{"$f":"SUM(S3:S14)","v":0},0,0,0,0,0,0,{"$f":"SUM(Z3:Z14)","v":0},{"$f":"SUM(AA3:AA14)","v":0},{"$f":"SUM(AB3:AB14)","v":0},0,0,{"$f":"IFERROR(SUM(AE3:AE14),0)","v":0},{"$f":"SUM(AF3:AF14)","v":0},0,null,{"$f":"SUM(AI3:AI14)","v":0},0,null,0,null,null,null,null,{"$f":"SUM(AQ3:AQ14)","v":0},{"$f":"IFERROR(SUM(AR3:AR14),0)","v":0},{"$f":"SUM(AS3:AS14)","v":0}]
[null,"Milcherzeugungswert / Kennzahlen",null,null,null,null,null,null,null,null,{"$f":"IF(K15>0,K15/'Start-Einstellung'!E24,0)","v":0},{"$f":"IF(D15>0,L15/D15,0)","v":0},{"$f":"IF(M15>0,M15/'Start-Einstellung'!D17,0)","v":0},{"$f":"IF(D15>0,N15/D15,0)","v":0},null,null,null,null,{"$f":"IF(S15>0,S15/'Start-Einstellung'!F24,0)","v":0},null,{"$f":"IF(U15>0,U15/'Start-Einstellung'!G24,0)","v":0}]
[]
[]
[]
[]
[]
[]
[]
[null,"Futtermittel aus Gruber Tabelle","Art","TM","CA","OM","aNDFom","ADFom","OMDFAN1","GE","MEFAN1","CP","sidP FAN1","CL","ST","bST","ZU","RMDFAN1","Ca","P","Na","Mg","K","Cl","S","DCAB","Fe","Cu","Zn","Mn","Co","J","Se","siDUDP","Lysin","Methionin",null,"sidPUDP","a","b","c","lag h","sidUDP FAN1","pabKH","Preis / €"]
[null,{"$f":"IFERROR(VLOOKUP(A25,'Gruber Tabelle'!$A$3:$AR$386,2,0),\"\")","v":""},{"$f":"IFERROR(VLOOKUP(A25,'Gruber Tabelle'!$A$3:$AR$386,28,0),\"\")","v":""},{"$f":"IFERROR(VLOOKUP(A25,'Gruber Tabelle'!$A$3:$AR$386,3,0),\"\")","v":""},{"$f":"IFERROR(VLOOKUP(A25,'Gruber Tabelle'!$A$3:$AR$386,4,0),\"\")","v":""},{"$f":"IFERROR(VLOOKUP(A25,'Gruber Tabelle'!$A$3:$AR$386,5,0),\"\")","v":""},{"$f":"IFERROR(VLOOKUP(A25,'Gruber Tabelle'!$A$3:$AR$386,6,0),\"\")","v":""},{"$f":"IFERROR(VLOOKUP(A25,'Gruber Tabelle'!$A$3:$AR$386,7,0),\"\")","v":""},{"$f":"IFERROR(VLOOKUP(A25,'Gruber Tabelle'!$A$3:$AR$386,8,0),\"\")","v":""},{"$f":"IFERROR(VLOOKUP(A25,'Gruber Tabelle'!$A$3:$AR$386,13,0),\"\")","v":""},{"$f":"IFERROR(VLOOKUP(A25,'Gruber Tabelle'!$A$3:$AR$386,18,0),\"\")","v":""},{"$f":"IFERROR(VLOOKUP(A25,'Gruber Tabelle'!$A$3:$AR$386,9,0),\"\")","v":""},{"$f":"IFERROR(VLOOKUP(A25,'Gruber Tabelle'!$A$3:$AR$386,14,0),\"\")","v":""},{"$f":"IFERROR(VLOOKUP(A25,'Gruber Tabelle'!$A$3:$AR$386,10,0),\"\")","v":""},{"$f":"IFERROR(VLOOKUP(A25,'Gruber Tabelle'!$A$3:$AR$386,11,0),\"\")","v":""},{"$f":"IFERROR(VLOOKUP(A25,'Gruber Tabelle'!$A$3:$AR$386,43,0),\"\")","v":""},{"$f":"IFERROR(VLOOKUP(A25,'Gruber Tabelle'!$A$3:$AR$386,12,0),\"\")","v":""},{"$f":"IFERROR(VLOOKUP(A25,'Gruber Tabelle'!$A$3:$AR$386,17,0),\"\")","v":""},{"$f":"IFERROR(VLOOKUP(A25,'Gruber Tabelle'!$A$3:$AR$386,20,0),\"\")","v":""},{"$f":"IFERROR(VLOOKUP(A25,'Gruber Tabelle'!$A$3:$AR$386,21,0),\"\")","v":""},{"$f":"IFERROR(VLOOKUP(A25,'Gruber Tabelle'!$A$3:$AR$386,23,0),\"\")","v":""},{"$f":"IFERROR(VLOOKUP(A25,'Gruber Tabelle'!$A$3:$AR$386,22,0),\"\")","v":""},{"$f":"IFERROR(VLOOKUP(A25,'Gruber Tabelle'!$A$3:$AR$386,24,0),\"\")","v":""},{"$f":"IFERROR(VLOOKUP(A25,'Gruber Tabelle'!$A$3:$AR$386,25,0),\"\")","v":""},{"$f":"IFERROR(VLOOKUP(A25,'Gruber Tabelle'!$A$3:$AR$386,26,0),\"\")","v":""},{"$f":"IFERROR(VLOOKUP(A25,'Gruber Tabelle'!$A$3:$AR$386,27,0),\"\")","v":""},{"$f":"IFERROR(VLOOKUP(A25,'Gruber Tabelle'!$A$3:$AR$386,29,0),\"\")","v":""},{"$f":"IFERROR(VLOOKUP(A25,'Gruber Tabelle'!$A$3:$AR$386,30,0),\"\")","v":""},{"$f":"IFERROR(VLOOKUP(A25,'Gruber Tabelle'!$A$3:$AR$386,31,0),\"\")","v":""},{"$f":"IFERROR(VLOOKUP(A25,'Gruber Tabelle'!$A$3:$AR$386,32,0),\"\")","v":""},{"$f":"IFERROR(VLOOKUP(A25,'Gruber Tabelle'!$A$3:$AR$386,33,0),\"\")","v":""},{"$f":"IFERROR(VLOOKUP(A25,'Gruber Tabelle'!$A$3:$AR$386,34,0),\"\")","v":""},{"$f":"IFERROR(VLOOKUP(A25,'Gruber Tabelle'!$A$3:$AR$386,35,0),\"\")","v":""},{"$f":"IFERROR(VLOOKUP(A25,'Gruber Tabelle'!$A$3:$AR$386,16,0),\"\")","v":""},{"$f":"IFERROR(VLOOKUP(A25,'Gruber Tabelle'!$A$3:$AR$386,41,0),\"\")","v":""},{"$f":"IFERROR(VLOOKUP(A25,'Gruber Tabelle'!$A$3:$AR$386,42,0),\"\")","v":""},{"$f":"IF(C25=\"GF\",4.4,IF(C25=\"KF\",6,IF(C25=\"SF\",6,\"\")))","v":""},{"$f":"IFERROR(VLOOKUP(A25,'Gruber Tabelle'!$A$3:$AR$386,15,0),\"\")","v":""},{"$f":"IFERROR(VLOOKUP(A25,'Gruber Tabelle'!$A$3:$AR$386,37,0),\"\")","v":""},{"$f":"IFERROR(VLOOKUP(A25,'Gruber Tabelle'!$A$3:$AR$386,38,0),\"\")","v":""},{"$f":"IFERROR(VLOOKUP(A25,'Gruber Tabelle'!$A$3:$AR$386,39,0),\"\")","v":""},{"$f":"IFERROR(VLOOKUP(A25,'Gruber Tabelle'!$A$3:$AR$386,40,0),\"\")","v":""},{"$f":"IFERROR(VLOOKUP(A25,'Gruber Tabelle'!$A$3:$AR$386,15,0),\"\")","v":""},{"$f":"IFERROR(VLOOKUP(A25,'Gruber Tabelle'!$A$3:$AR$386,19,0),\"\")","v":""},{"$f":"IFERROR(VLOOKUP(A25,'Gruber Tabelle'!$A$3:$AR$386,36,0),\"\")","v":""}]
[null,{"$f":"IFERROR(VLOOKUP(A26,'Gruber Tabelle'!$A$3:$AR$386,2,0),\"\")","v":""},{"$f":"IFERROR(VLOOKUP(A26,'Gruber Tabelle'!$A$3:$AR$386,28,0),\"\")","v":""},{"$f":"IFERROR(VLOOKUP(A26,'Gruber Tabelle'!$A$3:$AR$386,3,0),\"\")","v":""},{"$f":"IFERROR(VLOOKUP(A26,'Gruber Tabelle'!$A$3:$AR$386,4,0),\"\")","v":""},{"$f":"IFERROR(VLOOKUP(A26,'Gruber Tabelle'!$A$3:$AR$386,5,0),\"\")","v":""},{"$f":"IFERROR(VLOOKUP(A26,'Gruber Tabelle'!$A$3:$AR$386,6,0),\"\")","v":""},{"$f":"IFERROR(VLOOKUP(A26,'Gruber Tabelle'!$A$3:$AR$386,7,0),\"\")","v":""},{"$f":"IFERROR(VLOOKUP(A26,'Gruber Tabelle'!$A$3:$AR$386,8,0),\"\")","v":""},{"$f":"IFERROR(VLOOKUP(A26,'Gruber Tabelle'!$A$3:$AR$386,13,0),\"\")","v":""},{"$f":"IFERROR(VLOOKUP(A26,'Gruber Tabelle'!$A$3:$AR$386,18,0),\"\")","v":""},{"$f":"IFERROR(VLOOKUP(A26,'Gruber Tabelle'!$A$3:$AR$386,9,0),\"\")","v":""},{"$f":"IFERROR(VLOOKUP(A26,'Gruber Tabelle'!$A$3:$AR$386,14,0),\"\")","v":""},{"$f":"IFERROR(VLOOKUP(A26,'Gruber Tabelle'!$A$3:$AR$386,10,0),\"\")","v":""},{"$f":"IFERROR(VLOOKUP(A26,'Gruber Tabelle'!$A$3:$AR$386,11,0),\"\")","v":""},{"$f":"IFERROR(VLOOKUP(A26,'Gruber Tabelle'!$A$3:$AR$386,43,0),\"\")","v":""},{"$f":"IFERROR(VLOOKUP(A26,'Gruber Tabelle'!$A$3:$AR$386,12,0),\"\")","v":""},{"$f":"IFERROR(VLOOKUP(A26,'Gruber Tabelle'!$A$3:$AR$386,17,0),\"\")","v":""},{"$f":"IFERROR(VLOOKUP(A26,'Gruber Tabelle'!$A$3:$AR$386,20,0),\"\")","v":""},{"$f":"IFERROR(VLOOKUP(A26,'Gruber Tabelle'!$A$3:$AR$386,21,0),\"\")","v":""},{"$f":"IFERROR(VLOOKUP(A26,'Gruber Tabelle'!$A$3:$AR$386,23,0),\"\")","v":""},{"$f":"IFERROR(VLOOKUP(A26,'Gruber Tabelle'!$A$3:$AR$386,22,0),\"\")","v":""},{"$f":"IFERROR(VLOOKUP(A26,'Gruber Tabelle'!$A$3:$AR$386,24,0),\"\")","v":""},{"$f":"IFERROR(VLOOKUP(A26,'Gruber Tabelle'!$A$3:$AR$386,25,0),\"\")","v":""},{"$f":"IFERROR(VLOOKUP(A26,'Gruber Tabelle'!$A$3:$AR$386,26,0),\"\")","v":""},{"$f":"IFERROR(VLOOKUP(A26,'Gruber Tabelle'!$A$3:$AR$386,27,0),\"\")","v":""},{"$f":"IFERROR(VLOOKUP(A26,'Gruber Tabelle'!$A$3:$AR$386,29,0),\"\")","v":""},{"$f":"IFERROR(VLOOKUP(A26,'Gruber Tabelle'!$A$3:$AR$386,30,0),\"\")","v":""},{"$f":"IFERROR(VLOOKUP(A26,'Gruber Tabelle'!$A$3:$AR$386,31,0),\"\")","v":""},{"$f":"IFERROR(VLOOKUP(A26,'Gruber Tabelle'!$A$3:$AR$386,32,0),\"\")","v":""},{"$f":"IFERROR(VLOOKUP(A26,'Gruber Tabelle'!$A$3:$AR$386,33,0),\"\")","v":""},{"$f":"IFERROR(VLOOKUP(A26,'Gruber Tabelle'!$A$3:$AR$386,34,0),\"\")","v":""},{"$f":"IFERROR(VLOOKUP(A26,'Gruber Tabelle'!$A$3:$AR$386,35,0),\"\")","v":""},{"$f":"IFERROR(VLOOKUP(A26,'Gruber Tabelle'!$A$3:$AR$386,16,0),\"\")","v":""},{"$f":"IFERROR(VLOOKUP(A26,'Gruber Tabelle'!$A$3:$AR$386,41,0),\"\")","v":""},{"$f":"IFERROR(VLOOKUP(A26,'Gruber Tabelle'!$A$3:$AR$386,42,0),\"\")","v":""},{"$f":"IF(C26=\"GF\",4.4,IF(C26=\"KF\",6,IF(C26=\"SF\",6,\"\")))","v":""},{"$f":"IFERROR(VLOOKUP(A26,'Gruber Tabelle'!$A$3:$AR$386,15,0),\"\")","v":""},{"$f":"IFERROR(VLOOKUP(A26,'Gruber Tabelle'!$A$3:$AR$386,37,0),\"\")","v":""},{"$f":"IFERROR(VLOOKUP(A26,'Gruber Tabelle'!$A$3:$AR$386,38,0),\"\")","v":""},{"$f":"IFERROR(VLOOKUP(A26,'Gruber Tabelle'!$A$3:$AR$386,39,0),\"\")","v":""},{"$f":"IFERROR(VLOOKUP(A26,'Gruber Tabelle'!$A$3:$AR$386,40,0),\"\")","v":""},{"$f":"IFERROR(VLOOKUP(A26,'Gruber Tabelle'!$A$3:$AR$386,15,0),\"\")","v":""},{"$f":"IFERROR(VLOOKUP(A26,'Gruber Tabelle'!$A$3:$AR$386,19,0),\"\")","v":""},{"$f":"IFERROR(VLOOKUP(A26,'Gruber Tabelle'!$A$3:$AR$386,36,0),\"\")","v":""}]
[null,{"$f":"IFERROR(VLOOKUP(A27,'Gruber Tabelle'!$A$3:$AR$386,2,0),\"\")","v":""},{"$f":"IFERROR(VLOOKUP(A27,'Gruber Tabelle'!$A$3:$AR$386,28,0),\"\")","v":""},{"$f":"IFERROR(VLOOKUP(A27,'Gruber Tabelle'!$A$3:$AR$386,3,0),\"\")","v":""},{"$f":"IFERROR(VLOOKUP(A27,'Gruber Tabelle'!$A$3:$AR$386,4,0),\"\")","v":""},{"$f":"IFERROR(VLOOKUP(A27,'Gruber Tabelle'!$A$3:$AR$386,5,0),\"\")","v":""},{"$f":"IFERROR(VLOOKUP(A27,'Gruber Tabelle'!$A$3:$AR$386,6,0),\"\")","v":""},{"$f":"IFERROR(VLOOKUP(A27,'Gruber Tabelle'!$A$3:$AR$386,7,0),\"\")","v":""},{"$f":"IFERROR(VLOOKUP(A27,'Gruber Tabelle'!$A$3:$AR$386,8,0),\"\")","v":""},{"$f":"IFERROR(VLOOKUP(A27,'Gruber Tabelle'!$A$3:$AR$386,13,0),\"\")","v":""},{"$f":"IFERROR(VLOOKUP(A27,'Gruber Tabelle'!$A$3:$AR$386,18,0),\"\")","v":""},{"$f":"IFERROR(VLOOKUP(A27,'Gruber Tabelle'!$A$3:$AR$386,9,0),\"\")","v":""},{"$f":"IFERROR(VLOOKUP(A27,'Gruber Tabelle'!$A$3:$AR$386,14,0),\"\")","v":""},{"$f":"IFERROR(VLOOKUP(A27,'Gruber Tabelle'!$A$3:$AR$386,10,0),\"\")","v":""},{"$f":"IFERROR(VLOOKUP(A27,'Gruber Tabelle'!$A$3:$AR$386,11,0),\"\")","v":""},{"$f":"IFERROR(VLOOKUP(A27,'Gruber Tabelle'!$A$3:$AR$386,43,0),\"\")","v":""},{"$f":"IFERROR(VLOOKUP(A27,'Gruber Tabelle'!$A$3:$AR$386,12,0),\"\")","v":""},{"$f":"IFERROR(VLOOKUP(A27,'Gruber Tabelle'!$A$3:$AR$386,17,0),\"\")","v":""},{"$f":"IFERROR(VLOOKUP(A27,'Gruber Tabelle'!$A$3:$AR$386,20,0),\"\")","v":""},{"$f":"IFERROR(VLOOKUP(A27,'Gruber Tabelle'!$A$3:$AR$386,21,0),\"\")","v":""},{"$f":"IFERROR(VLOOKUP(A27,'Gruber Tabelle'!$A$3:$AR$386,23,0),\"\")","v":""},{"$f":"IFERROR(VLOOKUP(A27,'Gruber Tabelle'!$A$3:$AR$386,22,0),\"\")","v":""},{"$f":"IFERROR(VLOOKUP(A27,'Gruber Tabelle'!$A$3:$AR$386,24,0),\"\")","v":""},{"$f":"IFERROR(VLOOKUP(A27,'Gruber Tabelle'!$A$3:$AR$386,25,0),\"\")","v":""},{"$f":"IFERROR(VLOOKUP(A27,'Gruber Tabelle'!$A$3:$AR$386,26,0),\"\")","v":""},{"$f":"IFERROR(VLOOKUP(A27,'Gruber Tabelle'!$A$3:$AR$386,27,0),\"\")","v":""},{"$f":"IFERROR(VLOOKUP(A27,'Gruber Tabelle'!$A$3:$AR$386,29,0),\"\")","v":""},{"$f":"IFERROR(VLOOKUP(A27,'Gruber Tabelle'!$A$3:$AR$386,30,0),\"\")","v":""},{"$f":"IFERROR(VLOOKUP(A27,'Gruber Tabelle'!$A$3:$AR$386,31,0),\"\")","v":""},{"$f":"IFERROR(VLOOKUP(A27,'Gruber Tabelle'!$A$3:$AR$386,32,0),\"\")","v":""},{"$f":"IFERROR(VLOOKUP(A27,'Gruber Tabelle'!$A$3:$AR$386,33,0),\"\")","v":""},{"$f":"IFERROR(VLOOKUP(A27,'Gruber Tabelle'!$A$3:$AR$386,34,0),\"\")","v":""},{"$f":"IFERROR(VLOOKUP(A27,'Gruber Tabelle'!$A$3:$AR$386,35,0),\"\")","v":""},{"$f":"IFERROR(VLOOKUP(A27,'Gruber Tabelle'!$A$3:$AR$386,16,0),\"\")","v":""},{"$f":"IFERROR(VLOOKUP(A27,'Gruber Tabelle'!$A$3:$AR$386,41,0),\"\")","v":""},{"$f":"IFERROR(VLOOKUP(A27,'Gruber Tabelle'!$A$3:$AR$386,42,0),\"\")","v":""},"",{"$f":"IFERROR(VLOOKUP(A27,'Gruber Tabelle'!$A$3:$AR$386,15,0),\"\")","v":""},{"$f":"IFERROR(VLOOKUP(A27,'Gruber Tabelle'!$A$3:$AR$386,37,0),\"\")","v":""},{"$f":"IFERROR(VLOOKUP(A27,'Gruber Tabelle'!$A$3:$AR$386,38,0),\"\")","v":""},{"$f":"IFERROR(VLOOKUP(A27,'Gruber Tabelle'!$A$3:$AR$386,39,0),\"\")","v":""},{"$f":"IFERROR(VLOOKUP(A27,'Gruber Tabelle'!$A$3:$AR$386,40,0),\"\")","v":""},{"$f":"IFERROR(VLOOKUP(A27,'Gruber Tabelle'!$A$3:$AR$386,15,0),\"\")","v":""},{"$f":"IFERROR(VLOOKUP(A27,'Gruber Tabelle'!$A$3:$AR$386,19,0),\"\")","v":""},{"$f":"IFERROR(VLOOKUP(A27,'Gruber Tabelle'!$A$3:$AR$386,36,0),\"\")","v":""}]
[null,{"$f":"IFERROR(VLOOKUP(A28,'Gruber Tabelle'!$A$3:$AR$386,2,0),\"\")","v":""},{"$f":"IFERROR(VLOOKUP(A28,'Gruber Tabelle'!$A$3:$AR$386,28,0),\"\")","v":""},{"$f":"IFERROR(VLOOKUP(A28,'Gruber Tabelle'!$A$3:$AR$386,3,0),\"\")","v":""},{"$f":"IFERROR(VLOOKUP(A28,'Gruber Tabelle'!$A$3:$AR$386,4,0),\"\")","v":""},{"$f":"IFERROR(VLOOKUP(A28,'Gruber Tabelle'!$A$3:$AR$386,5,0),\"\")","v":""},{"$f":"IFERROR(VLOOKUP(A28,'Gruber Tabelle'!$A$3:$AR$386,6,0),\"\")","v":""},{"$f":"IFERROR(VLOOKUP(A28,'Gruber Tabelle'!$A$3:$AR$386,7,0),\"\")","v":""},{"$f":"IFERROR(VLOOKUP(A28,'Gruber Tabelle'!$A$3:$AR$386,8,0),\"\")","v":""},{"$f":"IFERROR(VLOOKUP(A28,'Gruber Tabelle'!$A$3:$AR$386,13,0),\"\")","v":""},{"$f":"IFERROR(VLOOKUP(A28,'Gruber Tabelle'!$A$3:$AR$386,18,0),\"\")","v":""},{"$f":"IFERROR(VLOOKUP(A28,'Gruber Tabelle'!$A$3:$AR$386,9,0),\"\")","v":""},{"$f":"IFERROR(VLOOKUP(A28,'Gruber Tabelle'!$A$3:$AR$386,14,0),\"\")","v":""},{"$f":"IFERROR(VLOOKUP(A28,'Gruber Tabelle'!$A$3:$AR$386,10,0),\"\")","v":""},{"$f":"IFERROR(VLOOKUP(A28,'Gruber Tabelle'!$A$3:$AR$386,11,0),\"\")","v":""},{"$f":"IFERROR(VLOOKUP(A28,'Gruber Tabelle'!$A$3:$AR$386,43,0),\"\")","v":""},{"$f":"IFERROR(VLOOKUP(A28,'Gruber Tabelle'!$A$3:$AR$386,12,0),\"\")","v":""},{"$f":"IFERROR(VLOOKUP(A28,'Gruber Tabelle'!$A$3:$AR$386,17,0),\"\")","v":""},{"$f":"IFERROR(VLOOKUP(A28,'Gruber Tabelle'!$A$3:$AR$386,20,0),\"\")","v":""},{"$f":"IFERROR(VLOOKUP(A28,'Gruber Tabelle'!$A$3:$AR$386,21,0),\"\")","v":""},{"$f":"IFERROR(VLOOKUP(A28,'Gruber Tabelle'!$A$3:$AR$386,23,0),\"\")","v":""},{"$f":"IFERROR(VLOOKUP(A28,'Gruber Tabelle'!$A$3:$AR$386,22,0),\"\")","v":""},{"$f":"IFERROR(VLOOKUP(A28,'Gruber Tabelle'!$A$3:$AR$386,24,0),\"\")","v":""},{"$f":"IFERROR(VLOOKUP(A28,'Gruber Tabelle'!$A$3:$AR$386,25,0),\"\")","v":""},{"$f":"IFERROR(VLOOKUP(A28,'Gruber Tabelle'!$A$3:$AR$386,26,0),\"\")","v":""},{"$f":"IFERROR(VLOOKUP(A28,'Gruber Tabelle'!$A$3:$AR$386,27,0),\"\")","v":""},{"$f":"IFERROR(VLOOKUP(A28,'Gruber Tabelle'!$A$3:$AR$386,29,0),\"\")","v":""},{"$f":"IFERROR(VLOOKUP(A28,'Gruber Tabelle'!$A$3:$AR$386,30,0),\"\")","v":""},{"$f":"IFERROR(VLOOKUP(A28,'Gruber Tabelle'!$A$3:$AR$386,31,0),\"\")","v":""},{"$f":"IFERROR(VLOOKUP(A28,'Gruber Tabelle'!$A$3:$AR$386,32,0),\"\")","v":""},{"$f":"IFERROR(VLOOKUP(A28,'Gruber Tabelle'!$A$3:$AR$386,33,0),\"\")","v":""},{"$f":"IFERROR(VLOOKUP(A28,'Gruber Tabelle'!$A$3:$AR$386,34,0),\"\")","v":""},{"$f":"IFERROR(VLOOKUP(A28,'Gruber Tabelle'!$A$3:$AR$386,35,0),\"\")","v":""},{"$f":"IFERROR(VLOOKUP(A28,'Gruber Tabelle'!$A$3:$AR$386,16,0),\"\")","v":""},{"$f":"IFERROR(VLOOKUP(A28,'Gruber Tabelle'!$A$3:$AR$386,41,0),\"\")","v":""},{"$f":"IFERROR(VLOOKUP(A28,'Gruber Tabelle'!$A$3:$AR$386,42,0),\"\")","v":""},"",{"$f":"IFERROR(VLOOKUP(A28,'Gruber Tabelle'!$A$3:$AR$386,15,0),\"\")","v":""},{"$f":"IFERROR(VLOOKUP(A28,'Gruber Tabelle'!$A$3:$AR$386,37,0),\"\")","v":""},{"$f":"IFERROR(VLOOKUP(A28,'Gruber Tabelle'!$A$3:$AR$386,38,0),\"\")","v":""},{"$f":"IFERROR(VLOOKUP(A28,'Gruber Tabelle'!$A$3:$AR$386,39,0),\"\")","v":""},{"$f":"IFERROR(VLOOKUP(A28,'Gruber Tabelle'!$A$3:$AR$386,40,0),\"\")","v":""},{"$f":"IFERROR(VLOOKUP(A28,'Gruber Tabelle'!$A$3:$AR$386,15,0),\"\")","v":""},{"$f":"IFERROR(VLOOKUP(A28,'Gruber Tabelle'!$A$3:$AR$386,19,0),\"\")","v":""},{"$f":"IFERROR(VLOOKUP(A28,'Gruber Tabelle'!$A$3:$AR$386,36,0),\"\")","v":""}]
[null,{"$f":"IFERROR(VLOOKUP(A29,'Gruber Tabelle'!$A$3:$AR$386,2,0),\"\")","v":""},{"$f":"IFERROR(VLOOKUP(A29,'Gruber Tabelle'!$A$3:$AR$386,28,0),\"\")","v":""},{"$f":"IFERROR(VLOOKUP(A29,'Gruber Tabelle'!$A$3:$AR$386,3,0),\"\")","v":""},{"$f":"IFERROR(VLOOKUP(A29,'Gruber Tabelle'!$A$3:$AR$386,4,0),\"\")","v":""},{"$f":"IFERROR(VLOOKUP(A29,'Gruber Tabelle'!$A$3:$AR$386,5,0),\"\")","v":""},{"$f":"IFERROR(VLOOKUP(A29,'Gruber Tabelle'!$A$3:$AR$386,6,0),\"\")","v":""},{"$f":"IFERROR(VLOOKUP(A29,'Gruber Tabelle'!$A$3:$AR$386,7,0),\"\")","v":""},{"$f":"IFERROR(VLOOKUP(A29,'Gruber Tabelle'!$A$3:$AR$386,8,0),\"\")","v":""},{"$f":"IFERROR(VLOOKUP(A29,'Gruber Tabelle'!$A$3:$AR$386,13,0),\"\")","v":""},{"$f":"IFERROR(VLOOKUP(A29,'Gruber Tabelle'!$A$3:$AR$386,18,0),\"\")","v":""},{"$f":"IFERROR(VLOOKUP(A29,'Gruber Tabelle'!$A$3:$AR$386,9,0),\"\")","v":""},{"$f":"IFERROR(VLOOKUP(A29,'Gruber Tabelle'!$A$3:$AR$386,14,0),\"\")","v":""},{"$f":"IFERROR(VLOOKUP(A29,'Gruber Tabelle'!$A$3:$AR$386,10,0),\"\")","v":""},{"$f":"IFERROR(VLOOKUP(A29,'Gruber Tabelle'!$A$3:$AR$386,11,0),\"\")","v":""},{"$f":"IFERROR(VLOOKUP(A29,'Gruber Tabelle'!$A$3:$AR$386,43,0),\"\")","v":""},{"$f":"IFERROR(VLOOKUP(A29,'Gruber Tabelle'!$A$3:$AR$386,12,0),\"\")","v":""},{"$f":"IFERROR(VLOOKUP(A29,'Gruber Tabelle'!$A$3:$AR$386,17,0),\"\")","v":""},{"$f":"IFERROR(VLOOKUP(A29,'Gruber Tabelle'!$A$3:$AR$386,20,0),\"\")","v":""},{"$f":"IFERROR(VLOOKUP(A29,'Gruber Tabelle'!$A$3:$AR$386,21,0),\"\")","v":""},{"$f":"IFERROR(VLOOKUP(A29,'Gruber Tabelle'!$A$3:$AR$386,23,0),\"\")","v":""},{"$f":"IFERROR(VLOOKUP(A29,'Gruber Tabelle'!$A$3:$AR$386,22,0),\"\")","v":""},{"$f":"IFERROR(VLOOKUP(A29,'Gruber Tabelle'!$A$3:$AR$386,24,0),\"\")","v":""},{"$f":"IFERROR(VLOOKUP(A29,'Gruber Tabelle'!$A$3:$AR$386,25,0),\"\")","v":""},{"$f":"IFERROR(VLOOKUP(A29,'Gruber Tabelle'!$A$3:$AR$386,26,0),\"\")","v":""},{"$f":"IFERROR(VLOOKUP(A29,'Gruber Tabelle'!$A$3:$AR$386,27,0),\"\")","v":""},{"$f":"IFERROR(VLOOKUP(A29,'Gruber Tabelle'!$A$3:$AR$386,29,0),\"\")","v":""},{"$f":"IFERROR(VLOOKUP(A29,'Gruber Tabelle'!$A$3:$AR$386,30,0),\"\")","v":""},{"$f":"IFERROR(VLOOKUP(A29,'Gruber Tabelle'!$A$3:$AR$386,31,0),\"\")","v":""},{"$f":"IFERROR(VLOOKUP(A29,'Gruber Tabelle'!$A$3:$AR$386,32,0),\"\")","v":""},{"$f":"IFERROR(VLOOKUP(A29,'Gruber Tabelle'!$A$3:$AR$386,33,0),\"\")","v":""},{"$f":"IFERROR(VLOOKUP(A29,'Gruber Tabelle'!$A$3:$AR$386,34,0),\"\")","v":""},{"$f":"IFERROR(VLOOKUP(A29,'Gruber Tabelle'!$A$3:$AR$386,35,0),\"\")","v":""},{"$f":"IFERROR(VLOOKUP(A29,'Gruber Tabelle'!$A$3:$AR$386,16,0),\"\")","v":""},{"$f":"IFERROR(VLOOKUP(A29,'Gruber Tabelle'!$A$3:$AR$386,41,0),\"\")","v":""},{"$f":"IFERROR(VLOOKUP(A29,'Gruber Tabelle'!$A$3:$AR$386,42,0),\"\")","v":""},"",{"$f":"IFERROR(VLOOKUP(A29,'Gruber Tabelle'!$A$3:$AR$386,15,0),\"\")","v":""},{"$f":"IFERROR(VLOOKUP(A29,'Gruber Tabelle'!$A$3:$AR$386,37,0),\"\")","v":""},{"$f":"IFERROR(VLOOKUP(A29,'Gruber Tabelle'!$A$3:$AR$386,38,0),\"\")","v":""},{"$f":"IFERROR(VLOOKUP(A29,'Gruber Tabelle'!$A$3:$AR$386,39,0),\"\")","v":""},{"$f":"IFERROR(VLOOKUP(A29,'Gruber Tabelle'!$A$3:$AR$386,40,0),\"\")","v":""},{"$f":"IFERROR(VLOOKUP(A29,'Gruber Tabelle'!$A$3:$AR$386,15,0),\"\")","v":""},{"$f":"IFERROR(VLOOKUP(A29,'Gruber Tabelle'!$A$3:$AR$386,19,0),\"\")","v":""},{"$f":"IFERROR(VLOOKUP(A29,'Gruber Tabelle'!$A$3:$AR$386,36,0),\"\")","v":""}]
[null,{"$f":"IFERROR(VLOOKUP(A30,'Gruber Tabelle'!$A$3:$AR$386,2,0),\"\")","v":""},{"$f":"IFERROR(VLOOKUP(A30,'Gruber Tabelle'!$A$3:$AR$386,28,0),\"\")","v":""},{"$f":"IFERROR(VLOOKUP(A30,'Gruber Tabelle'!$A$3:$AR$386,3,0),\"\")","v":""},{"$f":"IFERROR(VLOOKUP(A30,'Gruber Tabelle'!$A$3:$AR$386,4,0),\"\")","v":""},{"$f":"IFERROR(VLOOKUP(A30,'Gruber Tabelle'!$A$3:$AR$386,5,0),\"\")","v":""},{"$f":"IFERROR(VLOOKUP(A30,'Gruber Tabelle'!$A$3:$AR$386,6,0),\"\")","v":""},{"$f":"IFERROR(VLOOKUP(A30,'Gruber Tabelle'!$A$3:$AR$386,7,0),\"\")","v":""},{"$f":"IFERROR(VLOOKUP(A30,'Gruber Tabelle'!$A$3:$AR$386,8,0),\"\")","v":""},{"$f":"IFERROR(VLOOKUP(A30,'Gruber Tabelle'!$A$3:$AR$386,13,0),\"\")","v":""},{"$f":"IFERROR(VLOOKUP(A30,'Gruber Tabelle'!$A$3:$AR$386,18,0),\"\")","v":""},{"$f":"IFERROR(VLOOKUP(A30,'Gruber Tabelle'!$A$3:$AR$386,9,0),\"\")","v":""},{"$f":"IFERROR(VLOOKUP(A30,'Gruber Tabelle'!$A$3:$AR$386,14,0),\"\")","v":""},{"$f":"IFERROR(VLOOKUP(A30,'Gruber Tabelle'!$A$3:$AR$386,10,0),\"\")","v":""},{"$f":"IFERROR(VLOOKUP(A30,'Gruber Tabelle'!$A$3:$AR$386,11,0),\"\")","v":""},{"$f":"IFERROR(VLOOKUP(A30,'Gruber Tabelle'!$A$3:$AR$386,43,0),\"\")","v":""},{"$f":"IFERROR(VLOOKUP(A30,'Gruber Tabelle'!$A$3:$AR$386,12,0),\"\")","v":""},{"$f":"IFERROR(VLOOKUP(A30,'Gruber Tabelle'!$A$3:$AR$386,17,0),\"\")","v":""},{"$f":"IFERROR(VLOOKUP(A30,'Gruber Tabelle'!$A$3:$AR$386,20,0),\"\")","v":""},{"$f":"IFERROR(VLOOKUP(A30,'Gruber Tabelle'!$A$3:$AR$386,21,0),\"\")","v":""},{"$f":"IFERROR(VLOOKUP(A30,'Gruber Tabelle'!$A$3:$AR$386,23,0),\"\")","v":""},{"$f":"IFERROR(VLOOKUP(A30,'Gruber Tabelle'!$A$3:$AR$386,22,0),\"\")","v":""},{"$f":"IFERROR(VLOOKUP(A30,'Gruber Tabelle'!$A$3:$AR$386,24,0),\"\")","v":""},{"$f":"IFERROR(VLOOKUP(A30,'Gruber Tabelle'!$A$3:$AR$386,25,0),\"\")","v":""},{"$f":"IFERROR(VLOOKUP(A30,'Gruber Tabelle'!$A$3:$AR$386,26,0),\"\")","v":""},{"$f":"IFERROR(VLOOKUP(A30,'Gruber Tabelle'!$A$3:$AR$386,27,0),\"\")","v":""},{"$f":"IFERROR(VLOOKUP(A30,'Gruber Tabelle'!$A$3:$AR$386,29,0),\"\")","v":""},{"$f":"IFERROR(VLOOKUP(A30,'Gruber Tabelle'!$A$3:$AR$386,30,0),\"\")","v":""},{"$f":"IFERROR(VLOOKUP(A30,'Gruber Tabelle'!$A$3:$AR$386,31,0),\"\")","v":""},{"$f":"IFERROR(VLOOKUP(A30,'Gruber Tabelle'!$A$3:$AR$386,32,0),\"\")","v":""},{"$f":"IFERROR(VLOOKUP(A30,'Gruber Tabelle'!$A$3:$AR$386,33,0),\"\")","v":""},{"$f":"IFERROR(VLOOKUP(A30,'Gruber Tabelle'!$A$3:$AR$386,34,0),\"\")","v":""},{"$f":"IFERROR(VLOOKUP(A30,'Gruber Tabelle'!$A$3:$AR$386,35,0),\"\")","v":""},{"$f":"IFERROR(VLOOKUP(A30,'Gruber Tabelle'!$A$3:$AR$386,16,0),\"\")","v":""},{"$f":"IFERROR(VLOOKUP(A30,'Gruber Tabelle'!$A$3:$AR$386,41,0),\"\")","v":""},{"$f":"IFERROR(VLOOKUP(A30,'Gruber Tabelle'!$A$3:$AR$386,42,0),\"\")","v":""},"",{"$f":"IFERROR(VLOOKUP(A30,'Gruber Tabelle'!$A$3:$AR$386,15,0),\"\")","v":""},{"$f":"IFERROR(VLOOKUP(A30,'Gruber Tabelle'!$A$3:$AR$386,37,0),\"\")","v":""},{"$f":"IFERROR(VLOOKUP(A30,'Gruber Tabelle'!$A$3:$AR$386,38,0),\"\")","v":""},{"$f":"IFERROR(VLOOKUP(A30,'Gruber Tabelle'!$A$3:$AR$386,39,0),\"\")","v":""},{"$f":"IFERROR(VLOOKUP(A30,'Gruber Tabelle'!$A$3:$AR$386,40,0),\"\")","v":""},{"$f":"IFERROR(VLOOKUP(A30,'Gruber Tabelle'!$A$3:$AR$386,15,0),\"\")","v":""},{"$f":"IFERROR(VLOOKUP(A30,'Gruber Tabelle'!$A$3:$AR$386,19,0),\"\")","v":""},{"$f":"IFERROR(VLOOKUP(A30,'Gruber Tabelle'!$A$3:$AR$386,36,0),\"\")","v":""}]
[null,{"$f":"IFERROR(VLOOKUP(A31,'Gruber Tabelle'!$A$3:$AR$386,2,0),\"\")","v":""},{"$f":"IFERROR(VLOOKUP(A31,'Gruber Tabelle'!$A$3:$AR$386,28,0),\"\")","v":""},{"$f":"IFERROR(VLOOKUP(A31,'Gruber Tabelle'!$A$3:$AR$386,3,0),\"\")","v":""},{"$f":"IFERROR(VLOOKUP(A31,'Gruber Tabelle'!$A$3:$AR$386,4,0),\"\")","v":""},{"$f":"IFERROR(VLOOKUP(A31,'Gruber Tabelle'!$A$3:$AR$386,5,0),\"\")","v":""},{"$f":"IFERROR(VLOOKUP(A31,'Gruber Tabelle'!$A$3:$AR$386,6,0),\"\")","v":""},{"$f":"IFERROR(VLOOKUP(A31,'Gruber Tabelle'!$A$3:$AR$386,7,0),\"\")","v":""},{"$f":"IFERROR(VLOOKUP(A31,'Gruber Tabelle'!$A$3:$AR$386,8,0),\"\")","v":""},{"$f":"IFERROR(VLOOKUP(A31,'Gruber Tabelle'!$A$3:$AR$386,13,0),\"\")","v":""},{"$f":"IFERROR(VLOOKUP(A31,'Gruber Tabelle'!$A$3:$AR$386,18,0),\"\")","v":""},{"$f":"IFERROR(VLOOKUP(A31,'Gruber Tabelle'!$A$3:$AR$386,9,0),\"\")","v":""},{"$f":"IFERROR(VLOOKUP(A31,'Gruber Tabelle'!$A$3:$AR$386,14,0),\"\")","v":""},{"$f":"IFERROR(VLOOKUP(A31,'Gruber Tabelle'!$A$3:$AR$386,10,0),\"\")","v":""},{"$f":"IFERROR(VLOOKUP(A31,'Gruber Tabelle'!$A$3:$AR$386,11,0),\"\")","v":""},{"$f":"IFERROR(VLOOKUP(A31,'Gruber Tabelle'!$A$3:$AR$386,43,0),\"\")","v":""},{"$f":"IFERROR(VLOOKUP(A31,'Gruber Tabelle'!$A$3:$AR$386,12,0),\"\")","v":""},{"$f":"IFERROR(VLOOKUP(A31,'Gruber Tabelle'!$A$3:$AR$386,17,0),\"\")","v":""},{"$f":"IFERROR(VLOOKUP(A31,'Gruber Tabelle'!$A$3:$AR$386,20,0),\"\")","v":""},{"$f":"IFERROR(VLOOKUP(A31,'Gruber Tabelle'!$A$3:$AR$386,21,0),\"\")","v":""},{"$f":"IFERROR(VLOOKUP(A31,'Gruber Tabelle'!$A$3:$AR$386,23,0),\"\")","v":""},{"$f":"IFERROR(VLOOKUP(A31,'Gruber Tabelle'!$A$3:$AR$386,22,0),\"\")","v":""},{"$f":"IFERROR(VLOOKUP(A31,'Gruber Tabelle'!$A$3:$AR$386,24,0),\"\")","v":""},{"$f":"IFERROR(VLOOKUP(A31,'Gruber Tabelle'!$A$3:$AR$386,25,0),\"\")","v":""},{"$f":"IFERROR(VLOOKUP(A31,'Gruber Tabelle'!$A$3:$AR$386,26,0),\"\")","v":""},{"$f":"IFERROR(VLOOKUP(A31,'Gruber Tabelle'!$A$3:$AR$386,27,0),\"\")","v":""},{"$f":"IFERROR(VLOOKUP(A31,'Gruber Tabelle'!$A$3:$AR$386,29,0),\"\")","v":""},{"$f":"IFERROR(VLOOKUP(A31,'Gruber Tabelle'!$A$3:$AR$386,30,0),\"\")","v":""},{"$f":"IFERROR(VLOOKUP(A31,'Gruber Tabelle'!$A$3:$AR$386,31,0),\"\")","v":""},{"$f":"IFERROR(VLOOKUP(A31,'Gruber Tabelle'!$A$3:$AR$386,32,0),\"\")","v":""},{"$f":"IFERROR(VLOOKUP(A31,'Gruber Tabelle'!$A$3:$AR$386,33,0),\"\")","v":""},{"$f":"IFERROR(VLOOKUP(A31,'Gruber Tabelle'!$A$3:$AR$386,34,0),\"\")","v":""},{"$f":"IFERROR(VLOOKUP(A31,'Gruber Tabelle'!$A$3:$AR$386,35,0),\"\")","v":""},{"$f":"IFERROR(VLOOKUP(A31,'Gruber Tabelle'!$A$3:$AR$386,16,0),\"\")","v":""},{"$f":"IFERROR(VLOOKUP(A31,'Gruber Tabelle'!$A$3:$AR$386,41,0),\"\")","v":""},{"$f":"IFERROR(VLOOKUP(A31,'Gruber Tabelle'!$A$3:$AR$386,42,0),\"\")","v":""},"",{"$f":"IFERROR(VLOOKUP(A31,'Gruber Tabelle'!$A$3:$AR$386,15,0),\"\")","v":""},{"$f":"IFERROR(VLOOKUP(A31,'Gruber Tabelle'!$A$3:$AR$386,37,0),\"\")","v":""},{"$f":"IFERROR(VLOOKUP(A31,'Gruber Tabelle'!$A$3:$AR$386,38,0),\"\")","v":""},{"$f":"IFERROR(VLOOKUP(A31,'Gruber Tabelle'!$A$3:$AR$386,39,0),\"\")","v":""},{"$f":"IFERROR(VLOOKUP(A31,'Gruber Tabelle'!$A$3:$AR$386,40,0),\"\")","v":""},{"$f":"IFERROR(VLOOKUP(A31,'Gruber Tabelle'!$A$3:$AR$386,15,0),\"\")","v":""},{"$f":"IFERROR(VLOOKUP(A31,'Gruber Tabelle'!$A$3:$AR$386,19,0),\"\")","v":""},{"$f":"IFERROR(VLOOKUP(A31,'Gruber Tabelle'!$A$3:$AR$386,36,0),\"\")","v":""}]
[null,{"$f":"IFERROR(VLOOKUP(A32,'Gruber Tabelle'!$A$3:$AR$386,2,0),\"\")","v":""},{"$f":"IFERROR(VLOOKUP(A32,'Gruber Tabelle'!$A$3:$AR$386,28,0),\"\")","v":""},{"$f":"IFERROR(VLOOKUP(A32,'Gruber Tabelle'!$A$3:$AR$386,3,0),\"\")","v":""},{"$f":"IFERROR(VLOOKUP(A32,'Gruber Tabelle'!$A$3:$AR$386,4,0),\"\")","v":""},{"$f":"IFERROR(VLOOKUP(A32,'Gruber Tabelle'!$A$3:$AR$386,5,0),\"\")","v":""},{"$f":"IFERROR(VLOOKUP(A32,'Gruber Tabelle'!$A$3:$AR$386,6,0),\"\")","v":""},{"$f":"IFERROR(VLOOKUP(A32,'Gruber Tabelle'!$A$3:$AR$386,7,0),\"\")","v":""},{"$f":"IFERROR(VLOOKUP(A32,'Gruber Tabelle'!$A$3:$AR$386,8,0),\"\")","v":""},{"$f":"IFERROR(VLOOKUP(A32,'Gruber Tabelle'!$A$3:$AR$386,13,0),\"\")","v":""},{"$f":"IFERROR(VLOOKUP(A32,'Gruber Tabelle'!$A$3:$AR$386,18,0),\"\")","v":""},{"$f":"IFERROR(VLOOKUP(A32,'Gruber Tabelle'!$A$3:$AR$386,9,0),\"\")","v":""},{"$f":"IFERROR(VLOOKUP(A32,'Gruber Tabelle'!$A$3:$AR$386,14,0),\"\")","v":""},{"$f":"IFERROR(VLOOKUP(A32,'Gruber Tabelle'!$A$3:$AR$386,10,0),\"\")","v":""},{"$f":"IFERROR(VLOOKUP(A32,'Gruber Tabelle'!$A$3:$AR$386,11,0),\"\")","v":""},{"$f":"IFERROR(VLOOKUP(A32,'Gruber Tabelle'!$A$3:$AR$386,43,0),\"\")","v":""},{"$f":"IFERROR(VLOOKUP(A32,'Gruber Tabelle'!$A$3:$AR$386,12,0),\"\")","v":""},{"$f":"IFERROR(VLOOKUP(A32,'Gruber Tabelle'!$A$3:$AR$386,17,0),\"\")","v":""},{"$f":"IFERROR(VLOOKUP(A32,'Gruber Tabelle'!$A$3:$AR$386,20,0),\"\")","v":""},{"$f":"IFERROR(VLOOKUP(A32,'Gruber Tabelle'!$A$3:$AR$386,21,0),\"\")","v":""},{"$f":"IFERROR(VLOOKUP(A32,'Gruber Tabelle'!$A$3:$AR$386,23,0),\"\")","v":""},{"$f":"IFERROR(VLOOKUP(A32,'Gruber Tabelle'!$A$3:$AR$386,22,0),\"\")","v":""},{"$f":"IFERROR(VLOOKUP(A32,'Gruber Tabelle'!$A$3:$AR$386,24,0),\"\")","v":""},{"$f":"IFERROR(VLOOKUP(A32,'Gruber Tabelle'!$A$3:$AR$386,25,0),\"\")","v":""},{"$f":"IFERROR(VLOOKUP(A32,'Gruber Tabelle'!$A$3:$AR$386,26,0),\"\")","v":""},{"$f":"IFERROR(VLOOKUP(A32,'Gruber Tabelle'!$A$3:$AR$386,27,0),\"\")","v":""},{"$f":"IFERROR(VLOOKUP(A32,'Gruber Tabelle'!$A$3:$AR$386,29,0),\"\")","v":""},{"$f":"IFERROR(VLOOKUP(A32,'Gruber Tabelle'!$A$3:$AR$386,30,0),\"\")","v":""},{"$f":"IFERROR(VLOOKUP(A32,'Gruber Tabelle'!$A$3:$AR$386,31,0),\"\")","v":""},{"$f":"IFERROR(VLOOKUP(A32,'Gruber Tabelle'!$A$3:$AR$386,32,0),\"\")","v":""},{"$f":"IFERROR(VLOOKUP(A32,'Gruber Tabelle'!$A$3:$AR$386,33,0),\"\")","v":""},{"$f":"IFERROR(VLOOKUP(A32,'Gruber Tabelle'!$A$3:$AR$386,34,0),\"\")","v":""},{"$f":"IFERROR(VLOOKUP(A32,'Gruber Tabelle'!$A$3:$AR$386,35,0),\"\")","v":""},{"$f":"IFERROR(VLOOKUP(A32,'Gruber Tabelle'!$A$3:$AR$386,16,0),\"\")","v":""},{"$f":"IFERROR(VLOOKUP(A32,'Gruber Tabelle'!$A$3:$AR$386,41,0),\"\")","v":""},{"$f":"IFERROR(VLOOKUP(A32,'Gruber Tabelle'!$A$3:$AR$386,42,0),\"\")","v":""},"",{"$f":"IFERROR(VLOOKUP(A32,'Gruber Tabelle'!$A$3:$AR$386,15,0),\"\")","v":""},{"$f":"IFERROR(VLOOKUP(A32,'Gruber Tabelle'!$A$3:$AR$386,37,0),\"\")","v":""},{"$f":"IFERROR(VLOOKUP(A32,'Gruber Tabelle'!$A$3:$AR$386,38,0),\"\")","v":""},{"$f":"IFERROR(VLOOKUP(A32,'Gruber Tabelle'!$A$3:$AR$386,39,0),\"\")","v":""},{"$f":"IFERROR(VLOOKUP(A32,'Gruber Tabelle'!$A$3:$AR$386,40,0),\"\")","v":""},{"$f":"IFERROR(VLOOKUP(A32,'Gruber Tabelle'!$A$3:$AR$386,15,0),\"\")","v":""},{"$f":"IFERROR(VLOOKUP(A32,'Gruber Tabelle'!$A$3:$AR$386,19,0),\"\")","v":""},{"$f":"IFERROR(VLOOKUP(A32,'Gruber Tabelle'!$A$3:$AR$386,36,0),\"\")","v":""}]
[null,{"$f":"IFERROR(VLOOKUP(A33,'Gruber Tabelle'!$A$3:$AR$386,2,0),\"\")","v":""},{"$f":"IFERROR(VLOOKUP(A33,'Gruber Tabelle'!$A$3:$AR$386,28,0),\"\")","v":""},{"$f":"IFERROR(VLOOKUP(A33,'Gruber Tabelle'!$A$3:$AR$386,3,0),\"\")","v":""},{"$f":"IFERROR(VLOOKUP(A33,'Gruber Tabelle'!$A$3:$AR$386,4,0),\"\")","v":""},{"$f":"IFERROR(VLOOKUP(A33,'Gruber Tabelle'!$A$3:$AR$386,5,0),\"\")","v":""},{"$f":"IFERROR(VLOOKUP(A33,'Gruber Tabelle'!$A$3:$AR$386,6,0),\"\")","v":""},{"$f":"IFERROR(VLOOKUP(A33,'Gruber Tabelle'!$A$3:$AR$386,7,0),\"\")","v":""},{"$f":"IFERROR(VLOOKUP(A33,'Gruber Tabelle'!$A$3:$AR$386,8,0),\"\")","v":""},{"$f":"IFERROR(VLOOKUP(A33,'Gruber Tabelle'!$A$3:$AR$386,13,0),\"\")","v":""},{"$f":"IFERROR(VLOOKUP(A33,'Gruber Tabelle'!$A$3:$AR$386,18,0),\"\")","v":""},{"$f":"IFERROR(VLOOKUP(A33,'Gruber Tabelle'!$A$3:$AR$386,9,0),\"\")","v":""},{"$f":"IFERROR(VLOOKUP(A33,'Gruber Tabelle'!$A$3:$AR$386,14,0),\"\")","v":""},{"$f":"IFERROR(VLOOKUP(A33,'Gruber Tabelle'!$A$3:$AR$386,10,0),\"\")","v":""},{"$f":"IFERROR(VLOOKUP(A33,'Gruber Tabelle'!$A$3:$AR$386,11,0),\"\")","v":""},{"$f":"IFERROR(VLOOKUP(A33,'Gruber Tabelle'!$A$3:$AR$386,43,0),\"\")","v":""},{"$f":"IFERROR(VLOOKUP(A33,'Gruber Tabelle'!$A$3:$AR$386,12,0),\"\")","v":""},{"$f":"IFERROR(VLOOKUP(A33,'Gruber Tabelle'!$A$3:$AR$386,17,0),\"\")","v":""},{"$f":"IFERROR(VLOOKUP(A33,'Gruber Tabelle'!$A$3:$AR$386,20,0),\"\")","v":""},{"$f":"IFERROR(VLOOKUP(A33,'Gruber Tabelle'!$A$3:$AR$386,21,0),\"\")","v":""},{"$f":"IFERROR(VLOOKUP(A33,'Gruber Tabelle'!$A$3:$AR$386,23,0),\"\")","v":""},{"$f":"IFERROR(VLOOKUP(A33,'Gruber Tabelle'!$A$3:$AR$386,22,0),\"\")","v":""},{"$f":"IFERROR(VLOOKUP(A33,'Gruber Tabelle'!$A$3:$AR$386,24,0),\"\")","v":""},{"$f":"IFERROR(VLOOKUP(A33,'Gruber Tabelle'!$A$3:$AR$386,25,0),\"\")","v":""},{"$f":"IFERROR(VLOOKUP(A33,'Gruber Tabelle'!$A$3:$AR$386,26,0),\"\")","v":""},{"$f":"IFERROR(VLOOKUP(A33,'Gruber Tabelle'!$A$3:$AR$386,27,0),\"\")","v":""},{"$f":"IFERROR(VLOOKUP(A33,'Gruber Tabelle'!$A$3:$AR$386,29,0),\"\")","v":""},{"$f":"IFERROR(VLOOKUP(A33,'Gruber Tabelle'!$A$3:$AR$386,30,0),\"\")","v":""},{"$f":"IFERROR(VLOOKUP(A33,'Gruber Tabelle'!$A$3:$AR$386,31,0),\"\")","v":""},{"$f":"IFERROR(VLOOKUP(A33,'Gruber Tabelle'!$A$3:$AR$386,32,0),\"\")","v":""},{"$f":"IFERROR(VLOOKUP(A33,'Gruber Tabelle'!$A$3:$AR$386,33,0),\"\")","v":""},{"$f":"IFERROR(VLOOKUP(A33,'Gruber Tabelle'!$A$3:$AR$386,34,0),\"\")","v":""},{"$f":"IFERROR(VLOOKUP(A33,'Gruber Tabelle'!$A$3:$AR$386,35,0),\"\")","v":""},{"$f":"IFERROR(VLOOKUP(A33,'Gruber Tabelle'!$A$3:$AR$386,16,0),\"\")","v":""},{"$f":"IFERROR(VLOOKUP(A33,'Gruber Tabelle'!$A$3:$AR$386,41,0),\"\")","v":""},{"$f":"IFERROR(VLOOKUP(A33,'Gruber Tabelle'!$A$3:$AR$386,42,0),\"\")","v":""},"",{"$f":"IFERROR(VLOOKUP(A33,'Gruber Tabelle'!$A$3:$AR$386,15,0),\"\")","v":""},{"$f":"IFERROR(VLOOKUP(A33,'Gruber Tabelle'!$A$3:$AR$386,37,0),\"\")","v":""},{"$f":"IFERROR(VLOOKUP(A33,'Gruber Tabelle'!$A$3:$AR$386,38,0),\"\")","v":""},{"$f":"IFERROR(VLOOKUP(A33,'Gruber Tabelle'!$A$3:$AR$386,39,0),\"\")","v":""},{"$f":"IFERROR(VLOOKUP(A33,'Gruber Tabelle'!$A$3:$AR$386,40,0),\"\")","v":""},{"$f":"IFERROR(VLOOKUP(A33,'Gruber Tabelle'!$A$3:$AR$386,15,0),\"\")","v":""},{"$f":"IFERROR(VLOOKUP(A33,'Gruber Tabelle'!$A$3:$AR$386,19,0),\"\")","v":""},{"$f":"IFERROR(VLOOKUP(A33,'Gruber Tabelle'!$A$3:$AR$386,36,0),\"\")","v":""}]
[null,{"$f":"IFERROR(VLOOKUP(A34,'Gruber Tabelle'!$A$3:$AR$386,2,0),\"\")","v":""},{"$f":"IFERROR(VLOOKUP(A34,'Gruber Tabelle'!$A$3:$AR$386,28,0),\"\")","v":""},{"$f":"IFERROR(VLOOKUP(A34,'Gruber Tabelle'!$A$3:$AR$386,3,0),\"\")","v":""},{"$f":"IFERROR(VLOOKUP(A34,'Gruber Tabelle'!$A$3:$AR$386,4,0),\"\")","v":""},{"$f":"IFERROR(VLOOKUP(A34,'Gruber Tabelle'!$A$3:$AR$386,5,0),\"\")","v":""},{"$f":"IFERROR(VLOOKUP(A34,'Gruber Tabelle'!$A$3:$AR$386,6,0),\"\")","v":""},{"$f":"IFERROR(VLOOKUP(A34,'Gruber Tabelle'!$A$3:$AR$386,7,0),\"\")","v":""},{"$f":"IFERROR(VLOOKUP(A34,'Gruber Tabelle'!$A$3:$AR$386,8,0),\"\")","v":""},{"$f":"IFERROR(VLOOKUP(A34,'Gruber Tabelle'!$A$3:$AR$386,13,0),\"\")","v":""},{"$f":"IFERROR(VLOOKUP(A34,'Gruber Tabelle'!$A$3:$AR$386,18,0),\"\")","v":""},{"$f":"IFERROR(VLOOKUP(A34,'Gruber Tabelle'!$A$3:$AR$386,9,0),\"\")","v":""},{"$f":"IFERROR(VLOOKUP(A34,'Gruber Tabelle'!$A$3:$AR$386,14,0),\"\")","v":""},{"$f":"IFERROR(VLOOKUP(A34,'Gruber Tabelle'!$A$3:$AR$386,10,0),\"\")","v":""},{"$f":"IFERROR(VLOOKUP(A34,'Gruber Tabelle'!$A$3:$AR$386,11,0),\"\")","v":""},{"$f":"IFERROR(VLOOKUP(A34,'Gruber Tabelle'!$A$3:$AR$386,43,0),\"\")","v":""},{"$f":"IFERROR(VLOOKUP(A34,'Gruber Tabelle'!$A$3:$AR$386,12,0),\"\")","v":""},{"$f":"IFERROR(VLOOKUP(A34,'Gruber Tabelle'!$A$3:$AR$386,17,0),\"\")","v":""},{"$f":"IFERROR(VLOOKUP(A34,'Gruber Tabelle'!$A$3:$AR$386,20,0),\"\")","v":""},{"$f":"IFERROR(VLOOKUP(A34,'Gruber Tabelle'!$A$3:$AR$386,21,0),\"\")","v":""},{"$f":"IFERROR(VLOOKUP(A34,'Gruber Tabelle'!$A$3:$AR$386,23,0),\"\")","v":""},{"$f":"IFERROR(VLOOKUP(A34,'Gruber Tabelle'!$A$3:$AR$386,22,0),\"\")","v":""},{"$f":"IFERROR(VLOOKUP(A34,'Gruber Tabelle'!$A$3:$AR$386,24,0),\"\")","v":""},{"$f":"IFERROR(VLOOKUP(A34,'Gruber Tabelle'!$A$3:$AR$386,25,0),\"\")","v":""},{"$f":"IFERROR(VLOOKUP(A34,'Gruber Tabelle'!$A$3:$AR$386,26,0),\"\")","v":""},{"$f":"IFERROR(VLOOKUP(A34,'Gruber Tabelle'!$A$3:$AR$386,27,0),\"\")","v":""},{"$f":"IFERROR(VLOOKUP(A34,'Gruber Tabelle'!$A$3:$AR$386,29,0),\"\")","v":""},{"$f":"IFERROR(VLOOKUP(A34,'Gruber Tabelle'!$A$3:$AR$386,30,0),\"\")","v":""},{"$f":"IFERROR(VLOOKUP(A34,'Gruber Tabelle'!$A$3:$AR$386,31,0),\"\")","v":""},{"$f":"IFERROR(VLOOKUP(A34,'Gruber Tabelle'!$A$3:$AR$386,32,0),\"\")","v":""},{"$f":"IFERROR(VLOOKUP(A34,'Gruber Tabelle'!$A$3:$AR$386,33,0),\"\")","v":""},{"$f":"IFERROR(VLOOKUP(A34,'Gruber Tabelle'!$A$3:$AR$386,34,0),\"\")","v":""},{"$f":"IFERROR(VLOOKUP(A34,'Gruber Tabelle'!$A$3:$AR$386,35,0),\"\")","v":""},{"$f":"IFERROR(VLOOKUP(A34,'Gruber Tabelle'!$A$3:$AR$386,16,0),\"\")","v":""},{"$f":"IFERROR(VLOOKUP(A34,'Gruber Tabelle'!$A$3:$AR$386,41,0),\"\")","v":""},{"$f":"IFERROR(VLOOKUP(A34,'Gruber Tabelle'!$A$3:$AR$386,42,0),\"\")","v":""},"",{"$f":"IFERROR(VLOOKUP(A34,'Gruber Tabelle'!$A$3:$AR$386,15,0),\"\")","v":""},{"$f":"IFERROR(VLOOKUP(A34,'Gruber Tabelle'!$A$3:$AR$386,37,0),\"\")","v":""},{"$f":"IFERROR(VLOOKUP(A34,'Gruber Tabelle'!$A$3:$AR$386,38,0),\"\")","v":""},{"$f":"IFERROR(VLOOKUP(A34,'Gruber Tabelle'!$A$3:$AR$386,39,0),\"\")","v":""},{"$f":"IFERROR(VLOOKUP(A34,'Gruber Tabelle'!$A$3:$AR$386,40,0),\"\")","v":""},{"$f":"IFERROR(VLOOKUP(A34,'Gruber Tabelle'!$A$3:$AR$386,15,0),\"\")","v":""},{"$f":"IFERROR(VLOOKUP(A34,'Gruber Tabelle'!$A$3:$AR$386,19,0),\"\")","v":""},{"$f":"IFERROR(VLOOKUP(A34,'Gruber Tabelle'!$A$3:$AR$386,36,0),\"\")","v":""}]
[null,{"$f":"IFERROR(VLOOKUP(A35,'Gruber Tabelle'!$A$3:$AR$386,2,0),\"\")","v":""},{"$f":"IFERROR(VLOOKUP(A35,'Gruber Tabelle'!$A$3:$AR$386,28,0),\"\")","v":""},{"$f":"IFERROR(VLOOKUP(A35,'Gruber Tabelle'!$A$3:$AR$386,3,0),\"\")","v":""},{"$f":"IFERROR(VLOOKUP(A35,'Gruber Tabelle'!$A$3:$AR$386,4,0),\"\")","v":""},{"$f":"IFERROR(VLOOKUP(A35,'Gruber Tabelle'!$A$3:$AR$386,5,0),\"\")","v":""},{"$f":"IFERROR(VLOOKUP(A35,'Gruber Tabelle'!$A$3:$AR$386,6,0),\"\")","v":""},{"$f":"IFERROR(VLOOKUP(A35,'Gruber Tabelle'!$A$3:$AR$386,7,0),\"\")","v":""},{"$f":"IFERROR(VLOOKUP(A35,'Gruber Tabelle'!$A$3:$AR$386,8,0),\"\")","v":""},{"$f":"IFERROR(VLOOKUP(A35,'Gruber Tabelle'!$A$3:$AR$386,13,0),\"\")","v":""},{"$f":"IFERROR(VLOOKUP(A35,'Gruber Tabelle'!$A$3:$AR$386,18,0),\"\")","v":""},{"$f":"IFERROR(VLOOKUP(A35,'Gruber Tabelle'!$A$3:$AR$386,9,0),\"\")","v":""},{"$f":"IFERROR(VLOOKUP(A35,'Gruber Tabelle'!$A$3:$AR$386,14,0),\"\")","v":""},{"$f":"IFERROR(VLOOKUP(A35,'Gruber Tabelle'!$A$3:$AR$386,10,0),\"\")","v":""},{"$f":"IFERROR(VLOOKUP(A35,'Gruber Tabelle'!$A$3:$AR$386,11,0),\"\")","v":""},{"$f":"IFERROR(VLOOKUP(A35,'Gruber Tabelle'!$A$3:$AR$386,43,0),\"\")","v":""},{"$f":"IFERROR(VLOOKUP(A35,'Gruber Tabelle'!$A$3:$AR$386,12,0),\"\")","v":""},{"$f":"IFERROR(VLOOKUP(A35,'Gruber Tabelle'!$A$3:$AR$386,17,0),\"\")","v":""},{"$f":"IFERROR(VLOOKUP(A35,'Gruber Tabelle'!$A$3:$AR$386,20,0),\"\")","v":""},{"$f":"IFERROR(VLOOKUP(A35,'Gruber Tabelle'!$A$3:$AR$386,21,0),\"\")","v":""},{"$f":"IFERROR(VLOOKUP(A35,'Gruber Tabelle'!$A$3:$AR$386,23,0),\"\")","v":""},{"$f":"IFERROR(VLOOKUP(A35,'Gruber Tabelle'!$A$3:$AR$386,22,0),\"\")","v":""},{"$f":"IFERROR(VLOOKUP(A35,'Gruber Tabelle'!$A$3:$AR$386,24,0),\"\")","v":""},{"$f":"IFERROR(VLOOKUP(A35,'Gruber Tabelle'!$A$3:$AR$386,25,0),\"\")","v":""},{"$f":"IFERROR(VLOOKUP(A35,'Gruber Tabelle'!$A$3:$AR$386,26,0),\"\")","v":""},{"$f":"IFERROR(VLOOKUP(A35,'Gruber Tabelle'!$A$3:$AR$386,27,0),\"\")","v":""},{"$f":"IFERROR(VLOOKUP(A35,'Gruber Tabelle'!$A$3:$AR$386,29,0),\"\")","v":""},{"$f":"IFERROR(VLOOKUP(A35,'Gruber Tabelle'!$A$3:$AR$386,30,0),\"\")","v":""},{"$f":"IFERROR(VLOOKUP(A35,'Gruber Tabelle'!$A$3:$AR$386,31,0),\"\")","v":""},{"$f":"IFERROR(VLOOKUP(A35,'Gruber Tabelle'!$A$3:$AR$386,32,0),\"\")","v":""},{"$f":"IFERROR(VLOOKUP(A35,'Gruber Tabelle'!$A$3:$AR$386,33,0),\"\")","v":""},{"$f":"IFERROR(VLOOKUP(A35,'Gruber Tabelle'!$A$3:$AR$386,34,0),\"\")","v":""},{"$f":"IFERROR(VLOOKUP(A35,'Gruber Tabelle'!$A$3:$AR$386,35,0),\"\")","v":""},{"$f":"IFERROR(VLOOKUP(A35,'Gruber Tabelle'!$A$3:$AR$386,16,0),\"\")","v":""},{"$f":"IFERROR(VLOOKUP(A35,'Gruber Tabelle'!$A$3:$AR$386,41,0),\"\")","v":""},{"$f":"IFERROR(VLOOKUP(A35,'Gruber Tabelle'!$A$3:$AR$386,42,0),\"\")","v":""},"",{"$f":"IFERROR(VLOOKUP(A35,'Gruber Tabelle'!$A$3:$AR$386,15,0),\"\")","v":""},{"$f":"IFERROR(VLOOKUP(A35,'Gruber Tabelle'!$A$3:$AR$386,37,0),\"\")","v":""},{"$f":"IFERROR(VLOOKUP(A35,'Gruber Tabelle'!$A$3:$AR$386,38,0),\"\")","v":""},{"$f":"IFERROR(VLOOKUP(A35,'Gruber Tabelle'!$A$3:$AR$386,39,0),\"\")","v":""},{"$f":"IFERROR(VLOOKUP(A35,'Gruber Tabelle'!$A$3:$AR$386,40,0),\"\")","v":""},{"$f":"IFERROR(VLOOKUP(A35,'Gruber Tabelle'!$A$3:$AR$386,15,0),\"\")","v":""},{"$f":"IFERROR(VLOOKUP(A35,'Gruber Tabelle'!$A$3:$AR$386,19,0),\"\")","v":""},{"$f":"IFERROR(VLOOKUP(A35,'Gruber Tabelle'!$A$3:$AR$386,36,0),\"\")","v":""}]
[null,{"$f":"IFERROR(VLOOKUP(A36,'Gruber Tabelle'!$A$3:$AR$386,2,0),\"\")","v":""},{"$f":"IFERROR(VLOOKUP(A36,'Gruber Tabelle'!$A$3:$AR$386,28,0),\"\")","v":""},{"$f":"IFERROR(VLOOKUP(A36,'Gruber Tabelle'!$A$3:$AR$386,3,0),\"\")","v":""},{"$f":"IFERROR(VLOOKUP(A36,'Gruber Tabelle'!$A$3:$AR$386,4,0),\"\")","v":""},{"$f":"IFERROR(VLOOKUP(A36,'Gruber Tabelle'!$A$3:$AR$386,5,0),\"\")","v":""},{"$f":"IFERROR(VLOOKUP(A36,'Gruber Tabelle'!$A$3:$AR$386,6,0),\"\")","v":""},{"$f":"IFERROR(VLOOKUP(A36,'Gruber Tabelle'!$A$3:$AR$386,7,0),\"\")","v":""},{"$f":"IFERROR(VLOOKUP(A36,'Gruber Tabelle'!$A$3:$AR$386,8,0),\"\")","v":""},{"$f":"IFERROR(VLOOKUP(A36,'Gruber Tabelle'!$A$3:$AR$386,13,0),\"\")","v":""},{"$f":"IFERROR(VLOOKUP(A36,'Gruber Tabelle'!$A$3:$AR$386,18,0),\"\")","v":""},{"$f":"IFERROR(VLOOKUP(A36,'Gruber Tabelle'!$A$3:$AR$386,9,0),\"\")","v":""},{"$f":"IFERROR(VLOOKUP(A36,'Gruber Tabelle'!$A$3:$AR$386,14,0),\"\")","v":""},{"$f":"IFERROR(VLOOKUP(A36,'Gruber Tabelle'!$A$3:$AR$386,10,0),\"\")","v":""},{"$f":"IFERROR(VLOOKUP(A36,'Gruber Tabelle'!$A$3:$AR$386,11,0),\"\")","v":""},{"$f":"IFERROR(VLOOKUP(A36,'Gruber Tabelle'!$A$3:$AR$386,43,0),\"\")","v":""},{"$f":"IFERROR(VLOOKUP(A36,'Gruber Tabelle'!$A$3:$AR$386,12,0),\"\")","v":""},{"$f":"IFERROR(VLOOKUP(A36,'Gruber Tabelle'!$A$3:$AR$386,17,0),\"\")","v":""},{"$f":"IFERROR(VLOOKUP(A36,'Gruber Tabelle'!$A$3:$AR$386,20,0),\"\")","v":""},{"$f":"IFERROR(VLOOKUP(A36,'Gruber Tabelle'!$A$3:$AR$386,21,0),\"\")","v":""},{"$f":"IFERROR(VLOOKUP(A36,'Gruber Tabelle'!$A$3:$AR$386,23,0),\"\")","v":""},{"$f":"IFERROR(VLOOKUP(A36,'Gruber Tabelle'!$A$3:$AR$386,22,0),\"\")","v":""},{"$f":"IFERROR(VLOOKUP(A36,'Gruber Tabelle'!$A$3:$AR$386,24,0),\"\")","v":""},{"$f":"IFERROR(VLOOKUP(A36,'Gruber Tabelle'!$A$3:$AR$386,25,0),\"\")","v":""},{"$f":"IFERROR(VLOOKUP(A36,'Gruber Tabelle'!$A$3:$AR$386,26,0),\"\")","v":""},{"$f":"IFERROR(VLOOKUP(A36,'Gruber Tabelle'!$A$3:$AR$386,27,0),\"\")","v":""},{"$f":"IFERROR(VLOOKUP(A36,'Gruber Tabelle'!$A$3:$AR$386,29,0),\"\")","v":""},{"$f":"IFERROR(VLOOKUP(A36,'Gruber Tabelle'!$A$3:$AR$386,30,0),\"\")","v":""},{"$f":"IFERROR(VLOOKUP(A36,'Gruber Tabelle'!$A$3:$AR$386,31,0),\"\")","v":""},{"$f":"IFERROR(VLOOKUP(A36,'Gruber Tabelle'!$A$3:$AR$386,32,0),\"\")","v":""},{"$f":"IFERROR(VLOOKUP(A36,'Gruber Tabelle'!$A$3:$AR$386,33,0),\"\")","v":""},{"$f":"IFERROR(VLOOKUP(A36,'Gruber Tabelle'!$A$3:$AR$386,34,0),\"\")","v":""},{"$f":"IFERROR(VLOOKUP(A36,'Gruber Tabelle'!$A$3:$AR$386,35,0),\"\")","v":""},{"$f":"IFERROR(VLOOKUP(A36,'Gruber Tabelle'!$A$3:$AR$386,16,0),\"\")","v":""},{"$f":"IFERROR(VLOOKUP(A36,'Gruber Tabelle'!$A$3:$AR$386,41,0),\"\")","v":""},{"$f":"IFERROR(VLOOKUP(A36,'Gruber Tabelle'!$A$3:$AR$386,42,0),\"\")","v":""},"",{"$f":"IFERROR(VLOOKUP(A36,'Gruber Tabelle'!$A$3:$AR$386,15,0),\"\")","v":""},{"$f":"IFERROR(VLOOKUP(A36,'Gruber Tabelle'!$A$3:$AR$386,37,0),\"\")","v":""},{"$f":"IFERROR(VLOOKUP(A36,'Gruber Tabelle'!$A$3:$AR$386,38,0),\"\")","v":""},{"$f":"IFERROR(VLOOKUP(A36,'Gruber Tabelle'!$A$3:$AR$386,39,0),\"\")","v":""},{"$f":"IFERROR(VLOOKUP(A36,'Gruber Tabelle'!$A$3:$AR$386,40,0),\"\")","v":""},{"$f":"IFERROR(VLOOKUP(A36,'Gruber Tabelle'!$A$3:$AR$386,15,0),\"\")","v":""},{"$f":"IFERROR(VLOOKUP(A36,'Gruber Tabelle'!$A$3:$AR$386,19,0),\"\")","v":""},{"$f":"IFERROR(VLOOKUP(A36,'Gruber Tabelle'!$A$3:$AR$386,36,0),\"\")","v":""}]

{"sheet":"Gruber Tabelle","index":3,"n_rows":395,"n_cols":44,"rows_kept":395,"cut":false,"hidden":false,"merged":[[0,0,1,0],[0,1,1,1]]}
["Ration",null,"TM/FM","CA","OM","aNDFom","ADFom","OMD","CP","CL","ST","ZU","GE","sidP","sidP- UDP","siDUDP","RMD","ME","pabKH","Ca","P","Mg","Na","K","Cl","S","DCAB","Fu-Art","Fe","Cu","Zn","Mn","Co","J","Se","Kosten €","a","b","c","lag","Lysin","Methionin","bST","Datum"]
[null,null,"g / kg FM","g / kg TM","g / kg TM","g / kg TM","g / kg TM","% OM","g / kg TM","g / kg TM","g / kg TM","g / kg TM","MJ / kg TM","g / kg TM","g / kg TM","%",null,"MJ/ kg TM","g / kg TM","g / kg TM","g / kg TM","g / kg TM","g / kg TM","g / kg TM","g / kg TM","g / kg TM","meq / kg",null,"mg / kg TM","mg / kg TM","mg / kg TM","mg / kg TM","mg / kg TM","mg / kg TM","mg / kg TM","€ / dt","%","%","% / h","h","g / kg TM","g / kg TM","g / kg TM"]
[1013,"Wiesengras, 1.Schnitt, im Blattstadium",175,111,{"$f":"1000-D3","v":889},433,209,88.26,228,33,0,137,18.170000000000002,121.47,43.44,86,9.57,12.87,137,6.9,3.8,2.4,0.9,31.5,7.1,2.8,{"$f":"(42.5 *W3 + 25.6 * X3) - (28.2 * Y3 + 62.3 *Z3)","v":469.99000000000012},"GF",100,8,35,59.1,0.12,0.4,0.03,0,13.6,77.900000000000006,15.2,1.3,9.41,3.22,0,"2024-02-11"]
[1014,"Wiesengras, 1.Schnitt, im Schossen",180,103,{"$f":"1000-D4","v":897},439,222,83.39,192,32,0,137,18.13,110.97,36.58,86,5.96,12.13,137,6.7,3.6,2.4,0.84,31.1,7,2.7,{"$f":"(42.5 *W4 + 25.6 * X4) - (28.2 * Y4 + 62.3 *Z4)","v":466.25000000000011},"GF",100,7.9,34.700000000000003,61.5,0.12,0.4,0.03,0,13.6,77.900000000000006,15.2,1.3,7.56,2.58,0,"2024-02-11"]
[1015,"Wiesengras, 1.Schnitt",185,95,905,457,241,79.08,167,30,0,137,18.12,102.99,31.82,86,3.62,11.48,137,6.5,3.4,2.2000000000000002,0.66,29.6,6.7,2.5,{"$f":"(42.5 *W5 + 25.6 * X5) - (28.2 * Y5 + 62.3 *Z5)","v":441.12000000000006},"GF",100,7.7,33,65,0.12,0.4,0.03,0,13.6,77.900000000000006,15.2,1.3,6.87,2.34,0,"2024-02-11"]
[1016,"Wiesengras, 1.Schnitt, Beginn Blüte",190,88,912,486,260,74.69,146,28,0,137,18.11,95.55,27.81,86,1.84,10.8,137,6.4,3.3,2.1,0.54,28.8,6.6,2.2999999999999998,430.82000000000016,"GF",100,7.5,32.4,69.8,0.12,0.4,0.03,0,13.6,77.900000000000006,15.2,1.3,11.26,3.86,0,"2024-02-11"]
[1017,"Wiesengras, 1.Schnitt, Ende Blüte",200,78,922,515,281,69.28,120,25,0,137,18.11,86.38,22.86,86,-0.38,9.9700000000000006,137,6,3.1,2,0.46,27.6,6.6,2.1,409.16,"GF",100,7.3,30.2,72,0.12,0.4,0.03,0,13.6,77.900000000000006,15.2,1.3,8.7200000000000006,2.98,0,"2024-02-11"]
[1023,"Wiesengras, 2.und FolgeSchnitte, im Blattstadium",200,99,901,488,270,78.73,179,40,0,63,18.52,104.65,34.1,86,5.27,11.68,63,7.6,3.7,2.8,0.89,29,8.3000000000000007,3.2,346.80500000000012,"GF",100,8.1999999999999993,37.6,54.8,0.12,0.4,0.03,0,13.6,77.900000000000006,15.2,1.3,8.35,2.85,0,"2024-02-11"]
[1024,"Wiesengras, 2.und FolgeSchnitte, im Schossen",200,97,903,491,275,75.92,159,37,0,63,18.399999999999999,98.47,30.29,86,3.35,11.18,63,7.6,3.5,2.8,0.79,28,8.1,3.2,322.59500000000014,"GF",100,8.1,35.200000000000003,69.2,0.12,0.4,0.03,0,13.6,77.900000000000006,15.2,1.3,7.33,2.5,0,"2024-02-11"]
[1025,"Wiesengras. 2.Schnitt",200,94,906,510,285,72.2,144,35,0,63,18.350000000000001,92.48,27.43,86,2.2400000000000002,10.56,63,7.3,3.4,2.6,0.62,27.4,8,2.7,333.98000000000008,"GF",100,8,33.1,71.099999999999994,0.12,0.4,0.03,0,13.6,77.900000000000006,15.2,1.3,8.49,2.9,0,"2024-02-11"]
[1026,"Wiesengras, 2.und FolgeSchnitte, Beginn Blüte",200,91,909,537,304,68.67,124,31,0,63,18.23,85.7,23.62,86,0.46,9.9499999999999993,63,6.9,3.2,2.4,0.55000000000000004,25.6,7.7,2.5,305.84500000000014,"GF",100,7.6,31.8,80.7,0.12,0.4,0.03,0,13.6,77.900000000000006,15.2,1.3,9.18,3.14,0,"2024-02-11"]
[1028,"Wiesengras, 3. Schnitt",200,100,900,480,266,74.150000000000006,168,31,0,72,18.239999999999998,98.38,32.01,86,4.91,10.74,72,8.1999999999999993,3.4,2.9,0.78,24.3,7.6,2.7,272.70000000000005,"GF",250,8.1,32.5,72,0.12,0.4,0.03,0,13.6,77.900000000000006,15.2,1.3,9.41,3.22,0,"2024-02-11"]
[1029,"Wiesengras, ab 4. Schnitt",180,110,890,470,260,78.98,202,33,0,86,18.21,108.4,38.49,86,8.2899999999999991,11.43,86,8.5,3.7,3,1,26.8,7.8,3.2,309.26000000000005,"GF",300,8.4,33,74.099999999999994,0.12,0.4,0.03,0,13.6,77.900000000000006,15.2,1.3,8.7200000000000006,2.98,0,"2024-02-11"]
[1055,"Weidegras, 1. Aufwuchs",190,90,910,400,210,86.08,196,35,0,121,18.5,115.24,37.340000000000003,86,5.61,12.86,121,7,3.7,2.4,0.7,30,7,3,413.45000000000005,"GF",150,7.9,42,40,0.12,0.4,0.03,0,13.6,77.900000000000006,15.2,1.3,8.49,2.9,0,"2024-02-11"]
[1065,"Weidegras, ab 2.Aufwuchs",200,100,900,430,230,81,192,35,0,94,18.37,109.08,36.58,86,6.42,11.91,94,7.6,4.2,3,0.8,25,8.3000000000000007,3,253.04000000000002,"GF",250,8.4,42,50,0.12,0.4,0.03,0,13.6,77.900000000000006,15.2,1.3,8.35,2.85,0,"2024-02-11"]
[1075,"Gras, angewelkt, 1.Schnitt",350,90,910,430,260,80.25,160,35,0,135,18.29,103.11,30.48,86,2.4,11.82,135,6.5,3.5,2.2000000000000002,0.79,28.9,6.6,2.4,437.77500000000009,"GF",200,7.7,33,50,0.12,0.4,0.03,0,13.6,77.900000000000006,15.2,1.3,4.87,2.2999999999999998,0,"2024-02-11"]
[1085,"Gras, angewelkt, ab 2.Schnitt",350,100,900,480,270,74.959999999999994,165,35,0,90,18.260000000000002,98.52,31.43,86,4.3600000000000003,10.9,90,7.8,3.6,2.8,1.02,28.1,7.8,2.8,368.31000000000017,"GF",300,8,38.799999999999997,47.7,0.12,0.4,0.03,0,13.6,77.900000000000006,15.2,1.3,5.73,2.2599999999999998,0,"2024-02-11"]
[1125,"GrünGerste",290,60,940,580,320,69.5,108,25,0,90,18.54,86.27,21.3,89,-2.23,10.3,90,4.8,2.6,1.5,0.28999999999999998,23.8,1.8,1.8,458.70500000000015,"GF",100,5.0999999999999996,29.9,45.4,0.12,0.35,0.02,0,13.6,77.900000000000006,15.2,1.3,5.08,2.34,0,"2024-02-11"]
[1145,"GrünHafer",290,78,922,530,340,69.5,111,32,0,104,18.309999999999999,85.62,21.89,89,-1.55,10.17,104,5.7,3.4,2.2000000000000002,0.71,27,3.9,1.8,499.255,"GF",191.6,7.3,27.6,50.3,0.12,0.35,0.02,0,13.6,77.900000000000006,15.2,1.3,2.2599999999999998,1.3,0,"2024-02-11"]
[1165,"GrünRoggen",260,80,920,520,330,69.5,115,32,0,93,18.329999999999998,86.27,22.68,89,-1.02,10.17,93,4.3,3.7,1.6,0.33,30.2,5,1.8,534.005,"GF",202.5,6.5,27.4,43.3,0.12,0.35,0.02,0,13.6,77.900000000000006,15.2,1.3,2.2400000000000002,1.28,0,"2024-02-11"]
[1203,"GrünMais, in der Kolbenbildung",200,46,954,501,284,70.349999999999994,82,17,86,140,18.23,82.37,15.63,86,-5.89,10.31,206.22,3,2.2000000000000002,1.7,0.2,12.1,1.5,1.1000000000000001,207.43,"GF",120,7.7,30,26.5,0.1,0.3,0.01,0,13.6,77.900000000000006,15.2,1.3,2.21,1.26,19.78,"2024-02-11"]
[1204,"GrünMais, in der Milchreife",225,43,957,475,266,71.75,76,20,137,120,18.3,82.77,14.48,86,-7.01,10.61,225.49,2.9,2.2000000000000002,1.7,0.2,12.1,1.5,1.1000000000000001,207.43,"GF",110,7.7,30,26.5,0.08,0.3,0.01,0,13.6,77.900000000000006,15.2,1.3,1.93,1.1100000000000001,31.51,"2024-02-11"]
[1205,"GrünMais",240,41,959,430,245,73.41,74,24,203,100,18.36,84.11,14.1,86,-7.68,10.94,256.31,2.8,2.2000000000000002,1.7,0.2,12.1,1.5,1.1000000000000001,207.43,"GF",100,7.7,30,26.5,7.0000000000000007E-2,0.3,0.01,0,13.6,77.900000000000006,15.2,1.3,2.2599999999999998,1.3,46.69,"2024-02-11"]
[1265,"Mais, Restpflanze, grün",350,56,944,553,330,45.7,42,15,40,57,18.12,49.24,6.34,62,-5.27,6.26,87.8,3.2,2.5,0.9,0.02,10.9,2.2000000000000002,1.1000000000000001,149.32000000000005,"GF",45.5,4.4000000000000004,16.2,13.7,0.08,0.3,0.01,0,58,31,3.8,1.5,11.31,3.48,9.1999999999999993,"2024-02-11"]
[1275,"GrünMais, zum Silieren",340,40,960,400,225,75.31,76,30,320,90,18.36,86.38,14.48,86,-7.89,11.26,362,2,2.2999999999999998,1.5,0.26,12,1.1000000000000001,1,224.93000000000006,"GF",100,5,34,35,7.0000000000000007E-2,0.3,0.01,0,13.6,77.900000000000006,15.2,1.3,13.26,3.6,48,"2024-02-11"]
[1305,"Ackerbohnen, grün",200,82,918,506,386,74,150,20,0,47,18.34,79.88,12.32,71,4.92,10.82,47,15.5,3.5,3.3,2,23,2,2,492.80000000000007,"GF",200,9,50,60,0.12,0.35,0.02,0,57,36,18,0,11.38,3.5,0,"2024-02-11"]
[1306,"Sojabohnen, grün",300,108,892,453,349,75,186,22,0,44,18.07,81.8,15.27,71,10.26,10.71,44,15.8,3.9,4.3,0.4,27.1,1.5,2.4,518.94000000000005,"GF",600,10.5,41,64,0.12,0.35,0.02,0,57,36,18,0,13,4,0,"2024-07-20"]
[1315,"Hülsenfrucht Gemenge",200,64,936,607,330,75,120,22,0,101,18.420000000000002,79.66,9.85,71,0.13,11.13,101,7,4,1.8,0.4,30,2,3,541.70000000000005,"GF",200,9,50,60,0.12,0.35,0.02,0,57,36,18,0,10.4,3.2,0,"2024-02-11"]
[1335,"Erbs- Wick- Gemenge",180,88,912,571,342,78,169,28,0,52,18.47,84.62,13.88,71,6.84,11.54,52,7.7,4.8,2,0.28999999999999998,28.5,5.0999999999999996,3.1,404.97500000000008,"GF",378.4,4.8,31.2,36.1,0.12,0.35,0.02,0,57,36,18,0,9.56,2.94,0,"2024-02-11"]
[1345,"Grünerbsen (Ganzpflanze)",170,90,910,453,336,77,197,27,0,58,18.52,85.85,16.170000000000002,71,11.06,11.3,58,11,5,2.5,0.5,30,2,2,608.25,"GF",200,9,50,60,0.12,0.35,0.02,0,57,36,18,0,10.5,3.78,0,"2024-02-11"]
[1355,"Hülsenfrüchte- Sonnenblumen- Gemenge",240,107,893,575,461,74,130,22,0,59,17.78,76.400000000000006,10.68,71,2.5299999999999998,10.54,59,0,0,0,0,0,0,0,0,"GF",0,0,0,0,0.12,0.35,0.01,0,57,36,18,0,9.5,3.42,0,"2024-02-11"]
[1375,"Wick- Roggen",200,70,930,620,350,78,120,21,0,80,18.350000000000001,95,22.86,86,-2.46,11.6,80,5,4,1.9,0.1,30,2,2,591.25,"GF",200,9,50,60,0.12,0.35,0.02,0,13.6,77.900000000000006,15.2,1.3,10.8,3.89,0,"2024-02-11"]
[1424,"Raps, grün, jung, blattreich",120,140,860,367,209,81,180,41,0,133,17.57,87.19,17.91,86,8.75,11.41,133,17,4.5,2.6,1.3,32,11,7,128.15000000000009,"GF",200,7,22,95,0.12,0.35,0.03,0,57,36,18,0,9,3.24,0,"2024-02-11"]
[1425,"Raps, grün",180,156,844,435,283,81,150,37,0,76,17.21,82.91,14.92,86,4.82,11.27,76,19,5,2.6,1.4,32,11,7,132.40000000000009,"GF",200,7,22,95,0.12,0.35,0.03,0,57,36,18,0,9.4499999999999993,3.4,0,"2024-02-11"]
[1435,"Perko, grün",100,205,795,320,190,81,216,38,0,110,16.52,85.52,21.48,86,15.11,10.58,110,13,6,1.2,1.1000000000000001,30,9,4,311.75,"GF",200,8,50,60,0.12,0.35,0.1,0,57,36,18,0,6.75,2.4300000000000002,0,"2019-03-10"]
[1444,"Rübsen, jung, blattreich",110,179,821,290,170,81,180,42,0,90,16.98,84.05,17.91,86,9.51,11.02,90,16,3.6,2.4,0.9,30,9,4,303.25,"GF",200,8,50,60,0.12,0.35,0.1,0,57,36,18,0,10.32,2.15,0,"2019-03-10"]
[1445,"Rübsen, grün",120,175,825,350,205,81,189,37,0,70,17.05,85.26,18.8,86,10.7,11.04,70,16,4.5999999999999996,2.7,1.4,30,9,4,324.5,"GF",200,8,50,60,0.12,0.35,0.1,0,57,36,18,0,7.83,4.2699999999999996,0,"2019-03-10"]
[1455,"Sonnenblumen, grün",190,130,870,430,290,72,120,50,0,110,17.73,72.150000000000006,9.85,71,1.95,10.25,110,0,0,0,0,0,0,0,0,"GF",0,0,0,0,0.12,0.35,0.01,0,57,36,18,0,8.8000000000000007,3.36,0,"2024-02-11"]
[1465,"Senf, grün",140,160,840,430,250,81,215,26,0,110,17.11,89.06,21.39,86,14.09,10.96,110,15.5,4,3.4,0,25,9,4,137,"GF",200,8,50,60,0.12,0.35,0.1,0,57,36,18,0,7.59,2.9,0,"2019-03-10"]
[1485,"Markstammkohl",115,132,868,345,205,81,178,30,0,50,17.72,87.63,17.71,86,8.31,11.52,50,19.7,3.5,2,1.7,29,11.4,6.1,113.1400000000001,"GF",200,6.3,35,27,0.12,0.35,0.1,0,57,36,18,0,10.1,3.46,0,"2019-03-10"]
[1505,"Zuckerrübenblatt, sauber",160,165,835,295,175,82,160,21,0,220,16.329999999999998,98.21,30.12,85,3.5,10.72,220,12.4,2.5,4.8,9.5,35,15,5.2,552.79,"GF",250,11.5,72,179,0.37,0.83,0.1,0,13.6,77.900000000000006,15.2,1.3,8.7200000000000006,2.98,0,"2019-03-10"]
[1555,"Futterrübenblatt, sauber",120,186,814,300,180,76,138,22,0,100,16.2,87.5,25.98,85,2.34,9.83,100,20,2.5,6.1,6.1,45,13.3,6.2,649.93000000000006,"GF",250,8.3000000000000007,50,130,0.3,0.8,0.1,0,13.6,77.900000000000006,15.2,1.3,7.79,2.66,0,"2019-03-10"]
[1614,"Rotklee, 1.Schnitt, vor der Knospe",140,130,870,355,275,74,261,34,0,80,18.149999999999999,81.78,17.75,85,22.97,10.36,80,10,3.7,2.5,0.5,32,3,2.2999999999999998,612.56000000000006,"GF",150,7.7,30,40,0.12,0.35,0.03,0,66,30,17,0,10.52,3.6,0,"2024-02-11"]
[1615,"Rotklee, 1.Schnitt",155,115,885,385,305,71.34,219,28,0,80,18.11,77.680000000000007,14.89,85,17.079999999999998,10.01,80,10,3.7,2.5,0.5,32,3,2.2999999999999998,612.56000000000006,"GF",150,7.7,30,40,0.12,0.35,0.03,0,66,30,17,0,9.18,3.14,0,"2024-02-11"]
[1616,"Rotklee, 1.Schnitt, Beginn Blüte",160,100,900,425,345,67.83,166,24,0,80,18.059999999999999,72,11.29,85,9.7799999999999994,9.56,80,10,3.7,2.5,0.5,32,3,2.2999999999999998,612.56000000000006,"GF",150,7.7,30,40,0.12,0.35,0.03,0,66,30,17,0,8.02,2.74,0,"2024-02-11"]
[1624,"Rotklee, 2.und FolgeSchnitte, vor der Knospe",170,118,882,370,290,69.13,235,29,0,60,18.21,76.62,15.98,85,19.96,9.65,60,14,3.9,3,0.5,35,4.4000000000000004,2.5,637.41999999999996,"GF",150,8.8000000000000007,35,45,0.12,0.35,0.03,0,66,30,17,0,11.03,3.78,0,"2024-02-11"]
[1625,"Rotklee, ab 2.Schnitt",190,109,891,410,330,65.69,211,27,0,60,18.22,72.56,14.35,85,17.010000000000002,9.14,60,14,3.9,3,0.5,35,4.4000000000000004,2.5,637.41999999999996,"GF",150,8.8000000000000007,35,45,0.12,0.35,0.03,0,66,30,17,0,10.33,3.54,0,"2024-02-11"]
[1626,"Rotklee, 2.und FolgeSchnitte, Beginn Blüte",210,104,896,450,370,61.92,164,25,0,60,18.05,66.319999999999993,11.15,85,10.83,8.57,60,14,3.9,3,0.5,35,4.4000000000000004,2.5,637.41999999999996,"GF",150,8.8000000000000007,35,45,0.12,0.35,0.03,0,66,30,17,0,8.7200000000000006,2.98,0,"2024-02-11"]
[1633,"KleeGras, 1.Schnitt, vor der Knospe",150,110,890,380,220,79.790000000000006,200,29,0,80,18.14,84.22,13.6,85,12.4,11.52,80,8.3000000000000007,3.9,2.7,0.6,35.1,4.5,2.5,641.41000000000008,"GF",150,8.4,32,39,0.12,0.35,0.03,0,66,30,17,0,8.25,2.82,0,"2024-02-11"]
[1634,"KleeGras, 1.Schnitt, in der Knospe",160,105,895,410,250,76.900000000000006,180,28,0,80,18.11,80.69,12.24,85,9.98,11.07,80,8.3000000000000007,3.8,2.2000000000000002,0.6,33,4.5,2.2000000000000002,606.34000000000015,"GF",150,7,30,39,0.12,0.35,0.03,0,66,30,17,0,10.33,3.54,0,"2024-02-11"]
[1635,"KleeGras, 1.Schnitt",175,100,900,440,280,74.03,160,27,0,80,18.09,77.14,10.88,85,7.56,10.64,80,8.3000000000000007,3.5,2.1,0.6,32,4.5,2,593.20000000000005,"GF",150,6.6,27,39,0.12,0.35,0.03,0,66,30,17,0,9.8699999999999992,3.38,0,"2024-02-11"]
[1636,"KleeGras, 1.Schnitt, in der Blüte",200,95,905,470,310,71.2,140,23,0,80,18.010000000000002,73.599999999999994,9.52,85,5.14,10.18,80,8.3000000000000007,3.3,1.9,0.6,29,4,1.7,549.19000000000005,"GF",150,6.2,25.1,39,0.12,0.35,0.03,0,66,30,17,0,8.25,2.82,0,"2024-02-11"]
[1644,"KleeGras, 2.und FolgeSchnitte, vor der Knospe",150,115,885,430,283,70.06,220,29,0,53,18.21,76.62,14.96,85,17.5,9.86,53,9.4,3.9,2.8,0.39,36.4,5.7,2.8,613.23500000000013,"GF",175,8.9,33.5,40.700000000000003,0.12,0.35,0.03,0,66,30,17,0,9.64,3.3,0,"2024-02-11"]
[1645,"KleeGras, 2. Schnitt",175,105,895,466,306,68.66,180,28,0,61,18.170000000000002,73.349999999999994,12.24,85,11.75,9.7200000000000006,61,9.4,3.9,2.7,0.38,32.4,5.7,2.6,522.87,"GF",175,8.4,33.5,40.700000000000003,0.12,0.35,0.03,0,66,30,17,0,10.33,3.54,0,"2024-02-11"]
[1646,"KleeGras, 2.und FolgeSchnitte, Beginn Blüte",190,95,905,509,328,68.03,150,25,0,73,18.12,71.430000000000007,10.199999999999999,85,7.3,9.68,73,9.4,3.9,2.2999999999999998,0.43,31,5.7,2.1,520.30499999999995,"GF",175,6.8,33.5,40.700000000000003,0.12,0.35,0.03,0,66,30,17,0,8.9499999999999993,3.06,0,"2024-02-11"]
[1648,"KleeGras, 3.Schnitt",190,104,896,440,295,68.87,189,27,0,56,18.22,74.22,12.85,85,13.01,9.76,56,12.2,3.7,2.9,0.41,29.8,5.7,2.5,463.81500000000005,"GF",82.6,8.9,30.6,40.299999999999997,0.12,0.35,0.03,0,66,30,17,0,9.64,3.3,0,"2024-02-11"]
[1649,"KleeGras, ab 4.Schnitt",170,113,887,427,255,72.66,211,31,0,57,18.239999999999998,78.44,14.35,85,15.59,10.35,57,10.6,4.3,2.7,0.66,31.8,7,3,457.83000000000004,"GF",111.3,9,31.8,41.2,0.12,0.35,0.03,0,66,30,17,0,9.7799999999999994,3.35,0,"2024-02-11"]
[1655,"Juraklee- Gras",170,105,895,500,290,72.41,185,30,0,50,18.27,77.03,12.58,85,11.68,10.41,50,10,3.7,1.9,0.8,35,6,2,636.20000000000005,"GF",200,9,50,60,0.12,0.35,0.1,0,66,30,17,0,10.41,2.89,0,"2019-03-10"]
[1665,"Alexandrinerklee",125,136,864,485,285,71.849999999999994,200,43,0,80,17.940000000000001,75.34,13.6,85,14.54,10.08,80,16,3.9,3.2,1.3,33,6,2,606.25000000000011,"GF",150,9,55,60,0.12,0.35,0.1,0,66,30,17,0,9.06,2.52,0,"2019-03-10"]
[1685,"Perserklee",118,138,862,455,265,73.790000000000006,203,24,0,80,17.52,77.06,13.8,85,14.62,10.1,80,16,3.5,2,1.35,28,6,2,480.37500000000011,"GF",150,9,50,60,0.12,0.35,0.1,0,66,30,17,0,8.15,2.2599999999999998,0,"2019-03-10"]
[1714,"Luzerne, 1.Schnitt, in der Knospe",150,115,885,368,310,70.64,236,26,0,50,18.23,93.85,31.68,89,17.059999999999999,9.91,50,16,3.8,3.1,0.5,32,2.8,2.5,605.74,"GF",150,7.2,29,29,0.15,0.3,0.03,0,48,42,19,0,10.7,2.97,0,"2024-02-11"]
[1715,"Luzerne, 1.Schnitt",180,105,895,400,320,69.849999999999994,203,23,0,50,18.21,89.41,27.24,89,12.58,9.8699999999999992,50,14.5,3.5,2.8,0.5,31,2.8,2.5,580.1400000000001,"GF",150,7.2,29,29,0.15,0.3,0.03,0,48,42,19,0,9.5399999999999991,2.65,0,"2024-02-11"]
[1716,"Luzerne, 1.Schnitt, Ende Blüte",210,95,905,465,350,67.19,160,22,0,50,18.170000000000002,81.95,21.48,89,7.15,9.5299999999999994,50,13,3,2.5,0.5,30,2.8,2.5,554.54,"GF",150,7.2,29,29,0.15,0.3,0.03,0,48,42,19,0,9.11,2.5299999999999998,0,"2024-02-11"]
[1724,"Luzerne, 2.und FolgeSchnitte, in der Knospe",180,115,885,357,264,71.25,244,27,0,55,18.28,95.46,32.75,89,18.02,10.02,55,16,4.0999999999999996,3.2,0.5,31,3,2.9,549.58000000000004,"GF",150,8,27,31,0.15,0.3,0.03,0,48,42,19,0,9.8800000000000008,2.75,0,"2024-02-11"]
[1725,"Luzerne ab 2.Schnitt",195,110,890,421,331,64.930000000000007,208,24,0,55,18.14,85.39,27.92,89,14.39,8.98,55,15,3.7,2.8,0.5,30,3,2.9,523.98,"GF",150,8,27,31,0.15,0.3,0.03,0,48,42,19,0,8.68,2.41,0,"2024-02-11"]
[1726,"Luzerne 2.und FolgeSchnitte, Ende Blüte",210,100,900,473,379,60.61,177,22,0,55,18.14,78,23.75,89,10.96,8.35,55,14,3.4,2.2000000000000002,0.5,29,3,2.9,498.38000000000011,"GF",150,8,27,31,0.15,0.3,0.03,0,48,42,19,0,7.71,2.14,0,"2024-02-11"]
[1734,"LuzerneGras, 1.Schnitt, vor der Knospe",160,105,895,385,238,78.37,195,25,0,75,18.14,95.93,26.17,89,9.66,11.29,75,10.4,3.9,2.2000000000000002,0.57999999999999996,32.9,2.6,2.4,644.04999999999995,"GF",100,7.8,36.4,44.7,0.12,0.35,0.03,0,48,42,19,0,10.36,2.88,0,"2024-02-11"]
[1735,"LuzerneGras, 1.Schnitt",170,101,{"$f":"1000-D68","v":899},432,288,73.349999999999994,183,25,0,61,18.2,90.14,24.56,89,9.0399999999999991,10.52,61,8.9,3.6,2.2000000000000002,0.26,32,2.6,2.4,607.41000000000008,"GF",100,7.8,31.3,38.9,0.12,0.35,0.03,0,48,42,19,0,9.4,2.61,0,"2024-02-11"]
[1736,"LuzerneGras, 1.Schnitt, in der Blüte",180,99,901,503,346,67.55,161,24,0,47,18.149999999999999,82.14,21.61,89,7.27,9.58,47,8.6999999999999993,3.5,2.2000000000000002,0.13,28.3,2.6,2.4,{"$f":"(42.5 *W69 + 25.6 * X69) - (28.2 * Y69 + 62.3 *Z69)","v":507.16500000000002},"GF",100,7.8,30.1,30,0.12,0.35,0.03,0,48,42,19,0,8.68,2.41,0,"2024-02-11"]
[1744,"LuzerneGras, 2.und FolgeSchnitte, in der Knospe",190,113,887,381,256,72.25,229,29,0,46,18.309999999999999,94.46,30.73,89,15.73,10.26,46,14.5,4.2,3.1,0.43,33.1,4.2,3.3,541.60500000000013,"GF",100,9.3000000000000007,30,45.1,0.12,0.35,0.03,0,48,42,19,0,0,0,0,"2024-02-11"]
[1745,"LuzerneGras, ab 2.Schnitt",195,108,892,431,307,67.88,196,27,0,40,18.23,86.53,26.31,89,12.1,9.58,40,14.5,3.6,2.8,0.4,31.1,3.4,2.9,536.61000000000013,"GF",100,8.1,30,36.6,0.12,0.35,0.03,0,48,42,19,0,9.41,3.22,0,"2024-02-11"]
[1746,"LuzerneGras, 2.und FolgeSchnitte, in der Blüte",200,102,898,485,367,61.86,177,24,0,28,18.22,78.989999999999995,23.75,89,10.72,8.61,28,14.5,3.3,2.6,0.4,29,1.7,2.7,543.25000000000011,"GF",100,7.6,30,29.6,0.12,0.35,0.03,0,48,42,19,0,8.02,2.74,0,"2024-02-11"]
[1814,"Weidelgras, 1.Schnitt, im Schossen",170,95,905,420,200,83.7,171,31,0,180,18.03,108.29,32.96,87,3.12,12.17,180,5.5,3.8,1.8,0.4,36.700000000000003,6,2,662.72000000000014,"GF",200,6,31,50,0.12,0.35,0.03,0,13.6,77.900000000000006,15.2,1.3,6.18,2.1,0,"2024-02-11"]
[1815,"Weidelgras, 1.Schnitt",180,95,905,480,260,76.709999999999994,145,27,0,150,17.920000000000002,96.98,27.94,87,1.4,11.01,150,5.5,3.3,1.8,0.39,33,6,2,567.57500000000016,"GF",200,6,31,50,0.12,0.35,0.03,0,13.6,77.900000000000006,15.2,1.3,9.41,3.22,0,"2024-02-11"]
[1816,"Weidelgras, 1.Schnitt, Beginn Blüte",190,95,905,530,310,68.77,110,24,0,105,17.82,83.09,21.2,87,-1.24,9.75,105,5.5,3.2,1.8,0.37,32.200000000000003,6,2,546.24500000000023,"GF",200,6,31,50,0.12,0.35,0.03,0,13.6,77.900000000000006,15.2,1.3,8.49,2.9,0,"2024-02-11"]
[1824,"Weidelgras, 2.und FolgeSchnitte, im Schossen",180,100,900,447,218,84.3,195,43,0,120,18.48,113.03,37.58,87,6.08,12.56,120,5.5,3.8,1.8,0.4,36.700000000000003,6,2,662.72000000000014,"GF",200,6,31,50,0.12,0.35,0.03,0,13.6,77.900000000000006,15.2,1.3,6.87,2.34,0,"2024-02-11"]
[1825,"Weidelgras, ab 2.Schnitt",190,100,900,496,251,77.36,175,38,0,90,18.37,102.97,33.729999999999997,87,5.09,11.35,90,5.5,3.3,1.8,0.4,33,6,2,568.00000000000011,"GF",200,6,31,50,0.12,0.35,0.03,0,13.6,77.900000000000006,15.2,1.3,9.36,3.2,0,"2024-02-11"]
[1826,"Weidelgras, 2.und FolgeSchnitte, Beginn Blüte",200,100,900,538,311,71.31,160,32,0,60,18.260000000000002,94.66,30.83,87,4.53,10.3,60,5.5,3.2,1.8,0.4,32.200000000000003,6,2,547.52000000000021,"GF",200,6,31,50,0.12,0.35,0.03,0,13.6,77.900000000000006,15.2,1.3,7.84,2.68,0,"2024-02-11"]
[1865,"Landsberger Gemenge",190,107,893,442,254,77,190,26,0,105,18.010000000000002,87.27,18.89,86,10.38,10.98,105,7.3,3,1.7,0.45,26,5,2,419.125,"GF",150,8,45,70,0.12,0.35,0.02,0,57,36,18,0,4.0999999999999996,1.38,0,"2024-02-11"]
[1875,"Zuckerhirse",230,55,945,658,392,76,92,20,0,99,18.420000000000002,82.05,10.63,56,-5.55,11.38,99,5.2,2.2999999999999998,2,0.24,16.100000000000001,3.8,1.4,227.98000000000008,"GF",150,7.3,30.9,33.799999999999997,0.12,0.4,0.01,0,24,68,12.6,0.65,5.25,1.78,0,"2024-02-11"]
[1885,"SudanGras",230,56,944,681,408,75,81,18,0,29,18.510000000000002,79.77,9.36,56,-6.71,11.32,29,5.2,2.2999999999999998,2,0.21,16.100000000000001,3.8,1.4,226.7050000000001,"GF",150,7.3,30.9,33.799999999999997,0.12,0.4,0.01,0,24,68,12.6,0.65,7.68,2.8,0,"2024-02-11"]
[2010,"GrasSilage",350,108,892,515,281,72.69,165,38,0,15,18.39,86.29,21.81,90,6.96,10.62,15,6.3,3.8,2.2999999999999998,0.8,30,7,2.2000000000000002,467.53999999999996,"GF",200,8.5,50,85,0.12,0.4,0.03,0,57,34.700000000000003,11.6,0,6.95,2.54,0,"2026-03-10"]
[2013,"GrasSilage, angew., 1.Schnitt, im Schossen",350,99,901,488,270,78.73,179,40,0,63,18.52,94.2,23.65,90,7.41,11.68,63,6.8,3.7,2.4,0.89,31.1,7,2.7,468.37500000000011,"GF",350,7.9,34.700000000000003,61.5,0.12,0.4,0.03,0,57,34.700000000000003,11.6,0,5.99,2.19,0,"2026-03-10"]
[2014,"GrasSilage, angew., 1.Schnitt, RispenSchieben",350,97,903,491,275,75.92,159,37,0,63,18.399999999999999,89.19,21.01,90,5.25,11.18,63,6.7,3.5,2.2999999999999998,0.71,29.6,6.7,2.5,443.24500000000006,"GF",350,7.7,33,65,0.12,0.4,0.03,0,57,34.700000000000003,11.6,0,8.06,2.93,0,"2026-03-10"]
[2015,"GrasSilage, angewelkt, 1.Schnitt",350,94,906,510,285,72.2,144,35,0,63,18.350000000000001,84.08,19.03,90,3.96,10.56,63,6.5,3.4,2.2000000000000002,0.59,28.8,6.6,2.2999999999999998,432.94500000000016,"GF",350,7.5,32.4,69.8,0.12,0.4,0.03,0,57,34.700000000000003,11.6,0,7.39,2.69,0,"2026-03-10"]
[2016,"GrasSilage, angew., 1.Schnitt, Mitte Blüte",350,91,909,537,304,68.67,124,31,0,63,18.23,78.47,16.39,90,1.95,9.9499999999999993,63,6.1,3.2,2,0.51,27.6,6.6,2.1,411.28500000000003,"GF",350,7.3,30.2,72,0.12,0.4,0.03,0,57,34.700000000000003,11.6,0,6.71,2.4500000000000002,0,"2026-03-10"]
[2024,"GrasSilage, angew., 2.und FolgeSchnitte, Schossen",350,105,895,495,270,74.650000000000006,169,40,0,50,18.399999999999999,88.77,22.33,90,7.04,10.94,50,7.6,3.6,2.7,0.85,28.7,8.1,2.9,361.75500000000005,"GF",380,8.1999999999999993,34.5,68.2,0.12,0.4,0.03,0,57,34.700000000000003,11.6,0,7.19,2.62,0,"2026-03-10"]
[2025,"GrasSilage, angewelkt, 2.Schnitt",350,103,897,510,285,70.510000000000005,148,37,0,50,18.28,82.46,19.559999999999999,90,5.0199999999999996,10.23,50,7.4,3.5,2.6,0.75,27.4,8,2.7,339.50500000000005,"GF",380,8,33.1,71.099999999999994,0.12,0.4,0.03,0,57,34.700000000000003,11.6,0,7.92,2.88,0,"2026-03-10"]
[2026,"GrasSil, angew., 2.und FolgeSchnitte, RispenSpreiz",350,99,901,535,305,67.05,128,33,0,50,18.18,76.989999999999995,16.91,90,2.97,9.64,50,7,3.3,2.5,0.6,25.6,7.7,2.5,307.97000000000014,"GF",380,7.6,31.8,80.7,0.12,0.4,0.03,0,57,34.700000000000003,11.6,0,4,1.5,0,"2026-03-10"]
[2028,"GrasSilage, angewelkt, 3.Schnitt",350,110,890,488,272,72.45,165,38,0,46,18.260000000000002,85.94,21.81,90,7.05,10.49,46,8.3000000000000007,3.5,3,0.9,26.1,7.7,2.8,314.83000000000015,"GF",400,8.1999999999999993,33,75,0.12,0.4,0.03,0,57,34.700000000000003,11.6,0,3.92,1.5,0,"2026-03-10"]
[2029,"GrasSilage, angewelkt, ab 4.Schnitt",335,120,880,476,267,75.430000000000007,180,41,0,39,18.22,89.8,23.79,90,8.64,10.93,39,8.6,3.8,3.1,1.1000000000000001,28,7.8,3.3,338.00000000000011,"GF",500,8.5,33.299999999999997,76.599999999999994,0.12,0.4,0.03,0,57,34.700000000000003,11.6,0,4,1.47,0,"2026-03-10"]
[2034,"GrasSilage, naß, 1.Schnitt, RispenSchieben",250,125,875,465,260,77.290000000000006,180,40,0,25,18.149999999999999,91.05,23.79,90,8.34,11.2,25,6.5,4,2.35,0.7,31,7,2.2000000000000002,488.89,"GF",200,9,45,80,0.12,0.4,0.03,0,57,34.700000000000003,11.6,0,4.4800000000000004,1.5,0,"2026-03-10"]
[2035,"GrasSilage, naß, 1.Schnitt",250,120,880,515,280,72.03,165,38,0,15,18.16,84.85,21.81,90,7.31,10.37,15,6.3,3.8,2.2999999999999998,0.8,30,7,2.2000000000000002,467.53999999999996,"GF",200,8.5,50,85,0.12,0.4,0.03,0,57,34.700000000000003,11.6,0,4.2,1.68,0,"2026-03-10"]
[2036,"GrasSilage, naß, 1.Schnitt, Mitte Blüte",250,110,890,570,308,66.34,145,36,0,10,18.23,77.88,19.16,90,5.62,9.51,10,5.8,3.7,2.15,0.8,29,8,2.2000000000000002,413.74000000000012,"GF",200,8,50,90,0.12,0.4,0.03,0,57,34.700000000000003,11.6,0,4,1.58,0,"2026-03-10"]
[2044,"GrasSilage, naß, 2.und FolgeSchnitte, im Schossen",250,145,855,405,252,80.08,188,42,0,20,17.86,92.93,24.84,90,9.23,11.46,20,9,3.8,3.2,1,27,6,2.2000000000000002,427.44000000000005,"GF",200,9,50,100,0.12,0.4,0.04,0,57,34.700000000000003,11.6,0,6,1.5,0,"2026-03-10"]
[2045,"GrasSilage, naß, ab 2.Schnitt",250,125,875,460,272,74.459999999999994,174,40,0,20,18.13,87.79,23,90,8.1199999999999992,10.73,20,8.5,3.7,3.1,1,25,7,2.4,335.58000000000004,"GF",200,9,50,100,0.12,0.4,0.04,0,57,34.700000000000003,11.6,0,5.6,2.25,0,"2026-03-10"]
[2046,"GrasSilage, naß, 2.und FolgeSchnitte, RispenSpreiz",250,120,880,510,303,69.56,160,37,0,15,18.11,82.02,21.14,90,7.15,9.93,15,7.5,3.6,2.7,1,25,7,2.2999999999999998,341.81,"GF",200,8.5,50,100,0.12,0.4,0.04,0,57,34.700000000000003,11.6,0,4.8,2.1,0,"2026-03-10"]
[2125,"GrünGersten- Silage",350,56,944,580,320,71,102,21,0,40,18.64,79.77,13.11,89,-2.12,10.64,40,4.8,3.2,1.6,0.71,28.8,5.8,2.2000000000000002,466.83500000000004,"GF",567.6,6.3,33.4,45.4,0.12,0.35,0.02,0,57,35,11.6,0,3.6,1.8,0,"2024-02-11"]
[2134,"GPS Gerste KornArm",340,69,931,630,347,66.400000000000006,91,22,150,60,18.07,81.12,19.64,89,-3.81,9.5500000000000007,195,4.5,2.6,1.3,0.3,17.7,3.4,1.6,270.31,"GF",158.6,6.8,28.3,43.3,0.12,0.35,0.02,0,54.14,39.47,3.25,0.47,3.8,1.35,15,"2024-02-11"]
[2135,"GPS Gerste",360,55,945,590,315,66.400000000000006,87,23,220,50,18.25,81.180000000000007,18.78,89,-4.5199999999999996,9.65,248,4.3,2.6,1.3,0.3,17.7,3.4,1.6,270.31,"GF",158.6,6.8,28.3,43.3,0.12,0.35,0.02,0,54.14,39.47,3.25,0.47,2.2599999999999998,1.43,22,"2024-02-11"]
[2136,"GPS Gerste KornReich",380,47,953,550,294,66.400000000000006,81,24,290,40,18.309999999999999,80.41,17.48,89,-5.37,9.6999999999999993,301,4.0999999999999996,2.6,1.3,0.3,17.7,3.4,1.6,270.31,"GF",158.6,6.8,28.3,43.3,0.12,0.35,0.02,0,54.14,39.47,3.25,0.47,2.76,1.58,29,"2024-02-11"]
[2144,"Grnhafersilage Rispenschieben",325,91,909,485,302,75,118,36,0,51,18.34,82.97,15.17,89,-0.21,11.12,51,5.7,3.4,2.2000000000000002,0.71,27,3.9,1.8,499.255,"GF",191.6,7.3,27.6,50.3,0.12,0.35,0.02,0,57,35,11.6,0,2.48,1.42,0,"2024-02-11"]
[2145,"GrünHafer- Silage",325,77,923,529,338,79,105,32,0,45,18.48,86.01,13.49,89,-3.13,11.93,45,5.7,3.4,2.2000000000000002,0.71,27,3.9,1.8,499.255,"GF",191.6,7.3,27.6,50.3,0.12,0.35,0.02,0,57,35,11.6,0,2.3199999999999998,1.33,0,"2024-02-11"]
[2146,"Grünhafersilage abgeblht",325,74,926,583,370,64,101,29,0,36,18.48,71.92,12.98,89,-0.4,9.3699999999999992,36,5.7,3.4,2.2000000000000002,0.71,27,3.9,1.8,499.255,"GF",191.6,7.3,27.6,50.3,0.12,0.35,0.02,0,57,35,11.6,0,2.2599999999999998,1.3,0,"2024-02-11"]
[2164,"Grnroggensilage hrenschieben",270,93,907,481,295,70,130,35,0,41,18.37,79.849999999999994,16.71,89,2.56,10.25,41,4.3,3.7,1.6,0.33,30.2,5,1.8,534.005,"GF",202.5,6.5,27.4,43.3,0.12,0.35,0.02,0,57,35,11.6,0,2.3199999999999998,1.33,0,"2024-02-11"]
[2165,"GrünRoggen- Silage",270,81,919,541,337,75,110,33,0,30,18.489999999999998,82.68,14.13,89,-1.48,11.24,30,4.3,3.7,1.6,0.33,30.2,5,1.8,534.005,"GF",202.5,6.5,27.4,43.3,0.12,0.35,0.02,0,57,35,11.6,0,2.3199999999999998,1.33,0,"2024-02-11"]
[2166,"Grnroggensilage abgeblht",270,73,927,596,378,64,98,30,0,23,18.54,71.59,12.59,89,-0.82,9.41,23,4.3,3.7,1.6,0.33,30.2,5,1.8,534.005,"GF",202.5,6.5,27.4,43.3,0.12,0.35,0.02,0,57,35,11.6,0,2.2599999999999998,1.3,0,"2024-02-11"]
[2175,"GPS Roggen u. Tritcale",350,61,939,600,329,66.099999999999994,78,22,180,64,18.100000000000001,78.56,16.829999999999998,89,-5.44,9.5500000000000007,226,3.8,2.7,1.3,0.26,15.8,3,1.4,243.71000000000004,"GF",100.7,6.8,31.3,45.3,0.12,0.35,0.02,0,54.14,39.47,3.25,0.47,2.2599999999999998,1.3,18,"2024-02-11"]
[2185,"GPS Weizen",400,55,945,580,312,66.7,81,22,240,100,18.03,80.17,17.48,89,-5.31,9.59,316,3.3,2.7,1.5,0.27,14,2.1,1.6,210.97500000000005,"GF",100,6.4,27.3,43.2,0.12,0.35,0.02,0,54.14,39.47,3.25,0.47,2.62,1.5,24,"2024-02-11"]
[2206,"MaisSilage, in Wachsreife, 35% TM",350,35,965,398,234,74.34,76,30,324,35,18.600000000000001,82.81,11.47,62,-8.02,11.25,310.39999999999998,2.7,2.2999999999999998,1.5,0.23,12,1.5,1.1000000000000001,206.14500000000004,"GF",87.8,7.8,29.8,25.7,0.08,0.3,0.01,0,58,31,3.8,1.5,2.3199999999999998,1.33,48.6,"2024-02-11"]
[2216,"MaisSilage, in Wachsreife, körnerarm, 34% TM",350,38,962,430,253,72.95,77,27,277,38,18.55,81.41,11.62,62,-7.52,10.98,273.45,2.8,2.2000000000000002,1.6,0.23,13.2,1.7,1.2,224.995,"GF",92.5,7.5,30.9,28.9,0.08,0.3,0.01,0,58,31,3.8,1.5,2.29,1.31,41.55,"2024-02-11"]
[2226,"MaisSilage, in Wachsreife, körnerreich, 36% TM",350,33,967,369,216,75.67,75,31,367,36,18.59,84.09,11.32,62,-8.48,11.47,347.95,2.7,2.2000000000000002,1.5,0.23,11.2,1.4,1.1000000000000001,188.48499999999996,"GF",84.6,7.8,29.6,25.1,0.08,0.3,0.01,0,58,31,3.8,1.5,9,2.7,55.05,"2024-02-11"]
[2245,"MaisSilage, Pflückhäcksel 24",400,35,965,365,215,75.7,80,33,360,36,18.62,84.72,12.07,62,-7.85,11.49,342,2.7,2.4,1.4,0.2,9.6999999999999993,1.2,1.1000000000000001,154.44999999999999,"GF",85,7.5,30,18,0.08,0.3,0.01,0,58,31,3.8,1.5,8.25,2.48,54,"2024-02-11"]
[2246,"MaisSilage, Pflückhäcksel 22",410,30,970,313,175,78.569999999999993,78,34,439,38,18.600000000000001,87.56,11.77,62,-8.85,11.97,411.15,2.6,2.4,1.3,0.2,8.5,0.9,1.1000000000000001,132.19000000000003,"GF",85,7.2,30,18,0.08,0.3,0.01,0,58,31,3.8,1.5,7.8,2.93,65.849999999999994,"2024-02-11"]
[2305,"GPS Ackerbohne",310,122,878,373,315,68,163,28,0,32,17.850000000000001,78.27,18.89,95,8.57,9.5,32,15.8,3.9,4.3,0.41,27.1,1.5,2.4,519.36500000000001,"GF",683.1,10.5,41,64,0.12,0.35,0.01,0,58,35,15,0,7.4,2.78,0,"2024-02-11"]
[2315,"GPS Hülsenfrüchte",310,76,924,490,334,70,116,27,0,44,18.45,77.760000000000005,13.44,95,0.77,10.32,44,9.1,3.5,1.9,0.43,19.399999999999999,3.1,1.7,321.58499999999998,"GF",151,6.7,33.799999999999997,44.6,0.12,0.35,0.01,0,58,35,15,0,7.4,2.78,0,"2024-02-11"]
[2424,"RapsSilage, jung, blattreich,",170,165,835,283,239,78,165,38,0,13,17.309999999999999,83.88,19.11,95,7.55,10.82,13,18,3.5,2.7,0.4,25,9,5,91.700000000000045,"GF",200,5,25,60,0.12,0.35,0.03,0,58,35,15,0,5.2,1.95,0,"2024-02-11"]
[2425,"RapsSilage",200,170,830,373,284,69,150,22,0,13,16.809999999999999,74.34,17.38,95,7.33,9.11,13,18,3.5,2.7,0.4,25,9,5,91.700000000000045,"GF",200,5,25,60,0.12,0.35,0.03,0,58,35,15,0,6.4,2.4,0,"2024-02-11"]
[2435,"PerkoSilage",140,170,830,380,225,69,185,41,0,5,17.399999999999999,78.39,21.43,95,12.25,9.36,5,13,6,1.2,1.1000000000000001,30,9,4,311.75,"GF",200,8,50,60,0.12,0.35,0.1,0,58,35,15,0,6,2.25,0,"2019-03-10"]
[2445,"RübsenSilage",170,110,890,334,318,69,114,30,0,73,17.77,74.28,13.21,95,1.28,9.77,73,0,0,0,0,0,0,0,0,"GF",0,0,0,0,0.12,0.35,0.03,0,58,35,15,0,5.6,2.1,0,"2024-02-11"]
[2485,"Markstammkohl- Silage",140,153,847,385,225,65,160,30,0,5,17.37,73.28,18.53,95,9.27,8.76,5,19.7,3.5,2,1.7,29,11.4,6.1,113.1400000000001,"GF",200,6.3,35,27,0.12,0.35,0.1,0,58,35,15,0,5.8,2.17,0,"2019-03-10"]
[2505,"Zuckerrübenblatt- Silage, sauber",180,185,815,350,205,79,150,32,0,16,16.73,84.73,20.7,94,5.0199999999999996,10.64,16,10,2.4,4,7,27,15,5,254.20000000000005,"GF",250,15,59,157,0.35,0.8,0.1,0,57,34.700000000000003,11.6,0,7.19,2.62,0,"2019-03-10"]
[2506,"Zuckerrübenblatt- Silage, verschmutzt",180,255,745,325,195,79,140,31,0,10,15.36,77.849999999999994,19.32,94,4.99,9.76,10,12,2,4.5,9,29,15,5,390.40000000000009,"GF",250,14.7,59,157,0.35,0.8,0.1,0,57,34.700000000000003,11.6,0,7.44,2.71,0,"2019-03-10"]
[2555,"Futterrübenblatt- Silage",180,220,780,335,195,79,145,29,0,20,15.97,81.290000000000006,20.010000000000002,94,5,10.14,20,20,2.4,5,3.5,33,13,6,253.1500000000002,"GF",250,9,50,130,0.3,0.8,0.1,0,57,34.700000000000003,11.6,0,8.4,3.05,0,"2019-03-10"]
[2615,"RotkleeSilage, 1.Schnitt",330,105,895,412,305,70.86,166,27,0,38,18.149999999999999,80.44,17.37,94,8.3800000000000008,10.130000000000001,38,12,3.5,2.5,0.5,30,3,2,580.04999999999995,"GF",270,7.7,30,50,0.15,0.35,0.03,0,49,46,17,0,7.44,2.71,0,"2026-03-10"]
[2625,"RotkleeSilage, ab 2.Schnitt",330,105,895,395,314,66.010000000000005,177,27,0,35,18.21,77.27,18.52,94,10.99,9.31,35,14,3.5,3,0.5,30,3,2,580.04999999999995,"GF",270,8.5,30,50,0.15,0.35,0.03,0,49,46,17,0,6.42,2.35,0,"2026-03-10"]
[2634,"KleeGrasSilage, 1. Schnitt, in der Knospe",330,100,900,401,270,75.09,184,41,0,50,18.59,89.42,22.21,94,9.44,11.09,50,8.1,3.7,2.6,0.6,33.9,4.5,2.6,604.46,"GF",260,7.5,31.8,56.9,0.12,0.35,0.03,0,53,40.4,14.3,0,8.16,2.97,0,"2026-03-10"]
[2635,"KleeGrasSilage, 1.Schnitt",330,100,900,422,283,73.64,161,37,0,50,18.399999999999999,85.35,19.440000000000001,94,6.54,10.79,50,8.1,3.6,2.5,0.6,31.4,4.5,2.5,546.69000000000005,"GF",260,7.2,30.2,59.6,0.12,0.35,0.03,0,53,40.4,14.3,0,7.68,2.8,0,"2026-03-10"]
[2636,"KleeGrasSilage, 1.Schnitt, in der Blüte",330,100,900,449,295,72.38,143,35,0,50,18.27,82.05,17.27,94,4.3099999999999996,10.55,50,8.1,3,2,1,31,4,2,598.70000000000005,"GF",260,7,29,63,0.12,0.35,0.03,0,53,40.4,14.3,0,6.71,2.4500000000000002,0,"2026-03-10"]
[2644,"KleeGrasSilage, 2.und FolgeSchnitte, vor der Knosp",340,106,894,422,298,68.62,178,37,0,42,18.38,82.5,21.49,94,10.1,9.86,42,10.7,3.6,2.7,0.59,32.200000000000003,5.3,2.6,537.95500000000027,"GF",300,7.9,29.7,53.2,0.12,0.35,0.03,0,53,40.4,14.3,0,7.44,2.71,0,"2026-03-10"]
[2645,"KleeGrasSilage, 2.Schnitt",340,99,901,457,316,66.930000000000007,155,35,0,44,18.36,78.69,18.72,94,7.14,9.6300000000000008,44,9.4,3.5,2.6,0.57999999999999996,30.6,5.3,2.4,509.03000000000014,"GF",300,7.6,29.7,59,0.12,0.35,0.03,0,53,40.4,14.3,0,7.87,2.86,0,"2026-03-10"]
[2646,"KleeGrasSilage, 2.und FolgeSchnitte, Beginn Blüte",340,95,{"$f":"1000-D132","v":905},483,327,65.790000000000006,130,32,0,50,18.239999999999998,74.91,15.7,94,3.84,9.4499999999999993,50,8.9,3.3,2.4,0.62,28.2,5.3,2.4,449.29000000000013,"GF",300,7,29.7,67.3,0.12,0.35,0.03,0,53,40.4,14.3,0,8.99,2.57,0,"2026-03-10"]
[2648,"KleeGrasSilage, 3.Schnitt",340,110,890,430,304,67.42,174,34,0,50,18.2,80.680000000000007,21.01,94,9.86,9.56,50,10.4,3.4,2.8,0.6,30.4,5.6,2.8,{"$f":"(42.5 *W133 + 25.6 * X133) - (28.2 * Y133 + 62.3 *Z133)","v":471.38000000000005},"GF",400,7.8,30,60,0.12,0.35,0.03,0,53,40.4,14.3,0,8.2799999999999994,2.36,0,"2026-03-10"]
[2649,"KleeGrasSilage, ab 4.Schnitt",330,120,880,393,272,70.569999999999993,182,36,0,52,18.09,83.74,21.98,94,10.47,10.01,52,10.9,3.7,3,0.6,30.9,7.4,3.1,414.72999999999996,"GF",600,8.1999999999999993,30.6,73.2,0.12,0.35,0.03,0,53,40.4,14.3,0,7.8,2.23,0,"2026-03-10"]
[2714,"LuzerneSilage, in der Knospe 1.Schnitt",350,105,895,374,319,69.41,190,32,0,40,18.36,86.52,24.74,94,11.28,9.94,40,16,3.5,2.9,0.5,31,3.1,2.1,596.6,"GF",400,7.5,26,44,0.15,0.3,0.03,0,67,23,13,0,8.42,2.4,0,"2026-03-10"]
[2715,"LuzerneSilage, 1.Schnitt",350,105,895,406,330,68.25,175,29,0,40,18.23,83.54,22.79,94,9.4600000000000009,9.7100000000000009,40,14.5,3.3,2.7,0.5,30,3.1,2.1,571,"GF",400,7.5,26,44,0.15,0.3,0.03,0,67,23,13,0,9.08,2.59,0,"2026-03-10"]
[2716,"LuzerneSilage, Ende Blüte, 1.Schnitt",350,105,895,456,344,66.8,150,28,0,40,18.09,78.989999999999995,19.53,94,6.33,9.4700000000000006,40,13,3.2,2.5,0.5,29,3.1,2.1,545.40000000000009,"GF",400,7.5,26,44,0.15,0.3,0.03,0,67,23,13,0,8.2799999999999994,2.36,0,"2026-03-10"]
[2725,"LuzerneSilage, ab 2. Schnitt",350,105,895,420,352,63,176,29,0,45,18.22,78.989999999999995,22.92,94,10.73,8.81,45,14.7,3.2,2.5,0.5,29,3.6,2.5,506.38000000000011,"GF",400,8,25.6,44.3,0.15,0.3,0.03,0,67,23,13,0,7.8,2.23,0,"2026-03-10"]
[2734,"LuzerneGrasSilage, in der Knospe, 1.Schnitt",350,105,895,408,302,71.37,186,35,0,48,18.38,87.73,24.21,94,10.31,10.3,48,13,3.4,2.6,0.5,30.9,4.5,2.4,535.87,"GF",400,7.2,26.7,50.2,0.12,0.35,0.03,0,67,23,13,0,8.0399999999999991,2.2999999999999998,0,"2026-03-10"]
[2735,"LuzerneGras- Silage, 1.Schnitt",350,105,895,454,329,68.77,162,31,0,44,18.2,82.3,21.09,94,7.56,9.83,44,12,3.2,2.2999999999999998,0.4,29.2,4.5,2.1,506.78999999999996,"GF",400,7.2,26.7,50.2,0.12,0.35,0.03,0,67,23,13,0,7.44,2.71,0,"2026-03-10"]
[2736,"LuzerneGrasSilage, in der Blüte, 1.Schnitt",350,99,901,484,344,67.52,138,29,0,42,18.16,78.459999999999994,17.96,94,4.42,9.67,42,10,2.9,2.2999999999999998,0.4,27.2,4.5,2,461.82000000000005,"GF",400,7.2,26.7,50.2,0.12,0.35,0.03,0,67,23,13,0,6.81,2.4900000000000002,0,"2026-03-10"]
[2745,"LuzerneGras- Silage, ab 2. Schnitt",350,107,893,447,334,64.06,172,33,0,47,18.239999999999998,79.28,22.39,94,9.98,9.02,47,12.3,3.2,2.7,0.6,28.1,5.3,2.5,439.65000000000015,"GF",400,7.8,27.3,47.4,0.12,0.35,0.03,0,67,23,13,0,5.51,2.02,0,"2026-03-10"]
[2814,"WeidelGrasSilage, im Schossen",350,110,890,384,223,85.43,170,38,0,102,18.12,98.07,22.46,90,4.96,12.57,102,5.8,3.8,1.8,0.49,36.700000000000003,6,2,666.54500000000019,"GF",250,6.2,28,65,0.12,0.35,0.03,0,57,34.700000000000003,11.6,0,6.95,2.54,0,"2026-03-10"]
[2815,"Weidelgras- Silage",350,110,890,431,262,78.53,150,36,0,67,18.079999999999998,89.33,19.82,90,3.7,11.45,67,5.8,3.3,1.8,0.53,33.6,6,2,588.8850000000001,"GF",250,6.2,28,65,0.12,0.35,0.03,0,57,34.700000000000003,11.6,0,5.51,2.02,0,"2026-03-10"]
[2816,"WeidelGras- Silage, in der Blüte",350,110,890,482,304,70.31,125,34,0,41,18,78.75,16.52,90,2.0499999999999998,10.1,41,5.8,3.2,1.8,0.5,32.9,6,2,569.69000000000005,"GF",250,6.2,28,65,0.12,0.35,0.03,0,57,34.700000000000003,11.6,0,3.82,1.42,0,"2026-03-10"]
[2865,"Landsberger Gemenge- Silage",320,105,895,427,278,73.900000000000006,143,34,0,44,18.170000000000002,83.05,17.27,94,4.07,10.75,44,6.2,3.9,1.9,0.42,32.9,6.6,2,549.37000000000012,"GF",186.7,6.9,29.8,80.7,0.12,0.35,0.02,0,53,40.4,14.3,0,5.13,1.74,0,"2024-02-11"]
[2885,"SudanGras- Silage",300,55,945,614,380,64,73,20,0,20,18.559999999999999,70.73,10.58,62,-5.56,9.49,20,5.2,2.2999999999999998,2,0.23,16.100000000000001,3.8,1.4,227.55500000000006,"GF",150,7.3,30.9,33.799999999999997,0.12,0.4,0.01,0,41.7,41.4,18.899999999999999,1.54,4.3600000000000003,1.48,0,"2024-02-11"]
[3014,"Heu Wiese, 1.Schnitt, RispenSchieben",860,80,920,537,304,69.39,127,25,0,120,18.16,84.13,20.64,80,0.87,9.99,120,6.1,3,2,0.4,26.6,6.9,1.9,385.01000000000005,"GF",150,7.3,32,68,0.12,0.4,0.02,0,34.5,57,10,0,3.6629999999999998,1.24,0,"2024-02-11"]
[3015,"Heu Wiese, 1.Schnitt",860,71,929,594,346,60.61,97,18,0,118,18.05,71.760000000000005,15.76,80,-1.1499999999999999,8.5500000000000007,118,5.8,2.7,2,0.4,22.5,5.6,1.8,322.94,"GF",150,7.2,30.5,68,0.12,0.4,0.02,0,34.5,57,10,0,6.95,2.34,0,"2024-02-11"]
[3016,"Heu Wiese, 1.Schnitt, in der Blüte",860,62,938,624,380,55.4,82,16,0,116,18.11,65.010000000000005,13.33,80,-2.02,7.75,116,5.5,2.2000000000000002,2,0.4,20.7,5.0999999999999996,1.6,303.41999999999996,"GF",150,6.6,29,68,0.12,0.4,0.02,0,34.5,57,10,0,6.27,2.11,0,"2024-02-11"]
[3017,"Heu Wiese, 1.Schnitt, abgeblüht",860,56,944,636,391,52.51,64,14,0,114,18.100000000000001,59.7,10.4,80,-3.74,7.32,114,5.2,2.2000000000000002,2,0.4,18.399999999999999,4.4000000000000004,1.5,270.51,"GF",150,6.5,27.5,68,0.12,0.4,0.02,0,34.5,57,10,0,5.36,1.81,0,"2024-02-11"]
[3024,"Heu Wiese, 2.und FolgeSchnitte, im Schossen",860,89,911,485,272,73.56,145,30,0,120,18.18,90.2,23.56,80,2.4,10.66,120,8,3.4,2.9,0.5,26.4,6.5,2.4,364.2700000000001,"GF",220,7.5,30,65,0.12,0.4,0.02,0,34.5,57,10,0,6.27,2.11,0,"2024-02-11"]
[3025,"Heu Wiese, 2.Schnitt",860,86,914,527,304,68.760000000000005,131,26,0,106,18.13,83.79,21.29,80,1.62,9.86,106,7.8,3.3,2.8,0.5,24.6,6.5,2.2000000000000002,330.65000000000009,"GF",220,7.4,30,65,0.12,0.4,0.02,0,34.5,57,10,0,6.27,2.11,0,"2024-02-11"]
[3026,"Heu Wiese, 2.und FolgeSchnitte, Beginn Blüte",860,80,920,581,340,62.93,113,22,0,96,18.100000000000001,75.94,18.36,80,0.51,8.92,96,6.4,3.1,2.4,0.5,23,6.5,2.1,295.92000000000007,"GF",220,7.2,30,65,0.12,0.4,0.02,0,34.5,57,10,0,6.04,2.04,0,"2024-02-11"]
[3028,"Heu Wiese 3. Schnitt",860,91,909,515,292,71.64,147,26,0,120,18.07,88.65,23.89,80,3.11,10.26,120,7,3.5,2.7,0.6,26.2,7.2,2.9,312.51000000000005,"GF",250,7.9,30,65,0.12,0.4,0.02,0,34.5,57,10,0,5.36,1.81,0,"2024-02-11"]
[3029,"Heu Wiese ab 4.Schnitt",860,99,901,462,254,79.13,180,32,0,97,18.260000000000002,100.15,29.25,80,5.84,11.55,97,7.8,4.3,3.4,0.6,27.1,8,3.1,300.53000000000009,"GF",350,8.5,35,65,0.12,0.4,0.02,0,34.5,57,10,0,4.45,1.51,0,"2024-02-11"]
[3034,"Heu Unter DachTrocknung, 1.Schnitt, RispenSchieben",870,85,915,498,281,74.150000000000006,142,27,0,142,18.11,90.54,23.07,80,1.82,10.72,142,6.6,3.2,2.1,0.5,28.2,5.4,2,466.29000000000008,"GF",150,7.3,33.1,68,0.12,0.4,0.02,0,34.5,57,10,0,7.18,2.42,0,"2024-02-11"]
[3035,"Heu Unter Dach Trocknung, 1.Schnitt",870,77,923,541,307,68.63,111,24,0,140,18.059999999999999,81.040000000000006,18.04,80,-1.05,9.85,140,6.2,2.9,2.1,0.5,23.9,5.4,1.9,362.44000000000005,"GF",150,7.1,32.5,68,0.12,0.4,0.02,0,34.5,57,10,0,6.73,2.2599999999999998,0,"2024-02-11"]
[3036,"Heu Unter Dach Trocknung, 1.Schnitt, in der Blüte",870,70,930,582,350,62.25,91,19,0,138,18,72.36,14.79,80,-2.29,8.81,138,5.8,2.4,2.1,0.5,23.1,5.4,1.8,348.19,"GF",150,6.7,28.1,68,0.12,0.4,0.02,0,34.5,57,10,0,6.5,2.19,0,"2024-02-11"]
[3044,"Heu UnterDach Trocknung, 2.u. FolgeSchn., Schossen",870,99,901,461,260,77.8,172,28,0,112,18.100000000000001,97.66,27.95,80,5.1100000000000003,11.24,112,8.4,3.8,3,0.6,29.5,7.8,2.7,392.53000000000009,"GF",220,7.9,38.1,65,0.12,0.4,0.02,0,34.5,57,10,0,8.32,2.79,0,"2024-02-11"]
[3045,"Heu Unter Dach Trocknung, ab 2.Schnitt",870,95,905,514,287,71.849999999999994,148,27,0,110,18.05,88.72,24.05,80,3.26,10.28,110,7.4,3.7,2.8,0.6,28.5,7.8,2.6,373.16000000000008,"GF",220,7.8,33,65,0.12,0.4,0.02,0,34.5,57,10,0,7.86,2.64,0,"2024-02-11"]
[3046,"Heu Unt. DachTrocknung, 2.u. FolgSch, Beginn Blüte",870,87,913,553,312,67.44,137,25,0,108,18.11,83.49,22.26,80,2.69,9.61,108,7.4,3.6,2.6,0.6,26.3,7.8,2.5,323.07000000000011,"GF",220,7.7,27.7,65,0.12,0.4,0.02,0,34.5,57,10,0,8.64,2.9,0,"2024-02-11"]
[3074,"GrasCobs, 1.Schnitt, im Blattstadium",900,95,905,425,208,82.63,174,30,0,154,18.100000000000001,107.49,33.119999999999997,80,3.27,12.03,154,6.9,3.9,2.9,1.1000000000000001,26,6.3,2.2000000000000002,397.63,"GF",400,7.7,33,80,0.15,0.4,0.03,0,34,56,8,0,8.32,2.79,0,"2024-02-11"]
[3075,"GrasCobs, 1.Schnitt",900,95,905,464,253,77.17,152,30,0,135,18.05,98.39,28.94,80,1.77,11.16,135,6.9,3.9,2.9,1.1000000000000001,26,6.3,2.2000000000000002,397.63,"GF",400,7.7,33,80,0.15,0.4,0.03,0,34,56,8,0,7.18,2.42,0,"2024-02-11"]
[3076,"GrasCobs, 1.Schnitt, RispenSchieben",900,95,905,499,274,72.03,131,30,0,120,18,89.77,24.94,80,0.33,10.34,120,6.7,3.6,2.9,1.1000000000000001,26,6.3,2.2000000000000002,397.63,"GF",400,7.7,33,80,0.15,0.4,0.03,0,34,56,8,0,8.5500000000000007,2.87,0,"2024-02-11"]
[3084,"GrasCobs, 2.und FolgeSchnitte, im Blattstadium",900,100,900,393,220,83.19,183,37,0,111,18.32,109.29,34.83,80,4.34,12.28,111,9.8000000000000007,3.7,3.4,1,24,7.5,2.7,277.19000000000005,"GF",600,8.6,32,111,0.15,0.4,0.03,0,34,56,8,0,7.86,2.64,0,"2024-02-11"]
[3085,"GrasCobs, ab 2.Schnitt",900,100,900,448,252,78.63,173,34,0,95,18.260000000000002,103.31,32.93,80,4.1100000000000003,11.49,95,9.8000000000000007,3.7,3.4,1,24,7.5,2.7,277.19000000000005,"GF",600,8.6,32,111,0.15,0.4,0.03,0,34,56,8,0,7.41,2.4900000000000002,0,"2024-02-11"]
[3086,"GrasCobs, 2.und FolgeSchnitte, RispenSchieben",900,100,900,479,271,75.260000000000005,162,32,0,89,18.18,98.19,30.83,80,3.5,10.9,89,9.8000000000000007,3.7,3.4,1,24,7.5,2.7,277.19000000000005,"GF",600,8.6,32,111,0.15,0.4,0.03,0,34,56,8,0,0.9,0.22,0,"2024-02-11"]
[3125,"Stroh Gerste",880,56,944,847,542,50,30,15,0,12,18.260000000000002,48.52,1.58,26,-7.5,7.09,12,4.4000000000000004,1,1.1000000000000001,0.37,15.2,2.8,0.9,269.81500000000005,"GF",79.7,4.0999999999999996,11.2,15.1,0.1,0.35,0.01,0,34.5,57,10,0,0,0,0,"2024-02-11"]
[3134,"Stroh Gerste, NaOH aufgeschlossen",880,97,903,761,489,68,27,15,0,3,17.5,62.08,1.01,26,-11.04,9.73,3,4.4000000000000004,1,1.1000000000000001,5.18,15.2,2.8,0.9,474.24,"GF",79.7,4.0999999999999996,11.2,15.1,0.1,0.35,0.01,0,57,35,11.6,0,0,0,0,"2024-02-11"]
[3135,"Stroh Gerste, NH3 aufgeschlossen",880,56,944,847,542,65,59,15,0,3,18.420000000000002,63.24,2.2200000000000002,26,-6.65,9.6300000000000008,3,4.4000000000000004,1,1.1000000000000001,0.37,15.2,2.8,0.9,269.81500000000005,"GF",79.7,4.0999999999999996,11.2,15.1,0.1,0.35,0.01,0,57,35,11.6,0,0.72,0.18,0,"2024-02-11"]
[3145,"Stroh Hafer",880,64,936,790,516,50,36,19,0,49,18.11,48.44,1.9,26,-6.64,7.01,49,4,1.4,1,2,21,8,2,272.40000000000003,"GF",200,7,40,80,0.06,0.35,0.01,0,34.5,57,10,0,0,0,0,"2024-02-11"]
[3155,"Stroh Hafer, NH3 aufgeschlossen",880,67,933,790,516,65,82,17,0,7,18.350000000000001,63.39,3.08,26,-3.33,9.52,7,4,1.4,1,2,21,8,2,272.40000000000003,"GF",200,7,40,80,0.06,0.35,0.01,0,57,35,11.6,0,0.74,0.19,0,"2024-02-11"]
[3165,"Stroh Roggen",880,58,942,850,550,50,37,13,0,10,18.22,48.8,1.96,26,-6.59,7.05,10,3,1,1,0.4,10,3,0.7,144.79000000000002,"GF",80,4,10,20,0.05,0.35,0.01,0,34.5,57,10,0,0.8,0.2,0,"2024-02-11"]
[3185,"Stroh Weizen",880,57,943,835,527,50,40,13,0,17,18.23,49,2.11,26,-6.22,7.05,17,3.6,1.1000000000000001,0.9,0.25,10,2.2000000000000002,0.7,160.97499999999999,"GF",67.2,5.3,9.3000000000000007,26.9,0.06,0.35,0.01,0,34.5,57,10,0,0,0,0,"2024-02-11"]
[3194,"Stroh Weizen, NaOH aufgeschlossen",880,82,918,825,521,56,37,14,0,4,17.809999999999999,52.52,1.39,26,-7.27,7.89,4,3.6,1.1000000000000001,0.9,4.67,10,2.2000000000000002,0.7,348.82500000000005,"GF",67.2,5.3,9.3000000000000007,26.9,0.06,0.35,0.01,0,57,35,11.6,0,0,0,0,"2024-02-11"]
[3195,"Stroh Weizen, NH3 aufgeschlossen",880,56,944,835,527,54,94,12,0,4,18.52,54.23,3.53,26,0.63,7.67,4,3.6,1.1000000000000001,0.9,0.25,10,2.2000000000000002,0.7,160.97499999999999,"GF",67.2,5.3,9.3000000000000007,26.9,0.06,0.35,0.01,0,57,35,11.6,0,2.35,1.34,0,"2024-02-11"]
[3205,"MaisCobs, Ganzpflanze",890,37,963,432,219,75.239999999999995,75,28,276,80,18.46,86.33,14.27,80,-8.24,11.31,240.08,3.1,2.5,2.1,0.23,10.7,1,1,193.19499999999999,"GF",241.7,7.1,30.1,34.700000000000003,0.09,0.3,0.01,0,34,56,8,0,6.54,2.2000000000000002,115.92,"2024-02-11"]
[3615,"RotkleeHeu, 1. Schnitt",860,100,900,463,344,67.599999999999994,154,21,0,66,17.98,77.59,17.079999999999998,80,6.62,9.51,66,11,3.3,3.2,0.5,30,3,2,580.04999999999995,"GF",250,8.5,25,50,0.15,0.35,0.02,0,59,36,8,0,7.04,2.37,0,"2024-02-11"]
[3625,"RotkleeHeu, ab 2.Schnitt",860,100,900,459,345,65.63,171,21,0,66,18.059999999999999,77.709999999999994,18.97,80,9.39,9.17,66,11,3.3,3.2,0.5,30,3,2,580.04999999999995,"GF",250,8.5,25,50,0.15,0.35,0.02,0,59,36,8,0,6.73,2.2599999999999998,0,"2024-02-11"]
[3635,"KleeGrasHeu, 1. Schnitt",860,90,910,481,320,70.39,130,19,0,87,17.95,80.94,17.239999999999998,80,1.98,10.029999999999999,87,8.3000000000000007,2.9,2.2000000000000002,0.4,26.2,7.1,1.8,375.36,"GF",200,7.5,28,54,0.12,0.35,0.02,0,47,47,9,0,7.64,2.57,0,"2024-02-11"]
[3645,"KleeGrasHeu, ab 2.Schnitt",860,97,903,490,330,66.849999999999994,160,20,0,74,18.02,81.25,21.22,80,6.87,9.3800000000000008,74,10.6,3.2,3.3,0.4,26.7,4.2,2.1,451.25,"GF",200,7.5,28,54,0.12,0.35,0.02,0,47,47,9,0,8.92,2.48,0,"2024-02-11"]
[3675,"Rotklee-, KleeGrasCobs",900,110,890,446,299,71.52,172,29,0,68,18.04,86.12,22.82,80,7.68,10.16,68,11,3.3,3,0.6,29,4.3,2.5,490.8900000000001,"GF",300,8.3000000000000007,28,50,0.15,0.35,0.03,0,47,47,9,0,7.47,2.08,0,"2024-02-11"]
[3714,"LuzerneHeu, 1.Schnitt, Beginn Blüte",860,101,899,461,332,68.61,174,20,0,65,18.04,82.54,21.2,54,6.76,9.65,65,15,2.8,3,0.8,28,4,2,513.40000000000009,"GF",200,7,20,25,0.15,0.3,0.02,0,33,55,11,0,7.23,2.0099999999999998,0,"2024-02-11"]
[3715,"LuzerneHeu, 1.Schnitt",860,94,906,515,379,64.040000000000006,166,19,0,40,18.18,77.92,20.22,54,6.64,8.98,40,15,2.8,2.7,0.6,27,4,2,479.30000000000007,"GF",200,7,20,25,0.15,0.3,0.02,0,33,55,11,0,8.58,2.39,0,"2024-02-11"]
[3716,"LuzerneHeu, 1.Schnitt, abgeblüht",860,93,907,536,406,61.41,148,15,0,36,18.05,73.42,18.03,54,4.97,8.5299999999999994,36,15,2.8,2.2999999999999998,0.5,26,4,2,449.45000000000005,"GF",200,7,20,25,0.15,0.3,0.02,0,33,55,11,0,6.75,1.88,0,"2024-02-11"]
[3724,"LuzerneHeu, 2.und FolgeSchnitte, Beginn Blüte",860,103,897,456,318,66.73,185,21,0,54,18.11,82.07,22.54,54,8.56,9.34,54,15,3.1,2.6,0.5,30,4,2,551.85,"GF",200,7,20,25,0.15,0.3,0.02,0,33,55,11,0,6.27,1.74,0,"2024-02-11"]
[3725,"LuzerneHeu, ab 2.Schnitt",860,100,900,488,362,62.62,173,19,0,40,18.100000000000001,77.13,21.08,54,7.91,8.68,40,15,3.1,2.4,0.5,29,4,2,526.25000000000011,"GF",200,7,20,25,0.15,0.3,0.02,0,33,55,11,0,6.99,1.94,0,"2024-02-11"]
[3726,"LuzerneHeu, 2.und FolgeSchnitte, abgeblüht",860,96,904,522,398,59.53,149,16,0,33,18.02,71.67,18.149999999999999,54,5.55,8.1999999999999993,33,15,3.1,2.2000000000000002,0.4,28,4,2,496.40000000000009,"GF",200,7,20,25,0.15,0.3,0.02,0,33,55,11,0,7.71,2.14,0,"2024-02-11"]
[3735,"LuzerneGrasHeu, 1. Schnitt",860,94,906,563,378,64.56,141,17,0,78,17.920000000000002,75.349999999999994,17.18,54,3.43,9,78,12.7,4.2,2.9,0.38,36.5,8.6,3.1,514.90000000000009,"GF",466.6,8.9,31.7,92,0.12,0.35,0.02,0,33,55,11,0,7.47,2.08,0,"2024-02-11"]
[3745,"LuzerneGrasHeu, ab 2.Schnitt",860,93,907,516,363,62.99,155,20,0,52,18.14,75.7,18.88,54,5.49,8.82,52,10.1,3.2,2.2000000000000002,0.46,29.5,3.5,2,551.45000000000005,"KF",75,7.6,26.1,31.7,0.12,0.35,0.02,0,33,55,11,0,10.119999999999999,2.81,0,"2024-02-11"]
[3774,"LuzerneCobs,-Grünmehl, vor der Knose",900,120,880,427,301,71.05,209,31,0,55,18.100000000000001,108.09,45.91,84,9.69,10,55,15,3.7,2.9,0.6,28,3.7,2.5,482.21000000000004,"KF",400,8,26,55,0.15,0.3,0.03,0,32,54,9,0,8.92,2.48,0,"2024-02-11"]
[3775,"LuzerneCobs, -Grünmehl",900,115,885,449,310,70.209999999999994,184,29,0,55,18.04,102.22,40.43,84,6.83,9.9,55,15,3.7,2.9,0.6,28,3.7,2.5,482.21000000000004,"KF",400,8,26,55,0.15,0.3,0.03,0,32,54,9,0,8.44,2.35,0,"2024-02-11"]
[3776,"LuzerneCobs,-Grünmehl, Beginn Blüte",900,110,890,480,338,67.650000000000006,153,25,0,55,17.899999999999999,93.5,33.619999999999997,84,3.63,9.49,55,15,3.7,2.9,0.6,28,3.7,2.5,482.21000000000004,"GF",400,8,26,55,0.15,0.3,0.03,0,32,54,9,0,6.04,2.04,0,"2024-02-11"]
[3815,"Heu WeidelGras",860,96,904,471,238,74.89,144,28,0,133,17.96,90.73,23.4,80,2.11,10.74,133,5.5,3.3,1.8,0.4,33,6,2,568.00000000000011,"GF",200,6,31,50,0.12,0.35,0.03,0,34.5,57,10,0,6.73,2.2599999999999998,0,"2024-02-11"]
[3865,"Heu, Landsberger Gemenge",860,100,{"$f":"1000-D196","v":900},560,325,75,150,21,0,60,17.98,85.4,18.27,54,2.39,10.76,60,8.5,3,1.8,0.45,30,5,2,521.52499999999998,"GF",150,8,50,80,0.12,0.35,0.1,0,33,55,11,0,4.46,2.06,0,"2019-03-10"]
[4025,"Gerste, 2-zeilig",880,25,975,210,125,87.1,125,25,602,25,18.5,100,14.5,90,-3.1,13.2,564.4,0.7,4,1.3,0.3,5,1,1.5,19,"KF",44,4.5,25,18,0.1,0.3,0.03,0,25.61,71.569999999999993,19.41,0.03,4.46,2.06,60,"2024-02-11"]
[4026,"Gerste, mehrzeilig",880,24,976,169,79,87.1,116,20,600,18,18.399999999999999,98.91,14.37,90,-4.4000000000000004,13.12,558,0.5,4.2,1.5,0.11,6.3,1.3,1.5,{"$f":"(42.5 *W198 + 25.6 * X198) - (28.2 * Y198 + 62.3 *Z198)","v":35.845000000000027},"KF",54,9.8000000000000007,39.6,20.2,0.1,0.3,0,0,25.61,71.569999999999993,19.41,0.03,4.46,2.06,60,"2024-02-11"]
[4065,"Hafer",880,29,971,300,155,77.099999999999994,110,40,472,7,18.93,83.38,8.93,59,-2.79,11.84,431.8,1.2,3.7,1.3,0.17,4.8,0.3,1.6,21.964999999999989,"KF",99.1,6.5,33.200000000000003,48.4,7.0000000000000007E-2,0.3,0,0,25.61,71.569999999999993,19.41,0.03,5.03,1.97,47.2,"2024-02-11"]
[4075,"HaferFlocken",910,18.68,981.32,155,95,77.099999999999994,128.57,54.95,650.54999999999995,18.68,19.2,85.68,10.44,59,-0.42,11.95,604.16999999999996,1,4.45,1.46,0.33,4.22,3,2,-87.142999999999986,"KF",73,4.0999999999999996,26,48,0.03,0.3,0.08,0,25.61,71.569999999999993,19.41,0.03,5.25,2.06,65.05,"2013-03-13"]
[4105,"Roggen",880,19,981,139,42,86.6,100,14,576,34,18.28,92.16,7.67,75,-6.02,12.98,552.4,0.5,3,1.1000000000000001,0.06,5.6,0.4,1.2,59.870000000000005,"KF",31.9,6,33.200000000000003,26.1,0.05,0.2,0,0,32.729999999999997,61.91,40.82,0,3.86,1.73,57.6,"2024-02-11"]
[4125,"Triticale",880,18,982,12,50,89.4,118,13,704,21,18.2,98.42,11.11,88,-4.21,13.32,654.6,0.5,3.5,1.3,0.05,5.2,0.3,1.3,45.795000000000016,"KF",35.5,6.7,41.4,40.5,0.08,0.2,0,0,30.8,66.099999999999994,26.8,0,3.91,1.98,70.400000000000006,"2024-02-11"]
[4145,"Weizen",880,18,982,123,44,87,132,16,693,14,18.37,100.52,15.56,88,-2.21,13,637.70000000000005,0.5,3.6,1.3,0.06,5.0999999999999996,0.5,1.5,25.560000000000031,"KF",42.6,5.0999999999999996,30.1,40.1,0.1,0.4,0,0,19.5,78.36,21.4,0.13,3.85,2.16,69.3,"2024-02-11"]
[4155,"WeizenFlocken",880,17.05,982.95,165,100,87,137.5,18.18,677.27,22.73,18.45,101.26,16.21,88,-1.47,13.05,632.27,0.7,3.8,1.3,0.17,5,1,2,-17.574999999999989,"KF",45,7,65,35,0.1,0.4,0.1,0,19.5,78.36,21.4,0.13,3.85,2.16,67.73,"2013-03-13"]
[4205,"Körnermais",880,17,983,170,100,84.6,102,45,695,19,18.8,110,27,96,-8.1999999999999993,13.1,452.32,0.4,3.5,1.3,0.2,4.0999999999999996,1,1.1000000000000001,-8,"KF",32,4,30,9,0.1,0.4,0.01,0,21.36,77.16,6.79,0.14000000000000001,2.8,2.09,292,"2024-02-11"]
[4285,"Hirse",880,18,982,110,47,82,108,33,728,9,18.57,108.8,28.72,96,-6.83,12.4,482.2,0.8,3.3,2.2999999999999998,0.2,4.5999999999999996,0.7,1.3,25.53,"KF",92,6.1,27.7,17.8,0.01,0.4,0.1,0,21.4,77.2,6.8,0.1,2.96,2.23,254.8,"2024-02-11"]
[4305,"Ackerbohnen",880,40,960,165,128,91.3,299,12,421,23,19.059999999999999,118.24,31.07,83.71,20.87,13.77,338.75,1.6,6,1.7,0.19,13.4,1,2.2000000000000002,185.85500000000002,"KF",82,20,60,21,0.03,0.2,0.2,0,42.27,57.55,13.78,0.4,18.39,2.0699999999999998,105.25,"2024-02-11"]
[4345,"Erbsen",880,38,962,140,73,89.8,234,13,484,34,18.68,114.04,28.13,99,12.16,13.41,397,1.3,5,1.6,0.2,12,1,2,162.90000000000006,"KF",104,10.3,49,16,0.2,0.2,0.1,0,42.23,57.77,14.93,0.76,16.45,2.14,121,"2024-02-11"]
[4365,"Süßlupine",880,42,958,207,167,92.8,350,101,89,37,21.61,117.05,28.64,65.94,27.71,16.13,103.75,2.8,5.9,2,0.1,13,1,3,121.95000000000005,"KF",44,7.4,47,723,0.03,0.2,0.1,0,29.2,70.599999999999994,16.63,0,18.11,2.33,22.25,"2024-02-11"]
[4405,"Leinsamen",910,49.45,950.55,240,140,65,248.35,364.84,0,37.36,26.65,98.38,36.93,90,18.34,13.99,37.36,2.8,5.4,5.6,0.93,8,0.3,2,111.26500000000001,"KF",133,17.8,83,26,0.21,0.44,0.1,0,35.1,61.6,13,0.13,10.119999999999999,4.3899999999999997,0,"2013-03-13"]
[4425,"Rapssamen",900,44.44,955.56,194.44,116.67,74,225.56,444.44,0,45.56,28.28,111.53,41.21,88.47,11.67,17.5,45.56,5,7.78,3.33,0.28000000000000003,8.89,0.22,4.5599999999999996,-50.807999999999936,"KF",238.89,3.89,44.44,44.44,0.17,0.39,0.11,0,22,71.33,14.27,0,13.61,4.43,0,"2013-03-13"]
[4435,"Sojabohnen, getoastet",890,56,944,168,138,94,410,226,55,72,24.2,147.5,59.25,99,34.729999999999997,18.53,116,2.9,7.3,3,0.2,22,1,4,294.30000000000007,"KF",146,18,57,31,0.22,0.1,0.1,0,51,47,10.73,0.9,24.56,5.4,11,"2024-02-11"]
[4445,"Sonnenblumensamen ungeschält",880,34.090000000000003,965.91,495,290,71,192.05,359.09,0,0,26.66,96.67,28.47,91,9.26,15.7,0,2.8,3.8,2.2999999999999998,0.2,6.2,1,3,-47.879999999999939,"KF",75,30,55.7,25.7,0.2,0.35,0.1,0,35.1,61.6,13.3,0.13,6.95,4.28,0,"2013-03-13"]
[4505,"ZuckerrübenSchnitzel",916,75.33,924.67,235,140,87,79.69,6.55,0,663.76,16.059999999999999,92.8,12.8,73,-9.36,11.37,663.76,6.8,1,1.6,2.62,12,1,2,265.75000000000011,"KF",215,6.6,31.8,61.4,0.1,0.35,0.1,0,19,77,11.4,0,3.48,1.26,0,"2013-03-13"]
[4535,"Futterzucker",990,1.01,998.99,0,0,94,1.01,0,0,994,16,93.39,0,0,-22.54,12.49,994,0,0,0,0,0,0,0,0,"KF",0,0,0,0,0,0,0,0,0,0,0,0,0,0,0,"2013-03-13"]
[4605,"KartoffelSchrot, -Schnitzel",880,57.95,942.05,175,105,88,92.05,3.41,736.36,22.73,17.059999999999999,93.38,10.94,73,-7.57,12.29,611.82000000000005,0.5,2.6,1,0.34,24,1,2,476.05000000000018,"KF",77,6.8,12.2,6.8,0.05,0.2,0.1,0,21,79,13.4,0,4.78,1.66,147.27000000000001,"2013-03-13"]
[4615,"KartoffelFlocken",880,53.41,946.59,175,105,90,88.64,4.55,738.64,39.770000000000003,17.11,98.96,14.24,73,-9.3800000000000008,12.65,630.67999999999995,0.5,2.6,1,1.0900000000000001,24,1,2,507.92500000000018,"KF",62.5,7,29,6.8,0.05,0.2,0.1,0,19,77,11.4,0,4.63,1.6,147.72999999999999,"2013-03-13"]
[4625,"KartoffelStärke",880,4.55,995.45,140,85,90,3.41,1.1399999999999999,948,0,17.34,89.65,0.55000000000000004,73,-21.08,13.07,758.4,0.2,0.6,0.1,0.26,1,1,2,-116.14999999999998,"KF",21.3,2.2000000000000002,1.8,1.2,0.01,0,0.1,0,19,77,11.4,0,0.16,0.05,189.6,"2013-03-13"]
[4664,"ManiokMehl, Typ 55",880,57.95,942.05,215,130,85.5,27.27,6.82,684.09,31.82,16.89,84.48,4.38,73,-15.93,12,510.68,1.9,0.8,0.9,0.27,9,1,2,89.075000000000017,"KF",137.6,4.7,12,22.3,0.05,0.2,0.1,0,19,77,11.4,0,1.03,0.35,205.23,"2013-03-13"]
[4665,"ManiokMehl, -Schnitzel",880,37.5,962.5,180,110,85.5,26.14,5.68,755.68,29.55,17.14,86.04,4.2,73,-16.489999999999998,12.17,558.53,1.6,1.1000000000000001,1.1000000000000001,0.44,8,1,2,70.700000000000017,"KF",220,2.7,8,19,0.05,0.2,0.1,0,19,77,11.4,0,0.99,0.34,226.7,"2013-03-13"]
[4905,"Dikalziumphosphat",950,1000,0,0,0,100,0,0,0,0,0,0,0,0,0,0,0,240,185.09,0,0,0,0,0,0,"KF",0,0.2,1,1,0,0,0.09,0,0,0,0,0,4,1.5,0,"2013-03-13"]
[4915,"Monokalziumphosphat",950,1000,0,0,0,100,0,0,0,0,0,0,0,0,0,0,0,173,241,0,0,0,0,0,0,"KF",0,0.2,1,1,0,0,0.09,0,0,0,0,0,3.56,1.34,0,"2013-03-13"]
[4925,"Kohlensaurer Kalk",997,1000,0,0,0,100,0,0,0,0,0,0,0,0,0,0,0,381.4,0.4,1.6,0,0,0.9,0,-25.38,"KF",0,0.2,1,1,0,0,0.1,0,0,0,0,0,0.6,0.22,0,"2021-11-10"]
[4945,"Viehsalz",990,1000,0,0,0,100,0,0,0,0,0,0,0,0,0,0,0,0,0,0,365,0,560,0,-279.5,"KF",10,0.2,1,1,0.05,0.2,0.04,0,0,0,0,0,33.5,7.64,0,"2021-11-10"]
[5185,"Altbrot",650,28,972,150,90,87,123,30,642,60,18.37,97.53,13.43,92,-2.95,13.06,637.79999999999995,0.92,2.46,0.7,4.1100000000000003,5,13,2,-188.52499999999992,"KF",38,3,13,0.7,0.1,0.4,0.1,0,48.7,44.7,26.8,0.1,0,0,64.2,"2013-03-13"]
[5205,"MaisKornSilage Ganzkorn",670,14,986,84,35,89.7,89,43,740,12,18.73,111.12,23.16,96,-10.85,13.93,567,0.4,3.4,1.6,0.14000000000000001,4.3,0.3,1.2,32.810000000000016,"KF",45.9,4.2,28.6,7.4,0.1,0.2,0,0,54.14,39.47,3.25,0.47,0,0,185,"2024-02-11"]
[5206,"MaisKornSilage Schrot",650,13,987,83,42,89.7,87,43,731,7,18.77,110.69,22.64,96,-11.1,13.97,555.25,0.5,3.2,1.4,0.21,4.0999999999999996,0.3,1.2,30.665000000000006,"KF",47.7,4.5,28.2,7.4,0.1,0.2,0,0,54.14,39.47,3.25,0.47,0,0,182.75,"2024-02-11"]
[5224,"CCM- KornSpindelGemisch, 3,5% Rohfaser",650,15,985,185,110,89.7,100,43,635,8,18.95,113.89,26.02,96,-9.5399999999999991,14.08,484.25,0.4,3.5,1.25,0.2,4.0999999999999996,1,1.5,-8.1899999999999977,"KF",40,4,30,9,0.1,0.2,0.01,0,54.14,39.47,3.25,0.47,0,0,158.75,"2013-03-13"]
[5225,"CCM- KornSpindelGemisch, 5,3% Rohfaser",600,16,984,210,125,89.7,100,43,623,8,18.95,113.8,26.02,96,-9.52,14.08,475.25,0.4,3.5,1.25,0.2,4.0999999999999996,1,1.5,-8.1899999999999977,"KF",50,4,30,9,0.1,0.2,0.01,0,54.14,39.47,3.25,0.47,0,0,155.75,"2013-03-13"]
[5235,"CCM- KornSpindelGemisch, 7,6% Rohfaser",550,20,980,270,160,89.7,90,40,580,6,18.84,110.83,23.41,96,-10.6,14.03,441,0.4,3.5,1.25,0.2,4.0999999999999996,1,1.5,-8.1899999999999977,"KF",50,4,30,9,0.1,0.2,0.01,0,54.14,39.47,3.25,0.47,3.26,1.8,145,"2013-03-13"]
[5245,"LKS gesiebt, 9% RFas",500,20,980,270,160,84.5,95,40,540,6,18.920000000000002,99.6,17.25,67,-8.7899999999999991,13.17,465,0.4,3.5,1.25,0.2,4.0999999999999996,1,1.5,-8.1899999999999977,"KF",50,4,30,9,0.1,0.2,0.01,0,54.14,39.47,3.25,0.47,2.76,2.0499999999999998,81,"2013-03-13"]
[5405,"Leinöl",999,1,999,0,0,84,0,999,0,0,39.76,83.45,0,0,-20.14,30.21,0,0,0,0,0,0,0,0,0,"KF",0,0,0,0,0,0,0,0,0,0,0,0,2.76,2.0499999999999998,0,"2021-11-10"]
[5425,"Rapsöl",999,1,999,0,0,83.5,0,999,0,0,39.76,82.96,0,0,-20.02,30.02,0,0,0,0,0,0,0,0,0,"KF",0,0,0,0,0,0,0,0,0,0,0,0,2.44,1.85,0,"2021-11-10"]
[5435,"Sojaöl",999,1,999,0,0,85,0,999,0,0,39.76,84.45,0,0,-20.38,30.6,0,0,0,0,0,0,0,0,0,"KF",0,0,2,0,0,0,0,0,0,0,0,0,2.52,1.95,0,"2021-11-10"]
[5445,"Sonnenblumenöl",999,1,999,0,0,85,0,999,0,0,39.76,84.45,0,0,-20.38,30.6,0,0,0,0,0,0,0,0,0,"KF",0,0,0,0,0,0,0,0,0,0,0,0,0,0,0,"2021-11-10"]
[5505,"Zuckerrübe",230,80,920,210,125,91,80,6,0,647,16.010000000000002,90.79,7.53,73,-8.94,11.93,647,2.2999999999999998,1.5,1.6,0.95,8,1,2,92.375000000000028,"SF",215,5.0999999999999996,36,61,0.09,0.35,0.1,0,21,79,13.4,0,0,0,0,"2013-03-13"]
[5555,"Futterrübe",146,90,910,230,135,88,80,8,0,545,16.16,87.17,7.53,73,-8.07,11.63,545,2.7,2.4,1.8,4.08,30,1,2,788.6,"SF",131,7.2,32,83,0.16,0.36,0.03,0,21,79,13.4,0,0,0,0,"2013-03-13"]
[5565,"Massenfutterrbe",110,118,882,250,150,88,94,9,0,543,15.73,86.04,8.85,73,-5.53,11.27,543,2.5,2.5,2.5,3.31,35,1,2,883.875,"SF",264,7.8,28,80,0.18,0.35,0.1,0,21,79,13.4,0,0,0,0,"2013-03-13"]
[5575,"Stoppelrübe",120,120,880,310,185,88,130,14,0,353,16.510000000000002,89.25,12.24,73,-0.47,11.8,353,2.7,2.4,1.8,4.08,30,1,2,788.6,"SF",74,7.8,28,80,0.16,0.35,0.1,0,21,79,13.4,0,3.28,0.16,0,"2013-03-13"]
[5585,"Möhren, Gelbe Rüben",150,70,930,265,160,88,90,15,0,256,17.57,89.87,8.48,73,-7.1,12.75,256,4.4000000000000004,3,1.9,2.77,28,1,2,681.72500000000014,"SF",60,6.3,33,23,0.16,0.33,0.03,0,21,79,13.4,0,2.72,0.4,0,"2019-03-10"]
[5604,"Kartoffel roh, stärkereich",260,66,934,170,105,90,90,4,726,28,16.920000000000002,93.47,9.8699999999999992,85,-7.63,12.51,572.5,0.4,2.5,1.4,0.55000000000000004,22,1,2,433.77500000000009,"SF",45,5.4,24,7,0.09,0.2,0.09,0,21,79,13.4,0,4.42,0.65,181.5,"2013-03-13"]
[5605,"Kartoffel (roh)",220,62,938,170,105,90,97,4,710,31,17.04,94.59,10.63,85,-6.74,12.58,563.5,0.4,2.5,1.4,0.55000000000000004,22,1,2,433.77500000000009,"SF",45,5.4,24,7,0.09,0.2,0.09,0,21,79,13.4,0,1.44,0.36,177.5,"2013-03-13"]
[5615,"Kartoffel, roh, siliert, 16% Stärke",300,66,934,170,105,79,90,4,726,28,16.920000000000002,81.86,8.48,73,-5.17,10.79,572.5,0.4,2.5,1.4,0.55000000000000004,22,1,2,433.77500000000009,"SF",45,5.4,24,7,0.09,0.2,0.09,0,21,79,13.4,0,5.04,1.65,181.5,"2013-03-13"]
[5625,"Kartoffel, gedämpft, 15% Stärke",220,68,932,170,105,81,98,6,670,6,17.11,84.31,9.23,73,-4.46,11.22,542,0.8,2.5,1.4,0.05,22,1,2,412.52500000000009,"SF",45,5.4,24.2,10.4,0.05,0.2,0.1,0,21,79,13.4,0,4.68,1.53,134,"2013-03-13"]
[5635,"Kartoffel, gedämpft, siliert, 16% Stärke",220,74,926,185,110,81,108,4,753,6,16.87,84.76,10.17,73,-2.95,11.01,608.4,0.8,2,1.4,0.05,22,1,2,412.52500000000009,"SF",45,5.4,24.2,6.9,0.05,0.2,0.1,0,21,79,13.4,0,5.0999999999999996,1.47,150.6,"2013-03-13"]
[5655,"Kartoffel (fritiert)",500,51,949,130,80,81,75,250,500,4,22.7,83.51,7.06,73,-8,15.62,404,0.6,1.9,1,2,16.5,3,1,360.50000000000006,"SF",34,4,16,6.3,0.03,7.0000000000000007E-2,7.0000000000000007E-2,0,21,79,13.4,0,5.62,1.84,100,"2013-03-13"]
[5825,"Futterfett",999,1,999,0,0,83.5,0,999,0,0,39.76,82.96,0,0,-20.02,30.02,0,0,0,0,0,0,0,0,0,"SF",0,0,0,0,0,0.1,0,0,0,0,0,0,3.9,1.1299999999999999,0,"2021-11-10"]
[5935,"Propionsäure",990,0,1000,0,0,100,0,191.92,0,700,20.88,99.45,0,0,-24,18.09,700,0,0,0,0,0,0,0,0,"KF",0,0,0,0,0,0,0,0,0,0,0,0,19.91,7.6,0,"2021-11-10"]
[5964,"Reinglyzerin",990,0,1000,0,0,100,0,70,0,930,17.670000000000002,99.45,0,0,-24,14.99,930,0,0,0,0,0,0,0,0,"KF",0,0,0,0,0,0,0,0,0,0,0,0,32,11.6,0,"2021-11-10"]
[5965,"Rohglyzerin",880,50,950,0,0,100,0,55,0,895,16.510000000000002,94.48,0,0,-22.8,13.97,895,0,0,0,18,0,28,0,-24.600000000000023,"KF",0,0,0,0,0,0,0,0,0,0,0,0,0,0,0,"2021-11-10"]
[5975,"Propylenglykol",990,0,1000,0,0,92,0,1,0,999,16.02,91.49,0,0,-22.08,12.22,999,0,0,0,0,0,0,0,0,"KF",0,0,0,0,0,0,0,0,0,0,0,0,0,0,0,"2021-11-10"]
[6025,"BierTreber, trocken",900,47.78,952.22,385,225,68.099999999999994,264.44,85.56,38.89,10,20.94,168.48,103.99,83,6.7,11.02,41.11,3.6,6,2,0.4,0.8,1.6,3,-194.53999999999996,"KF",277,26,130,50,0.2,0.1,0.03,0,27,46,5.9,3.5,0,0,7.78,"2013-03-13"]
[6035,"MalzKeime",930,52,948,400,150,78,220,16,154,101,18.75,115.78,42.24,86,9.59,11.49,224.2,2.5,7,1.6,0.48,16.899999999999999,2,2.9,215.96999999999997,"KF",139.80000000000001,12.6,82.9,43.8,7.0000000000000007E-2,0.2,0,0,25.8,61.9,18,0,0,0,30.8,"2024-02-11"]
[6065,"HaferfutterMehl",909,26.4,973.6,220,130,88,151.82,80.31,556.66,16.5,19.850000000000001,99.56,14.35,63,0.09,14.37,517.49,1.1000000000000001,5.7,2,0.11,8,1,2,56.67500000000004,"KF",200,4.4000000000000004,152.80000000000001,48.4,0.05,0.1,0.1,0,47.7,44.7,18.3,0.2,0,0,55.67,"2013-03-13"]
[6075,"HaferschälKleie",908,59.47,940.53,510,300,64,74.89,33.04,165.2,11.01,18.52,66.489999999999995,6.63,59,-4.26,9.4600000000000009,159.69,1.4,1.7,1.2,0.4,10,1,2,120.20000000000002,"KF",250,3.3,22,15.2,0.09,0.1,0.1,0,47.7,44.7,18.3,0.2,0,0,16.52,"2013-03-13"]
[6105,"RoggennachMehl",880,31.82,968.18,160,100,84,154.55000000000001,31.82,471.59,95.45,18.66,95.48,14.6,63,1.5,12.67,519.88,0.9,5.2,2,0.13,8,1,2,57.525000000000034,"KF",71,5.4,54,49,0.03,0.1,0.1,0,47.7,44.7,18.3,0.2,0,0,47.16,"2013-03-13"]
[6115,"RoggenfutterMehl",880,36.36,963.64,185,115,77,159.09,34.090000000000003,397.73,126.14,18.670000000000002,88.82,15.03,63,3.83,11.46,484.1,1.3,9.1999999999999993,3.8,0.19,15,1,2,239.27500000000001,"KF",97,9,77,72,0.01,0.1,0.1,0,47.7,44.7,18.3,0.2,0,0,39.770000000000003,"2013-03-13"]
[6125,"RoggengrießKleie",880,45.45,954.55,230,135,75,159.09,37.5,250,87.5,18.920000000000002,86.23,15.03,63,4.45,11.31,312.5,1.7,11.3,3.6,0.79,14,1,2,239.17500000000004,"KF",105.5,13.8,91.7,96.3,0.05,0.1,0.1,0,47.7,44.7,18.3,0.2,34.49,7.87,25,"2013-03-13"]
[6135,"RoggenKleie",880,60.23,939.77,255,150,71,162.5,36.36,128.41,104.55,18.78,80.739999999999995,14.38,59,6.09,10.52,220.12,1.7,11.3,3.6,0.79,14,1,2,239.17500000000004,"KF",180,12.5,90,100,0.1,0.1,0.1,0,47.7,44.7,18.3,0.2,9.4,5.6,12.84,"2013-03-13"]
[6145,"WeizennachMehl",880,34.090000000000003,{"$f":"1000-D260","v":965.91},180,110,87,181.82,45.45,545.45000000000005,60.23,19.010000000000002,100.75,17.18,63,4.5599999999999996,13.39,551.14,0.9,7.4,2.9,0.15,9,0.7,2,92.435000000000002,"KF",115,6.6,99,108,0.16,0.2,0.26,0,47.7,44.7,18.3,0.2,10.36,3.85,54.54,"2018-04-18"]
[6155,"WeizenfutterMehl",880,39.770000000000003,960.23,210,125,83,181.82,45.45,420.45,62.5,19.100000000000001,96.44,17.18,63,5.6,12.76,440.91,1.2,8.1,2.9,0.35,13,0.7,2,{"$f":"(42.5 *W261 + 25.6 * X261) - (28.2 * Y261 + 62.3 *Z261)","v":203.33500000000001},"KF",98,5.7,88,124,0.03,0.2,0.2,0,47.7,44.7,18.3,0.2,6.19,2.46,42.04,"2018-04-18"]
[6165,"WeizengrießKleie",880,55.68,944.32,275,160,80,181.82,45.45,244.32,67.05,19.07,89.31,14.18,52,6.6,12.24,286.94,1.4,10.3,4.3099999999999996,0.54,12,0.5,2,191.45000000000005,"KF",63,15.21,95,122,0.12,0.2,0.13,0,47.7,44.7,18.3,0.2,2.93,1.05,24.43,"2013-03-13"]
[6175,"WeizenKleie",880,59,941,495,160,77,184,48,145,66,19.23,86.41,14.35,52,7.63,11.82,196.5,1.2,11.1,5,0.2,13.4,1.4,2,187.46000000000004,"KF",181,13,96,134,0.09,0.3,0.09,0,47.7,44.7,18.3,0.2,13.18,5.94,14.5,"2024-02-11"]
[6185,"Backwaren",880,29.55,970.45,150,90,87,120.45,31.82,652.27,121.59,18.18,97.12,13.16,92,-3.28,12.91,708.63,0.1,2.6,2.6,12.4,10,1,2,630.20000000000005,"KF",30.4,5.4,16.3,70.7,0.1,0.2,0.1,0,48.7,44.7,26.8,0.1,5.67,2.56,65.23,"2013-03-13"]
[6195,"WeizenKeime",880,50,950,195,120,87,295.45,93.18,254.55,159.09,20.420000000000002,138.93,56.73,86,16.88,14.18,388.18,1,9.9,2.8,0.12,10,1,3,46.000000000000057,"KF",59,8.4,131,144,0.13,0.2,0.02,0,25.8,61.9,18,0,5.82,2.62,25.45,"2013-03-13"]
[6215,"MaisfutterMehl",880,29.55,970.45,220,130,87,118.18,71.59,403.41,45.45,19.62,95.13,11.17,63,-4.1900000000000004,14.12,348.01,0.8,5,3,0.51,2,1,2,-79.924999999999983,"KF",74,15.6,60,16.7,0.1,0.3,0.1,0,47.7,44.7,18.3,0.2,5.82,2.62,100.85,"2013-03-13"]
[6225,"MaisKeimExtraktionsSchrot",880,43.18,956.82,270,160,81,131.82,17.05,436.36,55.68,18.2,100.74,23.66,87,-1.86,11.9,382.95,0.4,7.5,3.1,0.93,8,1,3,29.225000000000051,"KF",670,2.8,71.400000000000006,17,0.1,0.3,0.4,0,16.600000000000001,79.400000000000006,14.3,0.5,5.97,2.69,109.09,"2013-03-13"]
[6226,"Maiskeimschrot Mhlenind.",880,43.18,956.82,255,150,81,131.82,17.05,436.36,55.68,18.2,100.74,23.66,87,-1.86,11.9,382.95,0.4,7.5,3.1,0.93,8,1,2,91.525000000000034,"KF",670,2.8,71.400000000000006,17,0.1,0.3,0.4,0,16.600000000000001,79.400000000000006,14.3,0.5,7.98,5.69,109.09,"2013-03-13"]
[6235,"MaisKleber",880,20.45,979.55,150,90,88,707.95,52.27,145.44999999999999,5.68,22.68,306.45,220.72,98,56.55,14.7,120.59,0.9,4.0999999999999996,0.3,0.5,1,0.2,8,-457.18999999999994,"KF",444.4,8.5,20,4,0.2,0.79,0.9,0,2,98,11.7,3.8,7.28,2.73,30.54,"2018-04-18"]
[6245,"MaisKleberfutter, bis 23% Rohprotein",880,65.91,934.09,260,155,84,220.45,38.64,225,20.45,19.079999999999998,95.4,17.37,82,13.05,12.83,198.2,1.5,9.5,4.8,2.76,14,2.7,4,150.36000000000007,"KF",307,19.399999999999999,65,28,0.23,0.79,0.3,0,49.7,44.7,35.299999999999997,0,7.28,2.68,47.25,"2013-03-13"]
[6246,"MaisKleberfutter, 23-30% Rohprotein",880,60.23,939.77,265,155,84,257.95,40.909999999999997,201.14,22.73,19.440000000000001,98.84,20.329999999999998,82,18.36,12.97,181.63,1.5,9.5,4.8,2.76,14,2.7,5,88.060000000000059,"KF",307,19.399999999999999,64.989999999999995,28,0.23,0.79,3.2,0,49.7,44.7,35.299999999999997,0,7.3,2.68,42.24,"2013-03-13"]
[6265,"ReisfutterMehl",880,87.5,912.5,215,130,82,147.72999999999999,153.41,305.68,46.59,20.52,88.37,13.96,63,2.13,13.92,291.13,1.5,14.7,7.1,0.22,11,0.4,2,155.07000000000005,"KF",145.19999999999999,6.7,63.2,118,0.1,0.2,0.1,0,47.7,44.7,18.3,0.2,7.3,1.75,61.14,"2013-03-13"]
[6266,"ReisfutterMehl, gelb",880,114.77,885.23,285,170,70,146.59,179.55,240.91,45.45,20.66,75.48,13.85,63,5.0599999999999996,11.75,238.18,0.9,6.7,4.2,0.6,11,0.4,2,171.22000000000003,"KF",102,3.3,35,118,0.1,0.2,0.1,0,47.7,44.7,18.3,0.2,3.18,4.84,48.18,"2013-03-13"]
[6405,"LeinExtraktionsSchrot",880,65.91,934.09,285,170,73,385.23,27.27,0,45.45,19.899999999999999,139.36000000000001,71.55,90,32.549999999999997,10.84,45.45,4.5,9.5,5.7,1.0900000000000001,12,0.7,4,84.585000000000036,"KF",328,20.2,66,47,0.3,1.1000000000000001,0.3,0,16.600000000000001,79.400000000000006,14.3,0.5,10.15,7.02,0,"2018-04-18"]
[6406,"LeinKuchen,-Expeller",880,63.64,936.36,295,175,72,372.73,62.5,0,43.18,20.63,127.85,60.8,90,32.65,11.19,43.18,4.2,8.1999999999999993,5.3,1.05,12,0.6,4,85.705000000000041,"KF",243,20.3,78,44,0.35,1.01,1,0,11.9,83.7,23,1.1000000000000001,5.07,2.19,0,"2013-03-13"]
[6424,"Rapsextr.schrot pansenstabil",890,77.5,922.5,300.60000000000002,227.7,79,386.6,34.5,0,80,19.739999999999998,181.82,109.34,82,23.03,11.85,80,8.67,11.9,6,0.5,14.2,0.3,7.1,-66.019999999999982,"KF",414.44,7.9,75.400000000000006,78.099999999999994,0.28999999999999998,0.68,0.19,0,12,78,7.6,0,5.98,2.35,0,"2019-06-04"]
[6425,"RapsExtraktionsSchrot",890,78,922,306,229,78.8,385,40,0,92,19.8,145.43,73.180000000000007,81,29.71,11.86,92,9.8000000000000007,12,5.2,0.63,14.9,0.4,7.7,-82.774999999999977,"KF",205,7.4,78.7,70.099999999999994,0.28999999999999998,0.68,1.1000000000000001,0,15.75,79.17,11.68,0.1,11.68,16.850000000000001,0,"2024-02-11"]
[6426,"RapsKuchen, 8% Rohfett",910,72.53,927.47,319.77999999999997,191.21,81.2,370.33,87.91,0,74.73,20.89,117.89,42.99,88.47,33.4,13.2,74.73,8.24,11.9,5.49,0.46,14.62,0.36,7.47,-81.710999999999956,"KF",392.31,6.37,72.53,72.53,0.27,0.64,0.19,0,37.5,56,25.95,0,6.78,3.5,0,"2019-06-04"]
[6427,"RapsKuchen, 15% Rohfett",910,65.930000000000007,934.06999999999994,292.31,175.82,81.2,339.56,164.84,0,68.13,22.5,114.84,39.409999999999997,88.47,29,14.56,68.13,7.47,11.6,5.05,0.42,13.41,0.33,6.81,-72.422999999999888,"KF",359.34,5.82,67.03,67.03,0.25,0.57999999999999996,0.16,0,37.5,56,25.95,0,7.95,4.0999999999999996,0,"2019-06-04"]
[6428,"RapsKuchen, 20% Rohfett",910,61.54,938.46,273.63,163.74,81.2,316.48,219.78,0,63.74,23.63,112.51,36.729999999999997,88.47,25.7,15.51,63.74,7.03,10.9,4.7300000000000004,0.4,12.53,0.31,6.37,-67.824999999999989,"KF",335.16,5.49,62.64,62.64,0.23,0.55000000000000004,0.15,0,37.5,56,25.95,0,6.36,3.55,0,"2019-06-04"]
[6432,"Sojaschalen",880,48.86,951.14,705,410,79,130.68,25,36.36,25,18.98,89.06,14.33,75,-0.18,12.17,54.09,6,1.44,3,0.22,14.33,0.5,3,175.19800000000006,"KF",50,19.100000000000001,70,33,0.3,0.4,0.1,0,51,47,10.7,0.9,15.71,6.81,7.27,"2013-03-13"]
[6433,"SojaExtraktionsSchrot, 40% Rohprotein",880,68.180000000000007,931.81999999999994,285,170,91.6,454.55,18.18,62.5,96.59,19.75,206.08,121.19,96,32.04,13.91,146.59,3.6,7.4,3.7,0.39,25,0.5,4.8,343.43500000000006,"KF",160,19.100000000000001,70,33,0.3,0.6,0.25,0,6.14,93.82,10.130000000000001,1.59,15.22,6.6,12.5,"2018-04-18"]
[6435,"SojaExtraktionsSchrot, 43% Rohprotein",880,74,926,143,93,91.6,496,29,71,103,20.03,216.61,132.25,96,36.96,14.02,159.80000000000001,4.2,7.3,4,0.3,25,0.1,4.2,388.27,"KF",446,17,60,44,0.25,0.6,0.25,0,6.14,93.82,10.130000000000001,1.59,19.93,7.51,14.2,"2024-02-11"]
[6436,"SojaExtraktionsSchrot, 47% Rohprotein",880,77,923,109,68,91.6,532,29,73,103,20.14,225.92,141.84,96,41.19,13.99,161.4,4,7.7,4.2,0.36,26,0,4.5,400.55,"KF",528,16.899999999999999,59,48,0.1,0.2,0.3,0,6.14,93.82,10.130000000000001,1.59,19.93,7.51,14.6,"2024-02-11"]
[6438,"SojaExtraktionsSchrot, 43% Rohprotein, stabil",880,74,926,143,93,90,496,29,71,103,20.03,312.99,230.11,84,15.53,13.72,159.80000000000001,4.2,7.3,4,0.3,25,0.1,4.2,388.27,"KF",446,17,60,44,0.25,0.6,0.25,0,7.33,89,3.73,5.97,20.39,7.22,14.2,"2024-02-11"]
[6439,"SojaKuchen, 8% Rohfett",890,65.17,934.83,240,145,92,449.44,92.14,50.56,69.66,21.42,209.1,123.57,99,31.3,15.48,110.11,3,7,3,0.1,20,0.5,4.8,203.11,"KF",160,20,60,33,0.25,0.6,0.25,0,6.14,93.82,10.130000000000001,1.59,18.73,6.63,10.11,"2013-03-13"]
[6445,"SonnenblumenExtraktionsSchrot, 20% Rohfaser",880,70.45,929.55,465,270,61,382.95,25,0,79.55,19.66,104.95,48.56,79,37.83,8.48,79.55,4,10.7,5.2,0.5,13,0.8,4,82.29000000000002,"KF",525,29.1,46,56,0.2,0.76,0.49,0,20,76,19.3,0.2,17.41,6.16,0,"2018-04-18"]
[6446,"SonnenblumenExtraktionsSchrot, 11% Rohfaser",880,80.680000000000007,919.31999999999994,320,190,67,456.82,17.05,0,103.41,19.579999999999998,119.19,57.93,79,46.58,9.2799999999999994,103.41,4.4000000000000004,9.9,5.4,0.12,13,0.8,5,3.8400000000000318,"KF",262,25.3,64,49,0.14000000000000001,0.62,0.1,0,20,76,19.3,0.2,8.2899999999999991,1.44,0,"2018-04-18"]
[6447,"SonnenblumenKuchen",880,80.680000000000007,919.31999999999994,605,350,79.2,248.86,170.45,0,103.41,21.81,115.72,43.31,96,15.13,13.97,103.41,3.86,9.43,5.4,0.11,13,0.8,3,128.01500000000004,"KF",262,25.3,64,49,0.2,0.62,0.1,0,11.9,83.7,23,1.1000000000000001,27.85,6.14,0,"2013-03-13"]
[6448,"SonnenblumenKuchen, high oleic",910,79.12,920.88,395,230,79.2,300,167.03,0,109.89,21.99,124.73,52.2,96,21.8,13.91,109.89,4.18,10.66,5.4,0.12,17.579999999999998,0.8,3,245.68800000000005,"KF",262,25.3,64,49,0.2,0.62,0.1,0,11.9,83.7,23,1.1000000000000001,30.6,6.75,0,"2013-03-13"]
[6455,"ErdnußExtraktionsSchrot, 10% Rohfaser",908,64.98,935.02,305,180,85,529.74,15.42,75.989999999999995,103.52,20.059999999999999,174.15,95.11,87,48.19,12.66,164.31,2.5,5.8,4.9000000000000004,0.37,14,0.7,4,105.18500000000006,"KF",534,20.5,58,54,0.22,0.56000000000000005,0.1,0,16.600000000000001,79.400000000000006,14.3,0.5,33.35,7.36,15.2,"2013-03-13"]
[6456,"ErdnußExtraktionsSchrot, 5% Rohfaser",880,64.77,935.23,215,130,91,568.17999999999995,13.64,95.45,117.05,20.14,186.65,102.01,87,51.72,13.71,193.41,1.61,6.7,3.7,0.4,13,0.7,4,80.860000000000014,"KF",653,13.8,58,57,0.22,0.56000000000000005,0.28000000000000003,0,16.600000000000001,79.400000000000006,14.3,0.5,30.6,6.75,19.09,"2013-03-13"]
[6465,"KokosExtraktionsSchrot",880,75,925,370,220,85,237.5,28.41,0,119.32,18.850000000000001,120.83,42.64,87,11.29,12.77,119.32,1.7,6.4,3.8,1.02,23,7,3,247.85000000000014,"KF",438,36.9,50,82,0.25,1.42,0.1,0,16.600000000000001,79.400000000000006,14.3,0.5,26.76,6.24,0,"2013-03-13"]
[6475,"PalmkernExtraktionsSchrot",880,43.18,956.82,430,250,73,187.5,20.45,0,34.090000000000003,19.29,103.12,33.659999999999997,87,7.05,11.1,34.090000000000003,2.9,7.2,3.9,0.11,8,1.9,3,-31.004999999999939,"KF",367,31.7,70,261,0.15,1.24,0.12,0,16.600000000000001,79.400000000000006,14.3,0.5,13.44,8.43,0,"2013-03-13"]
[6505,"TrockenSchnitzel",890,72,928,366,191,79,84,7.6,0,86,17.84,86.4,13.49,73,-7.11,11.52,86,9.1999999999999993,1.1000000000000001,1.8,1.05,8.77,1.4,3,42.757000000000033,"KF",623,6.13,26.3,84,0.57999999999999996,1,0.57999999999999996,0,19,77,11.4,0,16.04,10.050000000000001,0,"2019-07-31"]
[6514,"MelasseSchnitzel, 14% Zucker",910,72.53,927.47,330,220,89.7,90,9,0,150,17.71,97.19,14.45,73,-8.73,13.15,150,11,0.8,1.8,1,12,1.4,3,123.32000000000008,"KF",800,11.4,36,184,0.21,11.4,0.21,0,19,77,11.4,0,9.01,5.55,0,"2013-03-13"]
[6515,"MelasseSchnitzel, 18% Zucker",896,76,924,315,184,89.7,97,8,0,200,17.510000000000002,98.01,15.58,73,-7.79,12.96,200,10.6,0.77,1.8,1.7,14.4,1.4,3,214.51000000000008,"KF",800,11.4,36,184,0.21,11.4,0.21,0,19,77,11.4,0,10.86,6.69,0,"2013-03-13"]
[6516,"MelasseSchnitzel, 23% Zucker",907,84.9,915.1,300,170,89.7,110,8,0,250,17.25,99.3,17.670000000000002,73,-5.97,12.71,250,10,0.8,1.8,2,15,1.4,3,242.62000000000003,"KF",800,11.4,36,184,0.21,11.4,0.21,0,19,77,11.4,0,17.07,5.57,0,"2013-03-13"]
[6635,"KartoffelPülpe, getrocknet",880,36.36,963.64,415,245,67,69.319999999999993,5.68,422.73,2.27,17.97,75.34,11.13,73,-6.84,9.61,319.32,0.23,2.5,0.7,0.11,22,1,2,415.07500000000005,"KF",340.9,17.100000000000001,11.4,34.1,0.1,0.2,0.1,0,19,77,11.4,0,18.29,5.96,105.68,"2013-03-13"]
[6945,"Tryptophan",990,10.1,989.9,0,0,null,989.9,0,0,0,23.36,null,null,null,null,null,0,0,0,0,0,0,0,0,0,"KF",0,0,0,0,0,0,0,0,null,null,null,null,5.76,3.09,0,"2018-04-18"]
[6985,"Futterharnstoff",990,0,1000,0,0,100,2915.15,0,0,0,32.6,99.45,0,0,442.42,18.64,0,0,0,0,0,0,0,0,0,"KF",0,0,0,0,0,0,0,0,100,0,0,0,5.17,3.4,0,"2013-03-13"]
[7016,"BierHefe, abgepreßt",250,82,918,155,95,null,525,31,0,10,20.440000000000001,null,null,null,null,null,10,2,11.4,1.8,0.33,14.7,1,4,112.94499999999999,"KF",560,64,92,59,0.4,0.35,0.1,0,null,null,null,null,3.23,1.33,0,"2017-04-07"]
[7025,"BierTreber, frisch",240,45,955,395,235,68.099999999999994,253,82,49,12,20.84,156.88999999999999,92.21,83,7.1,10.99,56.1,3.6,6,2,0.4,0.8,1.6,3,-194.53999999999996,"KF",277,26,130,50,0.2,0.1,0.03,0,27,46,5.9,3.5,3.47,1.42,4.9000000000000004,"2013-03-13"]
[7026,"BierTreber, siliert",247,43,957,370,220,68.099999999999994,249,84,17,6,20.97,155.56,90.75,83,6.7,11.08,21.3,3.6,6,2,0.4,0.8,1.6,3,-194.53999999999996,"KF",277,26,130,50,0.2,0.1,0.03,0,27,46,5.9,3.5,3.73,1.53,1.7,"2013-03-13"]
[7145,"WeizenSchlempe, flüssig",60,60,940,285,170,78,360,71,174,25,20.59,152.61000000000001,79.69,92,26.14,12.36,181.6,3.5,10.8,3.6,3.1,13,1,3,249.45000000000005,"KF",200,14.5,75,90,0.2,0.3,0.2,0,27.3,56.8,18.2,0.8,4.24,1.74,17.399999999999999,"2019-07-31"]
[7205,"MaisSchlempe, flüssig",70,53,947,260,155,78,287,117,81,29,21.48,137,63.54,92,17.14,13.29,97.85,2.5,8.6,4.7,1.25,9.0299999999999994,1.7,3,49.453000000000031,"KF",120,10,70,80,0.1,0.2,0.4,0,27.3,56.8,18.2,0.8,65.27,18.559999999999999,12.15,"2018-08-20"]
[7505,"Rübenkleinteile",170,89,911,282,136,84,75,3,0,360,16.59,83.16,7.06,73,-7.91,11.4,360,3.3,2.0699999999999998,2.2999999999999998,1.4,11.5,1.4,3,127.52000000000007,"KF",500,11.1,14,73.3,0.1,0.35,0.1,0,21,79,13.4,0,3.59,1.1000000000000001,0,"2013-03-13"]
[7515,"NaßSchnitzel",127,76,924,505,295,88.5,113,20,0,31,18.32,91.96,10.64,73,-3.88,13.4,31,9.6999999999999993,0.9,4.5,3.8,7.01,1.4,3,114.57600000000005,"KF",640,11.1,14,73.3,0.2,0.8,0.18,0,21,79,13.4,0,26.13,8.7200000000000006,0,"2013-03-13"]
[7525,"PreßSchnitzel siliert",270,71,929,412,229,88.5,94,6,0,15,18.079999999999998,90.61,8.85,73,-6.63,13.26,15,12.7,1,2.4,0.45,4.4000000000000004,0.1,1.8,16.805000000000007,"KF",444.7,8.1999999999999993,29.5,81.3,0,0.8,0,0,21,79,13.4,0,9.4600000000000009,1.87,0,"2024-11-18"]
[7545,"Melasse (Zuckerrübe)",780,116,884,0,0,89.4,135,0.3,0,652,15.46,100.28,21.68,73,-2.12,11.09,652,2.5,0.51,0.2,7.6,54,10,3,1236.5,"KF",154,10.9,31,36.5,0.9,0.85,0.3,0,19,77,11.4,0,16.63,3.29,0,"2013-03-13"]
[7605,"Kartoffelschälabfälle, roh",110,62,938,200,120,79,105,4,300,30,17.739999999999998,85.63,11.94,73,-3.6,11.35,255,0.4,2.5,1.4,0.55000000000000004,22,1,2,433.77500000000009,"KF",45,5.4,24,7,0.05,0.4,0.09,0,20,78,12.4,0,791,0,75,"2013-03-13"]
[7625,"Kartoffelschälabfälle, gedämpft",108,84,916,220,130,81,154,6,650,15,17.079999999999998,91.31,17.52,73,2.99,11.02,502.5,0.8,2.5,0.5,0.04,22,1,2,412.10000000000014,"KF",45,5,9.8000000000000007,6.6,0.05,0.4,0.1,0,20,78,12.4,0,0,993,162.5,"2013-03-13"]
[7635,"KartoffelpreßPülpe, siliert",180,35,965,440,260,94,49,5,387,6,17.940000000000001,95.93,5.72,75,-15.15,14.14,296.25,0.7,2.7,0.7,0.06,22,1,2,412.95000000000005,"KF",79.7,5,19.399999999999999,6.6,0.1,0.4,0.1,0,20,78,12.4,0,0,0,96.75,"2013-03-13"]
[7645,"KartoffelSchlempe, frisch",60,133,867,240,140,64,307,17,16,11,18.13,90.1,34.92,73,28.15,8.49,23,2.8,7.3,0.5,0.56999999999999995,55,1,3,1217.125,"KF",870,5,9.9,6.6,0.1,0.4,0.1,0,20,78,12.4,0,0,0,4,"2013-03-13"]
[7685,"ObstTrester ApfelTrester",220,24,976,455,265,52,66,42,0,111,19.309999999999999,57.97,7.5,73,-3.27,7.77,111,2,1,2,0.82,7,1,2,61.250000000000028,"KF",640,5,14,6,0.05,0.2,0.1,0,20,78,12.4,0,0,0,0,"2013-03-13"]
[7905,"Wasser",0.1,0,1000,0,0,0,0,0,0,0,18.899999999999999,0,0,0,0,-1.32,0,0,0,0,0,0,0,0,0,"SF",0,0,0,0,0,0,0,0,0,0,0,0,34.76,7.93,0,"2013-03-13"]
[8085,"Mineralfutter, Rindermast",950,968.42,31.580000000000041,0,0,70,0,0,0,0,0.6,2.2000000000000002,0,0,-0.53,0.35,0,252.63,63.16,21.05,84.21,0,1.94,1.94,3403.3549999999996,"KF",0,842.11,3157.89,2105.2600000000002,26.32,105.26,42.11,0,0,0,0,0,34.76,7.93,0,"2013-03-13"]
[8085,"Mineralfutter, Rindermast",950,968.42,31.580000000000041,0,0,70,0,0,0,0,0.6,2.2000000000000002,0,0,-0.53,0.35,0,231.58,0,21.05,84.21,0,1.94,1.94,3403.3549999999996,"KF",0,526.32000000000005,1052.6300000000001,1052.6300000000001,21.05,10.53,31.58,0,0,0,0,0,9.01,5.36,0,"2021-10-28"]
[8183,"Mineralfutter Milchkuh trocken",950,968.42,31.580000000000041,0,0,70,0,0,0,0,0.6,2.2000000000000002,0,0,-0.53,0.35,0,31.58,0,31.58,52.63,0,62.95,0,461.58500000000004,"KF",0,736.84,1052.6300000000001,1052.6300000000001,10.53,21.05,31.58,0,0,0,0,0,8.86,5.28,0,"2021-10-28"]
[8184,"Mineralfutter Jungvieh",950,968.42,31.580000000000041,0,0,70,0,0,0,0,0.6,2.2000000000000002,0,0,-0.53,0.35,0,210.53,0,21.05,84.21,0,100.72,0,738.62099999999964,"KF",0,526.32000000000005,1052.6300000000001,1052.6300000000001,10.53,10.53,31.58,0,0,0,0,0,7.52,5.36,0,"2021-10-28"]
[8185,"Mineralfutter Milchkuh laktierend",950,968.42,31.580000000000041,0,0,70,0,0,0,0,0.6,2.2000000000000002,0,0,-0.53,0.35,0,263.16000000000003,0,31.58,131.58000000000001,0,125.89,0,2042.0520000000006,"KF",0,736.84,1052.6300000000001,1052.6300000000001,10.53,21.05,36.840000000000003,0,0,0,0,0,8.09,5.6,0,"2021-10-28"]
[8186,"Mineralfutter Rind, Milchkuh, 20% Ca,  5% P",950,968.42,31.580000000000041,0,0,70,0,0,0,0,0.6,2.2000000000000002,0,0,-0.53,0.35,0,210.53,52.63,21.05,94.74,0,116.21,0,749.32799999999997,"KF",0,842.11,3157.89,2105.2600000000002,26.32,105.26,42.11,0,0,0,0,0,3,1.2,0,"2021-11-10"]
[8187,"Mineralfutter Rind, Milchkuh, 22% Ca,  2% P",950,968.42,{"$f":"1000-D323","v":31.580000000000041},0,0,70,0,0,0,0,0.6,2.2000000000000002,0,0,-0.53,0.35,0,231.58,21.05,21.05,84.21,0,125.89,0,28.826999999999771,"KF",0,842.11,3157.89,2105.2600000000002,26.32,105.26,42.11,0,0,0,0,0,6.5,1.79,0,"2021-11-10"]
[8585,"Mineralfutter Schafe",950,968.42,31.580000000000041,0,0,70,0,0,0,0,0.6,2.2000000000000002,0,0,-0.53,0.35,0,157.88999999999999,63.16,31.58,105.26,0,48.42,0,3108.1060000000002,"KF",93.54,0,4210.53,0,10.53,1.94,5.26,0,0,0,0,0,3.38,2.16,0,"2013-03-13"]
[9000,null,null,null,1000]
[9001,null,null,null,1000]
[9002,null,null,null,1000]
[9003,null,null,null,1000]
[9004,null,null,null,1000]
[9005,null,null,null,1000]
[9006,null,null,null,{"$f":"1000-D331","v":1000}]
[9007,null,null,null,1000]
[9008,null,null,null,1000]
[9009,null,null,null,1000]
[9010,null,null,null,1000]
[9011,null,null,null,1000]
[9012,null,null,null,1000]
[9013,null,null,null,1000]
[9014,null,null,null,1000]
[9015,null,null,null,1000]
[9016,null,null,null,1000]
[9017,null,null,null,1000]
[9018,null,null,null,1000]
[9019,null,null,null,1000]
[9020,null,null,null,1000]
[9021,null,null,null,1000]
[9022,null,null,null,1000]
[9023,null,null,null,1000]
[9024,null,null,null,1000]
[9025,null,null,null,1000]
[9026,null,null,null,1000]
[9027,null,null,null,1000]
[9028,null,null,null,1000]
[9029,null,null,null,1000]
[9030,null,null,null,1000]
[9031,null,null,null,1000]
[9032,null,null,null,1000]
[9033,null,null,null,1000]
[9034,null,null,null,1000]
[9035,null,null,null,1000]
[9036,null,null,null,1000]
[9037,null,null,null,1000]
[9038,null,null,null,1000]
[9039,null,null,null,1000]
[9040,null,null,null,1000]
[9041,null,null,null,1000]
[9042,null,null,null,1000]
[9043,null,null,null,1000]
[9044,null,null,null,1000]
[9045,null,null,null,1000]
[9046,null,null,null,1000]
[9047,null,null,null,1000]
[9048,null,null,null,1000]
[9049,null,null,null,1000]
[9050,null,null,null,1000]
[9051,null,null,null,1000]
[9052,null,null,null,1000]
[9053,null,null,null,1000]
[9054,null,null,null,1000]
[9055,null,null,null,1000]
[9056,null,null,null,1000]
[9057,null,null,null,1000]
[9058,null,null,null,1000]
[9059,null,null,null,1000]
[9060,null,null,null,1000]
[9061,null,null,null,1000]
[]
[null,"webFuLab einlesen, ab A 390"]
[null,{"$f":"C391","v":0},{"$f":"H391","v":0},{"$f":"K391","v":0},{"$f":"1000-D389","v":1000},{"$f":"AK391","v":0},{"$f":"AL391","v":0},{"$f":"ED391","v":0},{"$f":"L391","v":0},{"$f":"AV391","v":0},{"$f":"AQ391","v":0},{"$f":"AR391","v":0},{"$f":"EO391","v":0},{"$f":"EM391","v":0},{"$f":"EK391","v":0},{"$f":"EI391","v":0},{"$f":"EN391","v":0},{"$f":"EB391","v":0},null,{"$f":"BM391","v":0},{"$f":"BN391","v":0},{"$f":"BP391","v":0},{"$f":"BO391","v":0},{"$f":"BQ391","v":0},{"$f":"BR391","v":0},{"$f":"BS391","v":0},null,"GF",{"$f":"BT391","v":0},{"$f":"BU391","v":0},{"$f":"BV391","v":0},{"$f":"BW391","v":0},null,null,{"$f":"BX391","v":0},null,{"$f":"EE391","v":0},{"$f":"EF391","v":0},{"$f":"EG391","v":0},{"$f":"EH391","v":0},{"$f":"EX398","v":0},{"$f":"EY398","v":0},{"$f":"AU391","v":0},{"$f":"DL391","v":"00:00:00"}]
[]
[]
[]
[]
[null,"Analyse-csv einlesen, ab A 396"]
[null,{"$f":"R398","v":0},{"$f":"S398","v":0},{"$f":"X398","v":0},{"$f":"1000-D395","v":1000},{"$f":"AD398","v":0},{"$f":"AC398","v":0},{"$f":"EU398","v":0},{"$f":"T398","v":0},{"$f":"Y398","v":0},{"$f":"V398","v":0},{"$f":"AA398","v":0},{"$f":"ET398","v":0},{"$f":"EW398","v":0},null,{"$f":"FD398","v":0},{"$f":"FA398","v":0},{"$f":"EV398","v":0},null,{"$f":"AY398","v":0},{"$f":"AZ398","v":0},{"$f":"BC398","v":0},{"$f":"BB398","v":0},{"$f":"BA398","v":0},{"$f":"AW398","v":0},{"$f":"BD398","v":0},{"$f":"AX398","v":0},"GF",{"$f":"BH398","v":0},{"$f":"BE398","v":0},{"$f":"BG398","v":0},{"$f":"BF398","v":0},{"$f":"BI398","v":0},{"$f":"BJ398","v":0},{"$f":"AV398","v":0},null,{"$f":"FF398","v":0},{"$f":"FG398","v":0},{"$f":"FH398","v":0},{"$f":"FI398","v":0},{"$f":"EX398","v":0},{"$f":"EY398","v":0},null,{"$f":"B398","v":"00:00:00"}]

{"sheet":"Druck","index":4,"n_rows":35,"n_cols":16,"rows_kept":35,"cut":false,"hidden":false,"merged":[[1,2,1,4],[1,5,1,7],[18,0,18,1],[20,1,20,2],[18,2,18,4],[29,1,29,2],[30,1,30,2],[21,1,21,2],[22,1,22,2],[23,1,23,2],[24,1,24,2],[25,1,25,2],[31,1,31,2],[20,3,20,4],[21,3,21,4],[22,3,22,4],[23,3,23,4],[24,3,24,4],[25,3,25,4],[26,3,26,4],[27,3,27,4],[28,3,28,4],[29,3,29,4],[30,3,30,4],[31,3,31,4],[26,1,26,2],[27,1,27,2],[28,1,28,2],[32,0,32,2],[32,3,32,4],[33,3,33,4],[34,3,34,4],[34,0,34,2],[33,0,33,2],[1,10,1,12],[1,13,1,15],[18,8,18,9],[18,10,18,12],[20,9,20,10],[20,11,20,12],[25,9,25,10],[25,11,25,12],[26,9,26,10],[26,11,26,12],[21,9,21,10],[21,11,21,12],[22,9,22,10],[22,11,22,12],[23,9,23,10],[23,11,23,12],[23,6,23,7],[32,8,32,10],[32,11,32,12],[18,6,18,7],[30,9,30,10],[30,11,30,12],[31,9,31,10],[31,11,31,12],[27,9,27,10],[27,11,27,12],[28,9,28,10],[28,11,28,12],[29,9,29,10],[29,11,29,12],[24,9,24,10],[24,11,24,12]]}
[]
["Betrieb:",{"$f":"'Start-Einstellung'!J7","v":"Tierhaltungsschule"},{"$f":"'Start-Einstellung'!M7","v":"Markgrafenstraße 12"},null,null,{"$f":"'Start-Einstellung'!M8","v":"09 216 111 1111"},null,null,"Betrieb:",{"$f":"B2","v":"Tierhaltungsschule"},{"$f":"C2","v":"Markgrafenstraße 12"},null,null,{"$f":"F2","v":"09 216 111 1111"}]
[]
["Nr.","Trogration","TM kg","FM kg","sidP","ME","CL","CP","Nr.","Konzentrat - Mischung","% Ant.","FM kg","sidP","ME","CL","CP"]
[{"$f":"Ration!A3","v":0},{"$f":"Ration!B3","v":""},{"$f":"Ration!F3","v":0},{"$f":"Ration!E25","v":0},{"$f":"Ration!O3","v":0},{"$f":"Ration!M3","v":0},{"$f":"Ration!P3","v":0},{"$f":"Ration!N3","v":0},{"$f":"'Mischung 1'!A3","v":0},{"$f":"'Mischung 1'!B3","v":""},{"$f":"'Mischung 1'!C3","v":0},{"$f":"'Mischung 1'!C3","v":0},{"$f":"'Mischung 1'!M3","v":0},{"$f":"'Mischung 1'!K3","v":0},{"$f":"'Mischung 1'!N3","v":0},{"$f":"'Mischung 1'!L3","v":0}]
[{"$f":"Ration!A4","v":0},{"$f":"Ration!B4","v":""},{"$f":"Ration!F4","v":0},{"$f":"Ration!E26","v":0},{"$f":"Ration!O4","v":0},{"$f":"Ration!M4","v":0},{"$f":"Ration!P4","v":0},{"$f":"Ration!N4","v":0},{"$f":"'Mischung 1'!A4","v":0},{"$f":"'Mischung 1'!B4","v":""},{"$f":"'Mischung 1'!C4","v":0},{"$f":"'Mischung 1'!C4","v":0},{"$f":"'Mischung 1'!M4","v":0},{"$f":"'Mischung 1'!K4","v":0},{"$f":"'Mischung 1'!N4","v":0},{"$f":"'Mischung 1'!L4","v":0}]
[{"$f":"Ration!A5","v":0},{"$f":"Ration!B5","v":""},{"$f":"Ration!F5","v":0},{"$f":"Ration!E27","v":0},{"$f":"Ration!O5","v":0},{"$f":"Ration!M5","v":0},{"$f":"Ration!P5","v":0},{"$f":"Ration!N5","v":0},{"$f":"'Mischung 1'!A5","v":0},{"$f":"'Mischung 1'!B5","v":""},{"$f":"'Mischung 1'!C5","v":0},{"$f":"'Mischung 1'!C5","v":0},{"$f":"'Mischung 1'!M5","v":0},{"$f":"'Mischung 1'!K5","v":0},{"$f":"'Mischung 1'!N5","v":0},{"$f":"'Mischung 1'!L5","v":0}]
[{"$f":"Ration!A6","v":0},{"$f":"Ration!B6","v":""},{"$f":"Ration!F6","v":0},{"$f":"Ration!E28","v":0},{"$f":"Ration!O6","v":0},{"$f":"Ration!M6","v":0},{"$f":"Ration!P6","v":0},{"$f":"Ration!N6","v":0},{"$f":"'Mischung 1'!A6","v":0},{"$f":"'Mischung 1'!B6","v":""},{"$f":"'Mischung 1'!C6","v":0},{"$f":"'Mischung 1'!C6","v":0},{"$f":"'Mischung 1'!M6","v":0},{"$f":"'Mischung 1'!K6","v":0},{"$f":"'Mischung 1'!N6","v":0},{"$f":"'Mischung 1'!L6","v":0}]
[{"$f":"Ration!A7","v":0},{"$f":"Ration!B7","v":""},{"$f":"Ration!F7","v":0},{"$f":"Ration!E29","v":0},{"$f":"Ration!O7","v":0},{"$f":"Ration!M7","v":0},{"$f":"Ration!P7","v":0},{"$f":"Ration!N7","v":0},{"$f":"'Mischung 1'!A7","v":0},{"$f":"'Mischung 1'!B7","v":""},{"$f":"'Mischung 1'!C7","v":0},{"$f":"'Mischung 1'!C7","v":0},{"$f":"'Mischung 1'!M7","v":0},{"$f":"'Mischung 1'!K7","v":0},{"$f":"'Mischung 1'!N7","v":0},{"$f":"'Mischung 1'!L7","v":0}]
[{"$f":"Ration!A8","v":0},{"$f":"Ration!B8","v":""},{"$f":"Ration!F8","v":0},{"$f":"Ration!E30","v":0},{"$f":"Ration!O8","v":0},{"$f":"Ration!M8","v":0},{"$f":"Ration!P8","v":0},{"$f":"Ration!N8","v":0},{"$f":"'Mischung 1'!A8","v":0},{"$f":"'Mischung 1'!B8","v":""},{"$f":"'Mischung 1'!C8","v":0},{"$f":"'Mischung 1'!C8","v":0},{"$f":"'Mischung 1'!M8","v":0},{"$f":"'Mischung 1'!K8","v":0},{"$f":"'Mischung 1'!N8","v":0},{"$f":"'Mischung 1'!L8","v":0}]
[{"$f":"Ration!A9","v":0},{"$f":"Ration!B9","v":""},{"$f":"Ration!F9","v":0},{"$f":"Ration!E31","v":0},{"$f":"Ration!O9","v":0},{"$f":"Ration!M9","v":0},{"$f":"Ration!P9","v":0},{"$f":"Ration!N9","v":0},{"$f":"'Mischung 1'!A9","v":0},{"$f":"'Mischung 1'!B9","v":""},{"$f":"'Mischung 1'!C9","v":0},{"$f":"'Mischung 1'!C9","v":0},{"$f":"'Mischung 1'!M9","v":0},{"$f":"'Mischung 1'!K9","v":0},{"$f":"'Mischung 1'!N9","v":0},{"$f":"'Mischung 1'!L9","v":0}]
[{"$f":"Ration!A10","v":0},{"$f":"Ration!B10","v":""},{"$f":"Ration!F10","v":0},{"$f":"Ration!E32","v":0},{"$f":"Ration!O10","v":0},{"$f":"Ration!M10","v":0},{"$f":"Ration!P10","v":0},{"$f":"Ration!N10","v":0},{"$f":"'Mischung 1'!A10","v":0},{"$f":"'Mischung 1'!B10","v":""},{"$f":"'Mischung 1'!C10","v":0},{"$f":"'Mischung 1'!C10","v":0},{"$f":"'Mischung 1'!M10","v":0},{"$f":"'Mischung 1'!K10","v":0},{"$f":"'Mischung 1'!N10","v":0},{"$f":"'Mischung 1'!L10","v":0}]
[{"$f":"Ration!A11","v":0},{"$f":"Ration!B11","v":""},{"$f":"Ration!F11","v":0},{"$f":"Ration!E33","v":0},{"$f":"Ration!O11","v":0},{"$f":"Ration!M11","v":0},{"$f":"Ration!P11","v":0},{"$f":"Ration!N11","v":0},{"$f":"'Mischung 1'!A11","v":0},{"$f":"'Mischung 1'!B11","v":""},{"$f":"'Mischung 1'!C11","v":0},{"$f":"'Mischung 1'!C11","v":0},{"$f":"'Mischung 1'!M11","v":0},{"$f":"'Mischung 1'!K11","v":0},{"$f":"'Mischung 1'!N11","v":0},{"$f":"'Mischung 1'!L11","v":0}]
[{"$f":"Ration!A12","v":0},{"$f":"Ration!B12","v":""},{"$f":"Ration!F12","v":0},{"$f":"Ration!E34","v":0},{"$f":"Ration!O12","v":0},{"$f":"Ration!M12","v":0},{"$f":"Ration!P12","v":0},{"$f":"Ration!N12","v":0},{"$f":"'Mischung 1'!A12","v":0},{"$f":"'Mischung 1'!B12","v":""},{"$f":"'Mischung 1'!C12","v":0},{"$f":"'Mischung 1'!C12","v":0},{"$f":"'Mischung 1'!M12","v":0},{"$f":"'Mischung 1'!K12","v":0},{"$f":"'Mischung 1'!N12","v":0},{"$f":"'Mischung 1'!L12","v":0}]
[{"$f":"Ration!A13","v":0},{"$f":"Ration!B13","v":""},{"$f":"Ration!F13","v":0},{"$f":"Ration!E35","v":0},{"$f":"Ration!O13","v":0},{"$f":"Ration!M13","v":0},{"$f":"Ration!P13","v":0},{"$f":"Ration!N13","v":0},{"$f":"'Mischung 1'!A13","v":0},{"$f":"'Mischung 1'!B13","v":""},{"$f":"'Mischung 1'!C13","v":0},{"$f":"'Mischung 1'!C13","v":0},{"$f":"'Mischung 1'!M13","v":0},{"$f":"'Mischung 1'!K13","v":0},{"$f":"'Mischung 1'!N13","v":0},{"$f":"'Mischung 1'!L13","v":0}]
[{"$f":"Ration!A14","v":0},{"$f":"Ration!B14","v":""},{"$f":"Ration!F14","v":0},{"$f":"Ration!E36","v":0},{"$f":"Ration!O14","v":0},{"$f":"Ration!M14","v":0},{"$f":"Ration!P14","v":0},{"$f":"Ration!N14","v":0},{"$f":"'Mischung 1'!A14","v":0},{"$f":"'Mischung 1'!B14","v":""},{"$f":"'Mischung 1'!C14","v":0},{"$f":"'Mischung 1'!C14","v":0},{"$f":"'Mischung 1'!M14","v":0},{"$f":"'Mischung 1'!K14","v":0},{"$f":"'Mischung 1'!N14","v":0},{"$f":"'Mischung 1'!L14","v":0}]
[null,"Summe",{"$f":"SUM(C5:C16)","v":0},{"$f":"SUM(D5:D16)","v":0},0,0,{"$f":"Ration!P17","v":0},{"$f":"Ration!N17","v":0},null,"Summe",{"$f":"SUM(K5:K16)","v":0},{"$f":"SUM(L5:L16)","v":0},0,0,{"$f":"'Mischung 1'!N16","v":0},{"$f":"'Mischung 1'!L16","v":0}]
[]
["Beladung Futtermischwagen für Anzahl:",null,100,null,null,null,"MEW",null,"Futtermischung in kg:",null,5000]
[]
[{"$f":"A5","v":0},{"$f":"B5","v":""},null,{"$f":"D5*$C$19","v":0},null,null,"sidP",{"$f":"Ration!O18","v":0},{"$f":"I5","v":0},{"$f":"'Mischung 1'!B3","v":""},null,{"$f":"$K$19*'Mischung 1'!C3","v":0}]
[{"$f":"A6","v":0},"",null,{"$f":"D6*$C$19","v":0},null,null,"ME",{"$f":"Ration!M18","v":0},{"$f":"I6","v":0},{"$f":"'Mischung 1'!B4","v":""},null,{"$f":"$K$19*'Mischung 1'!C4","v":0}]
[0,"",null,0,null,null,null,null,{"$f":"I7","v":0},{"$f":"'Mischung 1'!B5","v":""},null,{"$f":"$K$19*'Mischung 1'!C5","v":0}]
[0,"",null,0,null,null,"Rationswerte",null,{"$f":"I8","v":0},{"$f":"'Mischung 1'!B6","v":""},null,{"$f":"$K$19*'Mischung 1'!C6","v":0}]
[0,"",null,0,null,null,"aNDFom",{"$f":"Ration!I17","v":0},{"$f":"I9","v":0},{"$f":"'Mischung 1'!B7","v":""},null,{"$f":"$K$19*'Mischung 1'!C7","v":0}]
[0,"",null,0,null,null,"SI",{"$f":"Ration!K20","v":0},{"$f":"I10","v":0},{"$f":"'Mischung 1'!B8","v":""},null,{"$f":"$K$19*'Mischung 1'!C8","v":0}]
[0,"",null,0,null,null,"RMD",{"$f":"Ration!T17","v":0},{"$f":"I11","v":0},{"$f":"'Mischung 1'!B9","v":""},null,{"$f":"$K$19*'Mischung 1'!C9","v":0}]
[0,"",null,0,null,null,"GF kg",{"$f":"Ration!C18","v":0},{"$f":"I12","v":0},{"$f":"'Mischung 1'!B10","v":""},null,{"$f":"$K$19*'Mischung 1'!C10","v":0}]
[0,"",null,0,null,null,"KF kg",{"$f":"Ration!D18","v":0},{"$f":"I13","v":0},{"$f":"'Mischung 1'!B11","v":""},null,{"$f":"$K$19*'Mischung 1'!C11","v":0}]
[0,"",null,0,null,null,"GF %",{"$f":"Ration!E18","v":0},{"$f":"I14","v":0},{"$f":"'Mischung 1'!B12","v":""},null,{"$f":"$K$19*'Mischung 1'!C12","v":0}]
[0,"",null,0,null,null,"KF %",{"$f":"Ration!F18","v":0},{"$f":"I15","v":0},{"$f":"'Mischung 1'!B13","v":""},null,{"$f":"$K$19*'Mischung 1'!C13","v":0}]
[0,"",null,0,null,null,"Ca",{"$f":"Ration!U16","v":0},{"$f":"I16","v":0},{"$f":"'Mischung 1'!B14","v":""},null,{"$f":"$K$19*'Mischung 1'!C14","v":0}]
["Mischung",null,null,{"$f":"Ration!E15*Druck!C19","v":0},null,null,"P",{"$f":"Ration!V16","v":0},"Gesamt",null,null,{"$f":"SUM(L21:M32)","v":0}]
["Wasser",null,null,{"$f":"Ration!E17*Druck!C19","v":0},null,null,"Na",{"$f":"Ration!W16","v":0}]
["Gesamt",null,null,{"$f":"SUM(D21:E34)","v":0},null,null,"Mg",{"$f":"Ration!X16","v":0}]