{"text_format":"1","workbook":"xlsx","n_sheets":8,"sheets":["Einstellung","Ration","Mischung 1","Mischung 2","Gruber Tabelle","Zielwerte","Mengenberechnung","Ausdruck"],"not_rendered":{"charts":0,"images":26,"macros":1,"external_links":0,"defined_names":4,"comments":5,"pivot_tables":0},"unopened":[],"bounds":{"document_bytes":16777216,"sheet_cells":100000,"rows_first":2000,"rows_last":500,"rows_between":2000,"halvings":0,"cell_chars":16384,"cell_head_chars":4096},"cells_cut":0,"cells_raw":0,"read":"whole","date_system":"1900"}

{"sheet":"Einstellung","index":0,"n_rows":23,"n_cols":13,"rows_kept":23,"cut":false,"hidden":false,"merged":[[5,2,5,4],[5,5,5,7],[6,2,6,3],[6,4,6,7],[9,1,17,1],[10,2,10,5],[11,2,11,3],[13,2,13,3],[16,2,17,3],[13,4,13,5],[8,2,9,7],[18,1,18,6],[1,1,1,16],[2,1,2,16],[3,1,3,16],[23,1,23,12],[21,1,21,2],[22,1,22,2],[19,1,19,2],[20,3,20,9],[19,12,22,16],[19,10,22,11],[7,2,7,5],[7,6,7,7],[4,1,8,1],[4,2,4,4],[4,5,4,7]]}
[]
[]
[null,"Futterberechnung zur Fütterung der Milchkühe, Zuchtrinder, Mastrinder, Schafe und Ziegen   -   GfE 2001"]
[null,"Gruber Tabelle,  48.  Auflage / November 2024        www.LfL.bayern.de             Update vom 11.05.2026"]
[null,null,"Tierhaltungsschule",null,null,"Triesdorf"]
[null,null,"Markgrafenstraße 1",null,null,"09 000 000 0000"]
[null,null,91746,null,"Weidenbach"]
[null,null,"Futterberechnung mit Gruber Tabelle",null,null,null,"ths@triesdorf.de"]
[null,null,"Freie Software, keinerlei Gewährleistung"]
[]
[null,null,"Daten für die Berechnung von Erhaltungsbedarf :"]
[null,null,"Lebendmasse",null,"nxP","NEL MJ"]
[null,null,"kg LM",700,470,39.9]
[null,null,"Milchinhaltstoffe",null,{"$f":"IF(D15=0,\"Trockensteher\",\"\")","v":""}]
[null,null,"Fett %",4,null,{"$f":"IF(D15>=3,(D15-3.5)*0.4+3.1,0)","v":3.3000000000000003}]
[null,null,"Eiweiß %",3.5,{"$f":"IF(D16>=2.5,(D16-3.2)*(20)+81,0)","v":87}]
[null,null,"geschätzte TM Aufnahme kg",null,"GF","GF+KF"]
[null,null,null,null,14,21]
[]
[null,"Erhaltungsbedarf",null,"Ca","P","Mg","Na","K","Cl","S","Empfehlung zur Versorgung mit Mengenelementen                 Gruber Tabelle Seite 34",null,"www.triesdorf.de"]
[]
[null,"in g pro kg TM - Aufn.",null,2,1.43,0.8,0.6,8.8000000000000007,1.5,1.5]
[null,"für Leistung g/kg Milch",null,2.5,1.43,0.8,0.64,1.6,1.4,0.6]

{"sheet":"Ration","index":1,"n_rows":39,"n_cols":32,"rows_kept":39,"cut":false,"hidden":false,"merged":[[0,5,0,23],[1,25,1,31],[29,0,29,3],[31,21,31,22],[31,11,31,14],[30,0,30,4],[31,0,31,4],[31,19,31,20],[37,0,38,3],[1,5,1,23],[25,0,25,4],[25,5,25,23],[1,2,1,4],[1,0,1,1],[3,5,12,5],[24,0,24,3],[35,1,36,3],[33,0,33,4],[33,12,33,15],[26,0,26,3],[27,0,27,3],[28,0,28,3]]}
[]
["Bitte Gruppe auswählen!",null,null,null,null,"Nähr- und Mineralstoffgehalte in 1000 g Trockenmasse",null,null,null,null,null,null,null,null,null,null,null,null,null,null,null,null,null,null,null,"Spurenelemente in mg / kg TM"]
["Nr ","Futterart","TM %","TM g","FM kg","TM kg","aNDFom","CP g","nxP","UDP %","RNB","NEL MJ","ME MJ","ST+ZU","bST","CL","Ca","P","Mg","Na","K","Cl","S","Preis / dt","Typ","Fe","Cu","Zn","Mn","Co","J","Se"]
[null,{"$f":"IFERROR(VLOOKUP(A4,'Gruber Tabelle'!$A$6:$W$359,2,0),0)","v":0},{"$f":"IFERROR(VLOOKUP(A4,'Gruber Tabelle'!$A$6:$W$359,3,0),0)/1000","v":0},{"$f":"IFERROR(VLOOKUP(A4,'Gruber Tabelle'!$A$6:$W$359,3,0),0)","v":0},{"$f":"IFERROR(F15/C15,0)","v":0},null,{"$f":"IFERROR(VLOOKUP(A4,'Gruber Tabelle'!$A$6:$W$359,5,0),0)","v":0},{"$f":"IFERROR(VLOOKUP(A4,'Gruber Tabelle'!$A$6:$W$359,7,0),0)","v":0},{"$f":"IFERROR(VLOOKUP(A4,'Gruber Tabelle'!$A$6:$W$359,8,0),0)","v":0},{"$f":"IFERROR(VLOOKUP(A4,'Gruber Tabelle'!$A$6:$W$359,9,0)/100,0)","v":0},{"$f":"IFERROR(VLOOKUP(A4,'Gruber Tabelle'!$A$6:$W$359,10,0),0)","v":0},{"$f":"IFERROR(VLOOKUP(A4,'Gruber Tabelle'!$A$6:$W$359,11,0),0)","v":0},{"$f":"IFERROR(VLOOKUP(A4,'Gruber Tabelle'!$A$6:$W$359,12,0),0)","v":0},{"$f":"IFERROR(VLOOKUP(A4,'Gruber Tabelle'!$A$6:$W$359,13,0),0)","v":0},{"$f":"IFERROR(VLOOKUP(A4,'Gruber Tabelle'!$A$6:$W$359,14,0),0)","v":0},{"$f":"IFERROR(VLOOKUP(A4,'Gruber Tabelle'!$A$6:$W$359,15,0),0)","v":0},{"$f":"IFERROR(VLOOKUP(A4,'Gruber Tabelle'!$A$6:$W$359,16,0),0)","v":0},{"$f":"IFERROR(VLOOKUP(A4,'Gruber Tabelle'!$A$6:$W$359,17,0),0)","v":0},{"$f":"IFERROR(VLOOKUP(A4,'Gruber Tabelle'!$A$6:$W$359,18,0),0)","v":0},{"$f":"IFERROR(VLOOKUP(A4,'Gruber Tabelle'!$A$6:$W$359,19,0),0)","v":0},{"$f":"IFERROR(VLOOKUP(A4,'Gruber Tabelle'!$A$6:$W$359,20,0),0)","v":0},{"$f":"IFERROR(VLOOKUP(A4,'Gruber Tabelle'!$A$6:$W$359,21,0),0)","v":0},{"$f":"IFERROR(VLOOKUP(A4,'Gruber Tabelle'!$A$6:$W$359,22,0),0)","v":0},{"$f":"IFERROR(VLOOKUP(A4,'Gruber Tabelle'!$A$6:$W$359,23,0),0)","v":0},{"$f":"IFERROR(VLOOKUP(A4,'Gruber Tabelle'!$A$6:$X$359,24,0),0)","v":0},{"$f":"IFERROR(VLOOKUP(A4,'Gruber Tabelle'!$A$6:$AE$359,25,0),0)","v":0},{"$f":"IFERROR(VLOOKUP(A4,'Gruber Tabelle'!$A$6:$AE$359,26,0),0)","v":0},{"$f":"IFERROR(VLOOKUP(A4,'Gruber Tabelle'!$A$6:$AE$359,27,0),0)","v":0},{"$f":"IFERROR(VLOOKUP(A4,'Gruber Tabelle'!$A$6:$AE$359,28,0),0)","v":0},{"$f":"IFERROR(VLOOKUP(A4,'Gruber Tabelle'!$A$6:$AE$359,29,0),0)","v":0},{"$f":"IFERROR(VLOOKUP(A4,'Gruber Tabelle'!$A$6:$AE$359,30,0),0)","v":0},{"$f":"IFERROR(VLOOKUP(A4,'Gruber Tabelle'!$A$6:$AE$359,31,0),0)","v":0}]
[null,{"$f":"IFERROR(VLOOKUP(A5,'Gruber Tabelle'!$A$6:$W$359,2,0),0)","v":0},{"$f":"IFERROR(VLOOKUP(A5,'Gruber Tabelle'!$A$6:$W$359,3,0),0)/1000","v":0},{"$f":"IFERROR(VLOOKUP(A5,'Gruber Tabelle'!$A$6:$W$359,3,0),0)","v":0},{"$f":"IFERROR(F16/C16,0)","v":0},null,{"$f":"IFERROR(VLOOKUP(A5,'Gruber Tabelle'!$A$6:$W$359,5,0),0)","v":0},{"$f":"IFERROR(VLOOKUP(A5,'Gruber Tabelle'!$A$6:$W$359,7,0),0)","v":0},{"$f":"IFERROR(VLOOKUP(A5,'Gruber Tabelle'!$A$6:$W$359,8,0),0)","v":0},{"$f":"IFERROR(VLOOKUP(A5,'Gruber Tabelle'!$A$6:$W$359,9,0)/100,0)","v":0},{"$f":"IFERROR(VLOOKUP(A5,'Gruber Tabelle'!$A$6:$W$359,10,0),0)","v":0},{"$f":"IFERROR(VLOOKUP(A5,'Gruber Tabelle'!$A$6:$W$359,11,0),0)","v":0},{"$f":"IFERROR(VLOOKUP(A5,'Gruber Tabelle'!$A$6:$W$359,12,0),0)","v":0},{"$f":"IFERROR(VLOOKUP(A5,'Gruber Tabelle'!$A$6:$W$359,13,0),0)","v":0},{"$f":"IFERROR(VLOOKUP(A5,'Gruber Tabelle'!$A$6:$W$359,14,0),0)","v":0},{"$f":"IFERROR(VLOOKUP(A5,'Gruber Tabelle'!$A$6:$W$359,15,0),0)","v":0},{"$f":"IFERROR(VLOOKUP(A5,'Gruber Tabelle'!$A$6:$W$359,16,0),0)","v":0},{"$f":"IFERROR(VLOOKUP(A5,'Gruber Tabelle'!$A$6:$W$359,17,0),0)","v":0},{"$f":"IFERROR(VLOOKUP(A5,'Gruber Tabelle'!$A$6:$W$359,18,0),0)","v":0},{"$f":"IFERROR(VLOOKUP(A5,'Gruber Tabelle'!$A$6:$W$359,19,0),0)","v":0},{"$f":"IFERROR(VLOOKUP(A5,'Gruber Tabelle'!$A$6:$W$359,20,0),0)","v":0},{"$f":"IFERROR(VLOOKUP(A5,'Gruber Tabelle'!$A$6:$W$359,21,0),0)","v":0},{"$f":"IFERROR(VLOOKUP(A5,'Gruber Tabelle'!$A$6:$W$359,22,0),0)","v":0},{"$f":"IFERROR(VLOOKUP(A5,'Gruber Tabelle'!$A$6:$W$359,23,0),0)","v":0},{"$f":"IFERROR(VLOOKUP(A5,'Gruber Tabelle'!$A$6:$X$359,24,0),0)","v":0},{"$f":"IFERROR(VLOOKUP(A5,'Gruber Tabelle'!$A$6:$AE$359,25,0),0)","v":0},{"$f":"IFERROR(VLOOKUP(A5,'Gruber Tabelle'!$A$6:$AE$359,26,0),0)","v":0},{"$f":"IFERROR(VLOOKUP(A5,'Gruber Tabelle'!$A$6:$AE$359,27,0),0)","v":0},{"$f":"IFERROR(VLOOKUP(A5,'Gruber Tabelle'!$A$6:$AE$359,28,0),0)","v":0},{"$f":"IFERROR(VLOOKUP(A5,'Gruber Tabelle'!$A$6:$AE$359,29,0),0)","v":0},{"$f":"IFERROR(VLOOKUP(A5,'Gruber Tabelle'!$A$6:$AE$359,30,0),0)","v":0},{"$f":"IFERROR(VLOOKUP(A5,'Gruber Tabelle'!$A$6:$AE$359,31,0),0)","v":0}]
[null,{"$f":"IFERROR(VLOOKUP(A6,'Gruber Tabelle'!$A$6:$W$359,2,0),0)","v":0},{"$f":"IFERROR(VLOOKUP(A6,'Gruber Tabelle'!$A$6:$W$359,3,0),0)/1000","v":0},{"$f":"IFERROR(VLOOKUP(A6,'Gruber Tabelle'!$A$6:$W$359,3,0),0)","v":0},0,null,{"$f":"IFERROR(VLOOKUP(A6,'Gruber Tabelle'!$A$6:$W$359,5,0),0)","v":0},{"$f":"IFERROR(VLOOKUP(A6,'Gruber Tabelle'!$A$6:$W$359,7,0),0)","v":0},{"$f":"IFERROR(VLOOKUP(A6,'Gruber Tabelle'!$A$6:$W$359,8,0),0)","v":0},{"$f":"IFERROR(VLOOKUP(A6,'Gruber Tabelle'!$A$6:$W$359,9,0)/100,0)","v":0},{"$f":"IFERROR(VLOOKUP(A6,'Gruber Tabelle'!$A$6:$W$359,10,0),0)","v":0},{"$f":"IFERROR(VLOOKUP(A6,'Gruber Tabelle'!$A$6:$W$359,11,0),0)","v":0},{"$f":"IFERROR(VLOOKUP(A6,'Gruber Tabelle'!$A$6:$W$359,12,0),0)","v":0},{"$f":"IFERROR(VLOOKUP(A6,'Gruber Tabelle'!$A$6:$W$359,13,0),0)","v":0},{"$f":"IFERROR(VLOOKUP(A6,'Gruber Tabelle'!$A$6:$W$359,14,0),0)","v":0},{"$f":"IFERROR(VLOOKUP(A6,'Gruber Tabelle'!$A$6:$W$359,15,0),0)","v":0},{"$f":"IFERROR(VLOOKUP(A6,'Gruber Tabelle'!$A$6:$W$359,16,0),0)","v":0},{"$f":"IFERROR(VLOOKUP(A6,'Gruber Tabelle'!$A$6:$W$359,17,0),0)","v":0},{"$f":"IFERROR(VLOOKUP(A6,'Gruber Tabelle'!$A$6:$W$359,18,0),0)","v":0},{"$f":"IFERROR(VLOOKUP(A6,'Gruber Tabelle'!$A$6:$W$359,19,0),0)","v":0},{"$f":"IFERROR(VLOOKUP(A6,'Gruber Tabelle'!$A$6:$W$359,20,0),0)","v":0},{"$f":"IFERROR(VLOOKUP(A6,'Gruber Tabelle'!$A$6:$W$359,21,0),0)","v":0},{"$f":"IFERROR(VLOOKUP(A6,'Gruber Tabelle'!$A$6:$W$359,22,0),0)","v":0},{"$f":"IFERROR(VLOOKUP(A6,'Gruber Tabelle'!$A$6:$W$359,23,0),0)","v":0},{"$f":"IFERROR(VLOOKUP(A6,'Gruber Tabelle'!$A$6:$X$359,24,0),0)","v":0},{"$f":"IFERROR(VLOOKUP(A6,'Gruber Tabelle'!$A$6:$AE$359,25,0),0)","v":0},{"$f":"IFERROR(VLOOKUP(A6,'Gruber Tabelle'!$A$6:$AE$359,26,0),0)","v":0},{"$f":"IFERROR(VLOOKUP(A6,'Gruber Tabelle'!$A$6:$AE$359,27,0),0)","v":0},{"$f":"IFERROR(VLOOKUP(A6,'Gruber Tabelle'!$A$6:$AE$359,28,0),0)","v":0},{"$f":"IFERROR(VLOOKUP(A6,'Gruber Tabelle'!$A$6:$AE$359,29,0),0)","v":0},{"$f":"IFERROR(VLOOKUP(A6,'Gruber Tabelle'!$A$6:$AE$359,30,0),0)","v":0},{"$f":"IFERROR(VLOOKUP(A6,'Gruber Tabelle'!$A$6:$AE$359,31,0),0)","v":0}]
[null,{"$f":"IFERROR(VLOOKUP(A7,'Gruber Tabelle'!$A$6:$W$359,2,0),0)","v":0},{"$f":"IFERROR(VLOOKUP(A7,'Gruber Tabelle'!$A$6:$W$359,3,0),0)/1000","v":0},{"$f":"IFERROR(VLOOKUP(A7,'Gruber Tabelle'!$A$6:$W$359,3,0),0)","v":0},0,null,{"$f":"IFERROR(VLOOKUP(A7,'Gruber Tabelle'!$A$6:$W$359,5,0),0)","v":0},{"$f":"IFERROR(VLOOKUP(A7,'Gruber Tabelle'!$A$6:$W$359,7,0),0)","v":0},{"$f":"IFERROR(VLOOKUP(A7,'Gruber Tabelle'!$A$6:$W$359,8,0),0)","v":0},{"$f":"IFERROR(VLOOKUP(A7,'Gruber Tabelle'!$A$6:$W$359,9,0)/100,0)","v":0},{"$f":"IFERROR(VLOOKUP(A7,'Gruber Tabelle'!$A$6:$W$359,10,0),0)","v":0},{"$f":"IFERROR(VLOOKUP(A7,'Gruber Tabelle'!$A$6:$W$359,11,0),0)","v":0},{"$f":"IFERROR(VLOOKUP(A7,'Gruber Tabelle'!$A$6:$W$359,12,0),0)","v":0},{"$f":"IFERROR(VLOOKUP(A7,'Gruber Tabelle'!$A$6:$W$359,13,0),0)","v":0},{"$f":"IFERROR(VLOOKUP(A7,'Gruber Tabelle'!$A$6:$W$359,14,0),0)","v":0},{"$f":"IFERROR(VLOOKUP(A7,'Gruber Tabelle'!$A$6:$W$359,15,0),0)","v":0},{"$f":"IFERROR(VLOOKUP(A7,'Gruber Tabelle'!$A$6:$W$359,16,0),0)","v":0},{"$f":"IFERROR(VLOOKUP(A7,'Gruber Tabelle'!$A$6:$W$359,17,0),0)","v":0},{"$f":"IFERROR(VLOOKUP(A7,'Gruber Tabelle'!$A$6:$W$359,18,0),0)","v":0},{"$f":"IFERROR(VLOOKUP(A7,'Gruber Tabelle'!$A$6:$W$359,19,0),0)","v":0},{"$f":"IFERROR(VLOOKUP(A7,'Gruber Tabelle'!$A$6:$W$359,20,0),0)","v":0},{"$f":"IFERROR(VLOOKUP(A7,'Gruber Tabelle'!$A$6:$W$359,21,0),0)","v":0},{"$f":"IFERROR(VLOOKUP(A7,'Gruber Tabelle'!$A$6:$W$359,22,0),0)","v":0},{"$f":"IFERROR(VLOOKUP(A7,'Gruber Tabelle'!$A$6:$W$359,23,0),0)","v":0},{"$f":"IFERROR(VLOOKUP(A7,'Gruber Tabelle'!$A$6:$X$359,24,0),0)","v":0},{"$f":"IFERROR(VLOOKUP(A7,'Gruber Tabelle'!$A$6:$AE$359,25,0),0)","v":0},{"$f":"IFERROR(VLOOKUP(A7,'Gruber Tabelle'!$A$6:$AE$359,26,0),0)","v":0},{"$f":"IFERROR(VLOOKUP(A7,'Gruber Tabelle'!$A$6:$AE$359,27,0),0)","v":0},{"$f":"IFERROR(VLOOKUP(A7,'Gruber Tabelle'!$A$6:$AE$359,28,0),0)","v":0},{"$f":"IFERROR(VLOOKUP(A7,'Gruber Tabelle'!$A$6:$AE$359,29,0),0)","v":0},{"$f":"IFERROR(VLOOKUP(A7,'Gruber Tabelle'!$A$6:$AE$359,30,0),0)","v":0},{"$f":"IFERROR(VLOOKUP(A7,'Gruber Tabelle'!$A$6:$AE$359,31,0),0)","v":0}]
[null,{"$f":"IFERROR(VLOOKUP(A8,'Gruber Tabelle'!$A$6:$W$359,2,0),0)","v":0},{"$f":"IFERROR(VLOOKUP(A8,'Gruber Tabelle'!$A$6:$W$359,3,0),0)/1000","v":0},{"$f":"IFERROR(VLOOKUP(A8,'Gruber Tabelle'!$A$6:$W$359,3,0),0)","v":0},0,null,{"$f":"IFERROR(VLOOKUP(A8,'Gruber Tabelle'!$A$6:$W$359,5,0),0)","v":0},{"$f":"IFERROR(VLOOKUP(A8,'Gruber Tabelle'!$A$6:$W$359,7,0),0)","v":0},{"$f":"IFERROR(VLOOKUP(A8,'Gruber Tabelle'!$A$6:$W$359,8,0),0)","v":0},{"$f":"IFERROR(VLOOKUP(A8,'Gruber Tabelle'!$A$6:$W$359,9,0)/100,0)","v":0},{"$f":"IFERROR(VLOOKUP(A8,'Gruber Tabelle'!$A$6:$W$359,10,0),0)","v":0},{"$f":"IFERROR(VLOOKUP(A8,'Gruber Tabelle'!$A$6:$W$359,11,0),0)","v":0},{"$f":"IFERROR(VLOOKUP(A8,'Gruber Tabelle'!$A$6:$W$359,12,0),0)","v":0},{"$f":"IFERROR(VLOOKUP(A8,'Gruber Tabelle'!$A$6:$W$359,13,0),0)","v":0},{"$f":"IFERROR(VLOOKUP(A8,'Gruber Tabelle'!$A$6:$W$359,14,0),0)","v":0},{"$f":"IFERROR(VLOOKUP(A8,'Gruber Tabelle'!$A$6:$W$359,15,0),0)","v":0},{"$f":"IFERROR(VLOOKUP(A8,'Gruber Tabelle'!$A$6:$W$359,16,0),0)","v":0},{"$f":"IFERROR(VLOOKUP(A8,'Gruber Tabelle'!$A$6:$W$359,17,0),0)","v":0},{"$f":"IFERROR(VLOOKUP(A8,'Gruber Tabelle'!$A$6:$W$359,18,0),0)","v":0},{"$f":"IFERROR(VLOOKUP(A8,'Gruber Tabelle'!$A$6:$W$359,19,0),0)","v":0},{"$f":"IFERROR(VLOOKUP(A8,'Gruber Tabelle'!$A$6:$W$359,20,0),0)","v":0},{"$f":"IFERROR(VLOOKUP(A8,'Gruber Tabelle'!$A$6:$W$359,21,0),0)","v":0},{"$f":"IFERROR(VLOOKUP(A8,'Gruber Tabelle'!$A$6:$W$359,22,0),0)","v":0},{"$f":"IFERROR(VLOOKUP(A8,'Gruber Tabelle'!$A$6:$W$359,23,0),0)","v":0},{"$f":"IFERROR(VLOOKUP(A8,'Gruber Tabelle'!$A$6:$X$359,24,0),0)","v":0},{"$f":"IFERROR(VLOOKUP(A8,'Gruber Tabelle'!$A$6:$AE$359,25,0),0)","v":0},{"$f":"IFERROR(VLOOKUP(A8,'Gruber Tabelle'!$A$6:$AE$359,26,0),0)","v":0},{"$f":"IFERROR(VLOOKUP(A8,'Gruber Tabelle'!$A$6:$AE$359,27,0),0)","v":0},{"$f":"IFERROR(VLOOKUP(A8,'Gruber Tabelle'!$A$6:$AE$359,28,0),0)","v":0},{"$f":"IFERROR(VLOOKUP(A8,'Gruber Tabelle'!$A$6:$AE$359,29,0),0)","v":0},{"$f":"IFERROR(VLOOKUP(A8,'Gruber Tabelle'!$A$6:$AE$359,30,0),0)","v":0},{"$f":"IFERROR(VLOOKUP(A8,'Gruber Tabelle'!$A$6:$AE$359,31,0),0)","v":0}]
[null,{"$f":"IFERROR(VLOOKUP(A9,'Gruber Tabelle'!$A$6:$W$359,2,0),0)","v":0},{"$f":"IFERROR(VLOOKUP(A9,'Gruber Tabelle'!$A$6:$W$359,3,0),0)/1000","v":0},{"$f":"IFERROR(VLOOKUP(A9,'Gruber Tabelle'!$A$6:$W$359,3,0),0)","v":0},0,null,{"$f":"IFERROR(VLOOKUP(A9,'Gruber Tabelle'!$A$6:$W$359,5,0),0)","v":0},{"$f":"IFERROR(VLOOKUP(A9,'Gruber Tabelle'!$A$6:$W$359,7,0),0)","v":0},{"$f":"IFERROR(VLOOKUP(A9,'Gruber Tabelle'!$A$6:$W$359,8,0),0)","v":0},{"$f":"IFERROR(VLOOKUP(A9,'Gruber Tabelle'!$A$6:$W$359,9,0)/100,0)","v":0},{"$f":"IFERROR(VLOOKUP(A9,'Gruber Tabelle'!$A$6:$W$359,10,0),0)","v":0},{"$f":"IFERROR(VLOOKUP(A9,'Gruber Tabelle'!$A$6:$W$359,11,0),0)","v":0},{"$f":"IFERROR(VLOOKUP(A9,'Gruber Tabelle'!$A$6:$W$359,12,0),0)","v":0},{"$f":"IFERROR(VLOOKUP(A9,'Gruber Tabelle'!$A$6:$W$359,13,0),0)","v":0},{"$f":"IFERROR(VLOOKUP(A9,'Gruber Tabelle'!$A$6:$W$359,14,0),0)","v":0},{"$f":"IFERROR(VLOOKUP(A9,'Gruber Tabelle'!$A$6:$W$359,15,0),0)","v":0},{"$f":"IFERROR(VLOOKUP(A9,'Gruber Tabelle'!$A$6:$W$359,16,0),0)","v":0},{"$f":"IFERROR(VLOOKUP(A9,'Gruber Tabelle'!$A$6:$W$359,17,0),0)","v":0},{"$f":"IFERROR(VLOOKUP(A9,'Gruber Tabelle'!$A$6:$W$359,18,0),0)","v":0},{"$f":"IFERROR(VLOOKUP(A9,'Gruber Tabelle'!$A$6:$W$359,19,0),0)","v":0},{"$f":"IFERROR(VLOOKUP(A9,'Gruber Tabelle'!$A$6:$W$359,20,0),0)","v":0},{"$f":"IFERROR(VLOOKUP(A9,'Gruber Tabelle'!$A$6:$W$359,21,0),0)","v":0},{"$f":"IFERROR(VLOOKUP(A9,'Gruber Tabelle'!$A$6:$W$359,22,0),0)","v":0},{"$f":"IFERROR(VLOOKUP(A9,'Gruber Tabelle'!$A$6:$W$359,23,0),0)","v":0},{"$f":"IFERROR(VLOOKUP(A9,'Gruber Tabelle'!$A$6:$X$359,24,0),0)","v":0},{"$f":"IFERROR(VLOOKUP(A9,'Gruber Tabelle'!$A$6:$AE$359,25,0),0)","v":0},{"$f":"IFERROR(VLOOKUP(A9,'Gruber Tabelle'!$A$6:$AE$359,26,0),0)","v":0},{"$f":"IFERROR(VLOOKUP(A9,'Gruber Tabelle'!$A$6:$AE$359,27,0),0)","v":0},{"$f":"IFERROR(VLOOKUP(A9,'Gruber Tabelle'!$A$6:$AE$359,28,0),0)","v":0},{"$f":"IFERROR(VLOOKUP(A9,'Gruber Tabelle'!$A$6:$AE$359,29,0),0)","v":0},{"$f":"IFERROR(VLOOKUP(A9,'Gruber Tabelle'!$A$6:$AE$359,30,0),0)","v":0},{"$f":"IFERROR(VLOOKUP(A9,'Gruber Tabelle'!$A$6:$AE$359,31,0),0)","v":0}]
[null,{"$f":"IFERROR(VLOOKUP(A10,'Gruber Tabelle'!$A$6:$W$359,2,0),0)","v":0},{"$f":"IFERROR(VLOOKUP(A10,'Gruber Tabelle'!$A$6:$W$359,3,0),0)/1000","v":0},{"$f":"IFERROR(VLOOKUP(A10,'Gruber Tabelle'!$A$6:$W$359,3,0),0)","v":0},0,null,{"$f":"IFERROR(VLOOKUP(A10,'Gruber Tabelle'!$A$6:$W$359,5,0),0)","v":0},{"$f":"IFERROR(VLOOKUP(A10,'Gruber Tabelle'!$A$6:$W$359,7,0),0)","v":0},{"$f":"IFERROR(VLOOKUP(A10,'Gruber Tabelle'!$A$6:$W$359,8,0),0)","v":0},{"$f":"IFERROR(VLOOKUP(A10,'Gruber Tabelle'!$A$6:$W$359,9,0)/100,0)","v":0},{"$f":"IFERROR(VLOOKUP(A10,'Gruber Tabelle'!$A$6:$W$359,10,0),0)","v":0},{"$f":"IFERROR(VLOOKUP(A10,'Gruber Tabelle'!$A$6:$W$359,11,0),0)","v":0},{"$f":"IFERROR(VLOOKUP(A10,'Gruber Tabelle'!$A$6:$W$359,12,0),0)","v":0},{"$f":"IFERROR(VLOOKUP(A10,'Gruber Tabelle'!$A$6:$W$359,13,0),0)","v":0},{"$f":"IFERROR(VLOOKUP(A10,'Gruber Tabelle'!$A$6:$W$359,14,0),0)","v":0},{"$f":"IFERROR(VLOOKUP(A10,'Gruber Tabelle'!$A$6:$W$359,15,0),0)","v":0},{"$f":"IFERROR(VLOOKUP(A10,'Gruber Tabelle'!$A$6:$W$359,16,0),0)","v":0},{"$f":"IFERROR(VLOOKUP(A10,'Gruber Tabelle'!$A$6:$W$359,17,0),0)","v":0},{"$f":"IFERROR(VLOOKUP(A10,'Gruber Tabelle'!$A$6:$W$359,18,0),0)","v":0},{"$f":"IFERROR(VLOOKUP(A10,'Gruber Tabelle'!$A$6:$W$359,19,0),0)","v":0},{"$f":"IFERROR(VLOOKUP(A10,'Gruber Tabelle'!$A$6:$W$359,20,0),0)","v":0},{"$f":"IFERROR(VLOOKUP(A10,'Gruber Tabelle'!$A$6:$W$359,21,0),0)","v":0},{"$f":"IFERROR(VLOOKUP(A10,'Gruber Tabelle'!$A$6:$W$359,22,0),0)","v":0},{"$f":"IFERROR(VLOOKUP(A10,'Gruber Tabelle'!$A$6:$W$359,23,0),0)","v":0},{"$f":"IFERROR(VLOOKUP(A10,'Gruber Tabelle'!$A$6:$X$359,24,0),0)","v":0},{"$f":"IFERROR(VLOOKUP(A10,'Gruber Tabelle'!$A$6:$AE$359,25,0),0)","v":0},{"$f":"IFERROR(VLOOKUP(A10,'Gruber Tabelle'!$A$6:$AE$359,26,0),0)","v":0},{"$f":"IFERROR(VLOOKUP(A10,'Gruber Tabelle'!$A$6:$AE$359,27,0),0)","v":0},{"$f":"IFERROR(VLOOKUP(A10,'Gruber Tabelle'!$A$6:$AE$359,28,0),0)","v":0},{"$f":"IFERROR(VLOOKUP(A10,'Gruber Tabelle'!$A$6:$AE$359,29,0),0)","v":0},{"$f":"IFERROR(VLOOKUP(A10,'Gruber Tabelle'!$A$6:$AE$359,30,0),0)","v":0},{"$f":"IFERROR(VLOOKUP(A10,'Gruber Tabelle'!$A$6:$AE$359,31,0),0)","v":0}]
[null,{"$f":"IFERROR(VLOOKUP(A11,'Gruber Tabelle'!$A$6:$W$359,2,0),0)","v":0},{"$f":"IFERROR(VLOOKUP(A11,'Gruber Tabelle'!$A$6:$W$359,3,0),0)/1000","v":0},{"$f":"IFERROR(VLOOKUP(A11,'Gruber Tabelle'!$A$6:$W$359,3,0),0)","v":0},0,null,{"$f":"IFERROR(VLOOKUP(A11,'Gruber Tabelle'!$A$6:$W$359,5,0),0)","v":0},{"$f":"IFERROR(VLOOKUP(A11,'Gruber Tabelle'!$A$6:$W$359,7,0),0)","v":0},{"$f":"IFERROR(VLOOKUP(A11,'Gruber Tabelle'!$A$6:$W$359,8,0),0)","v":0},{"$f":"IFERROR(VLOOKUP(A11,'Gruber Tabelle'!$A$6:$W$359,9,0)/100,0)","v":0},{"$f":"IFERROR(VLOOKUP(A11,'Gruber Tabelle'!$A$6:$W$359,10,0),0)","v":0},{"$f":"IFERROR(VLOOKUP(A11,'Gruber Tabelle'!$A$6:$W$359,11,0),0)","v":0},{"$f":"IFERROR(VLOOKUP(A11,'Gruber Tabelle'!$A$6:$W$359,12,0),0)","v":0},{"$f":"IFERROR(VLOOKUP(A11,'Gruber Tabelle'!$A$6:$W$359,13,0),0)","v":0},{"$f":"IFERROR(VLOOKUP(A11,'Gruber Tabelle'!$A$6:$W$359,14,0),0)","v":0},{"$f":"IFERROR(VLOOKUP(A11,'Gruber Tabelle'!$A$6:$W$359,15,0),0)","v":0},{"$f":"IFERROR(VLOOKUP(A11,'Gruber Tabelle'!$A$6:$W$359,16,0),0)","v":0},{"$f":"IFERROR(VLOOKUP(A11,'Gruber Tabelle'!$A$6:$W$359,17,0),0)","v":0},{"$f":"IFERROR(VLOOKUP(A11,'Gruber Tabelle'!$A$6:$W$359,18,0),0)","v":0},{"$f":"IFERROR(VLOOKUP(A11,'Gruber Tabelle'!$A$6:$W$359,19,0),0)","v":0},{"$f":"IFERROR(VLOOKUP(A11,'Gruber Tabelle'!$A$6:$W$359,20,0),0)","v":0},{"$f":"IFERROR(VLOOKUP(A11,'Gruber Tabelle'!$A$6:$W$359,21,0),0)","v":0},{"$f":"IFERROR(VLOOKUP(A11,'Gruber Tabelle'!$A$6:$W$359,22,0),0)","v":0},{"$f":"IFERROR(VLOOKUP(A11,'Gruber Tabelle'!$A$6:$W$359,23,0),0)","v":0},{"$f":"IFERROR(VLOOKUP(A11,'Gruber Tabelle'!$A$6:$X$359,24,0),0)","v":0},{"$f":"IFERROR(VLOOKUP(A11,'Gruber Tabelle'!$A$6:$AE$359,25,0),0)","v":0},{"$f":"IFERROR(VLOOKUP(A11,'Gruber Tabelle'!$A$6:$AE$359,26,0),0)","v":0},{"$f":"IFERROR(VLOOKUP(A11,'Gruber Tabelle'!$A$6:$AE$359,27,0),0)","v":0},{"$f":"IFERROR(VLOOKUP(A11,'Gruber Tabelle'!$A$6:$AE$359,28,0),0)","v":0},{"$f":"IFERROR(VLOOKUP(A11,'Gruber Tabelle'!$A$6:$AE$359,29,0),0)","v":0},{"$f":"IFERROR(VLOOKUP(A11,'Gruber Tabelle'!$A$6:$AE$359,30,0),0)","v":0},{"$f":"IFERROR(VLOOKUP(A11,'Gruber Tabelle'!$A$6:$AE$359,31,0),0)","v":0}]
[null,{"$f":"IFERROR(VLOOKUP(A12,'Gruber Tabelle'!$A$6:$W$359,2,0),0)","v":0},{"$f":"IFERROR(VLOOKUP(A12,'Gruber Tabelle'!$A$6:$W$359,3,0),0)/1000","v":0},{"$f":"IFERROR(VLOOKUP(A12,'Gruber Tabelle'!$A$6:$W$359,3,0),0)","v":0},0,null,{"$f":"IFERROR(VLOOKUP(A12,'Gruber Tabelle'!$A$6:$W$359,5,0),0)","v":0},{"$f":"IFERROR(VLOOKUP(A12,'Gruber Tabelle'!$A$6:$W$359,7,0),0)","v":0},{"$f":"IFERROR(VLOOKUP(A12,'Gruber Tabelle'!$A$6:$W$359,8,0),0)","v":0},{"$f":"IFERROR(VLOOKUP(A12,'Gruber Tabelle'!$A$6:$W$359,9,0)/100,0)","v":0},{"$f":"IFERROR(VLOOKUP(A12,'Gruber Tabelle'!$A$6:$W$359,10,0),0)","v":0},{"$f":"IFERROR(VLOOKUP(A12,'Gruber Tabelle'!$A$6:$W$359,11,0),0)","v":0},{"$f":"IFERROR(VLOOKUP(A12,'Gruber Tabelle'!$A$6:$W$359,12,0),0)","v":0},{"$f":"IFERROR(VLOOKUP(A12,'Gruber Tabelle'!$A$6:$W$359,13,0),0)","v":0},{"$f":"IFERROR(VLOOKUP(A12,'Gruber Tabelle'!$A$6:$W$359,14,0),0)","v":0},{"$f":"IFERROR(VLOOKUP(A12,'Gruber Tabelle'!$A$6:$W$359,15,0),0)","v":0},{"$f":"IFERROR(VLOOKUP(A12,'Gruber Tabelle'!$A$6:$W$359,16,0),0)","v":0},{"$f":"IFERROR(VLOOKUP(A12,'Gruber Tabelle'!$A$6:$W$359,17,0),0)","v":0},{"$f":"IFERROR(VLOOKUP(A12,'Gruber Tabelle'!$A$6:$W$359,18,0),0)","v":0},{"$f":"IFERROR(VLOOKUP(A12,'Gruber Tabelle'!$A$6:$W$359,19,0),0)","v":0},{"$f":"IFERROR(VLOOKUP(A12,'Gruber Tabelle'!$A$6:$W$359,20,0),0)","v":0},{"$f":"IFERROR(VLOOKUP(A12,'Gruber Tabelle'!$A$6:$W$359,21,0),0)","v":0},{"$f":"IFERROR(VLOOKUP(A12,'Gruber Tabelle'!$A$6:$W$359,22,0),0)","v":0},{"$f":"IFERROR(VLOOKUP(A12,'Gruber Tabelle'!$A$6:$W$359,23,0),0)","v":0},{"$f":"IFERROR(VLOOKUP(A12,'Gruber Tabelle'!$A$6:$X$359,24,0),0)","v":0},{"$f":"IFERROR(VLOOKUP(A12,'Gruber Tabelle'!$A$6:$AE$359,25,0),0)","v":0},{"$f":"IFERROR(VLOOKUP(A12,'Gruber Tabelle'!$A$6:$AE$359,26,0),0)","v":0},{"$f":"IFERROR(VLOOKUP(A12,'Gruber Tabelle'!$A$6:$AE$359,27,0),0)","v":0},{"$f":"IFERROR(VLOOKUP(A12,'Gruber Tabelle'!$A$6:$AE$359,28,0),0)","v":0},{"$f":"IFERROR(VLOOKUP(A12,'Gruber Tabelle'!$A$6:$AE$359,29,0),0)","v":0},{"$f":"IFERROR(VLOOKUP(A12,'Gruber Tabelle'!$A$6:$AE$359,30,0),0)","v":0},{"$f":"IFERROR(VLOOKUP(A12,'Gruber Tabelle'!$A$6:$AE$359,31,0),0)","v":0}]
[null,{"$f":"IFERROR(VLOOKUP(A13,'Gruber Tabelle'!$A$6:$W$359,2,0),0)","v":0},{"$f":"IFERROR(VLOOKUP(A13,'Gruber Tabelle'!$A$6:$W$359,3,0),0)/1000","v":0},{"$f":"IFERROR(VLOOKUP(A13,'Gruber Tabelle'!$A$6:$W$359,3,0),0)","v":0},0,null,{"$f":"IFERROR(VLOOKUP(A13,'Gruber Tabelle'!$A$6:$W$359,5,0),0)","v":0},{"$f":"IFERROR(VLOOKUP(A13,'Gruber Tabelle'!$A$6:$W$359,7,0),0)","v":0},{"$f":"IFERROR(VLOOKUP(A13,'Gruber Tabelle'!$A$6:$W$359,8,0),0)","v":0},{"$f":"IFERROR(VLOOKUP(A13,'Gruber Tabelle'!$A$6:$W$359,9,0)/100,0)","v":0},{"$f":"IFERROR(VLOOKUP(A13,'Gruber Tabelle'!$A$6:$W$359,10,0),0)","v":0},{"$f":"IFERROR(VLOOKUP(A13,'Gruber Tabelle'!$A$6:$W$359,11,0),0)","v":0},{"$f":"IFERROR(VLOOKUP(A13,'Gruber Tabelle'!$A$6:$W$359,12,0),0)","v":0},{"$f":"IFERROR(VLOOKUP(A13,'Gruber Tabelle'!$A$6:$W$359,13,0),0)","v":0},{"$f":"IFERROR(VLOOKUP(A13,'Gruber Tabelle'!$A$6:$W$359,14,0),0)","v":0},{"$f":"IFERROR(VLOOKUP(A13,'Gruber Tabelle'!$A$6:$W$359,15,0),0)","v":0},{"$f":"IFERROR(VLOOKUP(A13,'Gruber Tabelle'!$A$6:$W$359,16,0),0)","v":0},{"$f":"IFERROR(VLOOKUP(A13,'Gruber Tabelle'!$A$6:$W$359,17,0),0)","v":0},{"$f":"IFERROR(VLOOKUP(A13,'Gruber Tabelle'!$A$6:$W$359,18,0),0)","v":0},{"$f":"IFERROR(VLOOKUP(A13,'Gruber Tabelle'!$A$6:$W$359,19,0),0)","v":0},{"$f":"IFERROR(VLOOKUP(A13,'Gruber Tabelle'!$A$6:$W$359,20,0),0)","v":0},{"$f":"IFERROR(VLOOKUP(A13,'Gruber Tabelle'!$A$6:$W$359,21,0),0)","v":0},{"$f":"IFERROR(VLOOKUP(A13,'Gruber Tabelle'!$A$6:$W$359,22,0),0)","v":0},{"$f":"IFERROR(VLOOKUP(A13,'Gruber Tabelle'!$A$6:$W$359,23,0),0)","v":0},{"$f":"IFERROR(VLOOKUP(A13,'Gruber Tabelle'!$A$6:$X$359,24,0),0)","v":0},{"$f":"IFERROR(VLOOKUP(A13,'Gruber Tabelle'!$A$6:$AE$359,25,0),0)","v":0},{"$f":"IFERROR(VLOOKUP(A13,'Gruber Tabelle'!$A$6:$AE$359,26,0),0)","v":0},{"$f":"IFERROR(VLOOKUP(A13,'Gruber Tabelle'!$A$6:$AE$359,27,0),0)","v":0},{"$f":"IFERROR(VLOOKUP(A13,'Gruber Tabelle'!$A$6:$AE$359,28,0),0)","v":0},{"$f":"IFERROR(VLOOKUP(A13,'Gruber Tabelle'!$A$6:$AE$359,29,0),0)","v":0},{"$f":"IFERROR(VLOOKUP(A13,'Gruber Tabelle'!$A$6:$AE$359,30,0),0)","v":0},{"$f":"IFERROR(VLOOKUP(A13,'Gruber Tabelle'!$A$6:$AE$359,31,0),0)","v":0}]
["Nr ","Eingabe der Futtermengen","TM %","TM kg","FM kg","TM kg","aNDFom","CP g","nxP","UDP g","RNB","NEL MJ","ME MJ","ST+ZU","bST","CL","Ca","P","Mg","Na","K","Cl","S","Preis","NDFomGF","Fe","Cu","Zn","Mn","Co","J","Se"]
[{"$f":"A4","v":0},0,null,null,null,{"$f":"IF(A15=0,0,IF(AND(D15>0,E15=0),D15,IF(AND(E15>0,D15=0),E15*C15,IF(AND(D15>=0,E15>=0),\"TM o. FM?\"))))","v":0},{"$f":"IFERROR(G4*F15,0)","v":0},{"$f":"IFERROR(H4*F15,0)","v":0},{"$f":"IFERROR(I4*F15,0)","v":0},{"$f":"IFERROR((H4*J4)*F15,0)","v":0},{"$f":"IFERROR(K4*F15,0)","v":0},{"$f":"IFERROR(L4*F15,0)","v":0},{"$f":"IFERROR(M4*G15,0)","v":0},{"$f":"IFERROR(N4*F15,0)","v":0},{"$f":"IFERROR(O4*F15,0)","v":0},{"$f":"IFERROR(P4*F15,0)","v":0},{"$f":"IFERROR(Q4*F15,0)","v":0},{"$f":"IFERROR(R4*F15,0)","v":0},{"$f":"IFERROR(S4*F15,0)","v":0},{"$f":"IFERROR(T4*F15,0)","v":0},{"$f":"IFERROR(U4*F15,0)","v":0},{"$f":"IFERROR(V4*F15,0)","v":0},{"$f":"IFERROR(W4*F15,0)","v":0},{"$f":"IF(F15>0,X4*E4/100,0)","v":0},{"$f":"IFERROR(IF(Y4=\"GF\",G4*F15,0),0)","v":0},{"$f":"IFERROR(Z4*F15,0)","v":0},{"$f":"IFERROR(AA4*F15,0)","v":0},{"$f":"IFERROR(AB4*F15,0)","v":0},{"$f":"IFERROR(AC4*F15,0)","v":0},{"$f":"IFERROR(AD4*F15,0)","v":0},{"$f":"IFERROR(AE4*F15,0)","v":0},{"$f":"IFERROR(AF4*F15,0)","v":0}]
[0,0,null,null,null,{"$f":"IF(A16=0,0,IF(AND(D16>0,E16=0),D16,IF(AND(E16>0,D16=0),E16*C16,IF(AND(D16>=0,E16>=0),\"TM o. FM?\"))))","v":0},{"$f":"IFERROR(G5*F16,0)","v":0},0,0,{"$f":"IFERROR((H5*J5)*F16,0)","v":0},0,{"$f":"IFERROR(L5*F16,0)","v":0},{"$f":"M5*D16","v":0},0,0,0,0,0,0,0,0,0,0,0,{"$f":"IFERROR(IF(Y5=\"GF\",G5*F16,0),0)","v":0},{"$f":"IFERROR(Z5*F16,0)","v":0},{"$f":"IFERROR(AA5*F16,0)","v":0},{"$f":"IFERROR(AB5*F16,0)","v":0},{"$f":"IFERROR(AC5*F16,0)","v":0},{"$f":"IFERROR(AD5*F16,0)","v":0},{"$f":"IFERROR(AE5*F16,0)","v":0},{"$f":"IFERROR(AF5*F16,0)","v":0}]
[0,0,null,null,null,0,{"$f":"IFERROR(G6*F17,0)","v":0},0,0,0,0,0,0,0,0,0,0,0,0,0,0,0,0,0,0,0,0,0,0,0,0,0]
[0,0,null,null,null,0,0,0,0,0,0,0,0,0,0,0,0,0,0,0,0,0,0,0,0,0,0,0,0,0,0,0]
[0,0,null,null,null,0,0,0,0,0,0,0,0,0,0,0,0,0,0,0,0,0,0,0,0,0,0,0,0,0,0,0]
[0,0,null,null,null,0,0,0,0,0,0,0,0,0,0,0,0,0,0,0,0,0,0,0,{"$f":"IFERROR(IF(Y9=\"GF\",G9*F20,0),0)","v":0},0,0,0,0,0,0,0]
[0,0,null,null,null,0,0,0,0,0,0,0,0,0,0,0,0,0,0,0,0,0,0,0,0,0,0,0,0,0,0,0]
[0,0,null,null,null,0,0,0,0,0,0,0,0,0,0,0,0,0,0,0,0,0,0,0,0,0,0,0,0,0,0,0]
[0,0,null,null,null,0,0,0,0,0,0,0,0,0,0,0,0,0,0,0,0,0,0,0,0,0,0,0,0,0,0,0]
[0,0,null,null,null,0,0,0,0,0,0,0,0,0,0,0,0,0,0,0,0,0,0,0,0,0,0,0,0,0,0,0]
["Summen FM, TM und Gehaltswerte:",null,null,null,{"$f":"SUM(E4:E13)","v":0},{"$f":"SUM(F15:F24)","v":0},{"$f":"SUM(G15:G24)","v":0},{"$f":"SUM(H15:H24)","v":0},0,0,{"$f":"SUM(H25-I25)/6.25","v":0},0,0,0,0,0,0,0,0,0,0,0,0,0,0,{"$f":"SUM(Z15:Z24)","v":0},{"$f":"SUM(AA15:AA24)","v":0},0,0,0,0,0]
["Basisration + Kraftfutter + Wasser"]
["Zugabe von KF-Mischung 1 in kg:",null,null,null,null,{"$f":"IF(E27,SUM('Mischung 1'!E25*Ration!E27),0)","v":0},{"$f":"IF($E$27>0,'Mischung 1'!H25*Ration!$E$27,0)","v":0},{"$f":"IF($E$27>0,'Mischung 1'!I25*Ration!$E$27,0)","v":0},{"$f":"IF($E$27>0,'Mischung 1'!J25*Ration!$E$27,0)","v":0},{"$f":"IF($E$27>0,'Mischung 1'!K25*Ration!$E$27,0)","v":0},{"$f":"IF($E$27>0,'Mischung 1'!L25*Ration!$E$27,0)","v":0},{"$f":"IF($E$27>0,'Mischung 1'!M25*Ration!$E$27,0)","v":0},{"$f":"IF($E$27>0,'Mischung 1'!N25*Ration!$E$27,0)","v":0},{"$f":"IF($E$27>0,'Mischung 1'!O25*Ration!$E$27,0)","v":0},{"$f":"IF($E$27>0,'Mischung 1'!P25*Ration!$E$27,0)","v":0},{"$f":"IF($E$27>0,'Mischung 1'!Q25*Ration!$E$27,0)","v":0},{"$f":"IF($E$27>0,'Mischung 1'!R25*Ration!$E$27,0)","v":0},{"$f":"IF($E$27>0,'Mischung 1'!S25*Ration!$E$27,0)","v":0},{"$f":"IF($E$27>0,'Mischung 1'!T25*Ration!$E$27,0)","v":0},{"$f":"IF($E$27>0,'Mischung 1'!U25*Ration!$E$27,0)","v":0},{"$f":"IF($E$27>0,'Mischung 1'!V25*Ration!$E$27,0)","v":0},{"$f":"IF($E$27>0,'Mischung 1'!W25*Ration!$E$27,0)","v":0},{"$f":"IF($E$27>0,'Mischung 1'!X25*Ration!$E$27,0)","v":0},{"$f":"IF($E$27>0,'Mischung 1'!Y25*Ration!$E$27,0)","v":0},null,{"$f":"IF($E$27>0,'Mischung 1'!Z25*Ration!$E$27,0)","v":0},{"$f":"IF($E$27>0,'Mischung 1'!AA25*Ration!$E$27,0)","v":0},{"$f":"IF($E$27>0,'Mischung 1'!AB25*Ration!$E$27,0)","v":0},{"$f":"IF($E$27>0,'Mischung 1'!AC25*Ration!$E$27,0)","v":0},{"$f":"IF($E$27>0,'Mischung 1'!AD25*Ration!$E$27,0)","v":0},{"$f":"IF($E$27>0,'Mischung 1'!AE25*Ration!$E$27,0)","v":0},{"$f":"IF($E$27>0,'Mischung 1'!AF25*Ration!$E$27,0)","v":0}]
["Zugabe von KF-Mischung 2 in kg:",null,null,null,null,{"$f":"IF(E28,SUM('Mischung 2'!E25*Ration!E28),0)","v":0},{"$f":"IF($E$28>0,'Mischung 2'!H25*Ration!$E$28,0)","v":0},{"$f":"IF($E$28>0,'Mischung 2'!I25*Ration!$E$28,0)","v":0},{"$f":"IF($E$28>0,'Mischung 2'!J25*Ration!$E$28,0)","v":0},{"$f":"IF($E$28>0,'Mischung 2'!K25*Ration!$E$28,0)","v":0},{"$f":"IF($E$28>0,'Mischung 2'!L25*Ration!$E$28,0)","v":0},{"$f":"IF($E$28>0,'Mischung 2'!M25*Ration!$E$28,0)","v":0},{"$f":"IF($E$28>0,'Mischung 2'!N25*Ration!$E$28,0)","v":0},{"$f":"IF($E$28>0,'Mischung 2'!O25*Ration!$E$28,0)","v":0},{"$f":"IF($E$28>0,'Mischung 2'!P25*Ration!$E$28,0)","v":0},{"$f":"IF($E$28>0,'Mischung 2'!Q25*Ration!$E$28,0)","v":0},{"$f":"IF($E$28>0,'Mischung 2'!R25*Ration!$E$28,0)","v":0},{"$f":"IF($E$28>0,'Mischung 2'!S25*Ration!$E$28,0)","v":0},{"$f":"IF($E$28>0,'Mischung 2'!T25*Ration!$E$28,0)","v":0},{"$f":"IF($E$28>0,'Mischung 2'!U25*Ration!$E$28,0)","v":0},{"$f":"IF($E$28>0,'Mischung 2'!V25*Ration!$E$28,0)","v":0},{"$f":"IF($E$28>0,'Mischung 2'!W25*Ration!$E$28,0)","v":0},{"$f":"IF($E$28>0,'Mischung 2'!X25*Ration!$E$28,0)","v":0},{"$f":"IF($E$28>0,'Mischung 2'!Y25*Ration!$E$28,0)","v":0},null,{"$f":"IF($E$28>0,'Mischung 2'!Z25*Ration!$E$28,0)","v":0},{"$f":"IF($E$28>0,'Mischung 2'!AA25*Ration!$E$28,0)","v":0},{"$f":"IF($E$28>0,'Mischung 2'!AB25*Ration!$E$28,0)","v":0},{"$f":"IF($E$28>0,'Mischung 2'!AC25*Ration!$E$28,0)","v":0},{"$f":"IF($E$28>0,'Mischung 2'!AD25*Ration!$E$28,0)","v":0},{"$f":"IF($E$28>0,'Mischung 2'!AE25*Ration!$E$28,0)","v":0},{"$f":"IF($E$28>0,'Mischung 2'!AF25*Ration!$E$28,0)","v":0}]
["    Zugabe von Wasser (Liter o. kg):"]
["Summe Gesamt-Ration  Inhaltsw.:",null,null,null,{"$f":"SUM(E25+E27+E28+E29)","v":0},{"$f":"SUM(F25+F27+F28)","v":0},{"$f":"SUM(G25+G27+G28)","v":0},{"$f":"SUM(H25+H27+H28)","v":0},{"$f":"SUM(I25+I27+I28)","v":0},{"$f":"SUM(J25+J27+J28)","v":0},null,{"$f":"SUM(L25+L27+L28)","v":0},0,0,0,0,0,0,0,0,0,0,0,0,null,{"$f":"SUM(Z25+Z27+Z28)","v":0},{"$f":"SUM(AA25+AA27+AA28)","v":0},0,0,0,0,0]
["Gehaltswerte in g  je  kg TM oder Anteile in  %  ",null,null,null,null,{"$f":"IF(F30,F30/E30,0)","v":0},{"$f":"IF(Y25>0,Y25/F30/1000,0)","v":0},{"$f":"IF(H30>0,SUM(H30/F30)/1000,0)","v":0},{"$f":"IF(I30>0,SUM(I30/F30/1000),0)","v":0},{"$f":"IF(J30>0,SUM(J30/H30),0)","v":0},{"$f":"IF(H30>0,(H30-I30)/6.25,0)","v":0},{"$f":"IF(L30>0,L30/F30,0)","v":0},{"$f":"IF(M30>0,M30/D30,0)","v":0},{"$f":"IF(N30>0,N30/F30/1000,0)","v":0},{"$f":"IF(O30>0,O30/F30/1000,0)","v":0},{"$f":"IF(P30>0,P30/F30/1000,0)","v":0},{"$f":"IF(Q30,Q30/F30,0)","v":0},{"$f":"IF(R30,R30/F30,0)","v":0},{"$f":"IF(S30,S30/F30,0)","v":0},{"$f":"IF(T30,T30/F30,0)","v":0},{"$f":"IF(U30,U30/F30,0)","v":0},{"$f":"IF(V30,V30/F30,0)","v":0},{"$f":"IF(W30,W30/F30,0)","v":0},null,null,{"$f":"IF(Z30,Z30/F30,0)","v":0},{"$f":"IF(AA30,AA30/F30,0)","v":0},{"$f":"IF(AB30,AB30/F30,0)","v":0},{"$f":"IF(AC30,AC30/F30,0)","v":0},{"$f":"IF(AD30,AD30/F30,0)","v":0},{"$f":"IF(AE30,AE30/F30,0)","v":0},{"$f":"IF(AF30,AF30/F30,0)","v":0}]
["Kennzahlen Gesamtration",null,null,null,null,"SI :",{"$f":"IF(K32>100,100,K32)","v":0},null,null,null,{"$f":"IF(Y25>0,Y25/(Y25+(P32-2.8)/0.36)*100,0)","v":0}," pab KHkg :",null,null,null,{"$f":"IF(N30,(N30-O30),0)","v":0},{"$f":"IF(F30>0,SUM(P32/1000)/F30,0)","v":0},null,null,"DCAB (mEq/kg) :",null,{"$f":"IF(F30>0,((43.5*T30)+(25.6*U30)-(28.2*V30)-(62.4*W30))/F30,0)","v":0}]
[]
["Milcherzeugungswert (MEW) in kg:",null,null,null,null,null,null,{"$f":"IF(Einstellung!D16,SUM(H30-Einstellung!E13)/Einstellung!E16,\"TS\")","v":-5.4022988505747129},{"$f":"IF(Einstellung!D16,SUM(I30-Einstellung!E13)/Einstellung!E16,\"TS\")","v":-5.4022988505747129},null,null,{"$f":"IF(Einstellung!D15,SUM(L30-Einstellung!F13)/Einstellung!F15,\"TS\")","v":-12.09090909090909},null,null,null,null,{"$f":"IF(Einstellung!F15,(Q30-(Einstellung!D22*F30))/Einstellung!D23,\"TS\")","v":0},{"$f":"IF(Einstellung!F15,(R30-(Einstellung!E22*F30))/Einstellung!E23,\"TS\")","v":0},null,{"$f":"IF(Einstellung!F15,(T30-(Einstellung!G22*F30))/Einstellung!G23,\"TS\")","v":0},null,null,null,{"$f":"IF(Einstellung!F15,X30/L34,0)","v":0}]
[]
["Ziel-",{"$f":"A2","v":"Bitte Gruppe auswählen!"},null,null,null,"TM","aNDFom","CP","nxP",null,"RNB","NEL MJ",null,"ST+ZU","bST","CL","Ca","P","Mg","Na","K",null,null,"DCAB",null,"Fe","Cu","Zn","Mn","Co","J","Se"]
["Werte:",null,null,null,null,"kg","%/TM ","%/kgTM","%/kgTM",null,"g","MJ/kg TM",null,"%/kgTM","%/kgTM","%/kgTM","g/kg TM","g/kg TM","g/kg TM","g/kg TM","g/kg TM",null,null,"mEq/kg TM",null,"mg/kg TM","mg/kg TM","mg/kg TM","mg/kg TM","mg/kg TM","mg/kg TM","mg/kg TM"]
["Die Werte stehen in der Tabelle 'Zielwerte'.  Damit können die Ergebnisse der Berechnung bewertet werden. Abweichungen von mehr als +/- 4% sind farblich gekennzeichnet.",null,null,null,"min",{"$f":"IFERROR(VLOOKUP($A$2,Zielwerte!$A$6:$AJ$15,3,0),0)","v":0},{"$f":"IFERROR(VLOOKUP($A$2,Zielwerte!$A$6:$AJ$15,7,0),0)/100","v":0},{"$f":"IFERROR(VLOOKUP($A$2,Zielwerte!$A$6:$AJ$15,11,0),0)/100","v":0},{"$f":"IFERROR(VLOOKUP($A$2,Zielwerte!$A$6:$AJ$15,13,0),0)/100","v":0},null,{"$f":"IFERROR(VLOOKUP($A$2,Zielwerte!$A$6:$AJ$15,15,0),0)","v":0},{"$f":"IFERROR(VLOOKUP($A$2,Zielwerte!$A$6:$AJ$15,17,0),0)","v":0},null,{"$f":"IFERROR(VLOOKUP($A$2,Zielwerte!$A$6:$AJ$15,19,0),0)/100","v":0},{"$f":"IFERROR(VLOOKUP($A$2,Zielwerte!$A$6:$AJ$15,21,0),0)/100","v":0},{"$f":"IFERROR(VLOOKUP($A$2,Zielwerte!$A$6:$AJ$15,23,0),0)/100","v":0},{"$f":"IFERROR(VLOOKUP($A$2,Zielwerte!$A$6:$AJ$15,25,0),0)","v":0},{"$f":"IFERROR(VLOOKUP($A$2,Zielwerte!$A$6:$AJ$15,27,0),0)","v":0},{"$f":"IFERROR(VLOOKUP($A$2,Zielwerte!$A$6:$AJ$15,29,0),0)","v":0},{"$f":"IFERROR(VLOOKUP($A$2,Zielwerte!$A$6:$AJ$15,31,0),0)","v":0},{"$f":"IFERROR(VLOOKUP($A$2,Zielwerte!$A$6:$AJ$15,33,0),0)","v":0},null,null,{"$f":"IFERROR(VLOOKUP($A$2,Zielwerte!$A$6:$AJ$15,35,0),0)","v":0},null,{"$f":"IFERROR(VLOOKUP($A$2,Zielwerte!$A$6:$AX$15,37,0),0)","v":0},{"$f":"IFERROR(VLOOKUP($A$2,Zielwerte!$A$6:$AX$15,39,0),0)","v":0},{"$f":"IFERROR(VLOOKUP($A$2,Zielwerte!$A$6:$AX$15,41,0),0)","v":0},{"$f":"IFERROR(VLOOKUP($A$2,Zielwerte!$A$6:$AX$15,43,0),0)","v":0},{"$f":"IFERROR(VLOOKUP($A$2,Zielwerte!$A$6:$AX$15,45,0),0)","v":0},{"$f":"IFERROR(VLOOKUP($A$2,Zielwerte!$A$6:$AX$15,47,0),0)","v":0},{"$f":"IFERROR(VLOOKUP($A$2,Zielwerte!$A$6:$AX$15,49,0),0)","v":0}]
[null,null,null,null,"max",{"$f":"IFERROR(VLOOKUP($A$2,Zielwerte!$A$6:$AJ$15,4,0),0)","v":0},{"$f":"IFERROR(VLOOKUP($A$2,Zielwerte!$A$6:$AJ$15,8,0),0)/100","v":0},{"$f":"IFERROR(VLOOKUP($A$2,Zielwerte!$A$6:$AJ$15,12,0),0)/100","v":0},{"$f":"IFERROR(VLOOKUP($A$2,Zielwerte!$A$6:$AJ$15,14,0),0)/100","v":0},null,{"$f":"IFERROR(VLOOKUP($A$2,Zielwerte!$A$6:$AJ$15,16,0),0)","v":0},{"$f":"IFERROR(VLOOKUP($A$2,Zielwerte!$A$6:$AJ$15,18,0),0)","v":0},null,{"$f":"IFERROR(VLOOKUP($A$2,Zielwerte!$A$6:$AJ$15,20,0),0)/100","v":0},{"$f":"IFERROR(VLOOKUP($A$2,Zielwerte!$A$6:$AJ$15,22,0),0)/100","v":0},{"$f":"IFERROR(VLOOKUP($A$2,Zielwerte!$A$6:$AJ$15,24,0),0)/100","v":0},{"$f":"IFERROR(VLOOKUP($A$2,Zielwerte!$A$6:$AJ$15,26,0),0)","v":0},{"$f":"IFERROR(VLOOKUP($A$2,Zielwerte!$A$6:$AJ$15,28,0),0)","v":0},{"$f":"IFERROR(VLOOKUP($A$2,Zielwerte!$A$6:$AJ$15,30,0),0)","v":0},{"$f":"IFERROR(VLOOKUP($A$2,Zielwerte!$A$6:$AJ$15,32,0),0)","v":0},{"$f":"IFERROR(VLOOKUP($A$2,Zielwerte!$A$6:$AJ$15,34,0),0)","v":0},null,null,{"$f":"IFERROR(VLOOKUP($A$2,Zielwerte!$A$6:$AJ$15,36,0),0)","v":0},null,{"$f":"IFERROR(VLOOKUP($A$2,Zielwerte!$A$6:$AX$15,38,0),0)","v":0},{"$f":"IFERROR(VLOOKUP($A$2,Zielwerte!$A$6:$AX$15,40,0),0)","v":0},{"$f":"IFERROR(VLOOKUP($A$2,Zielwerte!$A$6:$AX$15,42,0),0)","v":0},{"$f":"IFERROR(VLOOKUP($A$2,Zielwerte!$A$6:$AX$15,44,0),0)","v":0},{"$f":"IFERROR(VLOOKUP($A$2,Zielwerte!$A$6:$AX$15,46,0),0)","v":0},{"$f":"IFERROR(VLOOKUP($A$2,Zielwerte!$A$6:$AX$15,48,0),0)","v":0},{"$f":"IFERROR(VLOOKUP($A$2,Zielwerte!$A$6:$AX$15,50,0),0)","v":0}]

{"sheet":"Mischung 1","index":2,"n_rows":26,"n_cols":32,"rows_kept":26,"cut":false,"hidden":false,"merged":[[0,25,0,31],[1,25,1,31],[0,0,0,24],[25,0,25,5],[25,13,25,16],[1,0,1,5],[1,6,1,24],[3,2,12,5],[2,2,2,5]]}
[]
["KF – Berechnung 1",null,null,null,null,null,"Nähr- und Mineralstoffgehalte je kg TM",null,null,null,null,null,null,null,null,null,null,null,null,null,null,null,null,null,null,"Spurenelemente mg / kg TM"]
["Nr ","Futterart",null,null,null,null,"XF g","aNDFom","CP g","nxP g","UDP %","RNB","NEL MJ","ME MJ","ST+ZU","bST","CL","Ca","P","Mg","Na","K","Cl","S","Preis / dt","Fe","Cu","Zn","Mn","Co","J","Se"]
[null,{"$f":"IFERROR(VLOOKUP(A4,'Gruber Tabelle'!$A$6:$W$359,2,0),0)","v":0},null,null,null,null,{"$f":"IFERROR(VLOOKUP(A4,'Gruber Tabelle'!$A$6:$W$359,4,0),0)","v":0},{"$f":"IFERROR(VLOOKUP(A4,'Gruber Tabelle'!$A$6:$W$359,5,0),0)","v":0},{"$f":"IFERROR(VLOOKUP(A4,'Gruber Tabelle'!$A$6:$W$359,7,0),0)","v":0},{"$f":"IFERROR(VLOOKUP(A4,'Gruber Tabelle'!$A$6:$W$359,8,0),0)","v":0},{"$f":"IFERROR(VLOOKUP(A4,'Gruber Tabelle'!$A$6:$W$359,9,0)/100,0)","v":0},{"$f":"IFERROR(VLOOKUP(A4,'Gruber Tabelle'!$A$6:$W$359,10,0),0)","v":0},{"$f":"IFERROR(VLOOKUP(A4,'Gruber Tabelle'!$A$6:$W$359,11,0),0)","v":0},{"$f":"IFERROR(VLOOKUP(A4,'Gruber Tabelle'!$A$6:$W$359,12,0),0)","v":0},{"$f":"IFERROR(VLOOKUP(A4,'Gruber Tabelle'!$A$6:$W$359,13,0),0)","v":0},{"$f":"IFERROR(VLOOKUP(A4,'Gruber Tabelle'!$A$6:$W$359,14,0),0)","v":0},{"$f":"IFERROR(VLOOKUP(A4,'Gruber Tabelle'!$A$6:$W$359,15,0),0)","v":0},{"$f":"IFERROR(VLOOKUP(A4,'Gruber Tabelle'!$A$6:$W$359,16,0),0)","v":0},{"$f":"IFERROR(VLOOKUP(A4,'Gruber Tabelle'!$A$6:$W$359,17,0),0)","v":0},{"$f":"IFERROR(VLOOKUP(A4,'Gruber Tabelle'!$A$6:$W$359,18,0),0)","v":0},{"$f":"IFERROR(VLOOKUP(A4,'Gruber Tabelle'!$A$6:$W$359,19,0),0)","v":0},{"$f":"IFERROR(VLOOKUP(A4,'Gruber Tabelle'!$A$6:$W$359,20,0),0)","v":0},{"$f":"IFERROR(VLOOKUP(A4,'Gruber Tabelle'!$A$6:$W$359,21,0),0)","v":0},{"$f":"IFERROR(VLOOKUP(A4,'Gruber Tabelle'!$A$6:$W$359,22,0),0)","v":0},{"$f":"IFERROR(VLOOKUP(A4,'Gruber Tabelle'!$A$6:$W$359,23,0),0)","v":0},{"$f":"IFERROR(VLOOKUP(A4,'Gruber Tabelle'!$A$6:$AE$359,25,0),0)","v":0},{"$f":"IFERROR(VLOOKUP(A4,'Gruber Tabelle'!$A$6:$AE$359,26,0),0)","v":0},{"$f":"IFERROR(VLOOKUP(A4,'Gruber Tabelle'!$A$6:$AE$359,27,0),0)","v":0},{"$f":"IFERROR(VLOOKUP(A4,'Gruber Tabelle'!$A$6:$AE$359,28,0),0)","v":0},{"$f":"IFERROR(VLOOKUP(A4,'Gruber Tabelle'!$A$6:$AE$359,29,0),0)","v":0},{"$f":"IFERROR(VLOOKUP(A4,'Gruber Tabelle'!$A$6:$AE$359,30,0),0)","v":0},{"$f":"IFERROR(VLOOKUP(A4,'Gruber Tabelle'!$A$6:$AE$359,31,0),0)","v":0}]
[null,{"$f":"IFERROR(VLOOKUP(A5,'Gruber Tabelle'!$A$6:$W$359,2,0),0)","v":0},null,null,null,null,{"$f":"IFERROR(VLOOKUP(A5,'Gruber Tabelle'!$A$6:$W$359,4,0),0)","v":0},{"$f":"IFERROR(VLOOKUP(A5,'Gruber Tabelle'!$A$6:$W$359,5,0),0)","v":0},{"$f":"IFERROR(VLOOKUP(A5,'Gruber Tabelle'!$A$6:$W$359,7,0),0)","v":0},{"$f":"IFERROR(VLOOKUP(A5,'Gruber Tabelle'!$A$6:$W$359,8,0),0)","v":0},{"$f":"IFERROR(VLOOKUP(A5,'Gruber Tabelle'!$A$6:$W$359,9,0)/100,0)","v":0},{"$f":"IFERROR(VLOOKUP(A5,'Gruber Tabelle'!$A$6:$W$359,10,0),0)","v":0},{"$f":"IFERROR(VLOOKUP(A5,'Gruber Tabelle'!$A$6:$W$359,11,0),0)","v":0},{"$f":"IFERROR(VLOOKUP(A5,'Gruber Tabelle'!$A$6:$W$359,12,0),0)","v":0},{"$f":"IFERROR(VLOOKUP(A5,'Gruber Tabelle'!$A$6:$W$359,13,0),0)","v":0},{"$f":"IFERROR(VLOOKUP(A5,'Gruber Tabelle'!$A$6:$W$359,14,0),0)","v":0},{"$f":"IFERROR(VLOOKUP(A5,'Gruber Tabelle'!$A$6:$W$359,15,0),0)","v":0},{"$f":"IFERROR(VLOOKUP(A5,'Gruber Tabelle'!$A$6:$W$359,16,0),0)","v":0},{"$f":"IFERROR(VLOOKUP(A5,'Gruber Tabelle'!$A$6:$W$359,17,0),0)","v":0},{"$f":"IFERROR(VLOOKUP(A5,'Gruber Tabelle'!$A$6:$W$359,18,0),0)","v":0},{"$f":"IFERROR(VLOOKUP(A5,'Gruber Tabelle'!$A$6:$W$359,19,0),0)","v":0},{"$f":"IFERROR(VLOOKUP(A5,'Gruber Tabelle'!$A$6:$W$359,20,0),0)","v":0},{"$f":"IFERROR(VLOOKUP(A5,'Gruber Tabelle'!$A$6:$W$359,21,0),0)","v":0},{"$f":"IFERROR(VLOOKUP(A5,'Gruber Tabelle'!$A$6:$W$359,22,0),0)","v":0},{"$f":"IFERROR(VLOOKUP(A5,'Gruber Tabelle'!$A$6:$W$359,23,0),0)","v":0},{"$f":"IFERROR(VLOOKUP(A5,'Gruber Tabelle'!$A$6:$AE$359,25,0),0)","v":0},{"$f":"IFERROR(VLOOKUP(A5,'Gruber Tabelle'!$A$6:$AE$359,26,0),0)","v":0},{"$f":"IFERROR(VLOOKUP(A5,'Gruber Tabelle'!$A$6:$AE$359,27,0),0)","v":0},{"$f":"IFERROR(VLOOKUP(A5,'Gruber Tabelle'!$A$6:$AE$359,28,0),0)","v":0},{"$f":"IFERROR(VLOOKUP(A5,'Gruber Tabelle'!$A$6:$AE$359,29,0),0)","v":0},{"$f":"IFERROR(VLOOKUP(A5,'Gruber Tabelle'!$A$6:$AE$359,30,0),0)","v":0},{"$f":"IFERROR(VLOOKUP(A5,'Gruber Tabelle'!$A$6:$AE$359,31,0),0)","v":0}]
[null,{"$f":"IFERROR(VLOOKUP(A6,'Gruber Tabelle'!$A$6:$W$359,2,0),0)","v":0},null,null,null,null,{"$f":"IFERROR(VLOOKUP(A6,'Gruber Tabelle'!$A$6:$W$359,4,0),0)","v":0},{"$f":"IFERROR(VLOOKUP(A6,'Gruber Tabelle'!$A$6:$W$359,5,0),0)","v":0},{"$f":"IFERROR(VLOOKUP(A6,'Gruber Tabelle'!$A$6:$W$359,7,0),0)","v":0},{"$f":"IFERROR(VLOOKUP(A6,'Gruber Tabelle'!$A$6:$W$359,8,0),0)","v":0},{"$f":"IFERROR(VLOOKUP(A6,'Gruber Tabelle'!$A$6:$W$359,9,0)/100,0)","v":0},{"$f":"IFERROR(VLOOKUP(A6,'Gruber Tabelle'!$A$6:$W$359,10,0),0)","v":0},{"$f":"IFERROR(VLOOKUP(A6,'Gruber Tabelle'!$A$6:$W$359,11,0),0)","v":0},{"$f":"IFERROR(VLOOKUP(A6,'Gruber Tabelle'!$A$6:$W$359,12,0),0)","v":0},{"$f":"IFERROR(VLOOKUP(A6,'Gruber Tabelle'!$A$6:$W$359,13,0),0)","v":0},{"$f":"IFERROR(VLOOKUP(A6,'Gruber Tabelle'!$A$6:$W$359,14,0),0)","v":0},{"$f":"IFERROR(VLOOKUP(A6,'Gruber Tabelle'!$A$6:$W$359,15,0),0)","v":0},{"$f":"IFERROR(VLOOKUP(A6,'Gruber Tabelle'!$A$6:$W$359,16,0),0)","v":0},{"$f":"IFERROR(VLOOKUP(A6,'Gruber Tabelle'!$A$6:$W$359,17,0),0)","v":0},{"$f":"IFERROR(VLOOKUP(A6,'Gruber Tabelle'!$A$6:$W$359,18,0),0)","v":0},{"$f":"IFERROR(VLOOKUP(A6,'Gruber Tabelle'!$A$6:$W$359,19,0),0)","v":0},{"$f":"IFERROR(VLOOKUP(A6,'Gruber Tabelle'!$A$6:$W$359,20,0),0)","v":0},{"$f":"IFERROR(VLOOKUP(A6,'Gruber Tabelle'!$A$6:$W$359,21,0),0)","v":0},{"$f":"IFERROR(VLOOKUP(A6,'Gruber Tabelle'!$A$6:$W$359,22,0),0)","v":0},{"$f":"IFERROR(VLOOKUP(A6,'Gruber Tabelle'!$A$6:$W$359,23,0),0)","v":0},{"$f":"IFERROR(VLOOKUP(A6,'Gruber Tabelle'!$A$6:$AE$359,25,0),0)","v":0},{"$f":"IFERROR(VLOOKUP(A6,'Gruber Tabelle'!$A$6:$AE$359,26,0),0)","v":0},{"$f":"IFERROR(VLOOKUP(A6,'Gruber Tabelle'!$A$6:$AE$359,27,0),0)","v":0},{"$f":"IFERROR(VLOOKUP(A6,'Gruber Tabelle'!$A$6:$AE$359,28,0),0)","v":0},{"$f":"IFERROR(VLOOKUP(A6,'Gruber Tabelle'!$A$6:$AE$359,29,0),0)","v":0},{"$f":"IFERROR(VLOOKUP(A6,'Gruber Tabelle'!$A$6:$AE$359,30,0),0)","v":0},{"$f":"IFERROR(VLOOKUP(A6,'Gruber Tabelle'!$A$6:$AE$359,31,0),0)","v":0}]
[null,{"$f":"IFERROR(VLOOKUP(A7,'Gruber Tabelle'!$A$6:$W$359,2,0),0)","v":0},null,null,null,null,{"$f":"IFERROR(VLOOKUP(A7,'Gruber Tabelle'!$A$6:$W$359,4,0),0)","v":0},{"$f":"IFERROR(VLOOKUP(A7,'Gruber Tabelle'!$A$6:$W$359,5,0),0)","v":0},{"$f":"IFERROR(VLOOKUP(A7,'Gruber Tabelle'!$A$6:$W$359,7,0),0)","v":0},{"$f":"IFERROR(VLOOKUP(A7,'Gruber Tabelle'!$A$6:$W$359,8,0),0)","v":0},{"$f":"IFERROR(VLOOKUP(A7,'Gruber Tabelle'!$A$6:$W$359,9,0)/100,0)","v":0},{"$f":"IFERROR(VLOOKUP(A7,'Gruber Tabelle'!$A$6:$W$359,10,0),0)","v":0},{"$f":"IFERROR(VLOOKUP(A7,'Gruber Tabelle'!$A$6:$W$359,11,0),0)","v":0},{"$f":"IFERROR(VLOOKUP(A7,'Gruber Tabelle'!$A$6:$W$359,12,0),0)","v":0},{"$f":"IFERROR(VLOOKUP(A7,'Gruber Tabelle'!$A$6:$W$359,13,0),0)","v":0},{"$f":"IFERROR(VLOOKUP(A7,'Gruber Tabelle'!$A$6:$W$359,14,0),0)","v":0},{"$f":"IFERROR(VLOOKUP(A7,'Gruber Tabelle'!$A$6:$W$359,15,0),0)","v":0},{"$f":"IFERROR(VLOOKUP(A7,'Gruber Tabelle'!$A$6:$W$359,16,0),0)","v":0},{"$f":"IFERROR(VLOOKUP(A7,'Gruber Tabelle'!$A$6:$W$359,17,0),0)","v":0},{"$f":"IFERROR(VLOOKUP(A7,'Gruber Tabelle'!$A$6:$W$359,18,0),0)","v":0},{"$f":"IFERROR(VLOOKUP(A7,'Gruber Tabelle'!$A$6:$W$359,19,0),0)","v":0},{"$f":"IFERROR(VLOOKUP(A7,'Gruber Tabelle'!$A$6:$W$359,20,0),0)","v":0},{"$f":"IFERROR(VLOOKUP(A7,'Gruber Tabelle'!$A$6:$W$359,21,0),0)","v":0},{"$f":"IFERROR(VLOOKUP(A7,'Gruber Tabelle'!$A$6:$W$359,22,0),0)","v":0},{"$f":"IFERROR(VLOOKUP(A7,'Gruber Tabelle'!$A$6:$W$359,23,0),0)","v":0},{"$f":"IFERROR(VLOOKUP(A7,'Gruber Tabelle'!$A$6:$AE$359,25,0),0)","v":0},{"$f":"IFERROR(VLOOKUP(A7,'Gruber Tabelle'!$A$6:$AE$359,26,0),0)","v":0},{"$f":"IFERROR(VLOOKUP(A7,'Gruber Tabelle'!$A$6:$AE$359,27,0),0)","v":0},{"$f":"IFERROR(VLOOKUP(A7,'Gruber Tabelle'!$A$6:$AE$359,28,0),0)","v":0},{"$f":"IFERROR(VLOOKUP(A7,'Gruber Tabelle'!$A$6:$AE$359,29,0),0)","v":0},{"$f":"IFERROR(VLOOKUP(A7,'Gruber Tabelle'!$A$6:$AE$359,30,0),0)","v":0},{"$f":"IFERROR(VLOOKUP(A7,'Gruber Tabelle'!$A$6:$AE$359,31,0),0)","v":0}]
[null,{"$f":"IFERROR(VLOOKUP(A8,'Gruber Tabelle'!$A$6:$W$359,2,0),0)","v":0},null,null,null,null,{"$f":"IFERROR(VLOOKUP(A8,'Gruber Tabelle'!$A$6:$W$359,4,0),0)","v":0},{"$f":"IFERROR(VLOOKUP(A8,'Gruber Tabelle'!$A$6:$W$359,5,0),0)","v":0},{"$f":"IFERROR(VLOOKUP(A8,'Gruber Tabelle'!$A$6:$W$359,7,0),0)","v":0},{"$f":"IFERROR(VLOOKUP(A8,'Gruber Tabelle'!$A$6:$W$359,8,0),0)","v":0},{"$f":"IFERROR(VLOOKUP(A8,'Gruber Tabelle'!$A$6:$W$359,9,0)/100,0)","v":0},{"$f":"IFERROR(VLOOKUP(A8,'Gruber Tabelle'!$A$6:$W$359,10,0),0)","v":0},{"$f":"IFERROR(VLOOKUP(A8,'Gruber Tabelle'!$A$6:$W$359,11,0),0)","v":0},{"$f":"IFERROR(VLOOKUP(A8,'Gruber Tabelle'!$A$6:$W$359,12,0),0)","v":0},{"$f":"IFERROR(VLOOKUP(A8,'Gruber Tabelle'!$A$6:$W$359,13,0),0)","v":0},{"$f":"IFERROR(VLOOKUP(A8,'Gruber Tabelle'!$A$6:$W$359,14,0),0)","v":0},{"$f":"IFERROR(VLOOKUP(A8,'Gruber Tabelle'!$A$6:$W$359,15,0),0)","v":0},{"$f":"IFERROR(VLOOKUP(A8,'Gruber Tabelle'!$A$6:$W$359,16,0),0)","v":0},{"$f":"IFERROR(VLOOKUP(A8,'Gruber Tabelle'!$A$6:$W$359,17,0),0)","v":0},{"$f":"IFERROR(VLOOKUP(A8,'Gruber Tabelle'!$A$6:$W$359,18,0),0)","v":0},{"$f":"IFERROR(VLOOKUP(A8,'Gruber Tabelle'!$A$6:$W$359,19,0),0)","v":0},{"$f":"IFERROR(VLOOKUP(A8,'Gruber Tabelle'!$A$6:$W$359,20,0),0)","v":0},{"$f":"IFERROR(VLOOKUP(A8,'Gruber Tabelle'!$A$6:$W$359,21,0),0)","v":0},{"$f":"IFERROR(VLOOKUP(A8,'Gruber Tabelle'!$A$6:$W$359,22,0),0)","v":0},{"$f":"IFERROR(VLOOKUP(A8,'Gruber Tabelle'!$A$6:$W$359,23,0),0)","v":0},{"$f":"IFERROR(VLOOKUP(A8,'Gruber Tabelle'!$A$6:$AE$359,25,0),0)","v":0},{"$f":"IFERROR(VLOOKUP(A8,'Gruber Tabelle'!$A$6:$AE$359,26,0),0)","v":0},{"$f":"IFERROR(VLOOKUP(A8,'Gruber Tabelle'!$A$6:$AE$359,27,0),0)","v":0},{"$f":"IFERROR(VLOOKUP(A8,'Gruber Tabelle'!$A$6:$AE$359,28,0),0)","v":0},{"$f":"IFERROR(VLOOKUP(A8,'Gruber Tabelle'!$A$6:$AE$359,29,0),0)","v":0},{"$f":"IFERROR(VLOOKUP(A8,'Gruber Tabelle'!$A$6:$AE$359,30,0),0)","v":0},{"$f":"IFERROR(VLOOKUP(A8,'Gruber Tabelle'!$A$6:$AE$359,31,0),0)","v":0}]
[null,{"$f":"IFERROR(VLOOKUP(A9,'Gruber Tabelle'!$A$6:$W$359,2,0),0)","v":0},null,null,null,null,{"$f":"IFERROR(VLOOKUP(A9,'Gruber Tabelle'!$A$6:$W$359,4,0),0)","v":0},{"$f":"IFERROR(VLOOKUP(A9,'Gruber Tabelle'!$A$6:$W$359,5,0),0)","v":0},{"$f":"IFERROR(VLOOKUP(A9,'Gruber Tabelle'!$A$6:$W$359,7,0),0)","v":0},{"$f":"IFERROR(VLOOKUP(A9,'Gruber Tabelle'!$A$6:$W$359,8,0),0)","v":0},{"$f":"IFERROR(VLOOKUP(A9,'Gruber Tabelle'!$A$6:$W$359,9,0)/100,0)","v":0},{"$f":"IFERROR(VLOOKUP(A9,'Gruber Tabelle'!$A$6:$W$359,10,0),0)","v":0},{"$f":"IFERROR(VLOOKUP(A9,'Gruber Tabelle'!$A$6:$W$359,11,0),0)","v":0},{"$f":"IFERROR(VLOOKUP(A9,'Gruber Tabelle'!$A$6:$W$359,12,0),0)","v":0},{"$f":"IFERROR(VLOOKUP(A9,'Gruber Tabelle'!$A$6:$W$359,13,0),0)","v":0},{"$f":"IFERROR(VLOOKUP(A9,'Gruber Tabelle'!$A$6:$W$359,14,0),0)","v":0},{"$f":"IFERROR(VLOOKUP(A9,'Gruber Tabelle'!$A$6:$W$359,15,0),0)","v":0},{"$f":"IFERROR(VLOOKUP(A9,'Gruber Tabelle'!$A$6:$W$359,16,0),0)","v":0},{"$f":"IFERROR(VLOOKUP(A9,'Gruber Tabelle'!$A$6:$W$359,17,0),0)","v":0},{"$f":"IFERROR(VLOOKUP(A9,'Gruber Tabelle'!$A$6:$W$359,18,0),0)","v":0},{"$f":"IFERROR(VLOOKUP(A9,'Gruber Tabelle'!$A$6:$W$359,19,0),0)","v":0},{"$f":"IFERROR(VLOOKUP(A9,'Gruber Tabelle'!$A$6:$W$359,20,0),0)","v":0},{"$f":"IFERROR(VLOOKUP(A9,'Gruber Tabelle'!$A$6:$W$359,21,0),0)","v":0},{"$f":"IFERROR(VLOOKUP(A9,'Gruber Tabelle'!$A$6:$W$359,22,0),0)","v":0},{"$f":"IFERROR(VLOOKUP(A9,'Gruber Tabelle'!$A$6:$W$359,23,0),0)","v":0},{"$f":"IFERROR(VLOOKUP(A9,'Gruber Tabelle'!$A$6:$AE$359,25,0),0)","v":0},{"$f":"IFERROR(VLOOKUP(A9,'Gruber Tabelle'!$A$6:$AE$359,26,0),0)","v":0},{"$f":"IFERROR(VLOOKUP(A9,'Gruber Tabelle'!$A$6:$AE$359,27,0),0)","v":0},{"$f":"IFERROR(VLOOKUP(A9,'Gruber Tabelle'!$A$6:$AE$359,28,0),0)","v":0},{"$f":"IFERROR(VLOOKUP(A9,'Gruber Tabelle'!$A$6:$AE$359,29,0),0)","v":0},{"$f":"IFERROR(VLOOKUP(A9,'Gruber Tabelle'!$A$6:$AE$359,30,0),0)","v":0},{"$f":"IFERROR(VLOOKUP(A9,'Gruber Tabelle'!$A$6:$AE$359,31,0),0)","v":0}]
[null,{"$f":"IFERROR(VLOOKUP(A10,'Gruber Tabelle'!$A$6:$W$359,2,0),0)","v":0},null,null,null,null,{"$f":"IFERROR(VLOOKUP(A10,'Gruber Tabelle'!$A$6:$W$359,4,0),0)","v":0},{"$f":"IFERROR(VLOOKUP(A10,'Gruber Tabelle'!$A$6:$W$359,5,0),0)","v":0},{"$f":"IFERROR(VLOOKUP(A10,'Gruber Tabelle'!$A$6:$W$359,7,0),0)","v":0},{"$f":"IFERROR(VLOOKUP(A10,'Gruber Tabelle'!$A$6:$W$359,8,0),0)","v":0},{"$f":"IFERROR(VLOOKUP(A10,'Gruber Tabelle'!$A$6:$W$359,9,0)/100,0)","v":0},{"$f":"IFERROR(VLOOKUP(A10,'Gruber Tabelle'!$A$6:$W$359,10,0),0)","v":0},{"$f":"IFERROR(VLOOKUP(A10,'Gruber Tabelle'!$A$6:$W$359,11,0),0)","v":0},{"$f":"IFERROR(VLOOKUP(A10,'Gruber Tabelle'!$A$6:$W$359,12,0),0)","v":0},{"$f":"IFERROR(VLOOKUP(A10,'Gruber Tabelle'!$A$6:$W$359,13,0),0)","v":0},{"$f":"IFERROR(VLOOKUP(A10,'Gruber Tabelle'!$A$6:$W$359,14,0),0)","v":0},{"$f":"IFERROR(VLOOKUP(A10,'Gruber Tabelle'!$A$6:$W$359,15,0),0)","v":0},{"$f":"IFERROR(VLOOKUP(A10,'Gruber Tabelle'!$A$6:$W$359,16,0),0)","v":0},{"$f":"IFERROR(VLOOKUP(A10,'Gruber Tabelle'!$A$6:$W$359,17,0),0)","v":0},{"$f":"IFERROR(VLOOKUP(A10,'Gruber Tabelle'!$A$6:$W$359,18,0),0)","v":0},{"$f":"IFERROR(VLOOKUP(A10,'Gruber Tabelle'!$A$6:$W$359,19,0),0)","v":0},{"$f":"IFERROR(VLOOKUP(A10,'Gruber Tabelle'!$A$6:$W$359,20,0),0)","v":0},{"$f":"IFERROR(VLOOKUP(A10,'Gruber Tabelle'!$A$6:$W$359,21,0),0)","v":0},{"$f":"IFERROR(VLOOKUP(A10,'Gruber Tabelle'!$A$6:$W$359,22,0),0)","v":0},{"$f":"IFERROR(VLOOKUP(A10,'Gruber Tabelle'!$A$6:$W$359,23,0),0)","v":0},{"$f":"IFERROR(VLOOKUP(A10,'Gruber Tabelle'!$A$6:$AE$359,25,0),0)","v":0},{"$f":"IFERROR(VLOOKUP(A10,'Gruber Tabelle'!$A$6:$AE$359,26,0),0)","v":0},{"$f":"IFERROR(VLOOKUP(A10,'Gruber Tabelle'!$A$6:$AE$359,27,0),0)","v":0},{"$f":"IFERROR(VLOOKUP(A10,'Gruber Tabelle'!$A$6:$AE$359,28,0),0)","v":0},{"$f":"IFERROR(VLOOKUP(A10,'Gruber Tabelle'!$A$6:$AE$359,29,0),0)","v":0},{"$f":"IFERROR(VLOOKUP(A10,'Gruber Tabelle'!$A$6:$AE$359,30,0),0)","v":0},{"$f":"IFERROR(VLOOKUP(A10,'Gruber Tabelle'!$A$6:$AE$359,31,0),0)","v":0}]
[null,{"$f":"IFERROR(VLOOKUP(A11,'Gruber Tabelle'!$A$6:$W$359,2,0),0)","v":0},null,null,null,null,{"$f":"IFERROR(VLOOKUP(A11,'Gruber Tabelle'!$A$6:$W$359,4,0),0)","v":0},{"$f":"IFERROR(VLOOKUP(A11,'Gruber Tabelle'!$A$6:$W$359,5,0),0)","v":0},{"$f":"IFERROR(VLOOKUP(A11,'Gruber Tabelle'!$A$6:$W$359,7,0),0)","v":0},{"$f":"IFERROR(VLOOKUP(A11,'Gruber Tabelle'!$A$6:$W$359,8,0),0)","v":0},{"$f":"IFERROR(VLOOKUP(A11,'Gruber Tabelle'!$A$6:$W$359,9,0)/100,0)","v":0},{"$f":"IFERROR(VLOOKUP(A11,'Gruber Tabelle'!$A$6:$W$359,10,0),0)","v":0},{"$f":"IFERROR(VLOOKUP(A11,'Gruber Tabelle'!$A$6:$W$359,11,0),0)","v":0},{"$f":"IFERROR(VLOOKUP(A11,'Gruber Tabelle'!$A$6:$W$359,12,0),0)","v":0},{"$f":"IFERROR(VLOOKUP(A11,'Gruber Tabelle'!$A$6:$W$359,13,0),0)","v":0},{"$f":"IFERROR(VLOOKUP(A11,'Gruber Tabelle'!$A$6:$W$359,14,0),0)","v":0},{"$f":"IFERROR(VLOOKUP(A11,'Gruber Tabelle'!$A$6:$W$359,15,0),0)","v":0},{"$f":"IFERROR(VLOOKUP(A11,'Gruber Tabelle'!$A$6:$W$359,16,0),0)","v":0},{"$f":"IFERROR(VLOOKUP(A11,'Gruber Tabelle'!$A$6:$W$359,17,0),0)","v":0},{"$f":"IFERROR(VLOOKUP(A11,'Gruber Tabelle'!$A$6:$W$359,18,0),0)","v":0},{"$f":"IFERROR(VLOOKUP(A11,'Gruber Tabelle'!$A$6:$W$359,19,0),0)","v":0},{"$f":"IFERROR(VLOOKUP(A11,'Gruber Tabelle'!$A$6:$W$359,20,0),0)","v":0},{"$f":"IFERROR(VLOOKUP(A11,'Gruber Tabelle'!$A$6:$W$359,21,0),0)","v":0},{"$f":"IFERROR(VLOOKUP(A11,'Gruber Tabelle'!$A$6:$W$359,22,0),0)","v":0},{"$f":"IFERROR(VLOOKUP(A11,'Gruber Tabelle'!$A$6:$W$359,23,0),0)","v":0},{"$f":"IFERROR(VLOOKUP(A11,'Gruber Tabelle'!$A$6:$AE$359,25,0),0)","v":0},{"$f":"IFERROR(VLOOKUP(A11,'Gruber Tabelle'!$A$6:$AE$359,26,0),0)","v":0},{"$f":"IFERROR(VLOOKUP(A11,'Gruber Tabelle'!$A$6:$AE$359,27,0),0)","v":0},{"$f":"IFERROR(VLOOKUP(A11,'Gruber Tabelle'!$A$6:$AE$359,28,0),0)","v":0},{"$f":"IFERROR(VLOOKUP(A11,'Gruber Tabelle'!$A$6:$AE$359,29,0),0)","v":0},{"$f":"IFERROR(VLOOKUP(A11,'Gruber Tabelle'!$A$6:$AE$359,30,0),0)","v":0},{"$f":"IFERROR(VLOOKUP(A11,'Gruber Tabelle'!$A$6:$AE$359,31,0),0)","v":0}]
[null,{"$f":"IFERROR(VLOOKUP(A12,'Gruber Tabelle'!$A$6:$W$359,2,0),0)","v":0},null,null,null,null,{"$f":"IFERROR(VLOOKUP(A12,'Gruber Tabelle'!$A$6:$W$359,4,0),0)","v":0},{"$f":"IFERROR(VLOOKUP(A12,'Gruber Tabelle'!$A$6:$W$359,5,0),0)","v":0},{"$f":"IFERROR(VLOOKUP(A12,'Gruber Tabelle'!$A$6:$W$359,7,0),0)","v":0},{"$f":"IFERROR(VLOOKUP(A12,'Gruber Tabelle'!$A$6:$W$359,8,0),0)","v":0},{"$f":"IFERROR(VLOOKUP(A12,'Gruber Tabelle'!$A$6:$W$359,9,0)/100,0)","v":0},{"$f":"IFERROR(VLOOKUP(A12,'Gruber Tabelle'!$A$6:$W$359,10,0),0)","v":0},{"$f":"IFERROR(VLOOKUP(A12,'Gruber Tabelle'!$A$6:$W$359,11,0),0)","v":0},{"$f":"IFERROR(VLOOKUP(A12,'Gruber Tabelle'!$A$6:$W$359,12,0),0)","v":0},{"$f":"IFERROR(VLOOKUP(A12,'Gruber Tabelle'!$A$6:$W$359,13,0),0)","v":0},{"$f":"IFERROR(VLOOKUP(A12,'Gruber Tabelle'!$A$6:$W$359,14,0),0)","v":0},{"$f":"IFERROR(VLOOKUP(A12,'Gruber Tabelle'!$A$6:$W$359,15,0),0)","v":0},{"$f":"IFERROR(VLOOKUP(A12,'Gruber Tabelle'!$A$6:$W$359,16,0),0)","v":0},{"$f":"IFERROR(VLOOKUP(A12,'Gruber Tabelle'!$A$6:$W$359,17,0),0)","v":0},{"$f":"IFERROR(VLOOKUP(A12,'Gruber Tabelle'!$A$6:$W$359,18,0),0)","v":0},{"$f":"IFERROR(VLOOKUP(A12,'Gruber Tabelle'!$A$6:$W$359,19,0),0)","v":0},{"$f":"IFERROR(VLOOKUP(A12,'Gruber Tabelle'!$A$6:$W$359,20,0),0)","v":0},{"$f":"IFERROR(VLOOKUP(A12,'Gruber Tabelle'!$A$6:$W$359,21,0),0)","v":0},{"$f":"IFERROR(VLOOKUP(A12,'Gruber Tabelle'!$A$6:$W$359,22,0),0)","v":0},{"$f":"IFERROR(VLOOKUP(A12,'Gruber Tabelle'!$A$6:$W$359,23,0),0)","v":0},{"$f":"IFERROR(VLOOKUP(A12,'Gruber Tabelle'!$A$6:$AE$359,25,0),0)","v":0},{"$f":"IFERROR(VLOOKUP(A12,'Gruber Tabelle'!$A$6:$AE$359,26,0),0)","v":0},{"$f":"IFERROR(VLOOKUP(A12,'Gruber Tabelle'!$A$6:$AE$359,27,0),0)","v":0},{"$f":"IFERROR(VLOOKUP(A12,'Gruber Tabelle'!$A$6:$AE$359,28,0),0)","v":0},{"$f":"IFERROR(VLOOKUP(A12,'Gruber Tabelle'!$A$6:$AE$359,29,0),0)","v":0},{"$f":"IFERROR(VLOOKUP(A12,'Gruber Tabelle'!$A$6:$AE$359,30,0),0)","v":0},{"$f":"IFERROR(VLOOKUP(A12,'Gruber Tabelle'!$A$6:$AE$359,31,0),0)","v":0}]
[null,{"$f":"IFERROR(VLOOKUP(A13,'Gruber Tabelle'!$A$6:$W$359,2,0),0)","v":0},null,null,null,null,{"$f":"IFERROR(VLOOKUP(A13,'Gruber Tabelle'!$A$6:$W$359,4,0),0)","v":0},{"$f":"IFERROR(VLOOKUP(A13,'Gruber Tabelle'!$A$6:$W$359,5,0),0)","v":0},{"$f":"IFERROR(VLOOKUP(A13,'Gruber Tabelle'!$A$6:$W$359,7,0),0)","v":0},{"$f":"IFERROR(VLOOKUP(A13,'Gruber Tabelle'!$A$6:$W$359,8,0),0)","v":0},{"$f":"IFERROR(VLOOKUP(A13,'Gruber Tabelle'!$A$6:$W$359,9,0)/100,0)","v":0},{"$f":"IFERROR(VLOOKUP(A13,'Gruber Tabelle'!$A$6:$W$359,10,0),0)","v":0},{"$f":"IFERROR(VLOOKUP(A13,'Gruber Tabelle'!$A$6:$W$359,11,0),0)","v":0},{"$f":"IFERROR(VLOOKUP(A13,'Gruber Tabelle'!$A$6:$W$359,12,0),0)","v":0},{"$f":"IFERROR(VLOOKUP(A13,'Gruber Tabelle'!$A$6:$W$359,13,0),0)","v":0},{"$f":"IFERROR(VLOOKUP(A13,'Gruber Tabelle'!$A$6:$W$359,14,0),0)","v":0},{"$f":"IFERROR(VLOOKUP(A13,'Gruber Tabelle'!$A$6:$W$359,15,0),0)","v":0},{"$f":"IFERROR(VLOOKUP(A13,'Gruber Tabelle'!$A$6:$W$359,16,0),0)","v":0},{"$f":"IFERROR(VLOOKUP(A13,'Gruber Tabelle'!$A$6:$W$359,17,0),0)","v":0},{"$f":"IFERROR(VLOOKUP(A13,'Gruber Tabelle'!$A$6:$W$359,18,0),0)","v":0},{"$f":"IFERROR(VLOOKUP(A13,'Gruber Tabelle'!$A$6:$W$359,19,0),0)","v":0},{"$f":"IFERROR(VLOOKUP(A13,'Gruber Tabelle'!$A$6:$W$359,20,0),0)","v":0},{"$f":"IFERROR(VLOOKUP(A13,'Gruber Tabelle'!$A$6:$W$359,21,0),0)","v":0},{"$f":"IFERROR(VLOOKUP(A13,'Gruber Tabelle'!$A$6:$W$359,22,0),0)","v":0},{"$f":"IFERROR(VLOOKUP(A13,'Gruber Tabelle'!$A$6:$W$359,23,0),0)","v":0},{"$f":"IFERROR(VLOOKUP(A13,'Gruber Tabelle'!$A$6:$AE$359,25,0),0)","v":0},{"$f":"IFERROR(VLOOKUP(A13,'Gruber Tabelle'!$A$6:$AE$359,26,0),0)","v":0},{"$f":"IFERROR(VLOOKUP(A13,'Gruber Tabelle'!$A$6:$AE$359,27,0),0)","v":0},{"$f":"IFERROR(VLOOKUP(A13,'Gruber Tabelle'!$A$6:$AE$359,28,0),0)","v":0},{"$f":"IFERROR(VLOOKUP(A13,'Gruber Tabelle'!$A$6:$AE$359,29,0),0)","v":0},{"$f":"IFERROR(VLOOKUP(A13,'Gruber Tabelle'!$A$6:$AE$359,30,0),0)","v":0},{"$f":"IFERROR(VLOOKUP(A13,'Gruber Tabelle'!$A$6:$AE$359,31,0),0)","v":0}]
["Nr ","Futterart","Anteil in %","TM %","TM kg","FM kg","XF g","aNDFom","CP g","nxP g","UDP g","RNB","NEL MJ","ME MJ","ST+ZU","bST","CL","Ca","P","Mg","Na","K","Cl","S","Preis","Fe","Cu","Zn","Mn","Co","J","Se"]
[{"$f":"A4","v":0},{"$f":"B4","v":0},null,{"$f":"IFERROR(VLOOKUP(A4,'Gruber Tabelle'!$A$6:$W$359,3,0)/1000,0)","v":0},{"$f":"IF(F15>0,F15*D15,0)","v":0},{"$f":"IF(C15>0,(1*C15),0)","v":0},{"$f":"IF(G4>0,(G4*C15)*D15,0)","v":0},{"$f":"IF(H4>0,(H4*C15)*D15,0)","v":0},{"$f":"IF(I4>0,(I4*C15)*D15,0)","v":0},{"$f":"IF(J4>0,(J4*C15)*D15,0)","v":0},{"$f":"IF(K4>0,(I4*K4)*E15,0)","v":0},{"$f":"IFERROR(SUM((I15-J15)/6.25),0)","v":0},{"$f":"IF(M4>0,(M4*C15)*D15,0)","v":0},{"$f":"IF(N4>0,(N4*C15)*D15,0)","v":0},{"$f":"IF(O4>0,(O4*C15)*D15,0)","v":0},{"$f":"IF(P4>0,(P4*C15)*D15,0)","v":0},{"$f":"IF(Q4>0,(Q4*C15)*D15,0)","v":0},{"$f":"IF(R4>0,(R4*C15)*D15,0)","v":0},{"$f":"IF(S4>0,(S4*C15)*D15,0)","v":0},{"$f":"IF(T4>0,(T4*C15)*D15,0)","v":0},{"$f":"IF(U4>0,(U4*C15)*D15,0)","v":0},{"$f":"IF(V4>0,(V4*C15)*D15,0)","v":0},{"$f":"IF(W4>0,(W4*C15)*D15,0)","v":0},{"$f":"IF(X4>0,(X4*C15)*D15,0)","v":0},{"$f":"IF(C15>0,Y4*F15/100,0)","v":0},{"$f":"IF(Z4>0,(Z4*C15)*D15,0)","v":0},{"$f":"IF(AA4>0,(AA4*C15)*D15,0)","v":0},{"$f":"IF(AB4>0,(AB4*C15)*D15,0)","v":0},{"$f":"IF(AC4>0,(AC4*C15)*D15,0)","v":0},{"$f":"IF(AD4>0,(AD4*C15)*D15,0)","v":0},{"$f":"IF(AE4>0,(AE4*C15)*D15,0)","v":0},{"$f":"IF(AF4>0,(AF4*C15)*D15,0)","v":0}]
[{"$f":"A5","v":0},0,null,{"$f":"IFERROR(VLOOKUP(A5,'Gruber Tabelle'!$A$6:$W$359,3,0)/1000,0)","v":0},{"$f":"IF(F16>0,F16*D16,0)","v":0},{"$f":"IF(C16>0,(1*C16),0)","v":0},{"$f":"IF(G5>0,(G5*C16)*D16,0)","v":0},{"$f":"IF(H5>0,(H5*C16)*D16,0)","v":0},{"$f":"IF(I5>0,(I5*C16)*D16,0)","v":0},{"$f":"IF(J5>0,(J5*C16)*D16,0)","v":0},{"$f":"IF(K5>0,(I5*K5)*E16,0)","v":0},0,{"$f":"IF(M5>0,(M5*C16)*D16,0)","v":0},{"$f":"IF(N5>0,(N5*C16)*D16,0)","v":0},{"$f":"IF(O5>0,(O5*C16)*D16,0)","v":0},{"$f":"IF(P5>0,(P5*C16)*D16,0)","v":0},{"$f":"IF(Q5>0,(Q5*C16)*D16,0)","v":0},{"$f":"IF(R5>0,(R5*C16)*D16,0)","v":0},{"$f":"IF(S5>0,(S5*C16)*D16,0)","v":0},{"$f":"IF(T5>0,(T5*C16)*D16,0)","v":0},{"$f":"IF(U5>0,(U5*C16)*D16,0)","v":0},{"$f":"IF(V5>0,(V5*C16)*D16,0)","v":0},{"$f":"IF(W5>0,(W5*C16)*D16,0)","v":0},{"$f":"IF(X5>0,(X5*C16)*D16,0)","v":0},0,{"$f":"IF(Z5>0,(Z5*C16)*D16,0)","v":0},{"$f":"IF(AA5>0,(AA5*C16)*D16,0)","v":0},{"$f":"IF(AB5>0,(AB5*C16)*D16,0)","v":0},{"$f":"IF(AC5>0,(AC5*C16)*D16,0)","v":0},{"$f":"IF(AD5>0,(AD5*C16)*D16,0)","v":0},{"$f":"IF(AE5>0,(AE5*C16)*D16,0)","v":0},{"$f":"IF(AF5>0,(AF5*C16)*D16,0)","v":0}]
[0,0,null,{"$f":"IFERROR(VLOOKUP(A6,'Gruber Tabelle'!$A$6:$W$359,3,0)/1000,0)","v":0},0,0,0,0,0,0,0,0,0,0,0,0,0,0,0,0,0,0,0,0,0,0,0,0,0,0,0,0]
[0,0,null,{"$f":"IFERROR(VLOOKUP(A7,'Gruber Tabelle'!$A$6:$W$359,3,0)/1000,0)","v":0},0,0,0,0,0,0,0,0,0,0,0,0,0,0,0,0,0,0,0,0,0,0,0,0,0,0,0,0]
[0,0,null,{"$f":"IFERROR(VLOOKUP(A8,'Gruber Tabelle'!$A$6:$W$359,3,0)/1000,0)","v":0},0,0,0,0,0,0,0,0,0,0,0,0,0,0,0,0,0,0,0,0,0,0,0,0,0,0,0,0]
[0,0,null,{"$f":"IFERROR(VLOOKUP(A9,'Gruber Tabelle'!$A$6:$W$359,3,0)/1000,0)","v":0},0,0,0,0,0,0,0,0,0,0,0,0,0,0,0,0,0,0,0,0,0,0,0,0,0,0,0,0]
[0,0,null,{"$f":"IFERROR(VLOOKUP(A10,'Gruber Tabelle'!$A$6:$W$359,3,0)/1000,0)","v":0},0,0,0,0,0,0,0,0,0,0,0,0,0,0,0,0,0,0,0,0,0,0,0,0,0,0,0,0]
[0,0,null,{"$f":"IFERROR(VLOOKUP(A11,'Gruber Tabelle'!$A$6:$W$359,3,0)/1000,0)","v":0},0,0,0,0,0,0,0,0,0,0,0,0,0,0,0,0,0,0,0,0,0,0,0,0,0,0,0,0]
[0,0,null,{"$f":"IFERROR(VLOOKUP(A12,'Gruber Tabelle'!$A$6:$W$359,3,0)/1000,0)","v":0},0,0,0,0,0,0,0,0,0,0,0,0,0,0,0,0,0,0,0,0,0,0,0,0,0,0,0,0]
[0,0,null,{"$f":"IFERROR(VLOOKUP(A13,'Gruber Tabelle'!$A$6:$W$359,3,0)/1000,0)","v":0},0,0,0,0,0,0,0,0,0,0,0,0,0,0,0,0,0,0,0,0,0,0,0,0,0,0,0,0]
[null,"Summe je kg FM :",{"$f":"SUM(C15:C24)","v":0},null,{"$f":"SUM(E15:E24)","v":0},{"$f":"SUM(F15:F24)","v":0},0,0,0,0,0,{"$f":"SUM(L15:L24)","v":0},0,0,0,0,0,0,0,0,0,0,0,0,0,{"$f":"SUM(Z15:Z24)","v":0},{"$f":"SUM(AA15:AA24)","v":0},0,0,0,0,{"$f":"SUM(AF15:AF24)","v":0}]
["Milcherzeugungswerte / Kennzahlen",null,null,null,null,null,null,{"$f":"IF(C25=100%,H25/1000,0)","v":0},{"$f":"IFERROR(I25/Einstellung!E16,0)","v":0},{"$f":"IFERROR(J25/Einstellung!E16,0)","v":0},{"$f":"IF(K25>0,K25/I25,0)","v":0},{"$f":"SUM(I25-J25)/6.25","v":0},{"$f":"IFERROR(M25/Einstellung!F15,0)","v":0},"Mengenelem. f. kg Milch :",null,null,null,{"$f":"IF(R25>0,(R25/Einstellung!D23),0)","v":0},{"$f":"IF(S25>0,(S25/Einstellung!E23),0)","v":0},{"$f":"IF(T25>0,(T25/Einstellung!F23),0)","v":0},{"$f":"IF(U25>0,(U25/Einstellung!G23),0)","v":0},null,null,null,{"$f":"IFERROR(Y25/M26,0)","v":0}]

{"sheet":"Mischung 2","index":3,"n_rows":26,"n_cols":32,"rows_kept":26,"cut":false,"hidden":false,"merged":[[0,25,0,31],[1,25,1,31],[0,0,0,24],[25,0,25,5],[25,13,25,16],[1,0,1,5],[1,6,1,24],[2,1,2,5],[3,2,12,5]]}
[]
["KF – Berechnung 2",null,null,null,null,null,"Nähr- und Mineralstoffgehalte je kg TM",null,null,null,null,null,null,null,null,null,null,null,null,null,null,null,null,null,null,"Spurenelemente mg / kg TM"]
["Nr ","Futterart",null,null,null,null,"XF  g","aNDFom","CP g","nxP g","UDP %","RNB","Nel MJ","ME MJ","ST+ZU","bST","CL","Ca","P","Mg","Na","K","Cl","S","Preis / dt","Fe","Cu","Zn","Mn","Co","J","Se"]
[null,{"$f":"IFERROR(VLOOKUP(A4,'Gruber Tabelle'!$A$6:$W$359,2,0),0)","v":0},null,null,null,null,{"$f":"IFERROR(VLOOKUP(A4,'Gruber Tabelle'!$A$6:$W$359,4,0),0)","v":0},{"$f":"IFERROR(VLOOKUP(A4,'Gruber Tabelle'!$A$6:$W$359,5,0),0)","v":0},{"$f":"IFERROR(VLOOKUP(A4,'Gruber Tabelle'!$A$6:$W$359,7,0),0)","v":0},{"$f":"IFERROR(VLOOKUP(A4,'Gruber Tabelle'!$A$6:$W$359,8,0),0)","v":0},{"$f":"IFERROR(VLOOKUP(A4,'Gruber Tabelle'!$A$6:$W$359,9,0)/100,0)","v":0},{"$f":"IFERROR(VLOOKUP(A4,'Gruber Tabelle'!$A$6:$W$359,10,0),0)","v":0},{"$f":"IFERROR(VLOOKUP(A4,'Gruber Tabelle'!$A$6:$W$359,11,0),0)","v":0},{"$f":"IFERROR(VLOOKUP(A4,'Gruber Tabelle'!$A$6:$W$359,12,0),0)","v":0},{"$f":"IFERROR(VLOOKUP(A4,'Gruber Tabelle'!$A$6:$W$359,13,0),0)","v":0},{"$f":"IFERROR(VLOOKUP(A4,'Gruber Tabelle'!$A$6:$W$359,14,0),0)","v":0},{"$f":"IFERROR(VLOOKUP(A4,'Gruber Tabelle'!$A$6:$W$359,15,0),0)","v":0},{"$f":"IFERROR(VLOOKUP(A4,'Gruber Tabelle'!$A$6:$W$359,16,0),0)","v":0},{"$f":"IFERROR(VLOOKUP(A4,'Gruber Tabelle'!$A$6:$W$359,17,0),0)","v":0},{"$f":"IFERROR(VLOOKUP(A4,'Gruber Tabelle'!$A$6:$W$359,18,0),0)","v":0},{"$f":"IFERROR(VLOOKUP(A4,'Gruber Tabelle'!$A$6:$W$359,19,0),0)","v":0},{"$f":"IFERROR(VLOOKUP(A4,'Gruber Tabelle'!$A$6:$W$359,20,0),0)","v":0},{"$f":"IFERROR(VLOOKUP(A4,'Gruber Tabelle'!$A$6:$W$359,21,0),0)","v":0},{"$f":"IFERROR(VLOOKUP(A4,'Gruber Tabelle'!$A$6:$W$359,22,0),0)","v":0},{"$f":"IFERROR(VLOOKUP(A4,'Gruber Tabelle'!$A$6:$W$359,23,0),0)","v":0},{"$f":"IFERROR(VLOOKUP(A4,'Gruber Tabelle'!$A$6:$AE$359,25,0),0)","v":0},{"$f":"IFERROR(VLOOKUP(A4,'Gruber Tabelle'!$A$6:$AE$359,26,0),0)","v":0},{"$f":"IFERROR(VLOOKUP(A4,'Gruber Tabelle'!$A$6:$AE$359,27,0),0)","v":0},{"$f":"IFERROR(VLOOKUP(A4,'Gruber Tabelle'!$A$6:$AE$359,28,0),0)","v":0},{"$f":"IFERROR(VLOOKUP(A4,'Gruber Tabelle'!$A$6:$AE$359,29,0),0)","v":0},{"$f":"IFERROR(VLOOKUP(A4,'Gruber Tabelle'!$A$6:$AE$359,30,0),0)","v":0},{"$f":"IFERROR(VLOOKUP(A4,'Gruber Tabelle'!$A$6:$AE$359,31,0),0)","v":0}]
[null,{"$f":"IFERROR(VLOOKUP(A5,'Gruber Tabelle'!$A$6:$W$359,2,0),0)","v":0},null,null,null,null,{"$f":"IFERROR(VLOOKUP(A5,'Gruber Tabelle'!$A$6:$W$359,4,0),0)","v":0},{"$f":"IFERROR(VLOOKUP(A5,'Gruber Tabelle'!$A$6:$W$359,5,0),0)","v":0},{"$f":"IFERROR(VLOOKUP(A5,'Gruber Tabelle'!$A$6:$W$359,7,0),0)","v":0},{"$f":"IFERROR(VLOOKUP(A5,'Gruber Tabelle'!$A$6:$W$359,8,0),0)","v":0},{"$f":"IFERROR(VLOOKUP(A5,'Gruber Tabelle'!$A$6:$W$359,9,0)/100,0)","v":0},{"$f":"IFERROR(VLOOKUP(A5,'Gruber Tabelle'!$A$6:$W$359,10,0),0)","v":0},{"$f":"IFERROR(VLOOKUP(A5,'Gruber Tabelle'!$A$6:$W$359,11,0),0)","v":0},{"$f":"IFERROR(VLOOKUP(A5,'Gruber Tabelle'!$A$6:$W$359,12,0),0)","v":0},{"$f":"IFERROR(VLOOKUP(A5,'Gruber Tabelle'!$A$6:$W$359,13,0),0)","v":0},{"$f":"IFERROR(VLOOKUP(A5,'Gruber Tabelle'!$A$6:$W$359,14,0),0)","v":0},{"$f":"IFERROR(VLOOKUP(A5,'Gruber Tabelle'!$A$6:$W$359,15,0),0)","v":0},{"$f":"IFERROR(VLOOKUP(A5,'Gruber Tabelle'!$A$6:$W$359,16,0),0)","v":0},{"$f":"IFERROR(VLOOKUP(A5,'Gruber Tabelle'!$A$6:$W$359,17,0),0)","v":0},{"$f":"IFERROR(VLOOKUP(A5,'Gruber Tabelle'!$A$6:$W$359,18,0),0)","v":0},{"$f":"IFERROR(VLOOKUP(A5,'Gruber Tabelle'!$A$6:$W$359,19,0),0)","v":0},{"$f":"IFERROR(VLOOKUP(A5,'Gruber Tabelle'!$A$6:$W$359,20,0),0)","v":0},{"$f":"IFERROR(VLOOKUP(A5,'Gruber Tabelle'!$A$6:$W$359,21,0),0)","v":0},{"$f":"IFERROR(VLOOKUP(A5,'Gruber Tabelle'!$A$6:$W$359,22,0),0)","v":0},{"$f":"IFERROR(VLOOKUP(A5,'Gruber Tabelle'!$A$6:$W$359,23,0),0)","v":0},{"$f":"IFERROR(VLOOKUP(A5,'Gruber Tabelle'!$A$6:$AE$359,25,0),0)","v":0},{"$f":"IFERROR(VLOOKUP(A5,'Gruber Tabelle'!$A$6:$AE$359,26,0),0)","v":0},{"$f":"IFERROR(VLOOKUP(A5,'Gruber Tabelle'!$A$6:$AE$359,27,0),0)","v":0},{"$f":"IFERROR(VLOOKUP(A5,'Gruber Tabelle'!$A$6:$AE$359,28,0),0)","v":0},{"$f":"IFERROR(VLOOKUP(A5,'Gruber Tabelle'!$A$6:$AE$359,29,0),0)","v":0},{"$f":"IFERROR(VLOOKUP(A5,'Gruber Tabelle'!$A$6:$AE$359,30,0),0)","v":0},{"$f":"IFERROR(VLOOKUP(A5,'Gruber Tabelle'!$A$6:$AE$359,31,0),0)","v":0}]
[null,{"$f":"IFERROR(VLOOKUP(A6,'Gruber Tabelle'!$A$6:$W$359,2,0),0)","v":0},null,null,null,null,{"$f":"IFERROR(VLOOKUP(A6,'Gruber Tabelle'!$A$6:$W$359,4,0),0)","v":0},{"$f":"IFERROR(VLOOKUP(A6,'Gruber Tabelle'!$A$6:$W$359,5,0),0)","v":0},{"$f":"IFERROR(VLOOKUP(A6,'Gruber Tabelle'!$A$6:$W$359,7,0),0)","v":0},{"$f":"IFERROR(VLOOKUP(A6,'Gruber Tabelle'!$A$6:$W$359,8,0),0)","v":0},{"$f":"IFERROR(VLOOKUP(A6,'Gruber Tabelle'!$A$6:$W$359,9,0)/100,0)","v":0},{"$f":"IFERROR(VLOOKUP(A6,'Gruber Tabelle'!$A$6:$W$359,10,0),0)","v":0},{"$f":"IFERROR(VLOOKUP(A6,'Gruber Tabelle'!$A$6:$W$359,11,0),0)","v":0},{"$f":"IFERROR(VLOOKUP(A6,'Gruber Tabelle'!$A$6:$W$359,12,0),0)","v":0},{"$f":"IFERROR(VLOOKUP(A6,'Gruber Tabelle'!$A$6:$W$359,13,0),0)","v":0},{"$f":"IFERROR(VLOOKUP(A6,'Gruber Tabelle'!$A$6:$W$359,14,0),0)","v":0},{"$f":"IFERROR(VLOOKUP(A6,'Gruber Tabelle'!$A$6:$W$359,15,0),0)","v":0},{"$f":"IFERROR(VLOOKUP(A6,'Gruber Tabelle'!$A$6:$W$359,16,0),0)","v":0},{"$f":"IFERROR(VLOOKUP(A6,'Gruber Tabelle'!$A$6:$W$359,17,0),0)","v":0},{"$f":"IFERROR(VLOOKUP(A6,'Gruber Tabelle'!$A$6:$W$359,18,0),0)","v":0},{"$f":"IFERROR(VLOOKUP(A6,'Gruber Tabelle'!$A$6:$W$359,19,0),0)","v":0},{"$f":"IFERROR(VLOOKUP(A6,'Gruber Tabelle'!$A$6:$W$359,20,0),0)","v":0},{"$f":"IFERROR(VLOOKUP(A6,'Gruber Tabelle'!$A$6:$W$359,21,0),0)","v":0},{"$f":"IFERROR(VLOOKUP(A6,'Gruber Tabelle'!$A$6:$W$359,22,0),0)","v":0},{"$f":"IFERROR(VLOOKUP(A6,'Gruber Tabelle'!$A$6:$W$359,23,0),0)","v":0},{"$f":"IFERROR(VLOOKUP(A6,'Gruber Tabelle'!$A$6:$AE$359,25,0),0)","v":0},{"$f":"IFERROR(VLOOKUP(A6,'Gruber Tabelle'!$A$6:$AE$359,26,0),0)","v":0},{"$f":"IFERROR(VLOOKUP(A6,'Gruber Tabelle'!$A$6:$AE$359,27,0),0)","v":0},{"$f":"IFERROR(VLOOKUP(A6,'Gruber Tabelle'!$A$6:$AE$359,28,0),0)","v":0},{"$f":"IFERROR(VLOOKUP(A6,'Gruber Tabelle'!$A$6:$AE$359,29,0),0)","v":0},{"$f":"IFERROR(VLOOKUP(A6,'Gruber Tabelle'!$A$6:$AE$359,30,0),0)","v":0},{"$f":"IFERROR(VLOOKUP(A6,'Gruber Tabelle'!$A$6:$AE$359,31,0),0)","v":0}]
[null,{"$f":"IFERROR(VLOOKUP(A7,'Gruber Tabelle'!$A$6:$W$359,2,0),0)","v":0},null,null,null,null,{"$f":"IFERROR(VLOOKUP(A7,'Gruber Tabelle'!$A$6:$W$359,4,0),0)","v":0},{"$f":"IFERROR(VLOOKUP(A7,'Gruber Tabelle'!$A$6:$W$359,5,0),0)","v":0},{"$f":"IFERROR(VLOOKUP(A7,'Gruber Tabelle'!$A$6:$W$359,7,0),0)","v":0},{"$f":"IFERROR(VLOOKUP(A7,'Gruber Tabelle'!$A$6:$W$359,8,0),0)","v":0},{"$f":"IFERROR(VLOOKUP(A7,'Gruber Tabelle'!$A$6:$W$359,9,0)/100,0)","v":0},{"$f":"IFERROR(VLOOKUP(A7,'Gruber Tabelle'!$A$6:$W$359,10,0),0)","v":0},{"$f":"IFERROR(VLOOKUP(A7,'Gruber Tabelle'!$A$6:$W$359,11,0),0)","v":0},{"$f":"IFERROR(VLOOKUP(A7,'Gruber Tabelle'!$A$6:$W$359,12,0),0)","v":0},{"$f":"IFERROR(VLOOKUP(A7,'Gruber Tabelle'!$A$6:$W$359,13,0),0)","v":0},{"$f":"IFERROR(VLOOKUP(A7,'Gruber Tabelle'!$A$6:$W$359,14,0),0)","v":0},{"$f":"IFERROR(VLOOKUP(A7,'Gruber Tabelle'!$A$6:$W$359,15,0),0)","v":0},{"$f":"IFERROR(VLOOKUP(A7,'Gruber Tabelle'!$A$6:$W$359,16,0),0)","v":0},{"$f":"IFERROR(VLOOKUP(A7,'Gruber Tabelle'!$A$6:$W$359,17,0),0)","v":0},{"$f":"IFERROR(VLOOKUP(A7,'Gruber Tabelle'!$A$6:$W$359,18,0),0)","v":0},{"$f":"IFERROR(VLOOKUP(A7,'Gruber Tabelle'!$A$6:$W$359,19,0),0)","v":0},{"$f":"IFERROR(VLOOKUP(A7,'Gruber Tabelle'!$A$6:$W$359,20,0),0)","v":0},{"$f":"IFERROR(VLOOKUP(A7,'Gruber Tabelle'!$A$6:$W$359,21,0),0)","v":0},{"$f":"IFERROR(VLOOKUP(A7,'Gruber Tabelle'!$A$6:$W$359,22,0),0)","v":0},{"$f":"IFERROR(VLOOKUP(A7,'Gruber Tabelle'!$A$6:$W$359,23,0),0)","v":0},{"$f":"IFERROR(VLOOKUP(A7,'Gruber Tabelle'!$A$6:$AE$359,25,0),0)","v":0},{"$f":"IFERROR(VLOOKUP(A7,'Gruber Tabelle'!$A$6:$AE$359,26,0),0)","v":0},{"$f":"IFERROR(VLOOKUP(A7,'Gruber Tabelle'!$A$6:$AE$359,27,0),0)","v":0},{"$f":"IFERROR(VLOOKUP(A7,'Gruber Tabelle'!$A$6:$AE$359,28,0),0)","v":0},{"$f":"IFERROR(VLOOKUP(A7,'Gruber Tabelle'!$A$6:$AE$359,29,0),0)","v":0},{"$f":"IFERROR(VLOOKUP(A7,'Gruber Tabelle'!$A$6:$AE$359,30,0),0)","v":0},{"$f":"IFERROR(VLOOKUP(A7,'Gruber Tabelle'!$A$6:$AE$359,31,0),0)","v":0}]
[null,{"$f":"IFERROR(VLOOKUP(A8,'Gruber Tabelle'!$A$6:$W$359,2,0),0)","v":0},null,null,null,null,{"$f":"IFERROR(VLOOKUP(A8,'Gruber Tabelle'!$A$6:$W$359,4,0),0)","v":0},{"$f":"IFERROR(VLOOKUP(A8,'Gruber Tabelle'!$A$6:$W$359,5,0),0)","v":0},{"$f":"IFERROR(VLOOKUP(A8,'Gruber Tabelle'!$A$6:$W$359,7,0),0)","v":0},{"$f":"IFERROR(VLOOKUP(A8,'Gruber Tabelle'!$A$6:$W$359,8,0),0)","v":0},{"$f":"IFERROR(VLOOKUP(A8,'Gruber Tabelle'!$A$6:$W$359,9,0)/100,0)","v":0},{"$f":"IFERROR(VLOOKUP(A8,'Gruber Tabelle'!$A$6:$W$359,10,0),0)","v":0},{"$f":"IFERROR(VLOOKUP(A8,'Gruber Tabelle'!$A$6:$W$359,11,0),0)","v":0},{"$f":"IFERROR(VLOOKUP(A8,'Gruber Tabelle'!$A$6:$W$359,12,0),0)","v":0},{"$f":"IFERROR(VLOOKUP(A8,'Gruber Tabelle'!$A$6:$W$359,13,0),0)","v":0},{"$f":"IFERROR(VLOOKUP(A8,'Gruber Tabelle'!$A$6:$W$359,14,0),0)","v":0},{"$f":"IFERROR(VLOOKUP(A8,'Gruber Tabelle'!$A$6:$W$359,15,0),0)","v":0},{"$f":"IFERROR(VLOOKUP(A8,'Gruber Tabelle'!$A$6:$W$359,16,0),0)","v":0},{"$f":"IFERROR(VLOOKUP(A8,'Gruber Tabelle'!$A$6:$W$359,17,0),0)","v":0},{"$f":"IFERROR(VLOOKUP(A8,'Gruber Tabelle'!$A$6:$W$359,18,0),0)","v":0},{"$f":"IFERROR(VLOOKUP(A8,'Gruber Tabelle'!$A$6:$W$359,19,0),0)","v":0},{"$f":"IFERROR(VLOOKUP(A8,'Gruber Tabelle'!$A$6:$W$359,20,0),0)","v":0},{"$f":"IFERROR(VLOOKUP(A8,'Gruber Tabelle'!$A$6:$W$359,21,0),0)","v":0},{"$f":"IFERROR(VLOOKUP(A8,'Gruber Tabelle'!$A$6:$W$359,22,0),0)","v":0},{"$f":"IFERROR(VLOOKUP(A8,'Gruber Tabelle'!$A$6:$W$359,23,0),0)","v":0},{"$f":"IFERROR(VLOOKUP(A8,'Gruber Tabelle'!$A$6:$AE$359,25,0),0)","v":0},{"$f":"IFERROR(VLOOKUP(A8,'Gruber Tabelle'!$A$6:$AE$359,26,0),0)","v":0},{"$f":"IFERROR(VLOOKUP(A8,'Gruber Tabelle'!$A$6:$AE$359,27,0),0)","v":0},{"$f":"IFERROR(VLOOKUP(A8,'Gruber Tabelle'!$A$6:$AE$359,28,0),0)","v":0},{"$f":"IFERROR(VLOOKUP(A8,'Gruber Tabelle'!$A$6:$AE$359,29,0),0)","v":0},{"$f":"IFERROR(VLOOKUP(A8,'Gruber Tabelle'!$A$6:$AE$359,30,0),0)","v":0},{"$f":"IFERROR(VLOOKUP(A8,'Gruber Tabelle'!$A$6:$AE$359,31,0),0)","v":0}]
[null,{"$f":"IFERROR(VLOOKUP(A9,'Gruber Tabelle'!$A$6:$W$359,2,0),0)","v":0},null,null,null,null,{"$f":"IFERROR(VLOOKUP(A9,'Gruber Tabelle'!$A$6:$W$359,4,0),0)","v":0},{"$f":"IFERROR(VLOOKUP(A9,'Gruber Tabelle'!$A$6:$W$359,5,0),0)","v":0},{"$f":"IFERROR(VLOOKUP(A9,'Gruber Tabelle'!$A$6:$W$359,7,0),0)","v":0},{"$f":"IFERROR(VLOOKUP(A9,'Gruber Tabelle'!$A$6:$W$359,8,0),0)","v":0},{"$f":"IFERROR(VLOOKUP(A9,'Gruber Tabelle'!$A$6:$W$359,9,0)/100,0)","v":0},{"$f":"IFERROR(VLOOKUP(A9,'Gruber Tabelle'!$A$6:$W$359,10,0),0)","v":0},{"$f":"IFERROR(VLOOKUP(A9,'Gruber Tabelle'!$A$6:$W$359,11,0),0)","v":0},{"$f":"IFERROR(VLOOKUP(A9,'Gruber Tabelle'!$A$6:$W$359,12,0),0)","v":0},{"$f":"IFERROR(VLOOKUP(A9,'Gruber Tabelle'!$A$6:$W$359,13,0),0)","v":0},{"$f":"IFERROR(VLOOKUP(A9,'Gruber Tabelle'!$A$6:$W$359,14,0),0)","v":0},{"$f":"IFERROR(VLOOKUP(A9,'Gruber Tabelle'!$A$6:$W$359,15,0),0)","v":0},{"$f":"IFERROR(VLOOKUP(A9,'Gruber Tabelle'!$A$6:$W$359,16,0),0)","v":0},{"$f":"IFERROR(VLOOKUP(A9,'Gruber Tabelle'!$A$6:$W$359,17,0),0)","v":0},{"$f":"IFERROR(VLOOKUP(A9,'Gruber Tabelle'!$A$6:$W$359,18,0),0)","v":0},{"$f":"IFERROR(VLOOKUP(A9,'Gruber Tabelle'!$A$6:$W$359,19,0),0)","v":0},{"$f":"IFERROR(VLOOKUP(A9,'Gruber Tabelle'!$A$6:$W$359,20,0),0)","v":0},{"$f":"IFERROR(VLOOKUP(A9,'Gruber Tabelle'!$A$6:$W$359,21,0),0)","v":0},{"$f":"IFERROR(VLOOKUP(A9,'Gruber Tabelle'!$A$6:$W$359,22,0),0)","v":0},{"$f":"IFERROR(VLOOKUP(A9,'Gruber Tabelle'!$A$6:$W$359,23,0),0)","v":0},{"$f":"IFERROR(VLOOKUP(A9,'Gruber Tabelle'!$A$6:$AE$359,25,0),0)","v":0},{"$f":"IFERROR(VLOOKUP(A9,'Gruber Tabelle'!$A$6:$AE$359,26,0),0)","v":0},{"$f":"IFERROR(VLOOKUP(A9,'Gruber Tabelle'!$A$6:$AE$359,27,0),0)","v":0},{"$f":"IFERROR(VLOOKUP(A9,'Gruber Tabelle'!$A$6:$AE$359,28,0),0)","v":0},{"$f":"IFERROR(VLOOKUP(A9,'Gruber Tabelle'!$A$6:$AE$359,29,0),0)","v":0},{"$f":"IFERROR(VLOOKUP(A9,'Gruber Tabelle'!$A$6:$AE$359,30,0),0)","v":0},{"$f":"IFERROR(VLOOKUP(A9,'Gruber Tabelle'!$A$6:$AE$359,31,0),0)","v":0}]
[null,{"$f":"IFERROR(VLOOKUP(A10,'Gruber Tabelle'!$A$6:$W$359,2,0),0)","v":0},null,null,null,null,{"$f":"IFERROR(VLOOKUP(A10,'Gruber Tabelle'!$A$6:$W$359,4,0),0)","v":0},{"$f":"IFERROR(VLOOKUP(A10,'Gruber Tabelle'!$A$6:$W$359,5,0),0)","v":0},{"$f":"IFERROR(VLOOKUP(A10,'Gruber Tabelle'!$A$6:$W$359,7,0),0)","v":0},{"$f":"IFERROR(VLOOKUP(A10,'Gruber Tabelle'!$A$6:$W$359,8,0),0)","v":0},{"$f":"IFERROR(VLOOKUP(A10,'Gruber Tabelle'!$A$6:$W$359,9,0)/100,0)","v":0},{"$f":"IFERROR(VLOOKUP(A10,'Gruber Tabelle'!$A$6:$W$359,10,0),0)","v":0},{"$f":"IFERROR(VLOOKUP(A10,'Gruber Tabelle'!$A$6:$W$359,11,0),0)","v":0},{"$f":"IFERROR(VLOOKUP(A10,'Gruber Tabelle'!$A$6:$W$359,12,0),0)","v":0},{"$f":"IFERROR(VLOOKUP(A10,'Gruber Tabelle'!$A$6:$W$359,13,0),0)","v":0},{"$f":"IFERROR(VLOOKUP(A10,'Gruber Tabelle'!$A$6:$W$359,14,0),0)","v":0},{"$f":"IFERROR(VLOOKUP(A10,'Gruber Tabelle'!$A$6:$W$359,15,0),0)","v":0},{"$f":"IFERROR(VLOOKUP(A10,'Gruber Tabelle'!$A$6:$W$359,16,0),0)","v":0},{"$f":"IFERROR(VLOOKUP(A10,'Gruber Tabelle'!$A$6:$W$359,17,0),0)","v":0},{"$f":"IFERROR(VLOOKUP(A10,'Gruber Tabelle'!$A$6:$W$359,18,0),0)","v":0},{"$f":"IFERROR(VLOOKUP(A10,'Gruber Tabelle'!$A$6:$W$359,19,0),0)","v":0},{"$f":"IFERROR(VLOOKUP(A10,'Gruber Tabelle'!$A$6:$W$359,20,0),0)","v":0},{"$f":"IFERROR(VLOOKUP(A10,'Gruber Tabelle'!$A$6:$W$359,21,0),0)","v":0},{"$f":"IFERROR(VLOOKUP(A10,'Gruber Tabelle'!$A$6:$W$359,22,0),0)","v":0},{"$f":"IFERROR(VLOOKUP(A10,'Gruber Tabelle'!$A$6:$W$359,23,0),0)","v":0},{"$f":"IFERROR(VLOOKUP(A10,'Gruber Tabelle'!$A$6:$AE$359,25,0),0)","v":0},{"$f":"IFERROR(VLOOKUP(A10,'Gruber Tabelle'!$A$6:$AE$359,26,0),0)","v":0},{"$f":"IFERROR(VLOOKUP(A10,'Gruber Tabelle'!$A$6:$AE$359,27,0),0)","v":0},{"$f":"IFERROR(VLOOKUP(A10,'Gruber Tabelle'!$A$6:$AE$359,28,0),0)","v":0},{"$f":"IFERROR(VLOOKUP(A10,'Gruber Tabelle'!$A$6:$AE$359,29,0),0)","v":0},{"$f":"IFERROR(VLOOKUP(A10,'Gruber Tabelle'!$A$6:$AE$359,30,0),0)","v":0},{"$f":"IFERROR(VLOOKUP(A10,'Gruber Tabelle'!$A$6:$AE$359,31,0),0)","v":0}]
[null,{"$f":"IFERROR(VLOOKUP(A11,'Gruber Tabelle'!$A$6:$W$359,2,0),0)","v":0},null,null,null,null,{"$f":"IFERROR(VLOOKUP(A11,'Gruber Tabelle'!$A$6:$W$359,4,0),0)","v":0},{"$f":"IFERROR(VLOOKUP(A11,'Gruber Tabelle'!$A$6:$W$359,5,0),0)","v":0},{"$f":"IFERROR(VLOOKUP(A11,'Gruber Tabelle'!$A$6:$W$359,7,0),0)","v":0},{"$f":"IFERROR(VLOOKUP(A11,'Gruber Tabelle'!$A$6:$W$359,8,0),0)","v":0},{"$f":"IFERROR(VLOOKUP(A11,'Gruber Tabelle'!$A$6:$W$359,9,0)/100,0)","v":0},{"$f":"IFERROR(VLOOKUP(A11,'Gruber Tabelle'!$A$6:$W$359,10,0),0)","v":0},{"$f":"IFERROR(VLOOKUP(A11,'Gruber Tabelle'!$A$6:$W$359,11,0),0)","v":0},{"$f":"IFERROR(VLOOKUP(A11,'Gruber Tabelle'!$A$6:$W$359,12,0),0)","v":0},{"$f":"IFERROR(VLOOKUP(A11,'Gruber Tabelle'!$A$6:$W$359,13,0),0)","v":0},{"$f":"IFERROR(VLOOKUP(A11,'Gruber Tabelle'!$A$6:$W$359,14,0),0)","v":0},{"$f":"IFERROR(VLOOKUP(A11,'Gruber Tabelle'!$A$6:$W$359,15,0),0)","v":0},{"$f":"IFERROR(VLOOKUP(A11,'Gruber Tabelle'!$A$6:$W$359,16,0),0)","v":0},{"$f":"IFERROR(VLOOKUP(A11,'Gruber Tabelle'!$A$6:$W$359,17,0),0)","v":0},{"$f":"IFERROR(VLOOKUP(A11,'Gruber Tabelle'!$A$6:$W$359,18,0),0)","v":0},{"$f":"IFERROR(VLOOKUP(A11,'Gruber Tabelle'!$A$6:$W$359,19,0),0)","v":0},{"$f":"IFERROR(VLOOKUP(A11,'Gruber Tabelle'!$A$6:$W$359,20,0),0)","v":0},{"$f":"IFERROR(VLOOKUP(A11,'Gruber Tabelle'!$A$6:$W$359,21,0),0)","v":0},{"$f":"IFERROR(VLOOKUP(A11,'Gruber Tabelle'!$A$6:$W$359,22,0),0)","v":0},{"$f":"IFERROR(VLOOKUP(A11,'Gruber Tabelle'!$A$6:$W$359,23,0),0)","v":0},{"$f":"IFERROR(VLOOKUP(A11,'Gruber Tabelle'!$A$6:$AE$359,25,0),0)","v":0},{"$f":"IFERROR(VLOOKUP(A11,'Gruber Tabelle'!$A$6:$AE$359,26,0),0)","v":0},{"$f":"IFERROR(VLOOKUP(A11,'Gruber Tabelle'!$A$6:$AE$359,27,0),0)","v":0},{"$f":"IFERROR(VLOOKUP(A11,'Gruber Tabelle'!$A$6:$AE$359,28,0),0)","v":0},{"$f":"IFERROR(VLOOKUP(A11,'Gruber Tabelle'!$A$6:$AE$359,29,0),0)","v":0},{"$f":"IFERROR(VLOOKUP(A11,'Gruber Tabelle'!$A$6:$AE$359,30,0),0)","v":0},{"$f":"IFERROR(VLOOKUP(A11,'Gruber Tabelle'!$A$6:$AE$359,31,0),0)","v":0}]
[null,{"$f":"IFERROR(VLOOKUP(A12,'Gruber Tabelle'!$A$6:$W$359,2,0),0)","v":0},null,null,null,null,{"$f":"IFERROR(VLOOKUP(A12,'Gruber Tabelle'!$A$6:$W$359,4,0),0)","v":0},{"$f":"IFERROR(VLOOKUP(A12,'Gruber Tabelle'!$A$6:$W$359,5,0),0)","v":0},{"$f":"IFERROR(VLOOKUP(A12,'Gruber Tabelle'!$A$6:$W$359,7,0),0)","v":0},{"$f":"IFERROR(VLOOKUP(A12,'Gruber Tabelle'!$A$6:$W$359,8,0),0)","v":0},{"$f":"IFERROR(VLOOKUP(A12,'Gruber Tabelle'!$A$6:$W$359,9,0)/100,0)","v":0},{"$f":"IFERROR(VLOOKUP(A12,'Gruber Tabelle'!$A$6:$W$359,10,0),0)","v":0},{"$f":"IFERROR(VLOOKUP(A12,'Gruber Tabelle'!$A$6:$W$359,11,0),0)","v":0},{"$f":"IFERROR(VLOOKUP(A12,'Gruber Tabelle'!$A$6:$W$359,12,0),0)","v":0},{"$f":"IFERROR(VLOOKUP(A12,'Gruber Tabelle'!$A$6:$W$359,13,0),0)","v":0},{"$f":"IFERROR(VLOOKUP(A12,'Gruber Tabelle'!$A$6:$W$359,14,0),0)","v":0},{"$f":"IFERROR(VLOOKUP(A12,'Gruber Tabelle'!$A$6:$W$359,15,0),0)","v":0},{"$f":"IFERROR(VLOOKUP(A12,'Gruber Tabelle'!$A$6:$W$359,16,0),0)","v":0},{"$f":"IFERROR(VLOOKUP(A12,'Gruber Tabelle'!$A$6:$W$359,17,0),0)","v":0},{"$f":"IFERROR(VLOOKUP(A12,'Gruber Tabelle'!$A$6:$W$359,18,0),0)","v":0},{"$f":"IFERROR(VLOOKUP(A12,'Gruber Tabelle'!$A$6:$W$359,19,0),0)","v":0},{"$f":"IFERROR(VLOOKUP(A12,'Gruber Tabelle'!$A$6:$W$359,20,0),0)","v":0},{"$f":"IFERROR(VLOOKUP(A12,'Gruber Tabelle'!$A$6:$W$359,21,0),0)","v":0},{"$f":"IFERROR(VLOOKUP(A12,'Gruber Tabelle'!$A$6:$W$359,22,0),0)","v":0},{"$f":"IFERROR(VLOOKUP(A12,'Gruber Tabelle'!$A$6:$W$359,23,0),0)","v":0},{"$f":"IFERROR(VLOOKUP(A12,'Gruber Tabelle'!$A$6:$AE$359,25,0),0)","v":0},{"$f":"IFERROR(VLOOKUP(A12,'Gruber Tabelle'!$A$6:$AE$359,26,0),0)","v":0},{"$f":"IFERROR(VLOOKUP(A12,'Gruber Tabelle'!$A$6:$AE$359,27,0),0)","v":0},{"$f":"IFERROR(VLOOKUP(A12,'Gruber Tabelle'!$A$6:$AE$359,28,0),0)","v":0},{"$f":"IFERROR(VLOOKUP(A12,'Gruber Tabelle'!$A$6:$AE$359,29,0),0)","v":0},{"$f":"IFERROR(VLOOKUP(A12,'Gruber Tabelle'!$A$6:$AE$359,30,0),0)","v":0},{"$f":"IFERROR(VLOOKUP(A12,'Gruber Tabelle'!$A$6:$AE$359,31,0),0)","v":0}]
[null,{"$f":"IFERROR(VLOOKUP(A13,'Gruber Tabelle'!$A$6:$W$359,2,0),0)","v":0},null,null,null,null,{"$f":"IFERROR(VLOOKUP(A13,'Gruber Tabelle'!$A$6:$W$359,4,0),0)","v":0},{"$f":"IFERROR(VLOOKUP(A13,'Gruber Tabelle'!$A$6:$W$359,5,0),0)","v":0},{"$f":"IFERROR(VLOOKUP(A13,'Gruber Tabelle'!$A$6:$W$359,7,0),0)","v":0},{"$f":"IFERROR(VLOOKUP(A13,'Gruber Tabelle'!$A$6:$W$359,8,0),0)","v":0},{"$f":"IFERROR(VLOOKUP(A13,'Gruber Tabelle'!$A$6:$W$359,9,0)/100,0)","v":0},{"$f":"IFERROR(VLOOKUP(A13,'Gruber Tabelle'!$A$6:$W$359,10,0),0)","v":0},{"$f":"IFERROR(VLOOKUP(A13,'Gruber Tabelle'!$A$6:$W$359,11,0),0)","v":0},{"$f":"IFERROR(VLOOKUP(A13,'Gruber Tabelle'!$A$6:$W$359,12,0),0)","v":0},{"$f":"IFERROR(VLOOKUP(A13,'Gruber Tabelle'!$A$6:$W$359,13,0),0)","v":0},{"$f":"IFERROR(VLOOKUP(A13,'Gruber Tabelle'!$A$6:$W$359,14,0),0)","v":0},{"$f":"IFERROR(VLOOKUP(A13,'Gruber Tabelle'!$A$6:$W$359,15,0),0)","v":0},{"$f":"IFERROR(VLOOKUP(A13,'Gruber Tabelle'!$A$6:$W$359,16,0),0)","v":0},{"$f":"IFERROR(VLOOKUP(A13,'Gruber Tabelle'!$A$6:$W$359,17,0),0)","v":0},{"$f":"IFERROR(VLOOKUP(A13,'Gruber Tabelle'!$A$6:$W$359,18,0),0)","v":0},{"$f":"IFERROR(VLOOKUP(A13,'Gruber Tabelle'!$A$6:$W$359,19,0),0)","v":0},{"$f":"IFERROR(VLOOKUP(A13,'Gruber Tabelle'!$A$6:$W$359,20,0),0)","v":0},{"$f":"IFERROR(VLOOKUP(A13,'Gruber Tabelle'!$A$6:$W$359,21,0),0)","v":0},{"$f":"IFERROR(VLOOKUP(A13,'Gruber Tabelle'!$A$6:$W$359,22,0),0)","v":0},{"$f":"IFERROR(VLOOKUP(A13,'Gruber Tabelle'!$A$6:$W$359,23,0),0)","v":0},{"$f":"IFERROR(VLOOKUP(A13,'Gruber Tabelle'!$A$6:$AE$359,25,0),0)","v":0},{"$f":"IFERROR(VLOOKUP(A13,'Gruber Tabelle'!$A$6:$AE$359,26,0),0)","v":0},{"$f":"IFERROR(VLOOKUP(A13,'Gruber Tabelle'!$A$6:$AE$359,27,0),0)","v":0},{"$f":"IFERROR(VLOOKUP(A13,'Gruber Tabelle'!$A$6:$AE$359,28,0),0)","v":0},{"$f":"IFERROR(VLOOKUP(A13,'Gruber Tabelle'!$A$6:$AE$359,29,0),0)","v":0},{"$f":"IFERROR(VLOOKUP(A13,'Gruber Tabelle'!$A$6:$AE$359,30,0),0)","v":0},{"$f":"IFERROR(VLOOKUP(A13,'Gruber Tabelle'!$A$6:$AE$359,31,0),0)","v":0}]
["Nr ","Futterart","Anteil in %","TS %","TM kg","FM kg","XF  g","aNDFom","CP g","nxP g","UDP %","RNB","Nel MJ","ME MJ","ST+ZU","bST","CL","Ca","P","Mg","Na","K","Cl","S","Preis","Fe","Cu","Zn","Mn","Co","J","Se"]
[{"$f":"A4","v":0},0,null,{"$f":"IFERROR(VLOOKUP(A4,'Gruber Tabelle'!$A$6:$W$359,3,0)/1000,0)","v":0},{"$f":"IF(F15>0,F15*D15,0)","v":0},{"$f":"IF(C15>0,(1*C15),0)","v":0},{"$f":"IF(G4>0,(G4*C15)*D15,0)","v":0},{"$f":"IF(H4>0,(H4*C15)*D15,0)","v":0},{"$f":"IF(I4>0,(I4*C15)*D15,0)","v":0},{"$f":"IF(J4>0,(J4*C15)*D15,0)","v":0},{"$f":"IF(K4>0,(I4*K4)*E15,0)","v":0},{"$f":"IFERROR(SUM((I15-J15)/6.25),0)","v":0},{"$f":"IF(M4>0,(M4*C15)*D15,0)","v":0},{"$f":"IF(N4>0,(N4*C15)*D15,0)","v":0},{"$f":"IF(O4>0,(O4*C15)*D15,0)","v":0},{"$f":"IF(P4>0,(P4*C15)*D15,0)","v":0},{"$f":"IF(Q4>0,(Q4*C15)*D15,0)","v":0},{"$f":"IF(R4>0,(R4*C15)*D15,0)","v":0},{"$f":"IF(S4>0,(S4*C15)*D15,0)","v":0},{"$f":"IF(T4>0,(T4*C15)*D15,0)","v":0},{"$f":"IF(U4>0,(U4*C15)*D15,0)","v":0},{"$f":"IF(V4>0,(V4*C15)*D15,0)","v":0},{"$f":"IF(W4>0,(W4*C15)*D15,0)","v":0},{"$f":"IF(X4>0,(X4*C15)*D15,0)","v":0},{"$f":"IF(C15>0,Y4*F15/100,0)","v":0},{"$f":"IF(Z4>0,(Z4*C15)*D15,0)","v":0},{"$f":"IF(AA4>0,(AA4*C15)*D15,0)","v":0},{"$f":"IF(AB4>0,(AB4*C15)*D15,0)","v":0},{"$f":"IF(AC4>0,(AC4*C15)*D15,0)","v":0},{"$f":"IF(AD4>0,(AD4*C15)*D15,0)","v":0},{"$f":"IF(AE4>0,(AE4*C15)*D15,0)","v":0},{"$f":"IF(AF4>0,(AF4*C15)*D15,0)","v":0}]
[0,0,null,{"$f":"IFERROR(VLOOKUP(A5,'Gruber Tabelle'!$A$6:$W$359,3,0)/1000,0)","v":0},{"$f":"IF(F16>0,F16*D16,0)","v":0},{"$f":"IF(C16>0,(1*C16),0)","v":0},{"$f":"IF(G5>0,(G5*C16)*D16,0)","v":0},{"$f":"IF(H5>0,(H5*C16)*D16,0)","v":0},{"$f":"IF(I5>0,(I5*C16)*D16,0)","v":0},{"$f":"IF(J5>0,(J5*C16)*D16,0)","v":0},{"$f":"IF(K5>0,(I5*K5)*E16,0)","v":0},0,{"$f":"IF(M5>0,(M5*C16)*D16,0)","v":0},{"$f":"IF(N5>0,(N5*C16)*D16,0)","v":0},{"$f":"IF(O5>0,(O5*C16)*D16,0)","v":0},{"$f":"IF(P5>0,(P5*C16)*D16,0)","v":0},{"$f":"IF(Q5>0,(Q5*C16)*D16,0)","v":0},{"$f":"IF(R5>0,(R5*C16)*D16,0)","v":0},{"$f":"IF(S5>0,(S5*C16)*D16,0)","v":0},{"$f":"IF(T5>0,(T5*C16)*D16,0)","v":0},{"$f":"IF(U5>0,(U5*C16)*D16,0)","v":0},{"$f":"IF(V5>0,(V5*C16)*D16,0)","v":0},{"$f":"IF(W5>0,(W5*C16)*D16,0)","v":0},{"$f":"IF(X5>0,(X5*C16)*D16,0)","v":0},0,{"$f":"IF(Z5>0,(Z5*C16)*D16,0)","v":0},{"$f":"IF(AA5>0,(AA5*C16)*D16,0)","v":0},{"$f":"IF(AB5>0,(AB5*C16)*D16,0)","v":0},{"$f":"IF(AC5>0,(AC5*C16)*D16,0)","v":0},{"$f":"IF(AD5>0,(AD5*C16)*D16,0)","v":0},{"$f":"IF(AE5>0,(AE5*C16)*D16,0)","v":0},{"$f":"IF(AF5>0,(AF5*C16)*D16,0)","v":0}]
[0,0,null,{"$f":"IFERROR(VLOOKUP(A6,'Gruber Tabelle'!$A$6:$W$359,3,0)/1000,0)","v":0},0,0,0,0,0,0,0,0,0,0,0,0,0,0,0,0,0,0,0,0,0,0,0,0,0,0,0,0]
[0,0,null,{"$f":"IFERROR(VLOOKUP(A7,'Gruber Tabelle'!$A$6:$W$359,3,0)/1000,0)","v":0},0,0,0,0,0,0,0,0,0,0,0,0,0,0,0,0,0,0,0,0,0,0,0,0,0,0,0,0]
[0,0,null,{"$f":"IFERROR(VLOOKUP(A8,'Gruber Tabelle'!$A$6:$W$359,3,0)/1000,0)","v":0},0,0,0,0,0,0,0,0,0,0,0,0,0,0,0,0,0,0,0,0,0,0,0,0,0,0,0,0]
[0,0,null,{"$f":"IFERROR(VLOOKUP(A9,'Gruber Tabelle'!$A$6:$W$359,3,0)/1000,0)","v":0},0,0,0,0,0,0,0,0,0,0,0,0,0,0,0,0,0,0,0,0,0,0,0,0,0,0,0,0]
[0,0,null,{"$f":"IFERROR(VLOOKUP(A10,'Gruber Tabelle'!$A$6:$W$359,3,0)/1000,0)","v":0},0,0,0,0,0,0,0,0,0,0,0,0,0,0,0,0,0,0,0,0,0,0,0,0,0,0,0,0]
[0,0,null,{"$f":"IFERROR(VLOOKUP(A11,'Gruber Tabelle'!$A$6:$W$359,3,0)/1000,0)","v":0},0,0,0,0,0,0,0,0,0,0,0,0,0,0,0,0,0,0,0,0,0,0,0,0,0,0,0,0]
[0,0,null,{"$f":"IFERROR(VLOOKUP(A12,'Gruber Tabelle'!$A$6:$W$359,3,0)/1000,0)","v":0},0,0,0,0,0,0,0,0,0,0,0,0,0,0,0,0,0,0,0,0,0,0,0,0,0,0,0,0]
[0,0,null,{"$f":"IFERROR(VLOOKUP(A13,'Gruber Tabelle'!$A$6:$W$359,3,0)/1000,0)","v":0},0,0,0,0,0,0,0,0,0,0,0,0,0,0,0,0,0,0,0,0,0,0,0,0,0,0,0,0]
[null,"Summe je kg FM:",{"$f":"SUM(C15:C24)","v":0},null,{"$f":"SUM(E15:E24)","v":0},{"$f":"SUM(F15:F24)","v":0},0,0,0,0,0,0,0,0,0,0,0,0,0,0,0,0,0,0,0,{"$f":"SUM(Z15:Z24)","v":0},{"$f":"SUM(AA15:AA24)","v":0},0,0,0,0,0]
["Milcherzeugungswerte / Kennzahlen",null,null,null,null,null,null,{"$f":"IF(C25=100%,H25/1000,0)","v":0},{"$f":"IFERROR(I25/Einstellung!E16,0)","v":0},{"$f":"IFERROR(J25/Einstellung!E16,0)","v":0},{"$f":"IF(K25>0,K25/I25,0)","v":0},{"$f":"IF(C25=100%,(I25-J25)/6.25,0)","v":0},{"$f":"IFERROR(M25/Einstellung!F15,0)","v":0},"Mengenelem. f. kg Milch:",null,null,null,{"$f":"IF(R25>0,R25/Einstellung!D23,0)","v":0},{"$f":"IF(S25>0,S25/Einstellung!E23,0)","v":0},{"$f":"IF(T25>0,T25/Einstellung!F23,0)","v":0},{"$f":"IF(U25>0,U25/Einstellung!G23,0)","v":0},null,null,null,{"$f":"IFERROR(Y25/M26,0)","v":0}]

{"sheet":"Gruber Tabelle","index":4,"n_rows":353,"n_cols":31,"rows_kept":353,"cut":false,"hidden":false,"merged":[[0,0,0,1],[0,24,0,30],[1,24,1,30],[2,24,2,30],[1,2,1,6],[2,2,3,2],[2,3,2,21],[1,7,1,23],[3,23,4,23],[1,0,4,1]]}
["Ration"]
[null,null,"www.LfL.bayern.de",null,null,null,null,"Gruber Tabelle zur Fütterung der Milchkühe – Zuchtrinder – Mastrinder – Schafe – Ziegen"]
[null,null,"TM","in 1000 g Trockenmasse ( TM )",null,null,null,null,null,null,null,null,null,null,null,null,null,null,null,null,null,null,"Preis","Typ","Spurenelemente mg / kg TM"]
[null,null,null,"XF","aNDF","ADF","CP","nxP","UDP","RNB","NEL","ME","ST+ZU","bST","CL","Ca","P","Mg","Na","K","Cl","S","FM",null,"Fe","Cu","Zn","Mn","Co","J","Se"]
[null,null,"g","g","om g","om g","g","g","%","g","MJ","MJ","g","g","g","g","g","g","g","g","g","g","€ / dt",null,"mg","mg","mg","mg","mg","mg","mg"]
[null,"10.1 Grünfutter",null,null,null,null,null,null,null,{"$f":"(G6-H6)/6.25","v":0}]
[null,"Wiesengras 1. Schnitt",null,null,null,null,null,null,null,{"$f":"(G7-H7)/6.25","v":0}]
[1013,"Blattstadium",150,170,380,204,215,152,10,{"$f":"(G8-H8)/6.25","v":10.08},7.06,11.52,100,null,38,5.5,3.6,2,1.3,26,7,2.2000000000000002,null,"GF"]
[1014,"Schossen",160,205,430,224,195,144,10,8.16,6.7,11.05,100,null,39,5.5,3.6,2,1.3,26,7,2.2000000000000002,null,"GF",200,8.5,40,70,0.1,0.4,0.02]
[1015,"Rispenschieben",180,240,490,272,175,142,15,5.28,6.33,10.55,100,null,35,5.5,3.6,2.1,0.7,26,9,2.2000000000000002,0,"GF"]
[1016,"Beginn Blüte",200,278,550,291,155,133,15,3.52,5.93,9.99,70,null,31,4.8,3.5,1.9,0.7,27,10.5,2.2000000000000002,0,"GF",200,7,35,75,0.1,0.4,0.02]
[1017,"Ende Blüte",220,312,600,306,140,127,15,2.08,5.67,9.6300000000000008,60,null,29,3.8,3.3,1.8,0.7,27,4,1.3,0,"GF",200,6.5,23,85,0.1,0.4,0.01]
[1018,null,null,null,null,null,null,null,null,0,null,null,null,null,null,null,null,null,null,null,null,null,null,"GF"]
[null,"Wiesengras 2. u. folg. Schnitte",null,null,null,null,null,null,null,0]
[1023,"Blattstadium",160,165,380,221,235,149,10,13.76,6.74,11.12,100,null,37,11,4,3.5,0.6,26,5,2,null,"GF",200,9,40,80,0.1,0.4,0.04]
[1024,"Schossen",170,205,435,245,180,136,10,7.04,6.28,10.47,100,null,38,10,3.1,3.2,0.8,23,5,2.5,null,"GF",200,10,40,80,0.1,0.4,0.04]
[1025,"Rispenschieben",180,240,490,259,172,137,15,5.6,6.02,10.11,100,null,35,8.1,3.5,2.8,0.9,24,5,1.8,null,"GF",200,7.5,40,75,0.1,0.4,0.03]
[1026,"Beginn Blüte",200,275,545,281,150,130,15,3.2,5.78,9.7799999999999994,100,null,32,6.2,3.6,2.2000000000000002,0.9,24,5,2.4,null,"GF",200,7,40,70,0.1,0.4,0.02]
[1027,null,null,null,null,null,null,null,null,0,null,null,null,null,null,null,null,null,null,null,null,null,null,"GF"]
[null,"Rotklee 1. Schnitt",null,null,null,null,null,null,null,0]
[1614,"vor der Knospe",150,192,420,245,210,155,20,8.8000000000000007,6.37,10.57,70,null,40,16,2.9,3.6,0.4,32,6,2.6,null,"GF",150,11,40,42,0.1,0.4,0.1]
[1615,"in der Knospe",180,240,490,285,180,142,20,6.08,5.89,9.91,80,null,35,15,2.5,3.6,0.4,24,6,2.5,null,"GF",150,11,44,40,0.1,0.4,0.1]
[1616,"Mitte der Blüte",200,282,555,325,160,131,20,4.6399999999999997,5.47,9.31,80,null,29,13,2.5,3.6,0.3,22,6,2.5,null,"GF",150,10,44,40,0.4,0.1,0.1]
[1617,null,null,null,null,null,null,null,null,0,null,null,null,null,null,null,null,null,null,null,null,null,null,"GF"]
[null,"Rotklee 2. u. folg. Schnitte",null,null,null,null,null,null,null,0]
[1624,"vor der Knospe",140,201,430,255,219,152,20,10.72,6.03,10.11,80,null,38,17,2.8,3.6,1.4,24,7.6,1.8,null,"GF",150,10,47,45,0.1,0.4,0.1]
[1625,"in der Knospe",160,238,485,285,190,140,20,8,5.65,9.59,70,null,34,17,3,4,1.5,29,5.4,3.7,null,"GF",150,12,44,42,0.1,0.4,0.1]
[1626,"Mitte der Blüte",180,274,540,315,165,130,20,5.6,5.31,9.11,80,null,33,15,3,3,1.2,28,5,2,null,"GF",150,10,44,40,0.1,0.4,0.1]
[1627,null,null,null,null,null,null,null,null,0,null,null,null,null,null,null,null,null,null,null,null,null,null,"GF"]
[null,"Kleegras  1. Schnitt",null,null,null,null,null,null,null,0]
[1633,"vor der Knospe",150,185,405,240,230,156,15,11.84,6.73,11.05,80,null,34,13,4.5,2.4,0.3,36,5,2,null,"GF",200,9,50,60,0.1,0.4,0.02]
[1634,"in der Knospe",160,222,460,270,215,149,15,10.56,6.37,10.58,80,null,31,10,4.4000000000000004,2.2999999999999998,0.5,35,5,2,null,"GF",200,9,50,60,0.1,0.4,0.02]
[1636,"Mitte der Blüte",200,295,575,335,170,136,20,5.44,5.63,9.56,80,null,26,7,3.5,2,0.3,30,4,2,null,"GF",200,8,50,70,0.1,0.4,0.02]
[1637,null,null,null,null,null,null,null,null,0,null,null,null,null,null,null,null,null,null,null,null,null,null,"GF"]
[null,"Kleegras 2. u. folg. Schnitte",null,null,null,null,null,null,null,0]
[1644,"vor der Knospe",160,205,430,255,215,146,15,11.04,6.18,10.32,70,null,33,12,4.0999999999999996,3.1,0.7,35,2,2,null,"GF",200,9,55,60,0.1,0.4,0.02]
[1645,"Knospe",170,240,490,285,205,140,15,10.4,5.9,9.94,70,null,32,11,3.8,2.5,0.4,33,2,2,null,"GF",200,9,55,55,0.1,0.4,0.02]
[1646,"Mitte der Blüte",180,280,550,320,170,134,20,5.76,5.47,9.33,70,null,31,8,4,2,0.3,35,5,2,null,"GF",200,8,55,50,0.1,0.4,0.02]
[1647,null,null,null,null,null,null,null,null,0,null,null,null,null,null,null,null,null,null,null,null,null,null,"GF"]
[1655,"Jurakleegras 1.Schn.Beg.Blü.",170,245,500,290,185,139,15,{"$f":"(G40-H40)/6.25","v":7.36},6.03,10.1,50,null,30,10,3.7,1.9,0.8,35,6,2,null,"GF",200,9,50,60,0.1,0.4,0.1]
[1656,null,null,null,null,null,null,null,null,0,null,null,null,null,null,null,null,null,null,null,null,null,null,"GF"]
[null,"Luzerne 1.Schnitt",null,null,null,null,null,null,null,0]
[1714,"Knospe",180,228,470,275,216,139,15,12.32,5.74,9.69,15,null,31,18,3,3.2,0.5,30,6,4.5999999999999996,null,"GF",150,10,33,34,0.2,0.3,0.1]
[1715,"Beginn Blüte",200,276,545,315,188,137,20,8.16,5.45,9.31,25,null,30,20,2.8,2.7,1,26,6.7,4.5,null,"GF",150,11,24,37,0.2,0.3,0.1]
[1716,"Ende Blüte",210,325,620,360,169,132,25,5.92,5,8.66,54,null,28,17,2.7,2.5,1,28,6,3,null,"GF",150,10,30,35,0.2,0.3,0.1]
[1717,null,null,null,null,null,null,null,null,0,null,null,null,null,null,null,null,null,null,null,null,null,null,"GF"]
[null,"Luzerne 2. u. folg. Schnitte",null,null,null,null,null,null,null,0]
[1724,"Knospe",180,231,475,280,222,141,15,12.96,5.79,9.8000000000000007,40,null,40,18,3.1,2.8,0.5,28,3,2,null,"GF",150,12,20,36,0.2,0.3,0.1]
[1725,"Beginn Blüte",200,277,545,320,198,139,20,9.44,5.44,9.31,35,null,31,18,2.8,2.7,0.7,24,3.6,3.3,null,"GF",150,12,24,45,0.2,0.3,0.1]
[1726,"Ende Blüte",200,331,625,365,189,130,20,9.44,4.97,8.65,35,null,31,16,2.4,2.2000000000000002,0.4,21,4,3,null,"GF",150,10,30,40,0.2,0.3,0.1]
[1727,null,null,null,null,null,null,null,null,0,null,null,null,null,null,null,null,null,null,null,null,null,null,"GF"]
[null,"Luzernegras 1. Schnitt",null,null,null,null,null,null,null,0]
[1734,"vor der Knospe",150,225,455,265,205,144,15,9.76,6.17,10.31,9,null,35,9,3.5,2.2000000000000002,0.3,34,2,2,null,"GF",200,8,40,60,0.1,0.4,0.05]
[1735,"Knospe",170,265,515,300,180,135,15,7.2,5.83,9.85,29,null,32,9,3.3,2.1,0.3,30,2,2,null,"GF",200,8,40,60,0.1,0.4,0.05]
[1736,"Mitte der Blüte",200,305,590,345,160,125,15,5.6,5.39,9.2100000000000009,70,null,28,7,3.2,2,0.3,30,2,2,null,"GF",200,8,40,60,0.1,0.4,0.05]
[1737,null,null,null,null,null,null,null,null,0,null,null,null,null,null,null,null,null,null,null,null,null,null,"GF"]
[null,"Luzernegras 2. u. folg. Schnitte",null,null,null,null,null,null,null,0]
[1744,"vor der Knospe",170,225,460,270,215,142,15,11.68,5.92,9.9499999999999993,9,null,36,12,3.7,2,0.3,35,2,2.5,null,"GF",200,9,40,50,0.1,0.4,0.08]
[1745,"Knospe",180,260,520,305,195,136,15,9.44,5.7,9.67,29,null,34,12,3.4,2.5,0.3,32,2,2,null,"GF",200,8,40,50,0.1,0.4,0.08]
[1746,"Mitte der Blüte",200,300,580,340,180,128,15,8.32,5.39,9.23,70,null,32,11,3.2,2.1,0.3,30,2,2,null,"GF",200,7,40,50,0.1,0.4,0.08]
[1747,null,null,null,null,null,null,null,null,{"$f":"(G61-H61)/6.25","v":0},null,null,null,null,null,null,null,null,null,null,null,null,null,"GF"]
[1665,"Alexandrinerklee gr. Beg. Blüte",125,237,485,285,200,149,25,{"$f":"(G62-H62)/6.25","v":8.16},5.65,9.56,80,null,43,16,3.9,3.2,1.3,33,6,2,null,"GF",150,9,55,60,0.1,0.4,0.1]
[1685,"Perserklee",118,218,455,265,203,143,20,9.6,5.71,9.6,80,null,24,16,3.5,2,1.4,28,6,2,null,"GF",150,9,50,60,0.1,0.4,0.1]
[null,"Weidelgras 1. Schnitt",null,null,null,null,null,null,null,0]
[1814,"Schossen",150,200,425,222,195,151,15,7.04,6.77,11.11,150,null,41,6,3.5,1.6,1.8,27,6,1.5,null,"GF",150,9,40,80,0.1,0.4,0.1]
[1815,"Ährenschieben",170,235,490,241,165,140,15,4,6.33,10.5,150,null,37,5,3.2,1.6,2.5,19,6,2,null,"GF",150,80,40,60,0.1,0.4,0.1]
[1816,"Beginn Blüte",180,290,550,300,125,123,15,0.32,5.63,9.5299999999999994,150,null,31,4.5,2.1,1.5,1.5,12,6,2,null,"GF",150,80,40,60,0.1,0.4,0.1]
[1817,null,null,null,null,null,null,null,null,0,null,null,null,null,null,null,null,null,null,null,null,null,null,"GF"]
[null,"Weidelgras 2. u. folg. Schnitte",null,null,null,null,null,null,null,0]
[1824,"Schossen",160,200,430,236,195,141,15,8.64,6.09,10.16,150,null,33,6,3.7,2.1,1.3,31,5,2,null,"GF",150,9,60,70,0.1,0.4,0.1]
[1825,"Ährenschieben",170,240,500,265,175,135,15,6.4,5.88,9.9,150,null,36,5.5,3.5,2,1.3,28,5,2,null,"GF",150,8,50,60,0.1,0.4,0.1]
[1826,"Beginn Blüte",180,285,560,279,140,125,15,2.4,5.56,9.4499999999999993,150,null,27,5,3,1.5,1.3,25,5,2,null,"GF",150,8,50,60,0.1,0.4,0.1]
[1827,null,null,null,null,null,null,null,null,{"$f":"(G73-H73)/6.25","v":0},null,null,null,null,null,null,null,null,null,null,null,null,null,"GF"]
[1865,"Landsb.Gemenge Beg.Ähren.",170,220,460,270,194,140,15,8.64,6.01,10.09,80,null,30,8.5,3,1.8,0.5,27,5,2,null,"GF",150,8,50,80,0.1,0.4,0.1]
[1866,"Landsb.Gemenge Beg.Blüte",190,271,535,315,161,127,15,5.44,5.52,9.3800000000000008,80,null,28,6,3,1.6,0.5,25,5,2,null,"GF",150,8,40,60,0.1,0.4,0.1]
[1867,null,null,null,null,null,null,null,null,0,null,null,null,null,null,null,null,null,null,null,null,null,null,"GF"]
[1125,"Gerste im Ährenschieben",240,260,520,305,143,146,20,-0.48,6.65,11,197,10,47,3.3,2.9,1.5,0.2,18,9,2,null,"GF",200,8,40,50,0.1,0.4,0.02]
[null,"Grünhafer",null,null,null,null,null,null,null,0]
[1144,null,null,null,null,null,null,null,null,0,null,null,null,null,null,null,null,null,null,null,null,null,null,"GF"]
[1145,"Rispenschieben",220,260,520,305,142,135,15,1.1200000000000001,6.26,10.4,150,null,31,3.9,4.2,1.7,1.7,28,9,2,null,"GF",200,8,40,50,0.1,0.4,0.02]
[1146,null,null,null,null,null,null,null,null,0,null,null,null,null,null,null,null,null,null,null,null,null,null,"GF"]
[1164,"Grünroggen im Schossen",220,230,460,270,185,152,15,5.28,6.94,11.33,120,null,41,7.5,6.6,1.6,1,28,9,2,null,"GF"]
[1165,"Grünroggen im Ährenschieben",220,285,555,325,150,138,15,1.92,6.34,10.53,120,null,35,3.4,4.3,1.3,0.5,28,9,2,null,"GF",200,8,40,50,0.1,0.4,0.02]
[1166,null,null,null,null,null,null,null,null,0,null,null,null,null,null,null,null,null,null,null,null,null,null,"GF"]
[1305,"Ackerbohnen",180,306,590,345,174,121,10,8.48,5.34,9.19,40,null,33,15.5,3.5,3.3,2,23,2,2,null,"GF",200,9,50,60,0.1,0.4,0.1]
[null,"Hülsenfruchtgemenge",null,null,null,null,null,null,null,0]
[1314,"Knospe",120,217,455,265,204,141,15,10.08,6,10.029999999999999,40,null,40,7,4,1.8,0.4,30,2,2,null,"GF",200,9,50,60,0.1,0.4,0.1]
[1315,"Beginn der Blüte",140,260,510,300,180,133,15,7.52,5.72,9.67,40,null,33,7,4,1.8,0.4,30,2,3,null,"GF",200,9,50,60,0.1,0.4,0.1]
[1316,"Ende der Blüte",200,300,610,355,160,124,15,5.76,5.28,9.06,40,null,30,7,4,2,0.3,28,2,2,null,"GF",200,9,50,60,0.1,0.4,0.1]
[1317,null,null,null,null,null,null,null,null,0,null,null,null,null,null,null,null,null,null,null,null,null,null,"GF"]
[null,"Erbs-Wick-Gemenge ",null,null,null,null,null,null,null,0]
[1334,"Knospe",120,205,425,250,200,146,15,8.64,6.36,10.54,40,null,40,9.5,5,2.2999999999999998,0.3,30,2,3,null,"GF",200,9,50,60,0.1,0.4,0.1]
[1335,"Beginn der Blüte",150,245,490,285,175,138,15,5.92,6.06,10.15,40,null,33,11,4.5999999999999996,2.6,0.5,30,2,2,null,"GF",200,9,50,60,0.1,0.4,0.1]
[1336,"Ende der Blüte",180,280,550,320,165,130,15,5.6,5.64,9.57,40,null,30,8,4,1.4,0.3,30,2,2,null,"GF",200,9,50,60,0.1,0.4,0.1]
[1337,null,null,null,null,null,null,null,null,0,null,null,null,null,null,null,null,null,null,null,null,null,null,"GF"]
[1355,"Hülsenfr.-Sonnenbl.gem.",180,250,515,300,160,133,15,4.32,5.89,9.93,30,null,38,12,3,2.2000000000000002,0.3,28,1.6,2.2999999999999998,null,"GF",200,9,35,60,0.1,0.4,0.1]
[1455,"Sonnenblumen Beg. Blüte",180,220,450,260,135,122,15,2.08,5.45,9.23,126,null,25,14,4.4000000000000004,2.2999999999999998,0,30,9,4,null,"GF",200,8,50,60,0.1,0.4,0.1]
[1424,"Raps jung, blattreich",120,130,315,185,210,153,15,9.1199999999999992,6.76,11.02,110,null,37,17,4.5,2.6,1.3,32,11,7,null,7,200,7,22,95,0.1,0.4,0.1]
[1425,"Raps alt, stengelreich",140,160,375,220,190,143,15,7.52,6.31,10.39,80,null,38,19,5,2.6,1.4,32,11,7,null,"GF",200,0.7,22,95,0.1,0.4,0.1]
[1435,"Perko",100,127,320,190,216,145,15,11.36,6.27,10.23,110,null,38,13,6,1.2,1.1000000000000001,30,9,4,null,"GF",200,8,50,60,0.1,0.4,0.1]
[1436,null,null,null,null,null,null,null,null,0,null,null,null,null,null,null,null,null,null,null,null,null,null,"GF"]
[1444,"Rübsen jung, blattreich",110,107,290,170,180,148,15,5.12,6.84,11.02,90,null,42,16,3.6,2.4,0.9,30,9,4,null,"GF",200,8,50,60,0.1,0.4,0.1]
[1445,"Rübsen alt, stengelreich",120,146,350,205,189,146,15,6.88,6.62,10.74,70,null,37,16,4.5999999999999996,2.7,1.4,30,9,4,null,"GF",200,8,50,60,0.1,0.4,0.1]
[1465,"Senf vor der Blüte",140,210,430,250,215,138,15,12.32,5.74,9.6199999999999992,110,null,26,15.5,4,3.4,0,25,9,4,null,"GF",200,8,50,60,0.1,0.4,0.1]
[1505,"Zuckerrübenblatt",160,109,295,175,160,139,15,3.36,6.44,10.46,220,null,21,12.4,2.5,4.8,9.5,35,15,5.2,null,"GF",250,11.5,72,179,0.4,0.8,0.1]
[1555,"Futterrübenblatt",120,114,300,180,138,126,15,1.92,5.86,9.6300000000000008,100,null,22,20,2.5,6.1,6.1,45,13.3,6.2,null,"GF",250,8.3000000000000007,50,130,0.3,0.8,0.1]
[1885,"Sudangras/Zuckerhirse grün",200,280,600,350,105,116,15,-1.76,5.36,9.1300000000000008,60,null,27,5,2,4,0.8,25,4,1.5,null,"GF",200,6.5,25,85,0.1,0.4,0.01]
[null,"Grünmais",null,null,null,null,null,null,null,0]
[1203,"Kolbenbildung",240,265,460,300,85,130,25,-7.2,6.35,10.54,210,9,23,2.8,2.6,1.5,0.2,15,1,1,null,"GF"]
[1204,"Milchreife",260,230,410,275,82,132,25,-8,6.54,10.8,260,28,23,2.2000000000000002,2.4,1.2,0.3,12,1.2,1,null,"GF",150,4.5,30,22,0.1,0.3,0.02]
[1205,"Teigreife",300,205,413,260,81,135,25,-8.64,6.77,11.13,320,46,30,2.1,2.2999999999999998,1.3,0.3,12,1.2,1,null,"GF",100,4,35,30,0.1,0.3,0.02]
[1206,"Wachsreife",340,180,390,235,80,135,25,{"$f":"(G112-H112)/6.25","v":-8.8000000000000007},6.83,11.21,390,69,28,1.9,2.6,1.3,0.4,12,1.2,1,null,"GF",100,4,22,30,0.1,0.3,0.02]
[null,"10.2  Silagen",null,null,null,null,null,null,null,0]
[null,"Grassilage angewelkt 1. Schnitt",null,null,null,null,null,null,null,0]
[2013,"Beginn Schossen",350,192,410,225,190,149,15,6.56,6.65,10.95,40,null,40,7,4,2.5,0.6,30,5.5,2.2000000000000002,null,"GF"]
[2014,"Beginn Rispenschieben",350,224,465,251,180,143,15,5.92,6.36,10.57,25,null,40,6.5,4,2.4,0.7,31,7,2.2000000000000002,0,"GF",200,9,45,80,0.1,0.4,0.03]
[2015,"Rispenspreizen",350,256,515,281,165,136,15,4.6399999999999997,6.04,10.119999999999999,15,null,38,6.3,3.8,2.2999999999999998,0.8,30,7,2.2000000000000002,null,"GF",200,8.5,50,85,0.1,0.4,0.03]
[2016,"Mitte der Blüte",350,295,570,307,145,128,15,2.72,5.71,9.66,10,null,36,5.8,3.7,2.2000000000000002,0.8,29,8,2.2000000000000002,null,"GF",200,8,50,90,0.1,0.4,0.03]
[2017,null,null,null,null,null,null,null,null,0,null,null,null,null,null,null,null,null,null,null,null,null,null,"GF"]
[2018,null,null,null,null,null,null,null,null,0,null,null,null,null,null,null,null,null,null,null,null,null,null,"GF"]
[null,"Grassilage angew. 2. u. f. Schnitte",null,null,null,null,null,null,null,0]
[2024,"Beginn Schossen ",350,190,410,247,188,141,15,{"$f":"(G122-H122)/6.25","v":7.52},6.2,10.29,20,null,42,9,3.8,3.2,1,27,6,2.2000000000000002,null,"GF",200,9,50,100,0.1,0.4,0.04]
[2025,"Beginn Rispenschieben",350,225,460,272,174,136,15,6.08,5.96,10.01,20,null,40,8.5,3.7,3.1,1,25,7,2.4,null,"GF",200,9,50,100,0.1,0.4,0.04]
[2026,"Rispenspreizen",350,258,510,296,160,129,15,4.96,5.66,9.6,15,null,37,7.5,3.6,2.7,1,25,7,2.2999999999999998,null,"GF",200,8.5,50,100,0.1,0.4,0.04]
[2027,null,null,null,null,null,null,null,null,0,null,null,null,null,null,null,null,null,null,null,null,null,null,"GF"]
[null,"Kleegrassilage 1. Schnitt",null,null,null,null,null,null,null,0]
[2634,"Beginn Knospe",350,225,455,265,195,144,15,8.16,6.3,10.48,25,null,38,8,3.8,2.4,0.5,33,6,2,null,"GF",200,8,45,75,0.1,0.4,0.03]
[2635,"Knospenöffnen",350,260,520,305,175,135,15,6.4,5.91,9.94,20,null,38,7.9,3.7,2.2999999999999998,0.6,33,6,2,null,"GF",200,8,40,80,0.1,0.4,0]
[2636,"Mitte der Blüte",350,300,585,340,154,132,20,{"$f":"(G129-H129)/6.25","v":3.52},5.59,9.51,10,null,40,8,3.7,2.2000000000000002,0.6,30,8,2.5,null,"GF",200,8,45,90,0.1,0.4,0.03]
[2637,null,null,null,null,null,null,null,null,0,null,null,null,null,null,null,null,null,null,null,null,null,null,"GF"]
[null,"Kleegrassilage 2.u.folg. Schnitt",null,null,null,null,null,null,null,0]
[2644,"vor der Knospe",350,210,430,250,190,138,15,8.32,5.98,10,20,null,40,7,4.3,2.8,0.8,30,6,2,null,"GF",200,10,40,80,0.1,0.4,0.03]
[2645,"in der Knospe",350,245,490,285,180,133,15,7.52,5.68,9.61,20,null,36,8,3.7,2.7,0.8,28,6,2,null,"GF",200,10,40,80,0.1,0.4,0.03]
[2646,"Beginn der Blüte",350,282,550,320,160,124,15,5.76,5.28,9.07,15,null,38,8,3.5,2.2000000000000002,0.6,28,6,2,null,"GF",200,8,40,75,0.1,0.4,0.03]
[2647,null,null,null,null,null,null,null,null,0,null,null,null,null,null,null,null,null,null,null,null,null,null,"GF"]
[null,"Luzernesilage",null,null,null,null,null,null,null,0]
[2714,"1. Schnitt in der Knospe",350,240,485,280,190,130,15,{"$f":"(G137-H137)/6.25","v":9.6},5.45,9.27,20,null,38,12,3.7,2.6,0.5,32,3,2,null,"GF",150,8,40,80,0.2,0.3,0.03]
[2715,"1. Schnitt Beginn Blüte",350,280,550,320,175,130,20,7.2,5.15,8.86,15,null,38,13,3.5,2.2000000000000002,0.5,29,3,2,null,"GF",150,8,40,70,0.2,0.3,0.03]
[2716,"1. Schnitt Ende der Blüte",350,325,620,360,165,128,25,5.92,4.8099999999999996,8.39,15,null,38,12,3.1,1.9,0.5,28,3,2,null,"GF",150,8,40,70,0.2,0.3,0.03]
[2725,"ab 2. Schnitt",250,300,570,330,178,130,20,7.68,5.0999999999999996,8.81,15,null,36,12,3,2.2999999999999998,0.3,28,3,2,null,"GF",150,8,40,80,0.2,0.3,0.03]
[null,"Luzernegrassilage",null,null,null,null,null,null,null,0]
[2734,"1. Schnitt Beginn Knospe",350,220,445,260,192,138,15,8.64,5.95,9.9499999999999993,20,null,27,11,3.5,2.8,0.5,30,4,2,null,"GF",200,8,50,80,0.1,0.4,0.03]
[2735,"1. Schnitt Knospenöffnen",350,265,515,300,175,129,15,7.36,5.54,9.39,15,null,29,11,3.5,2.8,0.5,30,4,2,null,"GF",200,8,50,80,0.1,0.4,0.03]
[2736,"1. Schnitt in der Blüte",350,300,595,345,165,124,15,6.56,5.3,9.06,10,null,31,10,3.4,2.2999999999999998,0.5,30,4,2,null,"GF",200,8,40,70,0.1,0.4,0.03]
[2745,"ab 2. Schnitt",350,290,525,305,170,125,15,7.2,5.28,9.0500000000000007,15,null,35,10,3.4,2.2999999999999998,0.5,27,4,2,null,"GF",200,7,30,70,0.1,0.4,0.03]
[null,"Weidelgrassilage",null,null,null,null,null,null,null,0]
[2814,"im Schossen",350,200,430,219,175,143,15,5.12,6.48,10.6,40,null,40,6,4.5,2.1,0.6,35,6,2,null,"GF",150,9,45,80,0.1,0.4,0.03]
[2815,"im Ährenschieben",350,250,505,264,162,136,15,4.16,6.13,10.210000000000001,35,null,50,6,4.5,2.1,0.6,35,6,2,null,"GF",150,9,45,80,0.1,0.4,0.03]
[2816,"in der Blüte",350,300,585,320,135,125,15,1.6,5.62,9.5399999999999991,30,null,47,5,4,1.6,0.4,34,6,2,null,"GF",150,9,45,80,0.1,0.4,0.03]
[2817,null,null,null,null,null,null,null,null,0,null,null,null,null,null,null,null,null,null,null,null,null,null,"GF"]
[2865,"Landsb. Gem. Ährensch.",350,260,520,305,165,130,15,5.6,5.7,9.6,30,null,31,8.5,3,1.8,0.5,30,5,2,null,"GF",150,8,50,80,0.1,0.4,0.1]
[2866,"Landsb. Gemenge Blüte",350,305,585,340,135,126,15,1.44,5.68,9.65,25,null,45,6,3,1.6,0.5,28,5,2,null,"GF",150,8,40,60,0.1,0.4,0.1]
[2424,"Rapssilage jung, blattreich",150,142,340,200,195,148,15,{"$f":"(G153-H153)/6.25","v":7.52},6.69,10.83,5,null,52,17,4.5,2.6,1.3,32,11,7,null,"GF",200,7,22,95,0.1,0.4,0.1]
[2425,"Rapssilage alt stängelreich",160,180,410,240,185,147,15,6.08,6.69,10.87,5,null,52,19,5,2.6,1.4,32,11,7,null,"GF",200,7,22,95,0.1,0.4,0.1]
[2445,"Rübsensilage",150,140,335,200,130,143,15,-2.08,7.01,11.26,5,null,41,16,4.5999999999999996,2.7,1.4,30,9,4,null,"GF",200,8,50,60,0.1,0.4,0.1]
[2446,null,null,null,null,null,null,null,null,0,null,null,null,null,null,null,null,null,null,null,null,null,null,"GF"]
[null,"Grünhafersilage ",null,null,null,null,null,null,null,0]
[2144,"Rispenschieben",350,260,525,305,112,132,15,-3.2,6.34,10.52,2,null,38,5.7,4,2,1,22,6,2,null,"GF",200,8,45,90,0.1,0.4,0.06]
[2145,"Mitte der Blüte",350,295,575,335,105,124,15,-3.04,5.84,9.84,2,null,38,4,3,1.6,1,20,6,2,null,"GF",200,8,45,90,0.1,0.4,0.06]
[2146,"abgeblüht",350,340,650,380,100,117,20,-2.72,5.3,9.09,2,null,36,4,3,1.6,1,20,6,2,null,"GF",200,8,45,90,0.1,0.4,0.06]
[null,"Grünroggensilage",null,null,null,null,null,null,null,0]
[2164,"Ährenschieben",250,260,530,310,150,139,15,1.76,6.42,10.62,2,null,45,4.5,4.2,1.6,0.4,30,6,2,null,"GF",200,8,50,60,0.1,0.4,0.03]
[2165,"Mitte der Blüte",250,298,575,335,140,133,15,1.1200000000000001,6.11,10.210000000000001,2,null,37,4.5,4.2,1.6,0.4,30,6,2,null,"GF",200,8,50,60,0.1,0.4,0.03]
[2166,"abgeblüht",250,340,645,375,120,125,15,-0.8,5.8,9.7899999999999991,2,null,38,4.5,4.2,1.6,0.4,30,6,2,null,"GF",200,8,50,60,0.1,0.4,0.03]
[2167,null,null,null,null,null,null,null,null,0,null,null,null,null,null,null,null,null,null,null,null,null,null,"GF"]
[null,"GPS Gerste/Weizen",null,null,null,null,null,null,null,0]
[2134,"körnerarm",380,283,555,325,100,113,15,-2.08,5.16,8.91,170,15,23,4,2.8,1.2,0.4,15,2,1.3,null,"GF",100,5,45,35,0.1,0.4,0.01]
[2135,"mittlerer Körneranteil",400,245,490,285,98,117,15,-3.04,5.46,9.32,220,20,23,2,2.5,1,0.3,12,1.6,1.3,null,"GF",100,6,50,35,0.1,0.4,0.01]
[2136,"körnerreich",420,215,430,255,100,121,15,-3.36,5.71,9.66,270,25,20,2.6,2.8,1.2,0.4,13,3,1.3,null,"GF",100,5,40,40,0.1,0.4,0.01]
[2305,"GPS Ackerbohnen",350,280,535,310,180,133,15,{"$f":"(G170-H170)/6.25","v":7.52},5.69,9.67,150,24,20,10,3.6,3.3,2,20,8,2,null,"GF",200,11,70,40,0.1,0.4,0.02]
[2885,"Zuckerhirse/Sudangras siliert",350,310,570,330,100,113,15,-2.08,5.16,8.91,10,null,32,5,2,4,0.8,25,4,1.3,null,"GF",200,6.5,25,85,0.1,0.4,0.01]
[null,"Maissilage",null,null,null,null,null,null,null,0]
[2203,"Kolbenbildung",190,292,590,315,100,132,25,-5.12,6.22,10.42,62,5,34,2.5,3,1.7,0.2,13,1,1,null,"GF",150,5,40,30,0.1,0.3,0.01]
[2204,"Milchreife",240,235,540,280,90,131,25,-6.56,6.34,10.56,190,18,30,2.2999999999999998,2.2000000000000002,1.3,0.3,12,1,1,null,"GF",100,5,40,30,0.1,0.3,0.01]
[2205,"Teigreife, mittl. Körneranteil",300,205,465,260,84,133,25,-7.84,6.55,10.85,280,41,28,2.1,2.2000000000000002,1.3,0.3,11,1,1,null,"GF",100,5,40,30,0.1,0.3,0.01]
[2206,"Wachsreife, mittl. Körnerant.",350,195,485,250,82,134,25,-8.32,6.69,11.04,305,44,33,2,2.2000000000000002,1.3,0.3,11,1,1,0,"GF",100,5,40,30,0.1,0.3,0.01]
[2215,"Teigreife, körnerarm",280,230,520,280,84,130,25,-7.36,6.36,10.58,230,33,28,2.2999999999999998,2.2000000000000002,1.4,0.3,12,1,1,null,"GF",100,5,40,30,0.1,0.3,0.01]
[2216,"Wachsreife, körnerarm",340,220,510,270,84,132,25,-7.68,6.5,10.79,250,36,31,2.2999999999999998,2.2000000000000002,1.4,0.3,12,1,1,null,"GF",100,5,40,30,0.1,0.3,0.01]
[2225,"Teigreife, körnerreich",330,185,458,245,82,136,25,-8.64,6.81,11.2,325,47,35,2,2.2000000000000002,1.3,0.3,10,1,1,null,"GF",100,5,40,25,0.1,0.3,0.01]
[2226,"Wachsreife, körnerreich",360,172,440,235,82,137,25,-8.8000000000000007,6.94,11.38,345,50,36,1.9,2.2000000000000002,1.2,0.3,9,1,1,null,"GF",100,4.5,40,25,0.1,0.3,0.01]
[2227,null,null,null,null,null,null,null,null,0,null,null,null,null,null,null,null,null,null,null,null,null,null,"GF"]
[2245,"Maissilage Pflückhäcksel 2+4",350,170,388,225,84,140,25,{"$f":"(G182-H182)/6.25","v":-8.9600000000000009},7.07,11.54,345,50,34,1.8,2.2999999999999998,1.2,0.3,8,1,1,null,"SF",100,4.5,40,20,0.1,0.3,0.01]
[2246,"Maissilage Pflückhäcksel 2+2",400,155,353,215,83,142,25,{"$f":"(G183-H183)/6.25","v":-9.44},7.25,11.79,395,57,35,1.6,2.4,1.2,0.3,8,1,1,null,"SF",100,4.5,40,20,0.1,0.3,0.01]
[2235,"Lieschkolbensilage LKS",480,140,321,215,95,149,35,{"$f":"(G184-H184)/6.25","v":-8.64},7.44,12.05,455,68,36,1,2.5,1.2,0.3,6,1,1,null,"SF",100,4,40,15,0.1,0.3,0.01]
[5206,"Maiskornsilage Schrot",650,25,170,100,100,166,40,{"$f":"(G185-H185)/6.25","v":-10.56},8.65,13.6,655,162,42,0.4,3.5,1.3,0.2,4,1,1.5,null,"SF",32,4,30,9,0.1,0.2,0]
[5225,"CCM Kornspind.gem.",600,53,210,125,100,158,35,-9.2799999999999994,7.99,12.78,631,156,43,0.4,3.5,1.3,0.2,4,1,1.5,null,"SF",50,4,30,9,0.1,0.2,0]
[2505,"Zuckerrübenblattsilage",180,145,350,205,150,130,15,3.2,5.98,9.83,16,null,32,10,2.4,4,7,27,15,5,null,"GF",250,15,59,157,0.4,0.8,0.1]
[2555,"Futterrübenblattsilage",180,145,335,195,145,123,15,3.52,5.57,9.2100000000000009,20,null,29,20,2.4,5,3.5,33,13,6,null,"GF",250,9,50,130,0.3,0.8,0.1]
[null,"10.3 Heu, Cobs, Grünmehl, Stroh",null,null,null,null,null,null,null,0]
[null,"Wiesenheu 1.Schnitt",null,null,null,null,null,null,null,0]
[3014,"Rispenschieben",860,245,500,261,132,135,20,-0.48,6.08,10.16,120,null,30,5.2,3.4,2,0.4,25,6,2,null,"GF"]
[3015,"Rispenspreizen",860,282,555,296,115,125,20,-1.6,5.65,9.59,110,null,30,4.4000000000000004,2.9,1.8,0.4,22,6,2,null,"GF",200,6,40,80,0.1,0.4,0.02]
[3016,"Mitte der Blüte",860,315,605,329,98,118,25,-3.2,5.27,9.0500000000000007,105,null,23,4,2.5,1.6,0.4,20,6,2,0,"GF",200,6,40,80,0.1,0.4,0.02]
[3017,"abgeblüht",860,350,655,361,82,107,25,-4,4.84,8.43,100,null,20,3.8,2,1.5,0.4,16,6,2,null,"GF",200,5,40,80,0.1,0.4,0.02]
[3018,null,null,null,null,null,null,null,null,0,null,null,null,null,null,null,null,null,null,null,null,null,null,"GF"]
[null,"Wiesenheu  2. u. folg. Schnitte",null,null,null,null,null,null,null,0]
[3024,"Schossen",860,225,470,245,155,137,20,2.88,5.92,9.94,120,null,30,7.2,3.5,2.6,0.4,26,6,2,null,"GF",200,5,40,80,0.1,0.4,0.02]
[3025,"Rispenspreizen",860,260,520,276,140,129,20,1.76,5.61,9.5299999999999994,110,null,28,5.8,3.4,2.1,0.4,24,6,2,null,"GF",200,5,40,80,0.1,0.4,0.02]
[3026,"Mitte der Blüte",860,295,575,301,120,121,20,-0.16,5.31,9.1,100,null,29,4.5,2.9,1.8,0.6,22,6,2,null,"GF",200,6,35,80,0.1,0.4,0.01]
[null,"Heu U-Dachtr. 1. Schnitt",null,null,null,null,null,null,null,0]
[3034,"Rispenschieben",870,235,490,253,135,136,20,-0.16,6.17,10.27,120,null,28,5.2,3.4,2,0.4,25,6,2,null,"GF",200,7,40,80,0.1,0.4,0.02]
[3035,"Rispenspreizen",870,275,550,292,120,126,20,{"$f":"(G202-H202)/6.25","v":-0.96},5.69,9.6300000000000008,110,null,26,4.4000000000000004,2.9,1.8,0.4,22,6,2,null,"GF",200,6,40,80,0.1,0.4,0.02]
[3036,"Mitte der Blüte",870,310,605,319,100,119,25,-3.04,5.34,9.14,105,null,23,4,2.5,1.6,0.4,20,6,2,null,"GF",200,6,40,80,0.1,0.4,0.02]
[3037,null,null,null,null,null,null,null,null,0,null,null,null,null,null,null,null,null,null,null,null,null,null,"GF"]
[null,"Heu U-Dachtr. 2.u.f. Schnitte",null,null,null,null,null,null,null,0]
[3044,"Schossen",870,205,440,226,160,142,20,2.88,6.17,10.29,120,null,30,7.2,3.5,2.6,0.4,26,6,2,null,"GF",200,8,40,80,0.1,0.4,0.02]
[3045,"Rispenschieben",870,235,490,258,150,135,20,2.4,5.87,9.8800000000000008,110,null,28,5.8,3.4,2.1,0.4,24,6,2,null,"GF",200,8,40,80,0.1,0.4,0.02]
[3046,"Mitte der Blüte",870,270,535,291,145,130,20,2.4,5.55,9.4600000000000009,100,null,29,4.5,2.9,1.8,0.6,22,6,2,null,"GF",200,6,35,80,0.1,0.4,0.01]
[null,"Luzerneheu 1. Schnitt",null,null,null,null,null,null,null,0]
[3714,"Beginn Blüte",860,305,585,340,185,135,25,8,4.9000000000000004,8.52,60,null,22,16,3.5,3.1,0.8,30,6,3,null,"GF",150,9,30,40,0.2,0.3,0.1]
[3715,"Ende Blüte",860,345,640,370,155,129,30,4.16,4.67,8.18,50,null,20,15,3,2.8,0.6,26,6,3,null,"GF",150,8,30,40,0.2,0.3,0.1]
[3716,"abgeblüht",860,370,690,400,150,126,30,3.84,4.5599999999999996,8.01,40,null,17,15,2.5,2.2999999999999998,0.4,23,6,3,null,"GF",150,8,30,40,0.2,0.3,0.1]
[3717,null,null,null,null,null,null,null,null,0,null,null,null,null,null,null,null,null,null,null,null,null,null,"GF"]
[null,"Luzerneheu 2. u. folg. Schnitte",null,null,null,null,null,null,null,0]
[3724,"Beginn Blüte",860,300,585,340,178,129,25,7.84,4.63,8.1199999999999992,50,null,22,18,3.1,3.9,0.8,27,6,3,null,"GF",150,7,30,40,0.2,0.3,0.1]
[3725,"Ende  Blüte",860,350,650,380,140,113,25,4.32,4.21,7.5,50,null,21,18,2.6,3.4,0.6,25,6,3,null,"GF",150,7,30,40,0.2,0.3,0.1]
[3726,"abgeblüht",860,385,710,410,130,111,30,3.04,4.0199999999999996,7.2,40,null,21,16,2.1,3.1,0.4,21,6,3,null,"GF",150,7,30,40,0.2,0.3,0.1]
[3815,"Weidelgrasheu",860,290,610,314,135,129,20,0.96,5.64,9.5500000000000007,100,null,16,6,4.5,2.1,0.6,35,6,2,null,"GF",150,9,45,80,0.1,0.4,0.03]
[3816,null,null,null,null,null,null,null,null,0,null,null,null,null,null,null,null,null,null,null,null,null,null,"GF"]
[null,"Graskobs 1. Schnitt",null,null,null,null,null,null,null,0]
[3074,"Blattstadium",890,166,380,184,192,183,40,1.44,6.9,11.25,100,null,37,7,4.5,2.4,0.6,26,5,2,null,"GF",200,8,40,100,0.2,0.4,0.04]
[3075,"Schossen",890,200,425,216,185,176,40,1.44,6.58,10.84,100,null,34,6.5,3.8,2.2000000000000002,0.6,26,5,2,null,"GF",200,8,40,100,0.2,0.4,0.04]
[3076,"Rispenschieben",890,240,495,249,160,161,40,-0.16,6.18,10.29,100,null,34,6.5,3.8,2.5,0.6,27,5,2,0,"GF",200,8,40,100,0.2,0.4,0.04]
[3077,null,null,null,null,null,null,null,null,0,null,null,null,null,null,null,null,null,null,null,null,null,null,"GF"]
[null,"Graskobs 2. u. folg. Schnitte",null,null,null,null,null,null,null,0]
[3084,"Blattstadium",890,165,380,207,190,172,40,2.88,6.13,10.14,100,null,37,10,4,3.6,0.8,25,9,2,null,"GF",200,11,45,110,0.2,0.4,0.04]
[3085,"Schossen",890,200,430,241,175,166,40,1.44,6.11,10.17,100,null,35,10,3.9,3.2,0.7,25,5,2,null,"GF",200,10,40,110,0.2,0.4,0.04]
[3086,"Rispenschieben",890,235,485,263,165,160,40,0.8,5.94,9.9700000000000006,100,null,34,8,3.6,2.8,0.7,25,5,2,null,"GF",200,9,35,110,0.2,0.4,0.04]
[3205,"Maiskobs Ganzpflanze",890,190,396,245,85,133,30,-7.68,6.55,10.82,417,126,25,2,2.1,1.3,0.3,11,1,1,null,"GF",200,5,40,30,0.1,0.3,0.01]
[null,"Luzernekobs, -Grünmehl",null,null,null,null,null,null,null,0]
[3774,"vor Knospe",890,185,410,240,210,177,40,5.28,5.88,9.84,50,null,31,18,3.8,3,0.5,27,6,2,null,"GF",150,10,35,40,0.2,0.3,0.1]
[3775,"in Knospe",890,225,490,285,185,162,40,3.68,5.46,9.27,50,null,29,18,3.5,2.8,0.5,24,6,2,null,"GF",150,10,35,40,0.2,0.3,0.1]
[3776,"Beginn Blüte",890,255,545,315,175,154,40,3.36,5.16,8.85,40,null,29,15,3,2.5,0.5,22,6,2,null,"GF",150,9,30,40,0.2,0.3,0.1]
[3777,null,null,null,null,null,null,null,null,0,null,null,null,null,null,null,null,null,null,null,null,null,null,"GF"]
[3778,null,null,null,null,null,null,null,null,0,null,null,null,null,null,null,null,null,null,null,null,null,null,"GF"]
[3125,"Gerstenstroh",860,435,785,455,45,80,45,-5.6,3.65,6.62,7,null,16,5,0.8,0.9,2,17,8,2,null,"GF",200,6,40,80,0.1,0.4,0.1]
[3145,"Haferstroh",860,440,795,460,36,76,40,-6.4,3.66,6.65,14,null,15,4,1.4,1,2,21,8,2,null,"GF",200,7,40,80,0.1,0.4,0.1]
[3165,"Roggenstroh",860,470,830,480,37,71,45,-5.44,3.28,6.04,8,null,13,3,1,1,1.5,10,3,1,null,"GF",200,4,30,80,0,0.4,0.1]
[3185,"Weizenstroh",860,430,770,445,40,74,45,-5.44,3.42,6.24,8,null,13,3,0.8,1,1.5,11,3,1,null,"GF",200,4,30,80,0.1,0.4,0.1]
[3186,null,null,null,null,null,null,null,null,0,null,null,null,null,null,null,null,null,null,null,null,null,null,"GF"]
[null,"10.4 Rüben und -Nebenprodukte",null,null,null,null,null,null,null,0]
[5505,"Zuckerrübe",230,85,210,125,80,142,20,-9.92,7.46,11.84,647,null,6,2.2999999999999998,1.5,1.6,1,8,1,2,null,"GF",215,5.0999999999999996,36,61,0.1,0.4,0.1]
[5555,"Gehaltsfutterrübe",146,70,230,135,80,141,20,-9.76,7.47,11.82,545,null,8,2.7,2.4,1.8,4.0999999999999996,30,1,2,null,"GF",131,7.2,32,83,0.2,0.4,0]
[5565,null,null,null,null,null,null,null,null,0,null,null,null,null,null,null,null,null,null,null,null,null,null,"GF"]
[6505,"Trockenschnitzel",906,157,366,191,84,143,45,{"$f":"(G245-H245)/6.25","v":-9.44},7.39,11.8,86,null,8,9.1999999999999993,1.1000000000000001,1.8,1.1000000000000001,8.8000000000000007,1.4,3,0,"KF",623,6.1,26.3,84,0.6,1,0.57999999999999996]
[6514,"Melasseschnitzel 14% XZ",910,160,330,220,90,145,30,{"$f":"(G246-H246)/6.25","v":-8.8000000000000007},7.45,11.88,150,null,9,11,0.8,1.8,1,12,1.4,3,null,"KF",800,11.4,36,184,0.2,11.4,0.2]
[6515,"Melasseschnitzel 18% XZ",896,146,315,184,97,151,30,-8.64,7.75,12.25,200,null,8,10.6,0.8,1.8,1.7,14,1.4,3,null,"KF",800,11.4,36,184,0.2,11.4,0.2]
[6516,"Melasseschnitzel 23% XZ",907,134,300,170,110,153,30,-6.88,7.58,12.02,250,null,8,10,0.8,1.8,2,15,1.4,3,null,"KF",800,11.4,36,184,0.2,11.4,0.2]
[4535,"Futterzucker",990,0,null,null,1,159,10,-25.28,9.25,14.09,994,0,null,0,0,0,0,0,null,null,null,"KF",0,0,0,0,0,0,0]
[7505,"Rübenkleinteile",170,102,282,136,75,137,25,-9.92,7.25,11.54,360,null,3,3.3,2.1,2.2999999999999998,1.4,11,1.4,3,null,"SF",500,11.1,14,73.3,0.1,0.4,0.1]
[7525,"Preßschnitzel siliert",270,200,527,256,94,148,30,-8.64,7.52,11.99,35,null,4,12.4,1,2.7,0.6,5.3,1.4,3,null,"SF",45,5,9.8000000000000007,6.6,0,0.4,0.1]
[7545,"Melasse (Zuckerrü.)",780,0,null,null,135,157,20,-3.52,7.84,12.2,652,null,0,2.5,0.5,0.2,7.6,54,10,3,null,"SF",870,5,9.9,6.6,0.1,0.4,0.1]
[null,"10.5 Nebenprod. a. Lebensmittel-",null,null,null,null,null,null,null,0]
[null,"verarb. und Energiegewinnung",null,null,null,null,null,null,null,0]
[5585,"Karotten, Gelbe Rüben",150,150,265,160,90,148,20,-9.2799999999999994,7.75,12.29,256,null,15,4.4000000000000004,3,1.9,2.2999999999999998,28,1,2,null,"SF",60,6.3,33,23,0.2,0.3,0.03]
[5605,"Kartoffel roh, 16% XS",220,27,170,105,97,157,20,-9.6,8.39,13.01,741,178,4,0.4,2.5,1.4,0.6,22,1,2,null,"SF",45,5.4,24,7,0.1,0.2,0.1]
[6625,null,0,0,0,0,0,0,0,{"$f":"(G257-H257)/6.25","v":0},0,0,0,0,0,0,0,0,0,0,0,0,null,"SF"]
[7635,"Kartoffelpreßpülpe siliert",180,208,440,260,49,130,25,-12.96,7.08,11.46,393,97,5,0.7,2.7,0.7,0.1,22,1,2,null,"SF",79.7,5,19.399999999999999,6.6,0.1,0.4,0.1]
[7645,"Kartoffelschlempe frisch",60,72,240,140,307,213,30,15.04,7.5,11.98,27,4,17,2.8,7.3,0.5,0.6,55,1,3,null,"SF",870,5,9.9,6.6,0.1,0.4,0.1]
[7145,"Weizenschlempe flüssig",60,102,285,170,360,240,35,19.2,7.91,12.9,199,17,71,3.5,10.8,3.6,3.1,13,1,3,null,"SF",200,14.5,75,90,0.2,0.3,0.2]
[7205,"Maisschlempe flüssig",70,85,260,155,287,220,40,10.72,8.5,13.74,110,12,117,2.5,8.6,4.7,1.3,9,1.7,3,null,"SF",120,10,70,80,0.1,0.2,0.4]
[6144,"Weizentrockenschlempe",900,76,285,170,382,269,40,18.079999999999998,7.29,12.07,44,3,61,3.5,10.8,3.6,3.1,13,1,3,null,"KF",200,14.5,75,90,0.2,0.3,0.2]
[6204,"Maistrockenschlempe",900,102,260,155,360,251,40,{"$f":"(G263-H263)/6.25","v":17.440000000000001},7.62,12.51,108,14,71,3.5,8.6,2.4,3.1,8,1,3,null,"KF",200,10,70,80,0.2,0.3,0.2]
[7685,"Apfeltrester",220,216,455,265,66,116,35,{"$f":"(G264-H264)/6.25","v":-8},5.67,9.69,111,null,42,2,1,2,0.8,7,1,2,null,"SF",640,5,14,6,0,0.2,0.1]
[7688,null,null,null,null,null,null,null,null,{"$f":"(G265-H265)/6.25","v":0},null,null,null,null,null,null,null,null,null,null,null,null,null,"SF"]
[7689,null,null,null,null,null,null,null,null,{"$f":"(G266-H266)/6.25","v":0},null,null,null,null,null,null,null,null,null,null,null,null,null,"SF"]
[null,"weitere Nebenprodukte",null,null,null,null,null,null,null,0]
[7026,"Biertreber siliert",247,160,370,220,249,188,40,9.76,6.69,11.26,23,2,84,3.6,6,2,0.4,1,1.6,3,null,"SF",277,26,130,50,0.2,0.1,0]
[7015,"Bierhefe frisch",100,17,155,95,525,272,25,{"$f":"(G269-H269)/6.25","v":40.479999999999997},8.36,13.42,10,null,31,2,11.4,1.8,0.3,14.7,1,4,null,"SF",260,64,92,59,0.4,0.4,0.1]
[6015,"Bierhefe trocken",900,24,165,100,521,329,40,30.72,7.59,12.4,19,null,22,2,11.4,1.8,0.3,15,1,4,null,"KF",560,64,92,59,0.4,0.4,0.4]
[6035,"Malzkeime",920,145,350,205,296,182,25,18.239999999999998,6.18,10.37,190,11,11,2.6,8.1,1.5,0.6,21,1,3,null,"KF",130,12.8,79,41,0.1,0.2,0.7]
[null,"Nebenprod. u. Müllereierzeugn.",null,null,null,null,null,null,null,0]
[6145,"Weizennachmehl",880,23,180,110,182,181,20,0.16,8.58,13.56,606,55,45,0.9,7.4,2.9,0.2,9,0.7,2,null,"KF",115,6.6,99,108,0.2,0.2,0.26]
[6155,"Weizenfuttermehl",880,45,210,125,182,175,20,1.1200000000000001,8.1999999999999993,13.06,483,42,45,1.2,8.1,2.9,0.4,13,0.7,2,null,"KF",98,5.7,88,124,0,0.2,0.2]
[6165,"Weizengrießkleie",880,91,275,160,182,155,20,4.32,6.75,11.17,311,24,45,1.4,10.3,4.3,0.5,12,0.5,2,null,"KF",63,15.2,95,122,0.1,0.2,0.1]
[6175,"Weizenkleie",880,114,330,195,182,151,25,4.96,6.03,10.16,212,15,43,1.8,13,5.3,0.5,12,1.4,2,null,"KF",168,15,87,134,0.1,0.3,0.09]
[6135,"Roggenkleie",880,83,255,150,162,142,15,3.2,6.42,10.67,233,13,36,1.7,11.3,3.6,0.8,14,1,2,null,"KF",180,12.5,90,100,0.1,0.1,0.1]
[6215,"Maisfuttermehl",880,59,220,130,118,164,50,-7.36,8.39,13.37,449,101,72,0.8,5,3,0.5,2,1,2,null,"KF",74,15.6,60,16.7,0.1,0.3,0.1]
[6216,null,null,null,null,null,null,null,null,0,null,null,null,null,null,null,null,null,null,null,null,null,null,"KF"]
[6246,"Maiskleberfutter 23-30% XP",880,90,265,155,258,194,25,{"$f":"(G280-H280)/6.25","v":10.24},7.69,12.43,224,42,41,1.5,9.5,4.8,2.8,14,2.7,5,null,"KF",307,19.399999999999999,65,28,0.2,0.8,3.2]
[null,"10.6 Molkereiprodukte",null,null,null,null,null,null,null,0]
[5705,"Vollmilch 4,2% XL, 3,5% XP",135,null,null,null,262,133,5,{"$f":"(G282-H282)/6.25","v":20.64},12.53,19.399999999999999,345,null,324,8.6,7.2,0.9,3.2,11,8.1999999999999993,2.2999999999999998,null,"SF",6.7,1.9,34.4,0.6,0,0.4,0.3]
[6725,"Magermilch trocken",941,null,null,null,365,180,5,29.6,8.94,13.89,481,null,5,14,10.8,1.6,5.4,14,8.1999999999999993,2.8,null,"KF",9,1,48,1,0,0.4,0.1]
[7725,"Magermilch frisch",86,null,null,null,361,180,5,28.96,8.9700000000000006,13.95,481,null,11,13.6,10.9,1.6,3.6,12,8,3,null,"SF",9,1.4,54,1,0,0.4,0.1]
[7735,"Labmolke frisch",50,null,null,null,137,163,5,-4.16,8.7200000000000006,13.43,727,null,13,8.1999999999999993,8.6,1.4,6.4,25,8,2,null,"SF",5,0.1,7,2,0,0.4,0.1]
[7736,null,null,null,null,null,null,null,null,0,null,null,null,null,null,null,null,null,null,null,null,null,null,"SF"]
[null,"10.7 Getreide und Leguminosen",null,null,null,null,null,null,null,0]
[4025,"Gerste zweizeilig",880,50,210,125,125,165,25,-6.4,8.2100000000000009,13,627,60,25,0.7,4,1.3,0.3,5,1,1.5,0,"KF",44,4.5,25,18,0.1,0.3,0.03]
[4026,"Gerste vierzeilig",880,52,215,130,125,164,25,-6.24,8.14,12.91,626,60,23,0.7,4,1.3,0.3,5,1,1.5,null,"KF",44,4.5,25,18,0.1,0.3,0.03]
[4065,"Hafer",880,112,300,175,123,145,15,-3.52,7,11.53,462,45,52,1.2,3.6,1.2,0.4,5,1,1.5,0,"KF",65,4.5,30,45,0.1,0.3,0.03]
[4105,"Roggen",880,23,170,105,105,161,15,-8.9600000000000009,8.49,13.3,708,65,18,0.9,3.3,1.4,0.3,6,1,1.5,0,"KF",52,5.6,34,50,0,0.2,0.03]
[4125,"Triticale",880,25,175,105,120,162,15,-6.72,8.3699999999999992,13.17,707,67,18,0.5,3.9,1.3,0.3,6,1,1.5,0,"KF",50,7,35,40,0.1,0.2,0.03]
[4145,"Weizen",880,30,175,105,137,170,20,-5.28,8.5299999999999994,13.4,707,68,20,0.7,3.8,1.3,0.3,5,1,1.5,0,"KF",45,7,65,35,0.1,0.4,0.03]
[4205,"Mais",880,26,170,100,102,166,50,-10.24,8.3800000000000008,13.28,715,292,45,0.4,3.5,1.3,0.2,4,1,1.5,0,"KF",32,4,30,9,0.1,0.4,0.01]
[4305,"Ackerbohnen",880,90,265,155,295,194,15,16.16,8.58,13.57,451,103,16,1.6,4.8,1.4,0.2,12,1,2,0,"KF",86,12.3,46,33,0,0.2,0.2]
[4345,"Erbsen",880,65,230,140,235,183,15,8.32,8.52,13.44,539,119,15,0.9,4.8,1.3,0.3,11,1,2,0,"KF",64,7.5,24,17,0.2,0.2,0.2]
[4365,"Süßlupine weiß",880,136,335,195,376,217,20,25.44,9.24,14.73,147,18,87,2.9,5.0999999999999996,2,0.6,10,1,2,0,"KF",75,8,58.6,50,0,0.2,0.1]
[null,"10.8 Ölsaaten und Nebenprodukte",null,null,null,null,null,null,null,{"$f":"(G298-H298)/6.25","v":0}]
[4405,"Leinsamen",910,73,240,140,248,127,15,19.36,10.72,17.3,37,null,365,2.8,5.4,5.6,0.9,8,0.3,2,null,"KF",133,17.8,83,26,0.2,0.4,0.1]
[4425,"Rapssamen",900,82,194,117,226,98,15,20.48,10.73,17.53,46,null,444,5,7.8,3.3,0.3,9,0.2,4.5999999999999996,null,"KF",238.9,3.9,44.4,44.4,0.2,0.4,0.1]
[4426,null,null,null,null,null,null,null,null,0,null,null,null,null,null,null,null,null,null,null,null,null,null,"KF"]
[4435,"Sojabohnen dampferhitzt",935,62,220,130,400,198,20,32.32,9.9,15.89,137,11,203,2.9,7.1,3.7,0.2,20,1,4,null,"KF",90,13.6,45.3,37.4,0.2,0.1,0.1]
[6405,"Leinextraktionsschrot",880,103,285,170,385,238,30,23.52,7.33,12.02,45,null,27,4.5,9.5,5.7,1.1000000000000001,12,0.7,4,null,"KF",328,20.2,66,47,0.3,1.1000000000000001,0.3]
[6406,"Leinkuchen,-expeller",880,107,295,175,373,253,35,19.2,7.54,12.39,43,null,62,4.2,8.1999999999999993,5.3,1.1000000000000001,12,0.6,4,null,"KF",243,20.3,78,44,0.4,1,1]
[6424,"Rapsextraktionssch. pansenstabil",890,133,301,228,387,348,65,6.24,7.17,11.26,80,null,35,8.6999999999999993,11.9,6,0.5,14.2,0.3,7.1,null,"KF",414.4,7.9,75.400000000000006,78.099999999999994,0.3,0.7,0.19]
[6425,"Rapsextraktionsschrot",890,133,301,228,387,252,35,{"$f":"(G306-H306)/6.25","v":21.6},7.16,11.8,80,null,35,8.6999999999999993,11.9,6,0.5,14,0.3,7.1,0,"KF",414.4,7.9,75.400000000000006,78.099999999999994,0.3,0.7,0.19]
[6426,"Rapskuchen 8% Rohfett",910,135,320,191,370,180,15,{"$f":"(G307-H307)/6.25","v":30.4},7.89,12.9,75,null,88,8.1999999999999993,11.9,5.5,0.5,15,0.4,7.5,null,"KF",392.3,6.4,72.5,72.5,0.3,0.6,0.19]
[6427,"Rapskuchen 15% Rohfett",910,123,292,176,340,165,15,28,8.7200000000000006,14.19,68,null,165,7.5,11.6,5.0999999999999996,0.4,13,0.3,6.8,null,"KF",359,5.8,67,67,0.3,0.6,0.16]
[6434,"Sojaextraktionsschrot 42% XP",880,91,260,155,477,281,30,31.36,8.44,13.49,174,14,17,3.6,7.4,3.7,0.4,25,0.5,4.8,null,"KF",160,19.100000000000001,70,33,0.3,0.6,0.25]
[6435,"Sojaextraktionsschrot 44% XP",880,68,230,135,500,291,30,34,8.64,13.76,178,14,14,3.1,7,3,0.2,22,0.5,4.8,null,"KF",160,19.100000000000001,70,33,0.3,0.6,0.25]
[6436,"Sojaextraktionsschrot 48% XP",880,40,190,115,545,306,30,38.24,8.7799999999999994,13.96,184,14,14,3.2,7.6,2.7,0.3,23,0.5,4.8,null,"KF",151,17.3,59,31,0.1,0.2,0.3]
[6438,"Sojaextr.schrot, pansenstabil",880,68,230,135,500,438,65,9.92,8.64,13.76,178,14,14,3.1,7,3,0.2,22,0.5,4.8,null,"KF",160,19.100000000000001,70,33,0.3,0.6,0.25]
[6439,"Sojakuchen 8% Rohfett",890,65,240,145,449,223,20,36.159999999999997,8.74,14.08,120,10,92,3,7,3,0.1,20,0.5,4.8,null,"KF",160,20,60,33,0.3,0.6,0.3]
[6445,"Sonnenblu.extr.schrot teilent.",880,222,465,270,383,203,25,{"$f":"(G314-H314)/6.25","v":28.8},6.01,10.24,80,null,25,4,10.7,5.2,0.5,13,0.8,4,null,"KF",525,29.1,46,56,0.2,0.8,0.49]
[6446,null,null,null,null,null,null,null,null,{"$f":"(G315-H315)/6.25","v":0},null,null,null,null,null,null,null,null,null,null,null,null,null,"KF"]
[5435,"Sojaöl",999,null,null,null,null,null,null,{"$f":"(G316-H316)/6.25","v":0},19.78,30.55,null,null,999,null,null,null,null,null,0,0,0,"KF",null,0,2,0,0,0,0]
[null,"10.9 Kälberaufzuchtfutter, Milchaust.",null,null,null,null,null,null,null,0]
[8035,"Kälberaufzuchtfutter 18% XP",880,102,285,136,205,179,25,4.16,7.67,12.31,505,68,45,9.1,5.7,2.1,2.2999999999999998,10,2.1,2.1,null,"KF",136.4,13.6,73.900000000000006,68.2,0.1,0.2,0.5]
[8036,"Kälberaufzuchtfutter 24% XP",880,91,285,153,273,197,25,12.16,7.73,12.42,448,60,40,9.1,5.7,2.1,2.2999999999999998,10,2.1,2.1,null,"KF",136.4,13.6,73.900000000000006,68.2,0.1,0.2,0.5]
[8015,"Milchaustauscher Aufz. 15% XL",940,1,1,0,223,161,10,9.92,10.23,15.87,495,2,160,9.6,6.4,2,5.3,20,2,2,null,"KF",106.4,8.5,53.2,53.2,0.1,0.2,0.4]
[8025,"Milchaustauscher Mast 20% XL",940,1,1,null,234,154,10,12.8,10.92,16.93,444,7,213,9.6,6.4,2,5,20,2,2,null,"KF",106,8.5,53.2,53.2,0.1,0.2,0.4]
[8027,null,null,null,null,null,null,null,null,0,null,null,null,null,null,null,null,null,null,null,null,null,null,"KF"]
[null,"10.10 Milchleistungsfutter",null,null,null,null,null,null,null,0]
[8104,"MLF 12% XP Est. >3",880,68,250,91,136,168,25,-5.12,8.18,13,584,107,50,6.8,4.5999999999999996,2.2999999999999998,1.4,8,1.7,2.1,0,"KF",68.2,9.1,56.8,56.8,0.1,0.1,0.1]
[8105,"MLF 14% XP Est. 3",880,85,285,118,159,166,25,-1.1200000000000001,7.61,12.19,497,68,45,8,4.5999999999999996,1.7,1.7,10,2.1,2.1,null,"KF",68.2,13.6,73.900000000000006,68.2,0.2,0.2,0.3]
[8116,"MLF 16% XP Est. 3",880,91,285,125,182,172,25,1.6,7.62,12.21,483,67,43,8,4.5999999999999996,1.7,1.7,10,2.1,2.1,null,"KF",68.2,13.6,73.900000000000006,68.2,0.2,0.2,0.3]
[8126,"MLF 18% XP Est. 3",880,105,300,141,205,184,30,3.36,7.61,12.24,478,66,43,8,4.5999999999999996,1.7,1.7,10,2.1,2.1,null,"KF",68.2,13.6,73.900000000000006,68.2,0.2,0.2,0.3]
[8127,"MLF 18% XP Est. >3",880,85,265,102,205,192,30,2.08,8.18,12.99,565,105,43,8,4.5999999999999996,2.2999999999999998,2.2999999999999998,11,2.1,2.1,null,"KF",68.2,13.6,73.900000000000006,68.2,0.2,0.2,0.3]
[8135,"MLF 25% XP Est. 2",880,136,335,193,284,191,25,14.88,7.05,11.51,228,28,34,17,6.8,2.1,3.4,10,2.1,2.5,null,"KF",68.2,13.6,73.900000000000006,68.2,0.2,0.2,0.3]
[8147,"MLF 40% XP Est. 3 ",880,136,315,165,455,283,35,{"$f":"(G330-H330)/6.25","v":27.52},7.61,12.44,114,15,34,6.8,9.1,4,0.8,18,2.1,2.9,null,"KF",56.8,11.4,56.8,56.8,0.2,0.2,0.3]
[8148,null,null,null,null,null,null,null,null,0,null,null,null,null,null,null,null,null,null,null,null,null,null,"KF"]
[8045,null,null,null,null,null,null,null,null,0,null,null,null,null,null,null,null,null,null,null,null,null,null,"KF"]
[8055,null,null,null,null,null,null,null,null,0,null,null,null,null,null,null,null,null,null,null,null,null,null,"KF"]
[8056,null,null,null,null,null,null,null,null,0,null,null,null,null,null,null,null,null,null,null,null,null,null,"KF"]
[8057,null,null,null,null,null,null,null,null,{"$f":"(G335-H335)/6.25","v":0},null,null,null,null,null,null,null,null,null,null,null,null,null,"KF"]
[8058,null,null,null,null,null,null,null,null,0,null,null,null,null,null,null,null,null,null,null,null,null,null,"KF"]
[null,"10.11 Mineral- u. Ergänzungsfutter",null,null,null,null,null,null,null,0]
[8185,"Min.Futter Milchkuh lakt.",950,null,null,null,null,null,null,{"$f":"(G338-H338)/6.25","v":0},null,null,null,null,null,250,0,30,150,null,125.9,0,null,"KF",0,736.8,1052.5999999999999,1052.5999999999999,10.5,21.1,36.840000000000003]
[8183,"Min.Futter Milchkuh trocken",950,null,null,null,null,null,null,{"$f":"(G339-H339)/6.25","v":0},null,null,null,null,null,30,0,30,50,null,62.9,0,null,"KF",0,736.8,1052.5999999999999,1052.5999999999999,10.5,21.1,31.58]
[8184,"Mineralfutter Jungvieh",950,null,null,null,null,null,null,0,null,null,null,null,null,200,0,20,80,null,100.7,0,null,"KF",0,736.8,1052.5999999999999,1052.5999999999999,10.5,10.5,31.58]
[8188,"Mineralfutter 20 % Ca, 5 % P",950,null,null,null,null,null,null,null,null,null,null,null,null,210.5,52.6,21.1,94.7,0,116.2,0,null,"KF"]
[8189,"Mineralfutter 22 % Ca, 2 % P",950,null,null,null,null,null,null,0,null,null,null,null,null,231.6,21.1,21.1,84.2,0,125.9,0,null,"KF"]
[8190,null,null,null,null,null,null,null,null,0,null,null,null,null,null,null,null,null,null,null,null,null,null,"KF"]
[8191,null,null,null,null,null,null,null,null,0,null,null,null,null,null,null,null,null,null,null,null,null,null,"KF"]
[4925,"Kohlensaurer Kalk",997,null,null,null,null,null,null,0,null,null,null,null,null,381.4,0.4,1.6,null,null,0.9,0,0,null,0,0.2,1,1,0,0,0.1]
[4945,"Viehsalz",990,null,null,null,null,null,null,0,null,null,null,null,null,null,null,null,361.3,null,500,0,0,null,10,0.2,1,1,0,0.2,0.04]
[4965,"Na.hydrogencarb. NaHCO³",990,null,null,null,null,null,null,0,null,null,null,null,null,null,null,null,271.3,null,0,0,null,null,0,0,0,0,0,0,0]
[5965,"Rohglycerin",880,null,null,null,null,null,null,0,7.4,11.6,null,null,null,null,null,null,15.8,null,28,0,null,null,0,0,0,0,0,0,0]
[5825,"Futterfett",999,null,null,null,null,null,null,{"$f":"(G349-H349)/6.25","v":0},18.2,28.7,null,null,998,null,null,null,null,null,null,null,null,null,0,0,0,0,0,0.1,0]
[5975,"Propylenglykol",990,null,null,null,null,null,null,0,9.6999999999999993,14.6,null,null,null,null,null,null,null,null,null,null,null,null,0,0,0,0,0,0,0]
[6985,"Futterharnstoff",990,null,null,null,2886,null,0,461.76,null,null,null,null,null,null,null,null,null,null,null,null,0,null,0,0,0,0,0,0,0]
[null,null,null,null,null,null,null,null,null,0]
[0,null,null,null,null,null,null,null,null,0]

{"sheet":"Zielwerte","index":5,"n_rows":16,"n_cols":50,"rows_kept":16,"cut":false,"hidden":false,"merged":[[0,2,0,35],[2,0,4,0],[1,0,1,35],[0,0,0,1],[2,34,2,35],[3,34,3,35],[2,14,2,15],[3,14,3,15],[2,2,2,3],[3,2,3,3],[2,4,2,5],[3,4,3,5],[2,8,2,9],[3,8,3,9],[2,10,2,11],[3,10,3,11],[2,12,2,13],[3,12,3,13],[2,16,2,17],[3,16,3,17],[2,18,2,19],[3,18,3,19],[2,6,2,7],[3,6,3,7],[2,32,2,33],[3,32,3,33],[2,26,2,27],[3,26,3,27],[2,28,2,29],[3,28,3,29],[2,30,2,31],[3,30,3,31],[2,20,2,21],[3,20,3,21],[2,22,2,23],[3,22,3,23],[2,24,2,25],[3,24,3,25],[3,48,3,49],[0,36,0,49],[1,36,1,49],[3,36,3,37],[2,36,2,37],[2,38,2,39],[2,40,2,41],[2,42,2,43],[2,44,2,45],[2,46,2,47],[2,48,2,49],[3,38,3,39],[3,40,3,41],[3,42,3,43],[3,44,3,45],[3,46,3,47]]}
[]
[]
["Die bereits eingetragenen Werte können überschrieben werden.","Kenn","TM",null,"XF",null,"aNDFom",null,"S-Index",null,"CP",null,"nxP",null,"RNB",null,"NEL",null,"ST+ZU",null,"bST",null,"CL",null,"Ca",null,"P",null,"Mg",null,"Na",null,"K",null,"DCAB",null,"Fe",null,"Cu",null,"Zn",null,"Mg",null,"Co",null,"J",null,"Se"]
[null,"Nr.","kg",null,"%/kg TM",null,"%/TM",null,null,null,"%/kg TM",null,"%/kg TM",null,"g",null,"MJ/kg TM",null,"%/kg TM",null,"%/kg TM",null,"%/kg TM",null,"g/kg TM",null,"g/kg TM",null,"g/kg TM",null,"g/kg TM",null,"g/kg TM",null,"mEq/kg TM",null,"mg/kg TM",null,"mg/kg TM",null,"mg/kg TM",null,"mg/kg TM",null,"mg/kg TM",null,"mg/kg TM",null,"mg/kg TM"]
[null,null,"min","max","min","max","min","max","min","max","min","max","min","max","min","max","min","max","min","max","min","max","min","max","min","max","min","max","min","max","min","max","min","max","min","max","min","max","min","max","min","max","min","max","min","max","min","max","min","max"]
["Trockensteher",1,10,14,0,0,28,null,50,null,10,13,10,13,-5,15,5.5,6,12,15,null,null,null,null,4,6,2,3.5,1,2,1.5,2.5,10,20,100,300,50,450,10,30,50,120,50,150,0.2,1,0.5,5,0.2,0.5]
["Transit",2,11,15,0,0,28,null,50,null,13,15,13,15,-5,10,6.3,6.8,14,20,null,null,null,null,3,5,2,3.5,2,4,1.5,2,10,15,0,200,50,450,10,30,50,120,50,150,0.2,1,0.5,5,0.2,0.5]
["Hochleistung",3,20,26,0,0,28,null,50,null,15.5,17.5,15.5,17.5,-10,10,6.8,7.5,22,30,3.5,5.5,3,5,5.5,7.5,3.5,4.2,1,2.5,1.5,2,10,20,150,350,50,450,10,30,50,120,50,150,0.2,1,0.5,5,0.2,0.5]
["Altmelker",4,16,20,0,0,28,null,50,null,15,17,15,17,-5,15,6.3,7,20,28,1,3.5,null,null,5,7,3.5,4,1,2.5,1.5,2,10,20,150,350,50,450,10,30,50,120,50,150,0.2,1,0.5,5,0.2,0.5]
[null,5]
[null,6]
[null,7]
[null,8]
[null,9]
[null,10]
["Bitte Gruppe auswählen!",11]

{"sheet":"Mengenberechnung","index":6,"n_rows":40,"n_cols":9,"rows_kept":40,"cut":false,"hidden":false,"merged":[[1,0,39,0],[36,2,36,4],[36,6,39,7],[37,2,37,4],[38,2,38,4],[39,2,39,4],[32,6,35,7],[33,2,33,4],[34,2,34,4],[35,2,35,4],[24,2,24,4],[24,6,27,7],[25,2,25,4],[26,2,26,4],[27,2,27,4],[32,2,32,4],[10,6,15,7],[29,6,29,7],[28,1,28,5],[30,2,30,4],[31,2,31,4],[29,2,29,4],[10,2,10,4],[13,2,13,4],[14,2,14,4],[16,1,16,5],[11,2,11,4],[12,2,12,4],[15,2,15,4],[16,8,28,11],[17,6,17,7],[18,2,18,4],[19,2,19,4],[20,2,20,4],[20,6,23,7],[21,2,21,4],[22,2,22,4],[23,2,23,4],[17,2,17,4],[0,1,0,11],[1,1,1,5],[2,2,2,4],[2,6,2,7],[3,2,3,4],[3,6,9,7],[4,2,4,4],[5,2,5,4],[6,2,6,4],[7,2,7,4],[8,2,8,4],[9,2,9,4],[1,8,9,11]]}
[]
[null,"Grundfutter – Ration für",null,null,null,null,10,"Tiere","Die Tabelle zur Mengenberechnung zeigt die Gewichte der einzelnen Futtermittel für die Beladung des Mischwagens oder bei der Kraftfuttermischung den Gewichtsanteil  der einzelnen Komponenten.                                                                                                    Geben Sie in das Eingabefeld die Anzahl der Tiere ein, für welche eine Ration gemischt werden soll (Anzeige = Tagesmenge)."]
[null,"Nr.","Futtermittel",null,null,"kg."]
[null,{"$f":"Ration!A15","v":0},{"$f":"Ration!B15","v":0},null,null,{"$f":"Ration!E4*G2","v":0},"Gesamt GF und KF in kg:"]
[null,{"$f":"Ration!A16","v":0},{"$f":"Ration!B16","v":0},null,null,{"$f":"Ration!E5*G2","v":0}]
[null,{"$f":"Ration!A17","v":0},{"$f":"Ration!B17","v":0},null,null,{"$f":"Ration!E6*G2","v":0}]
[null,{"$f":"Ration!A18","v":0},{"$f":"Ration!B18","v":0},null,null,{"$f":"Ration!E7*G2","v":0}]
[null,{"$f":"Ration!A19","v":0},{"$f":"Ration!B19","v":0},null,null,{"$f":"Ration!E8*G2","v":0}]
[null,{"$f":"Ration!A20","v":0},{"$f":"Ration!B20","v":0},null,null,{"$f":"Ration!E9*G2","v":0}]
[null,{"$f":"Ration!A21","v":0},{"$f":"Ration!B21","v":0},null,null,{"$f":"Ration!E10*G2","v":0}]
[null,{"$f":"Ration!A22","v":0},{"$f":"Ration!B22","v":0},null,null,{"$f":"Ration!E11*G2","v":0},{"$f":"SUM(F4:F16)","v":0}]
[null,{"$f":"Ration!A23","v":0},{"$f":"Ration!B23","v":0},null,null,{"$f":"Ration!E12*G2","v":0}]
[null,{"$f":"Ration!A24","v":0},{"$f":"Ration!B24","v":0},null,null,{"$f":"Ration!E13*G2","v":0}]
[null,"KF 1","Mischung 1",null,null,{"$f":"Ration!E27*G2","v":0}]
[null,"KF 2","Mischung 2",null,null,{"$f":"Ration!E28*G2","v":0}]
[null,null,"Zugabe Liter / kg  Wasser",null,null,{"$f":"Ration!E29*G2","v":0}]
[null,"Kraftfutter – Mischung 1          Mischergröße:",null,null,null,null,1000,"kg","Bitte die Gesamtmenge einer Mischung ins Eingabefeld eintragen. Die Tabelle darunter zeigt die Komponenten der Kraftfutter – Mischung 1 in kg Frischmasse an. Mittels der Tierzahl sowie der geplanten Futtermengemenge pro Tag wird die Anzahl Tage berechnet, bis wieder gemischt werden muss."]
[null,"Nr.","Futtermittel",null,null,"kg."]
[null,{"$f":"'Mischung 1'!A15","v":0},{"$f":"'Mischung 1'!B15","v":0},null,null,{"$f":"$G$17*'Mischung 1'!F15","v":0},"Tiere gesamt:",10]
[null,{"$f":"'Mischung 1'!A16","v":0},{"$f":"'Mischung 1'!B16","v":0},null,null,{"$f":"$G$17*'Mischung 1'!F16","v":0},"kg je Tier/Tag:",{"$f":"Ration!E27","v":0}]
[null,{"$f":"'Mischung 1'!A17","v":0},{"$f":"'Mischung 1'!B17","v":0},null,null,{"$f":"$G$17*'Mischung 1'!F17","v":0},"1 Mischung reicht für eine Anzahl an Futtertagen von:"]
[null,{"$f":"'Mischung 1'!A18","v":0},{"$f":"'Mischung 1'!B18","v":0},null,null,{"$f":"$G$17*'Mischung 1'!F18","v":0}]
[null,{"$f":"'Mischung 1'!A19","v":0},{"$f":"'Mischung 1'!B19","v":0},null,null,{"$f":"$G$17*'Mischung 1'!F19","v":0}]
[null,{"$f":"'Mischung 1'!A20","v":0},{"$f":"'Mischung 1'!B20","v":0},null,null,{"$f":"$G$17*'Mischung 1'!F20","v":0}]
[null,{"$f":"'Mischung 1'!A21","v":0},{"$f":"'Mischung 1'!B21","v":0},null,null,{"$f":"$G$17*'Mischung 1'!F21","v":0},{"$f":"IFERROR(G17/(H19*H20),\" \")","v":" "}]
[null,{"$f":"'Mischung 1'!A22","v":0},{"$f":"'Mischung 1'!B22","v":0},null,null,{"$f":"$G$17*'Mischung 1'!F22","v":0}]
[null,{"$f":"'Mischung 1'!A23","v":0},{"$f":"'Mischung 1'!B23","v":0},null,null,{"$f":"$G$17*'Mischung 1'!F23","v":0}]
[null,{"$f":"'Mischung 1'!A24","v":0},{"$f":"'Mischung 1'!B24","v":0},null,null,{"$f":"$G$17*'Mischung 1'!F24","v":0}]
[null,"Kraftfutter – Mischung 2          Mischergröße:",null,null,null,null,1000,"kg"]
[null,"Nr.","Futtermittel",null,null,"kg."]
[null,{"$f":"'Mischung 2'!A15","v":0},{"$f":"'Mischung 2'!B15","v":0},null,null,{"$f":"$G$29*'Mischung 2'!F15","v":0},"Tiere gesamt:",10]
[null,{"$f":"'Mischung 2'!A16","v":0},{"$f":"'Mischung 2'!B16","v":0},null,null,{"$f":"$G$29*'Mischung 2'!F16","v":0},"kg je Tier/Tag:",{"$f":"Ration!E28","v":0}]
[null,{"$f":"'Mischung 2'!A17","v":0},{"$f":"'Mischung 2'!B17","v":0},null,null,{"$f":"$G$29*'Mischung 2'!F17","v":0},"1 Mischung reicht für eine Anzahl an Futtertagen von:"]
[null,{"$f":"'Mischung 2'!A18","v":0},{"$f":"'Mischung 2'!B18","v":0},null,null,{"$f":"$G$29*'Mischung 2'!F18","v":0}]
[null,{"$f":"'Mischung 2'!A19","v":0},{"$f":"'Mischung 2'!B19","v":0},null,null,{"$f":"$G$29*'Mischung 2'!F19","v":0}]
[null,{"$f":"'Mischung 2'!A20","v":0},{"$f":"'Mischung 2'!B20","v":0},null,null,{"$f":"$G$29*'Mischung 2'!F20","v":0}]
[null,{"$f":"'Mischung 2'!A21","v":0},{"$f":"'Mischung 2'!B21","v":0},null,null,{"$f":"$G$29*'Mischung 2'!F21","v":0},{"$f":"IFERROR(G29/(H31*H32),\" \")","v":" "}]
[null,{"$f":"'Mischung 2'!A22","v":0},{"$f":"'Mischung 2'!B22","v":0},null,null,{"$f":"$G$29*'Mischung 2'!F22","v":0}]
[null,{"$f":"'Mischung 2'!A23","v":0},{"$f":"'Mischung 2'!B23","v":0},null,null,{"$f":"$G$29*'Mischung 2'!F23","v":0}]
[null,{"$f":"'Mischung 2'!A24","v":0},{"$f":"'Mischung 2'!B24","v":0},null,null,{"$f":"$G$29*'Mischung 2'!F24","v":0}]

{"sheet":"Ausdruck","index":7,"n_rows":144,"n_cols":14,"rows_kept":144,"cut":false,"hidden":false,"merged":[[88,2,88,4],[89,2,89,4],[90,2,90,4],[91,2,91,4],[92,2,92,4],[75,12,75,13],[76,12,76,13],[82,3,82,5],[82,6,85,13],[83,1,83,3],[83,4,83,5],[84,1,84,5],[85,1,85,2],[85,3,85,5],[76,6,76,11],[77,6,77,11],[78,6,78,11],[79,6,79,11],[77,12,77,13],[78,12,78,13],[79,12,79,13],[80,12,80,13],[32,7,33,9],[34,8,34,9],[35,8,35,9],[36,8,36,9],[40,8,40,9],[32,11,32,13],[33,11,33,13],[86,1,86,13],[87,2,87,4],[0,1,0,13],[143,11,143,13],[143,1,143,2],[143,3,143,10],[144,1,144,13],[107,1,107,13],[134,11,134,13],[135,11,135,13],[136,11,136,13],[137,11,137,13],[138,11,138,13],[139,11,139,13],[140,11,140,13],[141,11,141,13],[142,11,142,13],[134,3,134,10],[135,3,135,10],[136,3,136,10],[137,3,137,10],[138,3,138,10],[139,3,139,10],[140,3,140,10],[141,3,141,10],[142,3,142,10],[134,1,134,2],[135,1,135,2],[136,1,136,2],[137,1,137,2],[138,1,138,2],[139,1,139,2],[140,1,140,2],[141,1,141,2],[142,1,142,2],[126,1,126,13],[127,11,127,13],[127,1,127,10],[128,1,128,13],[129,1,129,2],[130,1,130,2],[131,1,131,2],[132,1,132,2],[133,1,133,2],[129,3,129,10],[130,3,130,10],[131,3,131,10],[132,3,132,10],[133,3,133,10],[129,11,129,13],[130,11,130,13],[131,11,131,13],[132,11,132,13],[133,11,133,13],[93,2,93,4],[94,2,94,4],[122,1,122,2],[122,3,122,5],[122,6,125,13],[123,1,123,3],[123,4,123,5],[124,1,124,5],[125,1,125,2],[125,3,125,5],[121,1,121,13],[102,1,102,5],[102,7,102,13],[99,1,99,13],[100,1,100,13],[101,1,101,13],[97,2,97,4],[98,1,98,3],[98,4,98,5],[114,6,114,11],[114,12,114,13],[103,7,103,13],[104,7,104,13],[105,7,105,13],[42,1,42,2],[44,1,44,5],[71,6,71,11],[72,6,72,11],[73,6,73,11],[74,6,74,11],[75,6,75,11],[62,7,62,13],[62,1,62,5],[71,1,80,5],[65,7,65,13],[66,7,66,13],[36,4,36,5],[34,1,34,5],[59,1,59,13],[67,1,67,13],[68,1,69,10],[68,11,69,13],[70,1,70,13],[39,1,39,3],[39,4,39,5],[40,1,40,3],[40,4,40,5],[41,1,41,13],[46,1,46,13],[58,1,58,3],[58,4,58,5],[42,6,45,13],[45,1,45,2],[45,3,45,5],[47,2,47,4],[48,2,48,4],[49,2,49,4],[50,2,50,4],[51,2,51,4],[52,2,52,4],[21,8,21,9],[21,10,21,11],[42,3,42,5],[43,1,43,3],[43,4,43,5],[22,8,22,9],[38,1,38,5],[37,1,37,3],[37,4,37,5],[26,8,26,9],[26,10,26,11],[27,8,27,9],[27,10,27,11],[28,8,28,9],[28,10,28,11],[30,1,30,13],[31,1,31,13],[32,1,32,3],[33,1,33,3],[32,4,32,5],[33,4,33,5],[35,1,35,3],[35,4,35,5],[36,1,36,3],[1,6,1,8],[1,9,1,13],[20,1,20,2],[20,3,20,4],[20,10,20,11],[20,8,20,9],[7,2,7,4],[8,2,8,4],[9,2,9,4],[10,2,10,4],[11,2,11,4],[12,2,12,4],[13,2,13,4],[14,2,14,4],[15,2,15,4],[16,2,16,4],[1,1,1,2],[1,3,1,5],[2,1,2,3],[2,4,2,5],[18,1,18,13],[17,1,17,13],[2,6,2,11],[3,6,3,11],[2,12,2,13],[3,12,3,13],[95,2,95,4],[96,2,96,4],[60,1,60,13],[61,1,61,13],[53,2,53,4],[54,2,54,4],[55,2,55,4],[56,2,56,4],[57,2,57,4],[6,2,6,4],[4,11,4,12],[26,1,26,2],[25,8,25,9],[25,10,25,11],[21,1,21,2],[22,1,22,2],[23,1,23,2],[24,1,24,2],[25,1,25,2],[39,8,39,9],[24,8,24,9],[24,10,24,11],[3,1,3,5],[4,1,4,2],[116,6,116,11],[116,12,116,13],[117,6,117,11],[117,12,117,13],[118,6,118,11],[4,3,4,5],[27,1,27,2],[28,1,28,2],[21,3,21,4],[22,3,22,4],[23,3,23,4],[24,3,24,4],[37,8,37,9],[38,8,38,9],[27,3,27,4],[28,3,28,4],[29,1,29,13],[22,10,22,11],[23,8,23,9],[23,10,23,11],[115,6,115,11],[115,12,115,13],[25,3,25,4],[26,3,26,4],[118,12,118,13],[119,6,119,11],[119,12,119,13],[120,6,120,11],[120,12,120,13],[80,6,80,11],[71,12,71,13],[72,12,72,13],[73,12,73,13],[74,12,74,13],[108,1,109,10],[108,11,109,13],[110,1,110,13],[111,1,120,5],[111,6,111,11],[111,12,111,13],[112,6,112,11],[112,12,112,13],[113,6,113,11],[113,12,113,13],[81,1,81,13],[82,1,82,2],[106,7,106,13],[34,11,34,13],[35,11,35,13],[36,11,36,13],[37,11,37,13],[38,11,38,13],[39,11,39,13],[40,11,40,13],[63,7,63,13],[64,7,64,13]]}
[]
[null,"Betriebs - Nr.",null,{"$f":"Einstellung!F6","v":"09 000 000 0000"},null,null,"Basis - Ration",null,null,{"$f":"Ration!A2","v":"Bitte Gruppe auswählen!"}]
[null,{"$f":"Einstellung!C5","v":"Tierhaltungsschule"},null,null,{"$f":"Einstellung!F5","v":"Triesdorf"},null,"FM gesamt   Grundfutter + KF  kg",null,null,null,null,null,{"$f":"Ration!E30","v":0}]
[null,{"$f":"Einstellung!C6","v":"Markgrafenstraße 1"},null,null,null,null,"TM gesamt   Grundfutter + KF  kg",null,null,null,null,null,{"$f":"Ration!F30","v":0}]
[null,{"$f":"Einstellung!C7","v":91746},null,{"$f":"Einstellung!E7","v":"Weidenbach"},null,null,"KF 1 kg",{"$f":"Ration!E27","v":0},"KF 2 kg",{"$f":"Ration!E28","v":0},null,"Wasser l.",null,{"$f":"Ration!E29","v":0}]
[]
[null,"Nr.","Futtermittel",null,null,"FM kg","TM","TM kg","aNDFom","CP g","nxP g","NEL MJ","CL g","Preis €"]
[null,{"$f":"Ration!A4","v":0},{"$f":"Ration!B4","v":0},null,null,{"$f":"Ration!E4","v":0},{"$f":"Ration!C15","v":0},{"$f":"Ration!F15","v":0},{"$f":"Ration!G15","v":0},{"$f":"Ration!H15","v":0},{"$f":"Ration!I15","v":0},{"$f":"Ration!L15","v":0},{"$f":"Ration!P15","v":0},{"$f":"Ration!X15","v":0}]
[null,{"$f":"Ration!A5","v":0},{"$f":"Ration!B5","v":0},null,null,{"$f":"Ration!E5","v":0},{"$f":"Ration!C16","v":0},{"$f":"Ration!F16","v":0},{"$f":"Ration!G16","v":0},{"$f":"Ration!H16","v":0},{"$f":"Ration!I16","v":0},{"$f":"Ration!L16","v":0},{"$f":"Ration!P16","v":0},{"$f":"Ration!X16","v":0}]
[null,{"$f":"Ration!A6","v":0},{"$f":"Ration!B6","v":0},null,null,{"$f":"Ration!E6","v":0},{"$f":"Ration!C17","v":0},{"$f":"Ration!F17","v":0},{"$f":"Ration!G17","v":0},{"$f":"Ration!H17","v":0},{"$f":"Ration!I17","v":0},{"$f":"Ration!L17","v":0},{"$f":"Ration!P17","v":0},{"$f":"Ration!X17","v":0}]
[null,{"$f":"Ration!A7","v":0},{"$f":"Ration!B7","v":0},null,null,{"$f":"Ration!E7","v":0},{"$f":"Ration!C18","v":0},{"$f":"Ration!F18","v":0},{"$f":"Ration!G18","v":0},{"$f":"Ration!H18","v":0},{"$f":"Ration!I18","v":0},{"$f":"Ration!L18","v":0},{"$f":"Ration!P18","v":0},{"$f":"Ration!X18","v":0}]
[null,{"$f":"Ration!A8","v":0},{"$f":"Ration!B8","v":0},null,null,{"$f":"Ration!E8","v":0},{"$f":"Ration!C19","v":0},{"$f":"Ration!F19","v":0},{"$f":"Ration!G19","v":0},{"$f":"Ration!H19","v":0},{"$f":"Ration!I19","v":0},{"$f":"Ration!L19","v":0},{"$f":"Ration!P19","v":0},{"$f":"Ration!X19","v":0}]
[null,{"$f":"Ration!A9","v":0},{"$f":"Ration!B9","v":0},null,null,{"$f":"Ration!E9","v":0},{"$f":"Ration!C20","v":0},{"$f":"Ration!F20","v":0},{"$f":"Ration!G20","v":0},{"$f":"Ration!H20","v":0},{"$f":"Ration!I20","v":0},{"$f":"Ration!L20","v":0},{"$f":"Ration!P20","v":0},{"$f":"Ration!X20","v":0}]
[null,{"$f":"Ration!A10","v":0},{"$f":"Ration!B10","v":0},null,null,{"$f":"Ration!E10","v":0},{"$f":"Ration!C21","v":0},{"$f":"Ration!F21","v":0},{"$f":"Ration!G21","v":0},{"$f":"Ration!H21","v":0},{"$f":"Ration!I21","v":0},{"$f":"Ration!L21","v":0},{"$f":"Ration!P21","v":0},{"$f":"Ration!X21","v":0}]
[null,{"$f":"Ration!A11","v":0},{"$f":"Ration!B11","v":0},null,null,{"$f":"Ration!E11","v":0},{"$f":"Ration!C22","v":0},{"$f":"Ration!F22","v":0},{"$f":"Ration!G22","v":0},{"$f":"Ration!H22","v":0},{"$f":"Ration!I22","v":0},{"$f":"Ration!L22","v":0},{"$f":"Ration!P22","v":0},{"$f":"Ration!X22","v":0}]
[null,{"$f":"Ration!A12","v":0},{"$f":"Ration!B12","v":0},null,null,{"$f":"Ration!E12","v":0},{"$f":"Ration!C23","v":0},{"$f":"Ration!F23","v":0},{"$f":"Ration!G23","v":0},{"$f":"Ration!H23","v":0},{"$f":"Ration!I23","v":0},{"$f":"Ration!L23","v":0},{"$f":"Ration!P23","v":0},{"$f":"Ration!X23","v":0}]
[null,{"$f":"Ration!A13","v":0},{"$f":"Ration!B13","v":0},null,null,{"$f":"Ration!E13","v":0},{"$f":"Ration!C24","v":0},{"$f":"Ration!F24","v":0},{"$f":"Ration!G24","v":0},{"$f":"Ration!H24","v":0},{"$f":"Ration!I24","v":0},{"$f":"Ration!L24","v":0},{"$f":"Ration!P24","v":0},{"$f":"Ration!X24","v":0}]
[]
[null,"Kennzahlen der Ration und Vergleich mit Zielwerten"]
[]
[null,"Wert",null,"Ist",null,"min","max",null,"Wert",null,"Ist",null,"min","max"]
[null,"TM kg",null,{"$f":"Ration!F30","v":0},null,{"$f":"Ration!F38","v":0},{"$f":"Ration!F39","v":0},null,"bST % / kg TM",null,{"$f":"Ration!O31","v":0},null,{"$f":"Ration!O38","v":0},{"$f":"Ration!O39","v":0}]
[null,"aNDFom %",null,{"$f":"Ration!G31","v":0},null,{"$f":"Ration!G38","v":0},{"$f":"Ration!G39","v":0},null,"CL % / kg TM",null,{"$f":"Ration!P31","v":0},null,{"$f":"Ration!P38","v":0},{"$f":"Ration!P39","v":0}]
[null,"Struktur - Index",null,{"$f":"Ration!G32","v":0},null,50,null,null,"Ca g / kg TM",null,{"$f":"Ration!Q31","v":0},null,{"$f":"Ration!Q38","v":0},{"$f":"Ration!Q39","v":0}]
[null,"CP % / kg TM",null,{"$f":"Ration!H31","v":0},null,{"$f":"Ration!H38","v":0},{"$f":"Ration!H39","v":0},null,"P g / kg TM",null,{"$f":"Ration!R31","v":0},null,{"$f":"Ration!R38","v":0},{"$f":"Ration!R39","v":0}]
[null,"nxP % / kg TM",null,{"$f":"Ration!I31","v":0},null,{"$f":"Ration!I38","v":0},{"$f":"Ration!I39","v":0},null,"Mg g / kg TM",null,{"$f":"Ration!S31","v":0},null,{"$f":"Ration!S38","v":0},{"$f":"Ration!S39","v":0}]
[null,"RNB",null,{"$f":"Ration!K31","v":0},null,{"$f":"Ration!K38","v":0},{"$f":"Ration!K39","v":0},null,"Na g / kg TM",null,{"$f":"Ration!T31","v":0},null,{"$f":"Ration!T38","v":0},{"$f":"Ration!T39","v":0}]
[null,"NEL MJ / kg TM",null,{"$f":"Ration!L31","v":0},null,{"$f":"Ration!L38","v":0},{"$f":"Ration!L39","v":0},null,"K g /kg TM",null,{"$f":"Ration!U31","v":0},null,{"$f":"Ration!U38","v":0},{"$f":"Ration!U39","v":0}]
[null,"ST+ZU % / kg TM",null,{"$f":"Ration!N31","v":0},null,{"$f":"Ration!N38","v":0},{"$f":"Ration!N39","v":0},null,"DCAB mEq/kgTM  ",null,{"$f":"Ration!V32","v":0},null,{"$f":"Ration!X38","v":0},{"$f":"Ration!X39","v":0}]
[]
[null,"Weitere Kennzahlen, Futterkosten  und Milcherzeugungswerte (MEW)"]
[]
[null,"TM % Gesamtration",null,null,{"$f":"Ration!F31","v":0},null,null,"Mengenelem. für kg Milch"]
[null,"Wasser Zusatz / l",null,null,{"$f":"Ration!E29","v":0}]
[null,"Ration reicht für kg Milch",null,null,null,null,null,"Ca",{"$f":"Ration!Q34","v":0}]
[null,"CP MEW kg",null,null,{"$f":"Ration!H34","v":-5.4022988505747129},null,null,"P",{"$f":"Ration!R34","v":0}]
[null,"nxP MEW kg",null,null,{"$f":"Ration!I34","v":-5.4022988505747129},null,null,"Mg",{"$f":"Ration!S34","v":0}]
[null,"NEL MEW kg",null,null,{"$f":"Ration!L34","v":-12.09090909090909},null,null,"Na",{"$f":"Ration!T34","v":0}]
[]
[null,"Futterkosten Kuh / Tag ",null,null,{"$f":"Ration!X30","v":0}]
[null,"Futterkosten je kg Milch",null,null,{"$f":"Ration!X34","v":0}]
[]
[null,"Betriebs - Nr.",null,{"$f":"Einstellung!F6","v":"09 000 000 0000"},null,null,"KF -  Mischung 1"]
[null,{"$f":"Einstellung!C5","v":"Tierhaltungsschule"},null,null,{"$f":"Einstellung!F5","v":"Triesdorf"}]
[null,{"$f":"Einstellung!C6","v":"Markgrafenstraße 1"}]
[null,{"$f":"Einstellung!C7","v":91746},null,{"$f":"Einstellung!E7","v":"Weidenbach"}]
[]
[null,"Nr.","Futtermittel",null,null,"% Ant.","FM kg","TM kg","XF g","CP g","nxP g","NEL MJ","CL g","Preis €"]
[null,{"$f":"'Mischung 1'!A15","v":0},{"$f":"'Mischung 1'!B15","v":0},null,null,{"$f":"'Mischung 1'!C15","v":0},{"$f":"'Mischung 1'!F15","v":0},{"$f":"'Mischung 1'!E15","v":0},{"$f":"'Mischung 1'!G15","v":0},{"$f":"'Mischung 1'!I15","v":0},{"$f":"'Mischung 1'!J15","v":0},{"$f":"'Mischung 1'!M15","v":0},{"$f":"'Mischung 1'!Q15","v":0},{"$f":"'Mischung 1'!Y15","v":0}]
[null,{"$f":"'Mischung 1'!A16","v":0},{"$f":"'Mischung 1'!B16","v":0},null,null,{"$f":"'Mischung 1'!C16","v":0},{"$f":"'Mischung 1'!F16","v":0},{"$f":"'Mischung 1'!E16","v":0},{"$f":"'Mischung 1'!G16","v":0},{"$f":"'Mischung 1'!I16","v":0},{"$f":"'Mischung 1'!J16","v":0},{"$f":"'Mischung 1'!M16","v":0},{"$f":"'Mischung 1'!Q16","v":0},{"$f":"'Mischung 1'!Y16","v":0}]
[null,{"$f":"'Mischung 1'!A17","v":0},{"$f":"'Mischung 1'!B17","v":0},null,null,{"$f":"'Mischung 1'!C17","v":0},{"$f":"'Mischung 1'!F17","v":0},{"$f":"'Mischung 1'!E17","v":0},{"$f":"'Mischung 1'!G17","v":0},{"$f":"'Mischung 1'!I17","v":0},{"$f":"'Mischung 1'!J17","v":0},{"$f":"'Mischung 1'!M17","v":0},{"$f":"'Mischung 1'!Q17","v":0},{"$f":"'Mischung 1'!Y17","v":0}]
[null,{"$f":"'Mischung 1'!A18","v":0},{"$f":"'Mischung 1'!B18","v":0},null,null,{"$f":"'Mischung 1'!C18","v":0},{"$f":"'Mischung 1'!F18","v":0},{"$f":"'Mischung 1'!E18","v":0},{"$f":"'Mischung 1'!G18","v":0},{"$f":"'Mischung 1'!I18","v":0},{"$f":"'Mischung 1'!J18","v":0},{"$f":"'Mischung 1'!M18","v":0},{"$f":"'Mischung 1'!Q18","v":0},{"$f":"'Mischung 1'!Y18","v":0}]
[null,{"$f":"'Mischung 1'!A19","v":0},{"$f":"'Mischung 1'!B19","v":0},null,null,{"$f":"'Mischung 1'!C19","v":0},{"$f":"'Mischung 1'!F19","v":0},{"$f":"'Mischung 1'!E19","v":0},{"$f":"'Mischung 1'!G19","v":0},{"$f":"'Mischung 1'!I19","v":0},{"$f":"'Mischung 1'!J19","v":0},{"$f":"'Mischung 1'!M19","v":0},{"$f":"'Mischung 1'!Q19","v":0},{"$f":"'Mischung 1'!Y19","v":0}]
[null,{"$f":"'Mischung 1'!A20","v":0},{"$f":"'Mischung 1'!B20","v":0},null,null,{"$f":"'Mischung 1'!C20","v":0},{"$f":"'Mischung 1'!F20","v":0},{"$f":"'Mischung 1'!E20","v":0},{"$f":"'Mischung 1'!G20","v":0},{"$f":"'Mischung 1'!I20","v":0},{"$f":"'Mischung 1'!J20","v":0},{"$f":"'Mischung 1'!M20","v":0},{"$f":"'Mischung 1'!Q20","v":0},{"$f":"'Mischung 1'!Y20","v":0}]
[null,{"$f":"'Mischung 1'!A21","v":0},{"$f":"'Mischung 1'!B21","v":0},null,null,{"$f":"'Mischung 1'!C21","v":0},{"$f":"'Mischung 1'!F21","v":0},{"$f":"'Mischung 1'!E21","v":0},{"$f":"'Mischung 1'!G21","v":0},{"$f":"'Mischung 1'!I21","v":0},{"$f":"'Mischung 1'!J21","v":0},{"$f":"'Mischung 1'!M21","v":0},{"$f":"'Mischung 1'!Q21","v":0},{"$f":"'Mischung 1'!Y21","v":0}]
[null,{"$f":"'Mischung 1'!A22","v":0},{"$f":"'Mischung 1'!B22","v":0},null,null,{"$f":"'Mischung 1'!C22","v":0},{"$f":"'Mischung 1'!F22","v":0},{"$f":"'Mischung 1'!E22","v":0},{"$f":"'Mischung 1'!G22","v":0},{"$f":"'Mischung 1'!I22","v":0},{"$f":"'Mischung 1'!J22","v":0},{"$f":"'Mischung 1'!M22","v":0},{"$f":"'Mischung 1'!Q22","v":0},{"$f":"'Mischung 1'!Y22","v":0}]
[null,{"$f":"'Mischung 1'!A23","v":0},{"$f":"'Mischung 1'!B23","v":0},null,null,{"$f":"'Mischung 1'!C23","v":0},{"$f":"'Mischung 1'!F23","v":0},{"$f":"'Mischung 1'!E23","v":0},{"$f":"'Mischung 1'!G23","v":0},{"$f":"'Mischung 1'!I23","v":0},{"$f":"'Mischung 1'!J23","v":0},{"$f":"'Mischung 1'!M23","v":0},{"$f":"'Mischung 1'!Q23","v":0},{"$f":"'Mischung 1'!Y23","v":0}]
[null,{"$f":"'Mischung 1'!A24","v":0},{"$f":"'Mischung 1'!B24","v":0},null,null,{"$f":"'Mischung 1'!C24","v":0},{"$f":"'Mischung 1'!F24","v":0},{"$f":"'Mischung 1'!E24","v":0},{"$f":"'Mischung 1'!G24","v":0},{"$f":"'Mischung 1'!I24","v":0},{"$f":"'Mischung 1'!J24","v":0},{"$f":"'Mischung 1'!M24","v":0},{"$f":"'Mischung 1'!Q24","v":0},{"$f":"'Mischung 1'!Y24","v":0}]
[null,"Summe",null,null,{"$f":"'Mischung 1'!C25","v":0},null,{"$f":"'Mischung 1'!F25","v":0},{"$f":"'Mischung 1'!E25","v":0},{"$f":"'Mischung 1'!G25","v":0},{"$f":"'Mischung 1'!I25","v":0},{"$f":"'Mischung 1'!J25","v":0},{"$f":"'Mischung 1'!M25","v":0},{"$f":"'Mischung 1'!Q25","v":0},{"$f":"'Mischung 1'!Y25","v":0}]
[]
[]
[]
[null,"Milcherzeugungswerte (MEW) in kg"]
[null,"CP",{"$f":"'Mischung 1'!I26","v":0},null,"Ca",{"$f":"'Mischung 1'!R26","v":0}]
[null,"nxP g",{"$f":"'Mischung 1'!J26","v":0},null,"P",{"$f":"'Mischung 1'!S26","v":0}]
[null,"NEL",{"$f":"'Mischung 1'!M26","v":0},null,"Mg",{"$f":"'Mischung 1'!T26","v":0}]
[null,null,null,null,"Na",{"$f":"'Mischung 1'!U26","v":0}]
[]
[null,"Zusammensetzung einer KF 1 - Mischung         bei Mischergröße in kg ",null,null,null,null,null,null,null,null,null,{"$f":"Mengenberechnung!G17","v":1000}]
[]
[]
[null,null,null,null,null,null,{"$f":"Mengenberechnung!C19","v":0},null,null,null,null,null,{"$f":"Mengenberechnung!F19","v":0}]
[null,null,null,null,null,null,{"$f":"Mengenberechnung!C20","v":0},null,null,null,null,null,{"$f":"Mengenberechnung!F20","v":0}]
[null,null,null,null,null,null,{"$f":"Mengenberechnung!C21","v":0},null,null,null,null,null,{"$f":"Mengenberechnung!F21","v":0}]
[null,null,null,null,null,null,{"$f":"Mengenberechnung!C22","v":0},null,null,null,null,null,{"$f":"Mengenberechnung!F22","v":0}]
[null,null,null,null,null,null,{"$f":"Mengenberechnung!C23","v":0},null,null,null,null,null,{"$f":"Mengenberechnung!F23","v":0}]
[null,null,null,null,null,null,{"$f":"Mengenberechnung!C24","v":0},null,null,null,null,null,{"$f":"Mengenberechnung!F24","v":0}]
[null,null,null,null,null,null,{"$f":"Mengenberechnung!C25","v":0},null,null,null,null,null,{"$f":"Mengenberechnung!F25","v":0}]
[null,null,null,null,null,null,{"$f":"Mengenberechnung!C26","v":0},null,null,null,null,null,{"$f":"Mengenberechnung!F26","v":0}]
[null,null,null,null,null,null,{"$f":"Mengenberechnung!C27","v":0},null,null,null,null,null,{"$f":"Mengenberechnung!F27","v":0}]
[null,null,null,null,null,null,{"$f":"Mengenberechnung!C28","v":0},null,null,null,null,null,{"$f":"Mengenberechnung!F28","v":0}]
[]
[null,"Betriebs - Nr.",null,{"$f":"Einstellung!F6","v":"09 000 000 0000"},null,null,"KF - Mischung 2"]
[null,{"$f":"Einstellung!C5","v":"Tierhaltungsschule"},null,null,{"$f":"Einstellung!F5","v":"Triesdorf"}]
[null,{"$f":"Einstellung!C6","v":"Markgrafenstraße 1"}]
[null,{"$f":"Einstellung!C7","v":91746},null,{"$f":"Einstellung!E7","v":"Weidenbach"}]
[]
[null,"Nr.","Futtermittel",null,null,"% Ant.","FM kg","TM kg","XF g","CP g","nxP g","NEL MJ","CL g","Preis €"]
[null,{"$f":"'Mischung 2'!A15","v":0},{"$f":"'Mischung 2'!B15","v":0},null,null,{"$f":"'Mischung 2'!C15","v":0},{"$f":"'Mischung 2'!F15","v":0},{"$f":"'Mischung 2'!E15","v":0},{"$f":"'Mischung 2'!G15","v":0},{"$f":"'Mischung 2'!I15","v":0},{"$f":"'Mischung 2'!J15","v":0},{"$f":"'Mischung 2'!M15","v":0},{"$f":"'Mischung 2'!Q15","v":0},{"$f":"'Mischung 2'!Y15","v":0}]
[null,{"$f":"'Mischung 2'!A16","v":0},{"$f":"'Mischung 2'!B16","v":0},null,null,{"$f":"'Mischung 2'!C16","v":0},{"$f":"'Mischung 2'!F16","v":0},{"$f":"'Mischung 2'!E16","v":0},{"$f":"'Mischung 2'!G16","v":0},{"$f":"'Mischung 2'!I16","v":0},{"$f":"'Mischung 2'!J16","v":0},{"$f":"'Mischung 2'!M16","v":0},{"$f":"'Mischung 2'!Q16","v":0},{"$f":"'Mischung 2'!Y16","v":0}]
[null,{"$f":"'Mischung 2'!A17","v":0},{"$f":"'Mischung 2'!B17","v":0},null,null,{"$f":"'Mischung 2'!C17","v":0},{"$f":"'Mischung 2'!F17","v":0},{"$f":"'Mischung 2'!E17","v":0},{"$f":"'Mischung 2'!G17","v":0},{"$f":"'Mischung 2'!I17","v":0},{"$f":"'Mischung 2'!J17","v":0},{"$f":"'Mischung 2'!M17","v":0},{"$f":"'Mischung 2'!Q17","v":0},{"$f":"'Mischung 2'!Y17","v":0}]
[null,{"$f":"'Mischung 2'!A18","v":0},{"$f":"'Mischung 2'!B18","v":0},null,null,{"$f":"'Mischung 2'!C18","v":0},{"$f":"'Mischung 2'!F18","v":0},{"$f":"'Mischung 2'!E18","v":0},{"$f":"'Mischung 2'!G18","v":0},{"$f":"'Mischung 2'!I18","v":0},{"$f":"'Mischung 2'!J18","v":0},{"$f":"'Mischung 2'!M18","v":0},{"$f":"'Mischung 2'!Q18","v":0},{"$f":"'Mischung 2'!Y18","v":0}]
[null,{"$f":"'Mischung 2'!A19","v":0},{"$f":"'Mischung 2'!B19","v":0},null,null,{"$f":"'Mischung 2'!C19","v":0},{"$f":"'Mischung 2'!F19","v":0},{"$f":"'Mischung 2'!E19","v":0},{"$f":"'Mischung 2'!G19","v":0},{"$f":"'Mischung 2'!I19","v":0},{"$f":"'Mischung 2'!J19","v":0},{"$f":"'Mischung 2'!M19","v":0},{"$f":"'Mischung 2'!Q19","v":0},{"$f":"'Mischung 2'!Y19","v":0}]
[null,{"$f":"'Mischung 2'!A20","v":0},{"$f":"'Mischung 2'!B20","v":0},null,null,{"$f":"'Mischung 2'!C20","v":0},{"$f":"'Mischung 2'!F20","v":0},{"$f":"'Mischung 2'!E20","v":0},{"$f":"'Mischung 2'!G20","v":0},{"$f":"'Mischung 2'!I20","v":0},{"$f":"'Mischung 2'!J20","v":0},{"$f":"'Mischung 2'!M20","v":0},{"$f":"'Mischung 2'!Q20","v":0},{"$f":"'Mischung 2'!Y20","v":0}]
[null,{"$f":"'Mischung 2'!A21","v":0},{"$f":"'Mischung 2'!B21","v":0},null,null,{"$f":"'Mischung 2'!C21","v":0},{"$f":"'Mischung 2'!F21","v":0},{"$f":"'Mischung 2'!E21","v":0},{"$f":"'Mischung 2'!G21","v":0},{"$f":"'Mischung 2'!I21","v":0},{"$f":"'Mischung 2'!J21","v":0},{"$f":"'Mischung 2'!M21","v":0},{"$f":"'Mischung 2'!Q21","v":0},{"$f":"'Mischung 2'!Y21","v":0}]
[null,{"$f":"'Mischung 2'!A22","v":0},{"$f":"'Mischung 2'!B22","v":0},null,null,{"$f":"'Mischung 2'!C22","v":0},{"$f":"'Mischung 2'!F22","v":0},{"$f":"'Mischung 2'!E22","v":0},{"$f":"'Mischung 2'!G22","v":0},{"$f":"'Mischung 2'!I22","v":0},{"$f":"'Mischung 2'!J22","v":0},{"$f":"'Mischung 2'!M22","v":0},{"$f":"'Mischung 2'!Q22","v":0},{"$f":"'Mischung 2'!Y22","v":0}]
[null,{"$f":"'Mischung 2'!A23","v":0},{"$f":"'Mischung 2'!B23","v":0},null,null,{"$f":"'Mischung 2'!C23","v":0},{"$f":"'Mischung 2'!F23","v":0},{"$f":"'Mischung 2'!E23","v":0},{"$f":"'Mischung 2'!G23","v":0},{"$f":"'Mischung 2'!I23","v":0},{"$f":"'Mischung 2'!J23","v":0},{"$f":"'Mischung 2'!M23","v":0},{"$f":"'Mischung 2'!Q23","v":0},{"$f":"'Mischung 2'!Y23","v":0}]
[null,{"$f":"'Mischung 2'!A24","v":0},{"$f":"'Mischung 2'!B24","v":0},null,null,{"$f":"'Mischung 2'!C24","v":0},{"$f":"'Mischung 2'!F24","v":0},{"$f":"'Mischung 2'!E24","v":0},{"$f":"'Mischung 2'!G24","v":0},{"$f":"'Mischung 2'!I24","v":0},{"$f":"'Mischung 2'!J24","v":0},{"$f":"'Mischung 2'!M24","v":0},{"$f":"'Mischung 2'!Q24","v":0},{"$f":"'Mischung 2'!Y24","v":0}]
[null,"Summe",null,null,{"$f":"'Mischung 2'!C25","v":0},null,{"$f":"'Mischung 2'!F25","v":0},{"$f":"'Mischung 2'!E25","v":0},{"$f":"'Mischung 2'!G25","v":0},{"$f":"'Mischung 2'!I25","v":0},{"$f":"'Mischung 2'!J25","v":0},{"$f":"'Mischung 2'!M25","v":0},{"$f":"'Mischung 2'!Q25","v":0},{"$f":"'Mischung 2'!Y25","v":0}]
[]
[]
[]
[null,"Milcherzeugungswerte (MEW) in kg"]
[null,"CP",{"$f":"'Mischung 2'!I26","v":0},null,"Ca",{"$f":"'Mischung 2'!R26","v":0}]
[null,"nxP g",{"$f":"'Mischung 2'!J26","v":0},null,"P",{"$f":"'Mischung 2'!S26","v":0}]
[null,"NEL",{"$f":"'Mischung 2'!M26","v":0},null,"Mg",{"$f":"'Mischung 2'!T26","v":0}]
[null,null,null,null,"Na",{"$f":"'Mischung 2'!U26","v":0}]
[]
[null,"Zusammensetzung einer KF 2 - Mischung         bei Mischergröße in kg ",null,null,null,null,null,null,null,null,null,{"$f":"Mengenberechnung!G29","v":1000}]
[]
[]
[null,null,null,null,null,null,{"$f":"Mengenberechnung!C31","v":0},null,null,null,null,null,{"$f":"Mengenberechnung!F31","v":0}]
[null,null,null,null,null,null,{"$f":"Mengenberechnung!C32","v":0},null,null,null,null,null,{"$f":"Mengenberechnung!F32","v":0}]
[null,null,null,null,null,null,{"$f":"Mengenberechnung!C33","v":0},null,null,null,null,null,{"$f":"Mengenberechnung!F33","v":0}]
[null,null,null,null,null,null,{"$f":"Mengenberechnung!C34","v":0},null,null,null,null,null,{"$f":"Mengenberechnung!F34","v":0}]
[null,null,null,null,null,null,{"$f":"Mengenberechnung!C35","v":0},null,null,null,null,null,{"$f":"Mengenberechnung!F35","v":0}]
[null,null,null,null,null,null,{"$f":"Mengenberechnung!C36","v":0},null,null,null,null,null,{"$f":"Mengenberechnung!F36","v":0}]
[null,null,null,null,null,null,{"$f":"Mengenberechnung!C37","v":0},null,null,null,null,null,{"$f":"Mengenberechnung!F37","v":0}]
[null,null,null,null,null,null,{"$f":"Mengenberechnung!C38","v":0},null,null,null,null,null,{"$f":"Mengenberechnung!F38","v":0}]
[null,null,null,null,null,null,{"$f":"Mengenberechnung!C39","v":0},null,null,null,null,null,{"$f":"Mengenberechnung!F39","v":0}]
[null,null,null,null,null,null,{"$f":"Mengenberechnung!C40","v":0},null,null,null,null,null,{"$f":"Mengenberechnung!F40","v":0}]
[]
[null,"Betriebs - Nr.",null,{"$f":"Einstellung!F6","v":"09 000 000 0000"},null,null,"Ladeliste Mischwagen"]
[null,{"$f":"Einstellung!C5","v":"Tierhaltungsschule"},null,null,{"$f":"Einstellung!F5","v":"Triesdorf"}]
[null,{"$f":"Einstellung!C6","v":"Markgrafenstraße 1"}]
[null,{"$f":"Einstellung!C7","v":91746},null,{"$f":"Einstellung!E7","v":"Weidenbach"}]
[]
[null,"Tagesration für Anzahl Kühe",null,null,null,null,null,null,null,null,null,{"$f":"Mengenberechnung!G2","v":10}]
[]
[null,{"$f":"Mengenberechnung!B4","v":0},null,{"$f":"Mengenberechnung!C4","v":0},null,null,null,null,null,null,null,{"$f":"Mengenberechnung!F4","v":0}]
[null,{"$f":"Mengenberechnung!B5","v":0},null,{"$f":"Mengenberechnung!C5","v":0},null,null,null,null,null,null,null,{"$f":"Mengenberechnung!F5","v":0}]
[null,{"$f":"Mengenberechnung!B6","v":0},null,{"$f":"Mengenberechnung!C6","v":0},null,null,null,null,null,null,null,{"$f":"Mengenberechnung!F6","v":0}]
[null,{"$f":"Mengenberechnung!B7","v":0},null,{"$f":"Mengenberechnung!C7","v":0},null,null,null,null,null,null,null,{"$f":"Mengenberechnung!F7","v":0}]
[null,{"$f":"Mengenberechnung!B8","v":0},null,{"$f":"Mengenberechnung!C8","v":0},null,null,null,null,null,null,null,{"$f":"Mengenberechnung!F8","v":0}]
[null,{"$f":"Mengenberechnung!B9","v":0},null,{"$f":"Mengenberechnung!C9","v":0},null,null,null,null,null,null,null,{"$f":"Mengenberechnung!F9","v":0}]
[null,{"$f":"Mengenberechnung!B10","v":0},null,{"$f":"Mengenberechnung!C10","v":0},null,null,null,null,null,null,null,{"$f":"Mengenberechnung!F10","v":0}]
[null,{"$f":"Mengenberechnung!B11","v":0},null,{"$f":"Mengenberechnung!C11","v":0},null,null,null,null,null,null,null,{"$f":"Mengenberechnung!F11","v":0}]
[null,{"$f":"Mengenberechnung!B12","v":0},null,{"$f":"Mengenberechnung!C12","v":0},null,null,null,null,null,null,null,{"$f":"Mengenberechnung!F12","v":0}]
[null,{"$f":"Mengenberechnung!B13","v":0},null,{"$f":"Mengenberechnung!C13","v":0},null,null,null,null,null,null,null,{"$f":"Mengenberechnung!F13","v":0}]
[]
[null,{"$f":"Mengenberechnung!B14","v":"KF 1"},null,{"$f":"Mengenberechnung!C14","v":"Mischung 1"},null,null,null,null,null,null,null,{"$f":"Mengenberechnung!F14","v":0}]
[null,{"$f":"Mengenberechnung!B15","v":"KF 2"},null,{"$f":"Mengenberechnung!C15","v":"Mischung 2"},null,null,null,null,null,null,null,{"$f":"Mengenberechnung!F15","v":0}]
[null,null,null,"Wasser zugeben   l / kg",null,null,null,null,null,null,null,{"$f":"Mengenberechnung!F16","v":0}]
[null,null,null,"Gesamtgewicht aller Komponenten in kg",null,null,null,null,null,null,null,{"$f":"Mengenberechnung!G11","v":0}]