{"text_format":"1","workbook":"xlsx","n_sheets":7,"sheets":["Einstellung","Sollwerte","Ration","Mischung 1","Gruber Tabelle","Mengenberechnung","Ausdruck"],"not_rendered":{"charts":0,"images":20,"macros":1,"external_links":0,"defined_names":4,"comments":3,"pivot_tables":0},"unopened":[],"bounds":{"document_bytes":16777216,"sheet_cells":100000,"rows_first":2000,"rows_last":500,"rows_between":2000,"halvings":0,"cell_chars":16384,"cell_head_chars":4096},"cells_cut":0,"cells_raw":0,"read":"whole","date_system":"1900"}

{"sheet":"Einstellung","index":0,"n_rows":23,"n_cols":8,"rows_kept":23,"cut":false,"hidden":false,"merged":[[24,1,24,12],[1,1,1,16],[3,7,3,16],[4,1,7,1],[8,2,9,5],[10,2,11,5],[4,4,4,5],[4,2,4,3],[5,2,5,5],[6,3,6,5],[7,3,7,5],[12,2,13,5],[4,7,4,16],[2,7,2,16],[15,2,15,5],[22,2,22,5],[17,2,17,5],[0,0,23,0]]}
[]
[]
[]
[null,null,null,null,null,null,null,"Futterberechnung zur Fütterung der Schafe und Ziegen"]
[null,null,"Tierhaltungsschule",null,"Triesdorf",null,null,"Gruber Tabelle    -     www.LfL.Bayern.de"]
[null,null,"Markgrafenstraße 1"]
[null,null,91746,"Weidenbach"]
[null,null,"Betr. Nr.","091231234444"]
[]
[]
[null,null,"Freie Software"]
[]
[null,null,"keine Gewährleistung!"]
[]
[]
[]
[]
[null,null,"Update vom   24.03.2026"]
[]
[]
[]
[]
[null,null,"ths@triesdorf.de"]

{"sheet":"Sollwerte","index":1,"n_rows":75,"n_cols":22,"rows_kept":75,"cut":false,"hidden":false,"merged":[[1,15,2,21],[2,0,2,14]]}
[]
[null,null,null,null,null,null,null,null,null,null,null,null,null,null,null,"Spurenelemente  mg / kg TM"]
["Richtwerte zur Nährstoffversorgung aus Gruber Tabelle S. 60 ff        Alle Felder können mit eigenen Werten überschrieben werden.        "]
["Tier","Kenn - Nr.","TM / Tag g","aNDFom","CP","nXP","ME/MJ","ST"," Ca g","P g","Mg g","Na g","K g","Cl g","S g","Fe","Cu","Zn","Mn","Co","J","Se"]
["Sollwerte aus Liste wählen  >>>",0,0,0,0,0,0,null,0,0,0,0,0,null,null,0,0,0,0,0,0,0]
["Mutterschaf 70 kg (leer/niedertragend)",1,1250,250,90,90,11,null,5,4,1,1,10,null,null,40,5,45,40,0.15,0.5,0.15]
["Mutterschaf 70 kg (hochtragend 5. Monat)",2,1650,250,160,160,15.5,null,9,6,1.5,2,10,null,null,40,5,45,40,0.15,0.5,0.15]
["Mutterschaf 70 kg (säugend, 1 Lamm)",3,2100,250,300,300,22.4,null,16,9,2.5,2,15,null,null,40,5,45,40,0.15,0.5,0.15]
["Mutterschaf 70 kg (säugend, 2 Lämmer)",4,2400,250,370,370,26.4,null,19.7,10.7,3,2.2999999999999998,15,null,null,40,5,45,40,0.15,0.5,0.15]
[5,5]
["Mutterschaf 85 kg (leer/niedertragend)",6,1440,250,105,105,12.7,null,5,4,1,1,10,null,null,40,5,45,40,0.15,0.5,0.15]
["Mutterschaf 85 kg (hochtragend 5. Monat)",7,1940,250,170,170,18.3,null,9,6,1.5,2,10,null,null,40,5,45,40,0.15,0.5,0.15]
["Mutterschaf 85 kg (säugend, 1 Lamm)",8,2280,250,315,315,24,null,16,9,2.5,2,15,null,null,40,5,45,40,0.15,0.5,0.15]
["Mutterschaf 85 kg (säugend, 2 Lämmer)",9,2580,250,385,385,28,null,19.7,10.7,3,2.2999999999999998,15,null,null,40,5,45,40,0.15,0.5,0.15]
[10,10]
["Mutterschaf 100 kg (leer/niedertragend)",11,1640,250,120,120,14.3,null,5,4,1,1,10,null,null,40,5,45,40,0.15,0.5,0.15]
["Mutterschaf 100 kg (hochtragend 5. Monat)",12,2200,250,185,185,21,null,9,6,1.5,2,10,null,null,40,5,45,40,0.15,0.5,0.15]
["Mutterschaf 100 kg (säugend, 1 Lamm)",13,2450,250,330,330,25.6,null,16,9,2.5,2,15,null,null,40,5,45,40,0.15,0.5,0.15]
["Mutterschaf 100 kg (säugend, 2 Lämmer)",14,2750,250,400,400,29.6,null,19.7,10.7,3,2.2999999999999998,15,null,null,40,5,45,40,0.15,0.5,0.15]
[15,15]
["Jungschaf /Jungbock  (4 - 7 Monate)",16,1200,250,175,175,13.8,null,13,5,null,null,null,null,null,40,5,45,40,0.15,0.5,0.15]
[17,17]
["Mastlamm  250 g tgl. ZN - >25 kg  1-6 Wo.",18,1100,250,170,170,12.1,null,9,3.7,0.8,0.8,15,null,null,40,5,45,40,0.15,0.5,0.15]
["Mastlamm  250 g tgl. ZN - <45 kg  10-12 Wo.",19,1200,250,180,180,13.6,null,11,4.3,1.1000000000000001,1.1000000000000001,15,null,null,40,5,45,40,0.15,0.5,0.15]
[20,20]
["Mastlamm  400 g tgl. ZN - >25 kg  - 1-4 Wo.",21,1500,250,240,240,17.399999999999999,null,9,3.7,0.8,0.8,15,null,null,40,5,45,40,0.15,0.5,0.15]
["Mastlamm  400 g tägl. ZN - 45 kg  - 4-7 Wo.",22,1600,250,255,255,19.100000000000001,null,11,4.3,1.1000000000000001,1.1000000000000001,15,null,null,40,5,45,40,0.15,0.5,0.15]
[23,23]
["Böcke m. 100 - 120 kg     (Erhaltung)",24,1600,null,120,null,15,null,8,5,null,null,null,null,null,40,5,45,40,0.15,0.5,0.15]
["Böcke m. 100 - 120 kg     (Deckzeit)",25,2000,null,280,null,20,null,12,7,null,null,null,null,null,40,5,45,40,0.15,0.5,0.15]
[26,26]
[27,27]
["Milchschaf 80 kg LM - 2 kg Milch",28,2800,250,null,327,23,null,10.7,10,3.4,1.8,null,null,null,40,5,45,40,0.15,0.5,0.15]
["Milchschaf 80 kg LM - 3 kg Milch",29,3000,250,null,443,29.7,null,13.5,12.3,4.5,2.2999999999999998,null,null,null,40,5,45,40,0.15,0.5,0.15]
["Milchschaf 80 kg LM - 4 kg Milch",30,3100,250,null,559,36.4,null,17.399999999999999,14.7,5.6,2.8,null,null,null,40,5,45,40,0.15,0.5,0.15]
[31,31]
[32,32]
[33,33]
["Ziegen Leer, trag. < 4 Mon. - LG 45 kg",34,900,null,null,85,7.6,null,3.5,2.8,1.1000000000000001,1.1000000000000001,4.4000000000000004,0.6,null,40,8,45,40,0.15,0.5,0.15]
["Ziegen Leer, trag. < 4 Mon. - LG 60 kg",35,1100,null,null,113,9.6999999999999993,null,3.5,2.8,1.1000000000000001,1.1000000000000001,4.4000000000000004,0.6,null,40,8,45,40,0.15,0.5,0.15]
["Ziegen Leer, trag. < 4 Mon. - LG 75 kg",36,1300,null,null,142,11.5,null,3.5,2.8,1.1000000000000001,1.1000000000000001,4.4000000000000004,0.6,null,40,8,45,40,0.15,0.5,0.15]
["Ziegen tragend ab 5. Mon. - LG 45 kg",37,1200,null,null,119,10.4,null,4.4000000000000004,3.4,1.4,1.3,6,1.9,null,40,8,45,40,0.15,0.5,0.15]
["Ziegen tragend ab 5. Mon. - LG 60 kg",38,1400,null,null,150,13,null,4.4000000000000004,3.4,1.4,1.3,6,1.9,null,40,8,45,40,0.15,0.5,0.15]
["Ziegen tragend ab 5. Mon. - LG 75 kg",39,1700,null,null,162,15.3,null,4.4000000000000004,3.4,1.4,1.3,6,1.9,null,40,8,45,40,0.15,0.5,0.15]
[40,40]
["Milchziege - LG 45 kg - 1 kg Milch / Tag",41,1358,940,146,146,12.5,null,4.0999999999999996,3,2.1,0.8,7,2.1,null,40,8,45,40,0.15,0.5,0.15]
["Milchziege - LG 45 kg - 2 kg Milch / Tag",42,1777,940,221,221,17.2,null,6.6,4.7,3.1,1.4,10.199999999999999,3.7,null,40,8,45,40,0.15,0.5,0.15]
["Milchziege - LG 45 kg - 3 kg Milch / Tag",43,2164,940,295,295,21.9,null,9,6.3,4.0999999999999996,1.9,13.4,5.3,null,40,8,45,40,0.15,0.5,0.15]
["Milchziege - LG 45 kg - 4 kg Milch / Tag",44,2521,940,368,368,26.6,null,11.4,7.8,5.0999999999999996,2.5,16.5,6.9,null,40,8,45,40,0.15,0.5,0.15]
[45,45]
["Milchziege - LG 60 kg - 1 kg Milch / Tag",46,1544,940,162,162,14.4,null,4.4000000000000004,3.2,2.2999999999999998,0.9,7.6,2.2000000000000002,null,40,8,45,40,0.15,0.5,0.15]
["Milchziege - LG 60 kg - 2 kg Milch / Tag",47,1962,940,237,237,19.100000000000001,null,6.9,4.9000000000000004,3.3,1.5,10.8,3.8,null,40,8,45,40,0.15,0.5,0.15]
["Milchziege - LG 60 kg - 3 kg Milch / Tag",48,2350,940,311,311,23.8,null,9.3000000000000007,6.5,4.3,2,14,5.4,null,40,8,45,40,0.15,0.5,0.15]
["Milchziege - LG 60 kg - 4 kg Milch / Tag",49,2706,940,384,384,28.5,null,11.7,8.1,5.3,2.5,17.100000000000001,7,null,40,8,45,40,0.15,0.5,0.15]
["Milchziege - LG 60 kg - 5 kg Milch / Tag",50,3032,940,457,457,33.200000000000003,null,14,9.6,6.2,3.1,20,8.5,null,40,8,45,40,0.15,0.5,0.15]
[51,51]
["Milchziege - LG 75 kg - 1 kg Millch / Tag",52,1718,940,175,175,16.2,null,4.5999999999999996,3.5,2.5,1,8.1,2.2999999999999998,null,40,8,45,40,0.15,0.5,0.15]
["Milchziege - LG 75 kg - 2 kg Millch / Tag",53,2137,940,250,250,20.9,null,7.2,5.0999999999999996,3.5,1.5,11.4,3.9,null,40,8,45,40,0.15,0.5,0.15]
["Milchziege - LG 75 kg - 3 kg Millch / Tag",54,2524,940,325,325,25.6,null,9.6,6.7,4.5,2.1,14.6,5.5,null,40,8,45,40,0.15,0.5,0.15]
["Milchziege - LG 75 kg - 4 kg Millch / Tag",55,2881,940,398,398,30.3,null,12,8.3000000000000007,5.4,2.6,17.600000000000001,7.1,null,40,8,45,40,0.15,0.5,0.15]
["Milchziege - LG 75 kg - 5 kg Millch / Tag",56,3206,940,470,470,35,null,14.3,9.8000000000000007,6.4,3.1,20.6,8.6,null,40,8,45,40,0.15,0.5,0.15]
["Milchziege - LG 75 kg - 6 kg Millch / Tag",57,3500,940,542,542,39.700000000000003,null,16.600000000000001,11.3,7.3,3.6,13.4,10.1,null,40,8,45,40,0.15,0.5,0.15]
[58,58]
["Ziegenkitz - 12 kg LG - Zun. 100 g / Tag",59,406,330,38,38,4.0999999999999996,null,1.6,1,5,0.3,1.5,0.3,null,40,8,45,40,0.15,0.5,0.15]
["Ziegenkitz - 12 kg LG - Zun. 200 g / Tag",60,603,330,78,78,6.3,null,3.4,2,0.9,0.4,2.2999999999999998,0.5,null,40,8,45,40,0.15,0.5,0.15]
["Ziegenkitz - 20 kg LG - Zun. 100 g / Tag",61,743,330,81,81,7.6,null,3,1.9,1,0.4,2.7,0.5,null,40,8,45,40,0.15,0.5,0.15]
["Ziegenkitz - 20 kg LG - Zun. 200 g / Tag",62,973,330,125,125,10.4,null,4.9000000000000004,2.9,1.4,0.6,3.6,0.8,null,40,8,45,40,0.15,0.5,0.15]
["Ziegenkitz - 30 kg LG - Zun. 100 g / Tag",63,1027,330,106,106,10.6,null,3.5,2.2999999999999998,1.3,0.5,3.6,0.7,null,40,8,45,40,0.15,0.5,0.15]
["Ziegenkitz - 30 kg LG - Zun. 200 g / Tag",64,1328,330,153,153,14.2,null,5.6,3.4,1.8,0.8,4.8,0.9,null,40,8,45,40,0.15,0.5,0.15]
[65,65]
[66,66]
[67,67]
[68,68]
[69,69]
[70,70]

{"sheet":"Ration","index":2,"n_rows":33,"n_cols":25,"rows_kept":33,"cut":false,"hidden":false,"merged":[[0,4,0,16],[0,17,1,17],[14,0,14,2],[13,0,13,2],[1,5,1,16],[18,0,18,2],[19,0,20,3],[1,18,1,24],[23,2,32,3],[16,0,16,2],[19,6,20,6],[15,0,15,2],[19,5,20,5],[15,3,15,5]]}
[null,"Bitte eine Tierart aus der Liste wählen!"]
[1,null,null,null,null,{"$f":"A19","v":"Sollwerte aus Liste wählen  >>>"},null,null,null,null,null,null,null,null,null,null,null,null,"Spurenelemente   mg / kg TM"]
["Nr.","Futterart","TM %","FM kg","TM g","OM g","aNDFom g","CP g","nXP g","ME Mj","ST","Ca","P","Mg","Na","K","Preis","aNDFomGF","Fe","Cu","Zn","Mn","Co","J","Se"]
[{"$f":"A24","v":0},{"$f":"B24","v":""},null,null,{"$f":"IF(D4>0,(D4*C4)*1000,0)","v":0},{"$f":"IF(D4>0,(F24*C4)*D4,0)","v":0},{"$f":"IF(D4>0,(G24*C4)*D4,0)","v":0},{"$f":"IF(D4>0,(H24*C4)*D4,0)","v":0},{"$f":"IF(D4>0,(I24*C4)*D4,0)","v":0},{"$f":"IF(D4>0,(J24*C4)*D4,0)","v":0},{"$f":"IF(D4>0,(K24*C4)*D4,0)","v":0},{"$f":"IF(D4>0,(L24*C4)*D4,0)","v":0},{"$f":"IF(D4>0,(M24*C4)*D4,0)","v":0},{"$f":"IF(D4>0,(N24*C4)*D4,0)","v":0},{"$f":"IF(D4>0,(O24*C4)*D4,0)","v":0},{"$f":"IF(D4>0,(P24*C4)*D4,0)","v":0},{"$f":"IF(D4>0,Q24*D4/100,0)","v":0},{"$f":"IFERROR(IF(R24=\"GF\",G24*E4/1000,0),0)","v":0},{"$f":"IF(D4>0,(S24*C4)*D4,0)","v":0},{"$f":"IF(D4>0,(T24*C4)*D4,0)","v":0},{"$f":"IF(D4>0,(U24*C4)*D4,0)","v":0},{"$f":"IF(D4>0,(V24*C4)*D4,0)","v":0},{"$f":"IF(D4>0,(W24*C4)*D4,0)","v":0},{"$f":"IF(D4>0,(X24*C4)*D4,0)","v":0},{"$f":"IF(D4>0,(Y24*C4)*D4,0)","v":0}]
[{"$f":"A25","v":0},"",null,null,{"$f":"IF(D5>0,(D5*C5)*1000,0)","v":0},0,0,0,0,0,{"$f":"IF(D5>0,(K25*C5)*D5,0)","v":0},{"$f":"IF(D5>0,(L25*C5)*D5,0)","v":0},{"$f":"IF(D5>0,(M25*C5)*D5,0)","v":0},0,0,0,0,0,{"$f":"IF(G5>0,(S25*C5)*D5,0)","v":0},{"$f":"IF(D5>0,(T25*C5)*D5,0)","v":0},{"$f":"IF(D5>0,(U25*C5)*D5,0)","v":0},{"$f":"IF(D5>0,(V25*C5)*D5,0)","v":0},{"$f":"IF(D5>0,(W25*C5)*D5,0)","v":0},{"$f":"IF(D5>0,(X25*C5)*D5,0)","v":0},{"$f":"IF(D5>0,(Y25*C5)*D5,0)","v":0}]
[{"$f":"A26","v":0},"",null,null,0,0,0,0,0,0,0,0,0,0,0,0,0,0,0,0,0,0,0,0,0]
[{"$f":"A27","v":0},"",null,null,0,0,0,0,0,0,0,0,0,0,0,0,0,0,0,0,0,0,0,0,0]
[{"$f":"A28","v":0},"",null,null,0,0,0,0,0,0,0,0,0,0,0,0,0,0,0,0,0,0,0,0,0]
[{"$f":"A29","v":0},"",null,null,0,0,0,0,0,0,0,0,0,0,0,0,0,0,0,0,0,0,0,0,0]
[{"$f":"A30","v":0},"",null,null,0,0,0,0,0,0,0,0,0,0,0,0,0,0,0,0,0,0,0,0,0]
[{"$f":"A31","v":0},"",null,null,0,0,0,0,0,0,0,0,0,0,0,0,0,0,0,0,0,0,0,0,0]
[{"$f":"A32","v":0},"",null,null,0,0,0,0,0,0,0,0,0,0,0,0,0,0,0,0,0,0,0,0,0]
[{"$f":"A33","v":0},"",null,null,0,0,0,0,0,0,0,0,0,0,0,0,0,0,0,0,0,0,0,0,0]
["Summen und Gehaltswerte:",null,null,{"$f":"SUM(D4:D13)","v":0},{"$f":"SUM(E4:E13)","v":0},{"$f":"SUM(F4:F13)","v":0},{"$f":"SUM(G4:G13)","v":0},{"$f":"SUM(H4:H13)","v":0},0,0,0,0,0,0,0,0,0,{"$f":"SUM(R4:R13)","v":0},{"$f":"SUM(S4:S13)","v":0},{"$f":"SUM(T4:T13)","v":0},0,0,0,0,0]
["Konzentrat - Mischung  kg:",null,null,null,{"$f":"IF(D15>0,'Mischung 1'!F14*D15,0)","v":0},{"$f":"IF(E15>0,'Mischung 1'!G14*D15,0)","v":0},{"$f":"IF(D15>0,'Mischung 1'!H14*D15,0)","v":0},{"$f":"IF(D15>0,'Mischung 1'!I14*D15,0)","v":0},{"$f":"IF(D15>0,'Mischung 1'!J14*D15,0)","v":0},{"$f":"IF(D15>0,'Mischung 1'!K14*D15,0)","v":0},{"$f":"IF(D15>0,'Mischung 1'!L14*D15,0)","v":0},{"$f":"IF(D15>0,'Mischung 1'!M14*D15,0)","v":0},{"$f":"IF(D15>0,'Mischung 1'!N14*D15,0)","v":0},{"$f":"IF(D15>0,'Mischung 1'!O14*D15,0)","v":0},{"$f":"IF(D15>0,'Mischung 1'!P14*D15,0)","v":0},{"$f":"IF(D15>0,'Mischung 1'!Q14*D15,0)","v":0},{"$f":"IF('Mischung 1'!R14>0,'Mischung 1'!R14*D15,0)","v":0},null,{"$f":"IF(D15>0,'Mischung 1'!T14*D15,0)","v":0},{"$f":"IF(D15>0,'Mischung 1'!U14*D15,0)","v":0},{"$f":"IF(D15>0,'Mischung 1'!V14*D15,0)","v":0},{"$f":"IF(D15>0,'Mischung 1'!W14*D15,0)","v":0},{"$f":"IF(D15>0,'Mischung 1'!X14*D15,0)","v":0},{"$f":"IF(D15>0,'Mischung 1'!Y14*D15,0)","v":0},{"$f":"IF(D15>0,'Mischung 1'!Z14*D15,0)","v":0}]
[]
["Summe Grobfutter + Konzentratfutter",null,null,{"$f":"SUM(D14+D15)","v":0},{"$f":"SUM(E14+E15)","v":0},0,0,0,0,0,0,0,0,0,0,0,0,{"$f":"SUM(R14+R15+R16)","v":0},{"$f":"IF(E17>0,SUM(S14+S15)/(E17/1000),0)","v":0},{"$f":"IF(E17>0,SUM(T14+T15)/(E17/1000),0)","v":0},{"$f":"IF(E17>0,SUM(U14+U15)/(E17/1000),0)","v":0},{"$f":"IF(E17>0,SUM(V14+V15)/(E17/1000),0)","v":0},{"$f":"IF(E17>0,SUM(W14+W15)/(E17/1000),0)","v":0},{"$f":"IF(E17>0,SUM(X14+X15)/(E17/1000),0)","v":0},{"$f":"IF(E17>0,SUM(Y14+Y15)/(E17/1000),0)","v":0}]
[]
[{"$f":"INDEX(Sollwerte!A5:A75,Ration!A2)","v":"Sollwerte aus Liste wählen  >>>"},null,null,"TM g :",{"$f":"IFERROR(VLOOKUP(A19,Sollwerte!$A$5:$O$75,3,0),0)","v":0},null,{"$f":"IFERROR(VLOOKUP(A19,Sollwerte!$A$5:$O$75,4,0),0)","v":0},{"$f":"IFERROR(VLOOKUP(A19,Sollwerte!$A$5:$O$75,5,0),0)","v":0},{"$f":"IFERROR(VLOOKUP(A19,Sollwerte!$A$5:$O$75,6,0),0)","v":0},{"$f":"IFERROR(VLOOKUP(A19,Sollwerte!$A$5:$O$75,7,0),0)","v":0},{"$f":"IFERROR(VLOOKUP(A19,Sollwerte!$A$5:$O$75,8,0),0)","v":0},{"$f":"IFERROR(VLOOKUP(A19,Sollwerte!$A$5:$O$75,9,0),0)","v":0},{"$f":"IFERROR(VLOOKUP(A19,Sollwerte!$A$5:$O$75,10,0),0)","v":0},{"$f":"IFERROR(VLOOKUP(A19,Sollwerte!$A$5:$O$75,11,0),0)","v":0},{"$f":"IFERROR(VLOOKUP(A19,Sollwerte!$A$5:$O$75,12,0),0)","v":0},{"$f":"IFERROR(VLOOKUP(A19,Sollwerte!$A$5:$O$75,13,0),0)","v":0},null,null,{"$f":"IFERROR(VLOOKUP(A19,Sollwerte!$A$5:$V$75,16,0),0)","v":0},{"$f":"IFERROR(VLOOKUP(A19,Sollwerte!$A$5:$V$75,17,0),0)","v":0},{"$f":"IFERROR(VLOOKUP(A19,Sollwerte!$A$5:$V$75,18,0),0)","v":0},{"$f":"IFERROR(VLOOKUP(A19,Sollwerte!$A$5:$V$75,19,0),0)","v":0},{"$f":"IFERROR(VLOOKUP(A19,Sollwerte!$A$5:$V$75,20,0),0)","v":0},{"$f":"IFERROR(VLOOKUP(A19,Sollwerte!$A$5:$V$75,21,0),0)","v":0},{"$f":"IFERROR(VLOOKUP(A19,Sollwerte!$A$5:$V$75,22,0),0)","v":0}]
["Differenz zum Sollwert -  XF % / aNDF %",null,null,null,{"$f":"IF(E19>0,E17-E19,0)","v":0},null,{"$f":"IF(G17>0,R14/E17,0)","v":0},{"$f":"IF(H19>0,H17-H19,0)","v":0},{"$f":"IF(I19>0,I17-I19,0)","v":0},{"$f":"IF(J19>0,J17-J19,0)","v":0},0,0,0,0,0,0,null,null,{"$f":"IF(S19>0,S17-S19,0)","v":0},0,0,0,0,0,0]
[null,null,null,null,{"$f":"IF(E20=0,0,E20/E19)","v":0},null,null,{"$f":"IF(H20=0,0,H20/H19)","v":0},{"$f":"IF(I20=0,0,I20/I19)","v":0},{"$f":"IF(J20=0,0,J20/J19)","v":0},0,0,0,0,0,0,null,null,{"$f":"IF(S20=0,0,S20/S19)","v":0},0,0,0,0,0,0]
[]
[null,"Futterart",null,null,"TM g","OM g","aNDFom g ","CP g","nXP g","ME Mj","ST","Ca","P","Mg","Na","K","Preis","Typ","Fe","Cu","Zn","Mn","Co","J","Se"]
[null,{"$f":"IFERROR(VLOOKUP(A24,'Gruber Tabelle'!$A$3:$AA$344,2,0),\"\")","v":""},null,null,{"$f":"IFERROR(VLOOKUP(A24,'Gruber Tabelle'!$A$7:$AA$344,3,0),\"\")","v":""},{"$f":"IFERROR(VLOOKUP(A24,'Gruber Tabelle'!$A$7:$AA$344,5,0),\"\")","v":""},{"$f":"IFERROR(VLOOKUP(A24,'Gruber Tabelle'!$A$7:$AA$344,6,0),\"\")","v":""},{"$f":"IFERROR(VLOOKUP(A24,'Gruber Tabelle'!$A$7:$AA$344,7,0),\"\")","v":""},{"$f":"IFERROR(VLOOKUP(A24,'Gruber Tabelle'!$A$7:$AA$344,11,0),\"\")","v":""},{"$f":"IFERROR(VLOOKUP(A24,'Gruber Tabelle'!$A$7:$AA$344,12,0),\"\")","v":""},{"$f":"IFERROR(VLOOKUP(A24,'Gruber Tabelle'!$A$7:$AA$344,9,0),\"\")","v":""},{"$f":"IFERROR(VLOOKUP(A24,'Gruber Tabelle'!$A$7:$AA$344,13,0),\"\")","v":""},{"$f":"IFERROR(VLOOKUP(A24,'Gruber Tabelle'!$A$7:$AA$344,14,0),\"\")","v":""},{"$f":"IFERROR(VLOOKUP(A24,'Gruber Tabelle'!$A$7:$AA$344,15,0),\"\")","v":""},{"$f":"IFERROR(VLOOKUP(A24,'Gruber Tabelle'!$A$7:$AA$344,16,0),\"\")","v":""},{"$f":"IFERROR(VLOOKUP(A24,'Gruber Tabelle'!$A$7:$AA$344,17,0),\"\")","v":""},{"$f":"IFERROR(VLOOKUP(A24,'Gruber Tabelle'!$A$7:$AA$344,26,0),\"\")","v":""},{"$f":"IFERROR(VLOOKUP(A24,'Gruber Tabelle'!$A$7:$AA$344,18,0),\"\")","v":""},{"$f":"IFERROR(VLOOKUP(A24,'Gruber Tabelle'!$A$7:$AA$344,19,0),\"\")","v":""},{"$f":"IFERROR(VLOOKUP(A24,'Gruber Tabelle'!$A$7:$AA$344,20,0),\"\")","v":""},{"$f":"IFERROR(VLOOKUP(A24,'Gruber Tabelle'!$A$7:$AA$344,21,0),\"\")","v":""},{"$f":"IFERROR(VLOOKUP(A24,'Gruber Tabelle'!$A$7:$AA$344,22,0),\"\")","v":""},{"$f":"IFERROR(VLOOKUP(A24,'Gruber Tabelle'!$A$7:$AA$344,23,0),\"\")","v":""},{"$f":"IFERROR(VLOOKUP(A24,'Gruber Tabelle'!$A$7:$AA$344,24,0),\"\")","v":""},{"$f":"IFERROR(VLOOKUP(A24,'Gruber Tabelle'!$A$7:$AA$344,25,0),\"\")","v":""}]
[null,{"$f":"IFERROR(VLOOKUP(A25,'Gruber Tabelle'!$A$3:$AA$344,2,0),\"\")","v":""},null,null,{"$f":"IFERROR(VLOOKUP(A25,'Gruber Tabelle'!$A$7:$AA$344,3,0),\"\")","v":""},{"$f":"IFERROR(VLOOKUP(A25,'Gruber Tabelle'!$A$7:$AA$344,5,0),\"\")","v":""},{"$f":"IFERROR(VLOOKUP(A25,'Gruber Tabelle'!$A$7:$AA$344,6,0),\"\")","v":""},{"$f":"IFERROR(VLOOKUP(A25,'Gruber Tabelle'!$A$7:$AA$344,7,0),\"\")","v":""},{"$f":"IFERROR(VLOOKUP(A25,'Gruber Tabelle'!$A$7:$AA$344,11,0),\"\")","v":""},{"$f":"IFERROR(VLOOKUP(A25,'Gruber Tabelle'!$A$7:$AA$344,12,0),\"\")","v":""},{"$f":"IFERROR(VLOOKUP(A25,'Gruber Tabelle'!$A$7:$AA$344,9,0),\"\")","v":""},{"$f":"IFERROR(VLOOKUP(A25,'Gruber Tabelle'!$A$7:$AA$344,13,0),\"\")","v":""},{"$f":"IFERROR(VLOOKUP(A25,'Gruber Tabelle'!$A$7:$AA$344,14,0),\"\")","v":""},{"$f":"IFERROR(VLOOKUP(A25,'Gruber Tabelle'!$A$7:$AA$344,15,0),\"\")","v":""},{"$f":"IFERROR(VLOOKUP(A25,'Gruber Tabelle'!$A$7:$AA$344,16,0),\"\")","v":""},{"$f":"IFERROR(VLOOKUP(A25,'Gruber Tabelle'!$A$7:$AA$344,17,0),\"\")","v":""},{"$f":"IFERROR(VLOOKUP(A25,'Gruber Tabelle'!$A$7:$AA$344,26,0),\"\")","v":""},{"$f":"IFERROR(VLOOKUP(A25,'Gruber Tabelle'!$A$7:$AA$344,18,0),\"\")","v":""},{"$f":"IFERROR(VLOOKUP(A25,'Gruber Tabelle'!$A$7:$AA$344,19,0),\"\")","v":""},{"$f":"IFERROR(VLOOKUP(A25,'Gruber Tabelle'!$A$7:$AA$344,20,0),\"\")","v":""},{"$f":"IFERROR(VLOOKUP(A25,'Gruber Tabelle'!$A$7:$AA$344,21,0),\"\")","v":""},{"$f":"IFERROR(VLOOKUP(A25,'Gruber Tabelle'!$A$7:$AA$344,22,0),\"\")","v":""},{"$f":"IFERROR(VLOOKUP(A25,'Gruber Tabelle'!$A$7:$AA$344,23,0),\"\")","v":""},{"$f":"IFERROR(VLOOKUP(A25,'Gruber Tabelle'!$A$7:$AA$344,24,0),\"\")","v":""},{"$f":"IFERROR(VLOOKUP(A25,'Gruber Tabelle'!$A$7:$AA$344,25,0),\"\")","v":""}]
[null,{"$f":"IFERROR(VLOOKUP(A26,'Gruber Tabelle'!$A$3:$AA$344,2,0),\"\")","v":""},null,null,{"$f":"IFERROR(VLOOKUP(A26,'Gruber Tabelle'!$A$7:$AA$344,3,0),\"\")","v":""},{"$f":"IFERROR(VLOOKUP(A26,'Gruber Tabelle'!$A$7:$AA$344,5,0),\"\")","v":""},{"$f":"IFERROR(VLOOKUP(A26,'Gruber Tabelle'!$A$7:$AA$344,6,0),\"\")","v":""},{"$f":"IFERROR(VLOOKUP(A26,'Gruber Tabelle'!$A$7:$AA$344,7,0),\"\")","v":""},{"$f":"IFERROR(VLOOKUP(A26,'Gruber Tabelle'!$A$7:$AA$344,11,0),\"\")","v":""},{"$f":"IFERROR(VLOOKUP(A26,'Gruber Tabelle'!$A$7:$AA$344,12,0),\"\")","v":""},{"$f":"IFERROR(VLOOKUP(A26,'Gruber Tabelle'!$A$7:$AA$344,9,0),\"\")","v":""},{"$f":"IFERROR(VLOOKUP(A26,'Gruber Tabelle'!$A$7:$AA$344,13,0),\"\")","v":""},{"$f":"IFERROR(VLOOKUP(A26,'Gruber Tabelle'!$A$7:$AA$344,14,0),\"\")","v":""},{"$f":"IFERROR(VLOOKUP(A26,'Gruber Tabelle'!$A$7:$AA$344,15,0),\"\")","v":""},{"$f":"IFERROR(VLOOKUP(A26,'Gruber Tabelle'!$A$7:$AA$344,16,0),\"\")","v":""},{"$f":"IFERROR(VLOOKUP(A26,'Gruber Tabelle'!$A$7:$AA$344,17,0),\"\")","v":""},{"$f":"IFERROR(VLOOKUP(A26,'Gruber Tabelle'!$A$7:$AA$344,26,0),\"\")","v":""},{"$f":"IFERROR(VLOOKUP(A26,'Gruber Tabelle'!$A$7:$AA$344,18,0),\"\")","v":""},{"$f":"IFERROR(VLOOKUP(A26,'Gruber Tabelle'!$A$7:$AA$344,19,0),\"\")","v":""},{"$f":"IFERROR(VLOOKUP(A26,'Gruber Tabelle'!$A$7:$AA$344,20,0),\"\")","v":""},{"$f":"IFERROR(VLOOKUP(A26,'Gruber Tabelle'!$A$7:$AA$344,21,0),\"\")","v":""},{"$f":"IFERROR(VLOOKUP(A26,'Gruber Tabelle'!$A$7:$AA$344,22,0),\"\")","v":""},{"$f":"IFERROR(VLOOKUP(A26,'Gruber Tabelle'!$A$7:$AA$344,23,0),\"\")","v":""},{"$f":"IFERROR(VLOOKUP(A26,'Gruber Tabelle'!$A$7:$AA$344,24,0),\"\")","v":""},{"$f":"IFERROR(VLOOKUP(A26,'Gruber Tabelle'!$A$7:$AA$344,25,0),\"\")","v":""}]
[null,{"$f":"IFERROR(VLOOKUP(A27,'Gruber Tabelle'!$A$3:$AA$344,2,0),\"\")","v":""},null,null,{"$f":"IFERROR(VLOOKUP(A27,'Gruber Tabelle'!$A$7:$AA$344,3,0),\"\")","v":""},{"$f":"IFERROR(VLOOKUP(A27,'Gruber Tabelle'!$A$7:$AA$344,5,0),\"\")","v":""},{"$f":"IFERROR(VLOOKUP(A27,'Gruber Tabelle'!$A$7:$AA$344,6,0),\"\")","v":""},{"$f":"IFERROR(VLOOKUP(A27,'Gruber Tabelle'!$A$7:$AA$344,7,0),\"\")","v":""},{"$f":"IFERROR(VLOOKUP(A27,'Gruber Tabelle'!$A$7:$AA$344,11,0),\"\")","v":""},{"$f":"IFERROR(VLOOKUP(A27,'Gruber Tabelle'!$A$7:$AA$344,12,0),\"\")","v":""},{"$f":"IFERROR(VLOOKUP(A27,'Gruber Tabelle'!$A$7:$AA$344,9,0),\"\")","v":""},{"$f":"IFERROR(VLOOKUP(A27,'Gruber Tabelle'!$A$7:$AA$344,13,0),\"\")","v":""},{"$f":"IFERROR(VLOOKUP(A27,'Gruber Tabelle'!$A$7:$AA$344,14,0),\"\")","v":""},{"$f":"IFERROR(VLOOKUP(A27,'Gruber Tabelle'!$A$7:$AA$344,15,0),\"\")","v":""},{"$f":"IFERROR(VLOOKUP(A27,'Gruber Tabelle'!$A$7:$AA$344,16,0),\"\")","v":""},{"$f":"IFERROR(VLOOKUP(A27,'Gruber Tabelle'!$A$7:$AA$344,17,0),\"\")","v":""},{"$f":"IFERROR(VLOOKUP(A27,'Gruber Tabelle'!$A$7:$AA$344,26,0),\"\")","v":""},{"$f":"IFERROR(VLOOKUP(A27,'Gruber Tabelle'!$A$7:$AA$344,18,0),\"\")","v":""},{"$f":"IFERROR(VLOOKUP(A27,'Gruber Tabelle'!$A$7:$AA$344,19,0),\"\")","v":""},{"$f":"IFERROR(VLOOKUP(A27,'Gruber Tabelle'!$A$7:$AA$344,20,0),\"\")","v":""},{"$f":"IFERROR(VLOOKUP(A27,'Gruber Tabelle'!$A$7:$AA$344,21,0),\"\")","v":""},{"$f":"IFERROR(VLOOKUP(A27,'Gruber Tabelle'!$A$7:$AA$344,22,0),\"\")","v":""},{"$f":"IFERROR(VLOOKUP(A27,'Gruber Tabelle'!$A$7:$AA$344,23,0),\"\")","v":""},{"$f":"IFERROR(VLOOKUP(A27,'Gruber Tabelle'!$A$7:$AA$344,24,0),\"\")","v":""},{"$f":"IFERROR(VLOOKUP(A27,'Gruber Tabelle'!$A$7:$AA$344,25,0),\"\")","v":""}]
[null,{"$f":"IFERROR(VLOOKUP(A28,'Gruber Tabelle'!$A$3:$AA$344,2,0),\"\")","v":""},null,null,{"$f":"IFERROR(VLOOKUP(A28,'Gruber Tabelle'!$A$7:$AA$344,3,0),\"\")","v":""},{"$f":"IFERROR(VLOOKUP(A28,'Gruber Tabelle'!$A$7:$AA$344,5,0),\"\")","v":""},{"$f":"IFERROR(VLOOKUP(A28,'Gruber Tabelle'!$A$7:$AA$344,6,0),\"\")","v":""},{"$f":"IFERROR(VLOOKUP(A28,'Gruber Tabelle'!$A$7:$AA$344,7,0),\"\")","v":""},{"$f":"IFERROR(VLOOKUP(A28,'Gruber Tabelle'!$A$7:$AA$344,11,0),\"\")","v":""},{"$f":"IFERROR(VLOOKUP(A28,'Gruber Tabelle'!$A$7:$AA$344,12,0),\"\")","v":""},{"$f":"IFERROR(VLOOKUP(A28,'Gruber Tabelle'!$A$7:$AA$344,9,0),\"\")","v":""},{"$f":"IFERROR(VLOOKUP(A28,'Gruber Tabelle'!$A$7:$AA$344,13,0),\"\")","v":""},{"$f":"IFERROR(VLOOKUP(A28,'Gruber Tabelle'!$A$7:$AA$344,14,0),\"\")","v":""},{"$f":"IFERROR(VLOOKUP(A28,'Gruber Tabelle'!$A$7:$AA$344,15,0),\"\")","v":""},{"$f":"IFERROR(VLOOKUP(A28,'Gruber Tabelle'!$A$7:$AA$344,16,0),\"\")","v":""},{"$f":"IFERROR(VLOOKUP(A28,'Gruber Tabelle'!$A$7:$AA$344,17,0),\"\")","v":""},{"$f":"IFERROR(VLOOKUP(A28,'Gruber Tabelle'!$A$7:$AA$344,26,0),\"\")","v":""},{"$f":"IFERROR(VLOOKUP(A28,'Gruber Tabelle'!$A$7:$AA$344,18,0),\"\")","v":""},{"$f":"IFERROR(VLOOKUP(A28,'Gruber Tabelle'!$A$7:$AA$344,19,0),\"\")","v":""},{"$f":"IFERROR(VLOOKUP(A28,'Gruber Tabelle'!$A$7:$AA$344,20,0),\"\")","v":""},{"$f":"IFERROR(VLOOKUP(A28,'Gruber Tabelle'!$A$7:$AA$344,21,0),\"\")","v":""},{"$f":"IFERROR(VLOOKUP(A28,'Gruber Tabelle'!$A$7:$AA$344,22,0),\"\")","v":""},{"$f":"IFERROR(VLOOKUP(A28,'Gruber Tabelle'!$A$7:$AA$344,23,0),\"\")","v":""},{"$f":"IFERROR(VLOOKUP(A28,'Gruber Tabelle'!$A$7:$AA$344,24,0),\"\")","v":""},{"$f":"IFERROR(VLOOKUP(A28,'Gruber Tabelle'!$A$7:$AA$344,25,0),\"\")","v":""}]
[null,{"$f":"IFERROR(VLOOKUP(A29,'Gruber Tabelle'!$A$3:$AA$344,2,0),\"\")","v":""},null,null,{"$f":"IFERROR(VLOOKUP(A29,'Gruber Tabelle'!$A$7:$AA$344,3,0),\"\")","v":""},{"$f":"IFERROR(VLOOKUP(A29,'Gruber Tabelle'!$A$7:$AA$344,5,0),\"\")","v":""},{"$f":"IFERROR(VLOOKUP(A29,'Gruber Tabelle'!$A$7:$AA$344,6,0),\"\")","v":""},{"$f":"IFERROR(VLOOKUP(A29,'Gruber Tabelle'!$A$7:$AA$344,7,0),\"\")","v":""},{"$f":"IFERROR(VLOOKUP(A29,'Gruber Tabelle'!$A$7:$AA$344,11,0),\"\")","v":""},{"$f":"IFERROR(VLOOKUP(A29,'Gruber Tabelle'!$A$7:$AA$344,12,0),\"\")","v":""},{"$f":"IFERROR(VLOOKUP(A29,'Gruber Tabelle'!$A$7:$AA$344,9,0),\"\")","v":""},{"$f":"IFERROR(VLOOKUP(A29,'Gruber Tabelle'!$A$7:$AA$344,13,0),\"\")","v":""},{"$f":"IFERROR(VLOOKUP(A29,'Gruber Tabelle'!$A$7:$AA$344,14,0),\"\")","v":""},{"$f":"IFERROR(VLOOKUP(A29,'Gruber Tabelle'!$A$7:$AA$344,15,0),\"\")","v":""},{"$f":"IFERROR(VLOOKUP(A29,'Gruber Tabelle'!$A$7:$AA$344,16,0),\"\")","v":""},{"$f":"IFERROR(VLOOKUP(A29,'Gruber Tabelle'!$A$7:$AA$344,17,0),\"\")","v":""},{"$f":"IFERROR(VLOOKUP(A29,'Gruber Tabelle'!$A$7:$AA$344,26,0),\"\")","v":""},{"$f":"IFERROR(VLOOKUP(A29,'Gruber Tabelle'!$A$7:$AA$344,18,0),\"\")","v":""},{"$f":"IFERROR(VLOOKUP(A29,'Gruber Tabelle'!$A$7:$AA$344,19,0),\"\")","v":""},{"$f":"IFERROR(VLOOKUP(A29,'Gruber Tabelle'!$A$7:$AA$344,20,0),\"\")","v":""},{"$f":"IFERROR(VLOOKUP(A29,'Gruber Tabelle'!$A$7:$AA$344,21,0),\"\")","v":""},{"$f":"IFERROR(VLOOKUP(A29,'Gruber Tabelle'!$A$7:$AA$344,22,0),\"\")","v":""},{"$f":"IFERROR(VLOOKUP(A29,'Gruber Tabelle'!$A$7:$AA$344,23,0),\"\")","v":""},{"$f":"IFERROR(VLOOKUP(A29,'Gruber Tabelle'!$A$7:$AA$344,24,0),\"\")","v":""},{"$f":"IFERROR(VLOOKUP(A29,'Gruber Tabelle'!$A$7:$AA$344,25,0),\"\")","v":""}]
[null,{"$f":"IFERROR(VLOOKUP(A30,'Gruber Tabelle'!$A$3:$AA$344,2,0),\"\")","v":""},null,null,{"$f":"IFERROR(VLOOKUP(A30,'Gruber Tabelle'!$A$7:$AA$344,3,0),\"\")","v":""},{"$f":"IFERROR(VLOOKUP(A30,'Gruber Tabelle'!$A$7:$AA$344,5,0),\"\")","v":""},{"$f":"IFERROR(VLOOKUP(A30,'Gruber Tabelle'!$A$7:$AA$344,6,0),\"\")","v":""},{"$f":"IFERROR(VLOOKUP(A30,'Gruber Tabelle'!$A$7:$AA$344,7,0),\"\")","v":""},{"$f":"IFERROR(VLOOKUP(A30,'Gruber Tabelle'!$A$7:$AA$344,11,0),\"\")","v":""},{"$f":"IFERROR(VLOOKUP(A30,'Gruber Tabelle'!$A$7:$AA$344,12,0),\"\")","v":""},{"$f":"IFERROR(VLOOKUP(A30,'Gruber Tabelle'!$A$7:$AA$344,9,0),\"\")","v":""},{"$f":"IFERROR(VLOOKUP(A30,'Gruber Tabelle'!$A$7:$AA$344,13,0),\"\")","v":""},{"$f":"IFERROR(VLOOKUP(A30,'Gruber Tabelle'!$A$7:$AA$344,14,0),\"\")","v":""},{"$f":"IFERROR(VLOOKUP(A30,'Gruber Tabelle'!$A$7:$AA$344,15,0),\"\")","v":""},{"$f":"IFERROR(VLOOKUP(A30,'Gruber Tabelle'!$A$7:$AA$344,16,0),\"\")","v":""},{"$f":"IFERROR(VLOOKUP(A30,'Gruber Tabelle'!$A$7:$AA$344,17,0),\"\")","v":""},{"$f":"IFERROR(VLOOKUP(A30,'Gruber Tabelle'!$A$7:$AA$344,26,0),\"\")","v":""},{"$f":"IFERROR(VLOOKUP(A30,'Gruber Tabelle'!$A$7:$AA$344,18,0),\"\")","v":""},{"$f":"IFERROR(VLOOKUP(A30,'Gruber Tabelle'!$A$7:$AA$344,19,0),\"\")","v":""},{"$f":"IFERROR(VLOOKUP(A30,'Gruber Tabelle'!$A$7:$AA$344,20,0),\"\")","v":""},{"$f":"IFERROR(VLOOKUP(A30,'Gruber Tabelle'!$A$7:$AA$344,21,0),\"\")","v":""},{"$f":"IFERROR(VLOOKUP(A30,'Gruber Tabelle'!$A$7:$AA$344,22,0),\"\")","v":""},{"$f":"IFERROR(VLOOKUP(A30,'Gruber Tabelle'!$A$7:$AA$344,23,0),\"\")","v":""},{"$f":"IFERROR(VLOOKUP(A30,'Gruber Tabelle'!$A$7:$AA$344,24,0),\"\")","v":""},{"$f":"IFERROR(VLOOKUP(A30,'Gruber Tabelle'!$A$7:$AA$344,25,0),\"\")","v":""}]
[null,{"$f":"IFERROR(VLOOKUP(A31,'Gruber Tabelle'!$A$3:$AA$344,2,0),\"\")","v":""},null,null,{"$f":"IFERROR(VLOOKUP(A31,'Gruber Tabelle'!$A$7:$AA$344,3,0),\"\")","v":""},{"$f":"IFERROR(VLOOKUP(A31,'Gruber Tabelle'!$A$7:$AA$344,5,0),\"\")","v":""},{"$f":"IFERROR(VLOOKUP(A31,'Gruber Tabelle'!$A$7:$AA$344,6,0),\"\")","v":""},{"$f":"IFERROR(VLOOKUP(A31,'Gruber Tabelle'!$A$7:$AA$344,7,0),\"\")","v":""},{"$f":"IFERROR(VLOOKUP(A31,'Gruber Tabelle'!$A$7:$AA$344,11,0),\"\")","v":""},{"$f":"IFERROR(VLOOKUP(A31,'Gruber Tabelle'!$A$7:$AA$344,12,0),\"\")","v":""},{"$f":"IFERROR(VLOOKUP(A31,'Gruber Tabelle'!$A$7:$AA$344,9,0),\"\")","v":""},{"$f":"IFERROR(VLOOKUP(A31,'Gruber Tabelle'!$A$7:$AA$344,13,0),\"\")","v":""},{"$f":"IFERROR(VLOOKUP(A31,'Gruber Tabelle'!$A$7:$AA$344,14,0),\"\")","v":""},{"$f":"IFERROR(VLOOKUP(A31,'Gruber Tabelle'!$A$7:$AA$344,15,0),\"\")","v":""},{"$f":"IFERROR(VLOOKUP(A31,'Gruber Tabelle'!$A$7:$AA$344,16,0),\"\")","v":""},{"$f":"IFERROR(VLOOKUP(A31,'Gruber Tabelle'!$A$7:$AA$344,17,0),\"\")","v":""},{"$f":"IFERROR(VLOOKUP(A31,'Gruber Tabelle'!$A$7:$AA$344,26,0),\"\")","v":""},{"$f":"IFERROR(VLOOKUP(A31,'Gruber Tabelle'!$A$7:$AA$344,18,0),\"\")","v":""},{"$f":"IFERROR(VLOOKUP(A31,'Gruber Tabelle'!$A$7:$AA$344,19,0),\"\")","v":""},{"$f":"IFERROR(VLOOKUP(A31,'Gruber Tabelle'!$A$7:$AA$344,20,0),\"\")","v":""},{"$f":"IFERROR(VLOOKUP(A31,'Gruber Tabelle'!$A$7:$AA$344,21,0),\"\")","v":""},{"$f":"IFERROR(VLOOKUP(A31,'Gruber Tabelle'!$A$7:$AA$344,22,0),\"\")","v":""},{"$f":"IFERROR(VLOOKUP(A31,'Gruber Tabelle'!$A$7:$AA$344,23,0),\"\")","v":""},{"$f":"IFERROR(VLOOKUP(A31,'Gruber Tabelle'!$A$7:$AA$344,24,0),\"\")","v":""},{"$f":"IFERROR(VLOOKUP(A31,'Gruber Tabelle'!$A$7:$AA$344,25,0),\"\")","v":""}]
[null,{"$f":"IFERROR(VLOOKUP(A32,'Gruber Tabelle'!$A$3:$AA$344,2,0),\"\")","v":""},null,null,{"$f":"IFERROR(VLOOKUP(A32,'Gruber Tabelle'!$A$7:$AA$344,3,0),\"\")","v":""},{"$f":"IFERROR(VLOOKUP(A32,'Gruber Tabelle'!$A$7:$AA$344,5,0),\"\")","v":""},{"$f":"IFERROR(VLOOKUP(A32,'Gruber Tabelle'!$A$7:$AA$344,6,0),\"\")","v":""},{"$f":"IFERROR(VLOOKUP(A32,'Gruber Tabelle'!$A$7:$AA$344,7,0),\"\")","v":""},{"$f":"IFERROR(VLOOKUP(A32,'Gruber Tabelle'!$A$7:$AA$344,11,0),\"\")","v":""},{"$f":"IFERROR(VLOOKUP(A32,'Gruber Tabelle'!$A$7:$AA$344,12,0),\"\")","v":""},{"$f":"IFERROR(VLOOKUP(A32,'Gruber Tabelle'!$A$7:$AA$344,9,0),\"\")","v":""},{"$f":"IFERROR(VLOOKUP(A32,'Gruber Tabelle'!$A$7:$AA$344,13,0),\"\")","v":""},{"$f":"IFERROR(VLOOKUP(A32,'Gruber Tabelle'!$A$7:$AA$344,14,0),\"\")","v":""},{"$f":"IFERROR(VLOOKUP(A32,'Gruber Tabelle'!$A$7:$AA$344,15,0),\"\")","v":""},{"$f":"IFERROR(VLOOKUP(A32,'Gruber Tabelle'!$A$7:$AA$344,16,0),\"\")","v":""},{"$f":"IFERROR(VLOOKUP(A32,'Gruber Tabelle'!$A$7:$AA$344,17,0),\"\")","v":""},{"$f":"IFERROR(VLOOKUP(A32,'Gruber Tabelle'!$A$7:$AA$344,26,0),\"\")","v":""},{"$f":"IFERROR(VLOOKUP(A32,'Gruber Tabelle'!$A$7:$AA$344,18,0),\"\")","v":""},{"$f":"IFERROR(VLOOKUP(A32,'Gruber Tabelle'!$A$7:$AA$344,19,0),\"\")","v":""},{"$f":"IFERROR(VLOOKUP(A32,'Gruber Tabelle'!$A$7:$AA$344,20,0),\"\")","v":""},{"$f":"IFERROR(VLOOKUP(A32,'Gruber Tabelle'!$A$7:$AA$344,21,0),\"\")","v":""},{"$f":"IFERROR(VLOOKUP(A32,'Gruber Tabelle'!$A$7:$AA$344,22,0),\"\")","v":""},{"$f":"IFERROR(VLOOKUP(A32,'Gruber Tabelle'!$A$7:$AA$344,23,0),\"\")","v":""},{"$f":"IFERROR(VLOOKUP(A32,'Gruber Tabelle'!$A$7:$AA$344,24,0),\"\")","v":""},{"$f":"IFERROR(VLOOKUP(A32,'Gruber Tabelle'!$A$7:$AA$344,25,0),\"\")","v":""}]
[null,{"$f":"IFERROR(VLOOKUP(A33,'Gruber Tabelle'!$A$3:$AA$344,2,0),\"\")","v":""},null,null,{"$f":"IFERROR(VLOOKUP(A33,'Gruber Tabelle'!$A$7:$AA$344,3,0),\"\")","v":""},{"$f":"IFERROR(VLOOKUP(A33,'Gruber Tabelle'!$A$7:$AA$344,5,0),\"\")","v":""},{"$f":"IFERROR(VLOOKUP(A33,'Gruber Tabelle'!$A$7:$AA$344,6,0),\"\")","v":""},{"$f":"IFERROR(VLOOKUP(A33,'Gruber Tabelle'!$A$7:$AA$344,7,0),\"\")","v":""},{"$f":"IFERROR(VLOOKUP(A33,'Gruber Tabelle'!$A$7:$AA$344,11,0),\"\")","v":""},{"$f":"IFERROR(VLOOKUP(A33,'Gruber Tabelle'!$A$7:$AA$344,12,0),\"\")","v":""},{"$f":"IFERROR(VLOOKUP(A33,'Gruber Tabelle'!$A$7:$AA$344,9,0),\"\")","v":""},{"$f":"IFERROR(VLOOKUP(A33,'Gruber Tabelle'!$A$7:$AA$344,13,0),\"\")","v":""},{"$f":"IFERROR(VLOOKUP(A33,'Gruber Tabelle'!$A$7:$AA$344,14,0),\"\")","v":""},{"$f":"IFERROR(VLOOKUP(A33,'Gruber Tabelle'!$A$7:$AA$344,15,0),\"\")","v":""},{"$f":"IFERROR(VLOOKUP(A33,'Gruber Tabelle'!$A$7:$AA$344,16,0),\"\")","v":""},{"$f":"IFERROR(VLOOKUP(A33,'Gruber Tabelle'!$A$7:$AA$344,17,0),\"\")","v":""},{"$f":"IFERROR(VLOOKUP(A33,'Gruber Tabelle'!$A$7:$AA$344,26,0),\"\")","v":""},{"$f":"IFERROR(VLOOKUP(A33,'Gruber Tabelle'!$A$7:$AA$344,18,0),\"\")","v":""},{"$f":"IFERROR(VLOOKUP(A33,'Gruber Tabelle'!$A$7:$AA$344,19,0),\"\")","v":""},{"$f":"IFERROR(VLOOKUP(A33,'Gruber Tabelle'!$A$7:$AA$344,20,0),\"\")","v":""},{"$f":"IFERROR(VLOOKUP(A33,'Gruber Tabelle'!$A$7:$AA$344,21,0),\"\")","v":""},{"$f":"IFERROR(VLOOKUP(A33,'Gruber Tabelle'!$A$7:$AA$344,22,0),\"\")","v":""},{"$f":"IFERROR(VLOOKUP(A33,'Gruber Tabelle'!$A$7:$AA$344,23,0),\"\")","v":""},{"$f":"IFERROR(VLOOKUP(A33,'Gruber Tabelle'!$A$7:$AA$344,24,0),\"\")","v":""},{"$f":"IFERROR(VLOOKUP(A33,'Gruber Tabelle'!$A$7:$AA$344,25,0),\"\")","v":""}]

{"sheet":"Mischung 1","index":3,"n_rows":33,"n_cols":26,"rows_kept":33,"cut":false,"hidden":false,"merged":[[23,2,32,4],[0,0,1,4]]}
["Konzentrat - Mischung"]
[]
["Nr ","Futterart","Mischungs- Anteil in %","TM %","FM kg","TM g","OM g","aNDFom g","CP g","nXP g","ME Mj","ST","Ca","P","Mg","Na","K","Kosten","aNDFom","Fe","Cu","Zn","Mn","Co ","J","Se"]
[{"$f":"A24","v":0},{"$f":"B24","v":""},null,{"$f":"IFERROR(VLOOKUP(A24,'Gruber Tabelle'!$A$4:$M$362,3,0)/1000,\"\")","v":""},{"$f":"IF(C4>0,1*C4,\" \")","v":" "},{"$f":"IFERROR(IF(C4>0,F24*C4,\" \"),\"\")","v":" "},{"$f":"IFERROR(IF($G$24>0,(G24*C4)*D4,\" \"),\"\")","v":""},{"$f":"IFERROR(IF(H24>0,(H24*C4)*D4,\" \"),\"\")","v":""},{"$f":"IFERROR(IF(I24>0,(I24*C4)*D4,\" \"),\"\")","v":""},{"$f":"IFERROR(IF(J24>0,(J24*C4)*D4,\" \"),\"\")","v":""},{"$f":"IFERROR(IF(K24>0,(K24*C4)*D4,\" \"),\"\")","v":""},{"$f":"IFERROR(IF(L24>0,(L24*C4)*D4,\" \"),\"\")","v":""},{"$f":"IFERROR(IF(M24>0,(M24*C4)*D4,\" \"),\"\")","v":""},{"$f":"IFERROR(IF(N24>0,(N24*C4)*D4,\" \"),\"\")","v":""},{"$f":"IFERROR(IF(O24>0,(O24*C4)*D4,\" \"),\"\")","v":""},{"$f":"IFERROR(IF(P24>0,(P24*C4)*D4,\" \"),\"\")","v":""},{"$f":"IFERROR(IF(Q24>0,(Q24*C4)*D4,\" \"),\"\")","v":""},{"$f":"IFERROR(IF(C4>0,R24*E4/100,0),\"\")","v":0},{"$f":"IF(S24=\"GF\",H24*F24/1000,0)","v":0},{"$f":"IFERROR(IF(T24>0,(T24*C4)*D4,\" \"),\"\")","v":""},{"$f":"IFERROR(IF(U24>0,(U24*C4)*D4,\" \"),\"\")","v":""},{"$f":"IFERROR(IF(V24>0,(V24*C4)*D4,\" \"),\"\")","v":""},{"$f":"IFERROR(IF(W24>0,(W24*C4)*D4,\" \"),\"\")","v":""},{"$f":"IFERROR(IF(X24>0,(X24*C4)*D4,\" \"),\"\")","v":""},{"$f":"IFERROR(IF(Y24>0,(Y24*C4)*D4,\" \"),\"\")","v":""},{"$f":"IFERROR(IF(Z24>0,(Z24*C4)*D4,\" \"),\"\")","v":""}]
[{"$f":"A25","v":0},"",null,{"$f":"IFERROR(VLOOKUP(A25,'Gruber Tabelle'!$A$4:$M$362,3,0)/1000,\"\")","v":""},{"$f":"IF(C5>0,1*C5,\" \")","v":" "}," ",{"$f":"IFERROR(IF($G$25>0,(G25*C5)*D5,\" \"),\"\")","v":""},"","","","","","","","","","",0,{"$f":"IF(S25=\"GF\",H25*F25/1000,0)","v":0},{"$f":"IFERROR(IF(T25>0,(T25*C5)*D5,\" \"),\"\")","v":""},{"$f":"IFERROR(IF(U25>0,(U25*C5)*D5,\" \"),\"\")","v":""},{"$f":"IFERROR(IF(V25>0,(V25*C5)*D5,\" \"),\"\")","v":""},{"$f":"IFERROR(IF(W25>0,(W25*C5)*D5,\" \"),\"\")","v":""},{"$f":"IFERROR(IF(X25>0,(X25*C5)*D5,\" \"),\"\")","v":""},{"$f":"IFERROR(IF(Y25>0,(Y25*C5)*D5,\" \"),\"\")","v":""},{"$f":"IFERROR(IF(Z25>0,(Z25*C5)*D5,\" \"),\"\")","v":""}]
[{"$f":"A26","v":0},"",null,{"$f":"IFERROR(VLOOKUP(A26,'Gruber Tabelle'!$A$4:$M$362,3,0)/1000,\"\")","v":""}," "," ",{"$f":"IFERROR(IF($G$26>0,(G26*C6)*D6,\" \"),\"\")","v":""},"","","","","","","","","","",0,0,"","","","","","",""]
[{"$f":"A27","v":0},"",null,{"$f":"IFERROR(VLOOKUP(A27,'Gruber Tabelle'!$A$4:$M$362,3,0)/1000,\"\")","v":""}," "," ",{"$f":"IFERROR(IF($G$27>0,(G27*C7)*D7,\" \"),\"\")","v":""},"","","","","","","","","","",0,0,"","","","","","",""]
[{"$f":"A28","v":0},"",null,{"$f":"IFERROR(VLOOKUP(A28,'Gruber Tabelle'!$A$4:$M$362,3,0)/1000,\"\")","v":""}," "," ",{"$f":"IFERROR(IF($G$28>0,(G28*C8)*D8,\" \"),\"\")","v":""},"","","","","","","","","","",0,0,"","","","","","",""]
[{"$f":"A29","v":0},"",null,{"$f":"IFERROR(VLOOKUP(A29,'Gruber Tabelle'!$A$4:$M$362,3,0)/1000,\"\")","v":""}," "," ",{"$f":"IFERROR(IF($G$29>0,(G29*C9)*D9,\" \"),\"\")","v":""},"","","","","","","","","","",0,0,"","","","","","",""]
[{"$f":"A30","v":0},"",null,{"$f":"IFERROR(VLOOKUP(A30,'Gruber Tabelle'!$A$4:$M$362,3,0)/1000,\"\")","v":""}," "," ",{"$f":"IFERROR(IF($G$30>0,(G30*C10)*D10,\" \"),\"\")","v":""},"","","","","","","","","","",0,0,"","","","","","",""]
[{"$f":"A31","v":0},"",null,{"$f":"IFERROR(VLOOKUP(A31,'Gruber Tabelle'!$A$4:$M$362,3,0)/1000,\"\")","v":""}," "," ",{"$f":"IFERROR(IF($G$31>0,(G31*C11)*D11,\" \"),\"\")","v":""},null,"","","","","","","","","",0,0,"","","","","","",""]
[{"$f":"A32","v":0},"",null,{"$f":"IFERROR(VLOOKUP(A32,'Gruber Tabelle'!$A$4:$M$362,3,0)/1000,\"\")","v":""}," "," ",{"$f":"IFERROR(IF($G$32>0,(G32*C12)*D12,\" \"),\"\")","v":""},"","","","","","","","","","",0,0,"","","","","","",""]
[{"$f":"A33","v":0},"",null,{"$f":"IFERROR(VLOOKUP(A33,'Gruber Tabelle'!$A$4:$M$362,3,0)/1000,\"\")","v":""}," "," ",{"$f":"IFERROR(IF($G$33>0,(G33*C13)*D13,\" \"),\"\")","v":""},"","","","","","","","","","",0,0,"","","","","","",""]
["FM","Summe:",{"$f":"SUM(C4:C13)","v":0},null,{"$f":"SUM(E4:E13)","v":0},0,0,0,{"$f":"SUM(I4:I13)","v":0},{"$f":"SUM(J4:J13)","v":0},0,0,0,0,0,0,0,{"$f":"SUM(R4:R13)","v":0},{"$f":"SUM(S4:S13)","v":0},{"$f":"SUM(T4:T13)","v":0},0,0,0,0,0,0]
[]
[]
[]
[]
[]
[]
[]
[]
["Nr ","Futterart",null,null,null,"TM g","OM g","aNDFom g","CP g","nXP g","ME Mj","ST","Ca","P","Mg","Na","K","Kosten","Typ","Fe","Cu","Zn","Mn","Co ","J","Se"]
[null,{"$f":"IFERROR(VLOOKUP(A24,'Gruber Tabelle'!$A$7:$P$362,2,0),\"\")","v":""},"Konzentrat Mischung",null,null,{"$f":"IFERROR(VLOOKUP(A24,'Gruber Tabelle'!$A$3:$AA$344,3,0),\"\")","v":""},{"$f":"IFERROR(VLOOKUP(A24,'Gruber Tabelle'!$A$3:$AA$344,5,0),\"\")","v":""},{"$f":"IFERROR(VLOOKUP(A24,'Gruber Tabelle'!$A$3:$AA$344,6,0),\"\")","v":""},{"$f":"IFERROR(VLOOKUP(A24,'Gruber Tabelle'!$A$3:$AA$344,7,0),\"\")","v":""},{"$f":"IFERROR(VLOOKUP(A24,'Gruber Tabelle'!$A$3:$AA$344,11,0),\"\")","v":""},{"$f":"IFERROR(VLOOKUP(A24,'Gruber Tabelle'!$A$3:$AA$344,12,0),\"\")","v":""},{"$f":"IFERROR(VLOOKUP(A24,'Gruber Tabelle'!$A$3:$AA$344,9,0),\"\")","v":""},{"$f":"IFERROR(VLOOKUP(A24,'Gruber Tabelle'!$A$3:$AA$344,13,0),\"\")","v":""},{"$f":"IFERROR(VLOOKUP(A24,'Gruber Tabelle'!$A$3:$AA$344,14,0),\"\")","v":""},{"$f":"IFERROR(VLOOKUP(A24,'Gruber Tabelle'!$A$3:$AA$344,15,0),\"\")","v":""},{"$f":"IFERROR(VLOOKUP(A24,'Gruber Tabelle'!$A$3:$AA$344,16,0),\"\")","v":""},{"$f":"IFERROR(VLOOKUP(A24,'Gruber Tabelle'!$A$3:$AA$344,17,0),\"\")","v":""},{"$f":"IFERROR(VLOOKUP(A24,'Gruber Tabelle'!$A$3:$AA$344,26,0),\"\")","v":""},{"$f":"IFERROR(VLOOKUP(A24,'Gruber Tabelle'!$A$3:$AA$344,18,0),\"\")","v":""},{"$f":"IFERROR(VLOOKUP(A24,'Gruber Tabelle'!$A$3:$AA$344,19,0),\"\")","v":""},{"$f":"IFERROR(VLOOKUP(A24,'Gruber Tabelle'!$A$3:$AA$344,20,0),\"\")","v":""},{"$f":"IFERROR(VLOOKUP(A24,'Gruber Tabelle'!$A$3:$AA$344,21,0),\"\")","v":""},{"$f":"IFERROR(VLOOKUP(A24,'Gruber Tabelle'!$A$3:$AA$344,22,0),\"\")","v":""},{"$f":"IFERROR(VLOOKUP(A24,'Gruber Tabelle'!$A$3:$AA$344,23,0),\"\")","v":""},{"$f":"IFERROR(VLOOKUP(A24,'Gruber Tabelle'!$A$3:$AA$344,24,0),\"\")","v":""},{"$f":"IFERROR(VLOOKUP(A24,'Gruber Tabelle'!$A$3:$AA$344,25,0),\"\")","v":""}]
[null,{"$f":"IFERROR(VLOOKUP(A25,'Gruber Tabelle'!$A$7:$P$362,2,0),\"\")","v":""},null,null,null,{"$f":"IFERROR(VLOOKUP(A25,'Gruber Tabelle'!$A$3:$AA$344,3,0),\"\")","v":""},{"$f":"IFERROR(VLOOKUP(A25,'Gruber Tabelle'!$A$3:$AA$344,5,0),\"\")","v":""},{"$f":"IFERROR(VLOOKUP(A25,'Gruber Tabelle'!$A$3:$AA$344,6,0),\"\")","v":""},{"$f":"IFERROR(VLOOKUP(A25,'Gruber Tabelle'!$A$3:$AA$344,7,0),\"\")","v":""},{"$f":"IFERROR(VLOOKUP(A25,'Gruber Tabelle'!$A$3:$AA$344,11,0),\"\")","v":""},{"$f":"IFERROR(VLOOKUP(A25,'Gruber Tabelle'!$A$3:$AA$344,12,0),\"\")","v":""},{"$f":"IFERROR(VLOOKUP(A25,'Gruber Tabelle'!$A$3:$AA$344,9,0),\"\")","v":""},{"$f":"IFERROR(VLOOKUP(A25,'Gruber Tabelle'!$A$3:$AA$344,13,0),\"\")","v":""},{"$f":"IFERROR(VLOOKUP(A25,'Gruber Tabelle'!$A$3:$AA$344,14,0),\"\")","v":""},{"$f":"IFERROR(VLOOKUP(A25,'Gruber Tabelle'!$A$3:$AA$344,15,0),\"\")","v":""},{"$f":"IFERROR(VLOOKUP(A25,'Gruber Tabelle'!$A$3:$AA$344,16,0),\"\")","v":""},{"$f":"IFERROR(VLOOKUP(A25,'Gruber Tabelle'!$A$3:$AA$344,17,0),\"\")","v":""},{"$f":"IFERROR(VLOOKUP(A25,'Gruber Tabelle'!$A$3:$AA$344,26,0),\"\")","v":""},{"$f":"IFERROR(VLOOKUP(A25,'Gruber Tabelle'!$A$3:$AA$344,18,0),\"\")","v":""},{"$f":"IFERROR(VLOOKUP(A25,'Gruber Tabelle'!$A$3:$AA$344,19,0),\"\")","v":""},{"$f":"IFERROR(VLOOKUP(A25,'Gruber Tabelle'!$A$3:$AA$344,20,0),\"\")","v":""},{"$f":"IFERROR(VLOOKUP(A25,'Gruber Tabelle'!$A$3:$AA$344,21,0),\"\")","v":""},{"$f":"IFERROR(VLOOKUP(A25,'Gruber Tabelle'!$A$3:$AA$344,22,0),\"\")","v":""},{"$f":"IFERROR(VLOOKUP(A25,'Gruber Tabelle'!$A$3:$AA$344,23,0),\"\")","v":""},{"$f":"IFERROR(VLOOKUP(A25,'Gruber Tabelle'!$A$3:$AA$344,24,0),\"\")","v":""},{"$f":"IFERROR(VLOOKUP(A25,'Gruber Tabelle'!$A$3:$AA$344,25,0),\"\")","v":""}]
[null,{"$f":"IFERROR(VLOOKUP(A26,'Gruber Tabelle'!$A$7:$P$362,2,0),\"\")","v":""},null,null,null,{"$f":"IFERROR(VLOOKUP(A26,'Gruber Tabelle'!$A$3:$AA$344,3,0),\"\")","v":""},{"$f":"IFERROR(VLOOKUP(A26,'Gruber Tabelle'!$A$3:$AA$344,5,0),\"\")","v":""},{"$f":"IFERROR(VLOOKUP(A26,'Gruber Tabelle'!$A$3:$AA$344,6,0),\"\")","v":""},{"$f":"IFERROR(VLOOKUP(A26,'Gruber Tabelle'!$A$3:$AA$344,7,0),\"\")","v":""},{"$f":"IFERROR(VLOOKUP(A26,'Gruber Tabelle'!$A$3:$AA$344,11,0),\"\")","v":""},{"$f":"IFERROR(VLOOKUP(A26,'Gruber Tabelle'!$A$3:$AA$344,12,0),\"\")","v":""},{"$f":"IFERROR(VLOOKUP(A26,'Gruber Tabelle'!$A$3:$AA$344,9,0),\"\")","v":""},{"$f":"IFERROR(VLOOKUP(A26,'Gruber Tabelle'!$A$3:$AA$344,13,0),\"\")","v":""},{"$f":"IFERROR(VLOOKUP(A26,'Gruber Tabelle'!$A$3:$AA$344,14,0),\"\")","v":""},{"$f":"IFERROR(VLOOKUP(A26,'Gruber Tabelle'!$A$3:$AA$344,15,0),\"\")","v":""},{"$f":"IFERROR(VLOOKUP(A26,'Gruber Tabelle'!$A$3:$AA$344,16,0),\"\")","v":""},{"$f":"IFERROR(VLOOKUP(A26,'Gruber Tabelle'!$A$3:$AA$344,17,0),\"\")","v":""},{"$f":"IFERROR(VLOOKUP(A26,'Gruber Tabelle'!$A$3:$AA$344,26,0),\"\")","v":""},{"$f":"IFERROR(VLOOKUP(A26,'Gruber Tabelle'!$A$3:$AA$344,18,0),\"\")","v":""},{"$f":"IFERROR(VLOOKUP(A26,'Gruber Tabelle'!$A$3:$AA$344,19,0),\"\")","v":""},{"$f":"IFERROR(VLOOKUP(A26,'Gruber Tabelle'!$A$3:$AA$344,20,0),\"\")","v":""},{"$f":"IFERROR(VLOOKUP(A26,'Gruber Tabelle'!$A$3:$AA$344,21,0),\"\")","v":""},{"$f":"IFERROR(VLOOKUP(A26,'Gruber Tabelle'!$A$3:$AA$344,22,0),\"\")","v":""},{"$f":"IFERROR(VLOOKUP(A26,'Gruber Tabelle'!$A$3:$AA$344,23,0),\"\")","v":""},{"$f":"IFERROR(VLOOKUP(A26,'Gruber Tabelle'!$A$3:$AA$344,24,0),\"\")","v":""},{"$f":"IFERROR(VLOOKUP(A26,'Gruber Tabelle'!$A$3:$AA$344,25,0),\"\")","v":""}]
[null,{"$f":"IFERROR(VLOOKUP(A27,'Gruber Tabelle'!$A$7:$P$362,2,0),\"\")","v":""},null,null,null,{"$f":"IFERROR(VLOOKUP(A27,'Gruber Tabelle'!$A$3:$AA$344,3,0),\"\")","v":""},{"$f":"IFERROR(VLOOKUP(A27,'Gruber Tabelle'!$A$3:$AA$344,5,0),\"\")","v":""},{"$f":"IFERROR(VLOOKUP(A27,'Gruber Tabelle'!$A$3:$AA$344,6,0),\"\")","v":""},{"$f":"IFERROR(VLOOKUP(A27,'Gruber Tabelle'!$A$3:$AA$344,7,0),\"\")","v":""},{"$f":"IFERROR(VLOOKUP(A27,'Gruber Tabelle'!$A$3:$AA$344,11,0),\"\")","v":""},{"$f":"IFERROR(VLOOKUP(A27,'Gruber Tabelle'!$A$3:$AA$344,12,0),\"\")","v":""},{"$f":"IFERROR(VLOOKUP(A27,'Gruber Tabelle'!$A$3:$AA$344,9,0),\"\")","v":""},{"$f":"IFERROR(VLOOKUP(A27,'Gruber Tabelle'!$A$3:$AA$344,13,0),\"\")","v":""},{"$f":"IFERROR(VLOOKUP(A27,'Gruber Tabelle'!$A$3:$AA$344,14,0),\"\")","v":""},{"$f":"IFERROR(VLOOKUP(A27,'Gruber Tabelle'!$A$3:$AA$344,15,0),\"\")","v":""},{"$f":"IFERROR(VLOOKUP(A27,'Gruber Tabelle'!$A$3:$AA$344,16,0),\"\")","v":""},{"$f":"IFERROR(VLOOKUP(A27,'Gruber Tabelle'!$A$3:$AA$344,17,0),\"\")","v":""},{"$f":"IFERROR(VLOOKUP(A27,'Gruber Tabelle'!$A$3:$AA$344,26,0),\"\")","v":""},{"$f":"IFERROR(VLOOKUP(A27,'Gruber Tabelle'!$A$3:$AA$344,18,0),\"\")","v":""},{"$f":"IFERROR(VLOOKUP(A27,'Gruber Tabelle'!$A$3:$AA$344,19,0),\"\")","v":""},{"$f":"IFERROR(VLOOKUP(A27,'Gruber Tabelle'!$A$3:$AA$344,20,0),\"\")","v":""},{"$f":"IFERROR(VLOOKUP(A27,'Gruber Tabelle'!$A$3:$AA$344,21,0),\"\")","v":""},{"$f":"IFERROR(VLOOKUP(A27,'Gruber Tabelle'!$A$3:$AA$344,22,0),\"\")","v":""},{"$f":"IFERROR(VLOOKUP(A27,'Gruber Tabelle'!$A$3:$AA$344,23,0),\"\")","v":""},{"$f":"IFERROR(VLOOKUP(A27,'Gruber Tabelle'!$A$3:$AA$344,24,0),\"\")","v":""},{"$f":"IFERROR(VLOOKUP(A27,'Gruber Tabelle'!$A$3:$AA$344,25,0),\"\")","v":""}]
[null,{"$f":"IFERROR(VLOOKUP(A28,'Gruber Tabelle'!$A$7:$P$362,2,0),\"\")","v":""},null,null,null,{"$f":"IFERROR(VLOOKUP(A28,'Gruber Tabelle'!$A$3:$AA$344,3,0),\"\")","v":""},{"$f":"IFERROR(VLOOKUP(A28,'Gruber Tabelle'!$A$3:$AA$344,5,0),\"\")","v":""},{"$f":"IFERROR(VLOOKUP(A28,'Gruber Tabelle'!$A$3:$AA$344,6,0),\"\")","v":""},{"$f":"IFERROR(VLOOKUP(A28,'Gruber Tabelle'!$A$3:$AA$344,7,0),\"\")","v":""},{"$f":"IFERROR(VLOOKUP(A28,'Gruber Tabelle'!$A$3:$AA$344,11,0),\"\")","v":""},{"$f":"IFERROR(VLOOKUP(A28,'Gruber Tabelle'!$A$3:$AA$344,12,0),\"\")","v":""},{"$f":"IFERROR(VLOOKUP(A28,'Gruber Tabelle'!$A$3:$AA$344,9,0),\"\")","v":""},{"$f":"IFERROR(VLOOKUP(A28,'Gruber Tabelle'!$A$3:$AA$344,13,0),\"\")","v":""},{"$f":"IFERROR(VLOOKUP(A28,'Gruber Tabelle'!$A$3:$AA$344,14,0),\"\")","v":""},{"$f":"IFERROR(VLOOKUP(A28,'Gruber Tabelle'!$A$3:$AA$344,15,0),\"\")","v":""},{"$f":"IFERROR(VLOOKUP(A28,'Gruber Tabelle'!$A$3:$AA$344,16,0),\"\")","v":""},{"$f":"IFERROR(VLOOKUP(A28,'Gruber Tabelle'!$A$3:$AA$344,17,0),\"\")","v":""},{"$f":"IFERROR(VLOOKUP(A28,'Gruber Tabelle'!$A$3:$AA$344,26,0),\"\")","v":""},{"$f":"IFERROR(VLOOKUP(A28,'Gruber Tabelle'!$A$3:$AA$344,18,0),\"\")","v":""},{"$f":"IFERROR(VLOOKUP(A28,'Gruber Tabelle'!$A$3:$AA$344,19,0),\"\")","v":""},{"$f":"IFERROR(VLOOKUP(A28,'Gruber Tabelle'!$A$3:$AA$344,20,0),\"\")","v":""},{"$f":"IFERROR(VLOOKUP(A28,'Gruber Tabelle'!$A$3:$AA$344,21,0),\"\")","v":""},{"$f":"IFERROR(VLOOKUP(A28,'Gruber Tabelle'!$A$3:$AA$344,22,0),\"\")","v":""},{"$f":"IFERROR(VLOOKUP(A28,'Gruber Tabelle'!$A$3:$AA$344,23,0),\"\")","v":""},{"$f":"IFERROR(VLOOKUP(A28,'Gruber Tabelle'!$A$3:$AA$344,24,0),\"\")","v":""},{"$f":"IFERROR(VLOOKUP(A28,'Gruber Tabelle'!$A$3:$AA$344,25,0),\"\")","v":""}]
[null,{"$f":"IFERROR(VLOOKUP(A29,'Gruber Tabelle'!$A$7:$P$362,2,0),\"\")","v":""},null,null,null,{"$f":"IFERROR(VLOOKUP(A29,'Gruber Tabelle'!$A$3:$AA$344,3,0),\"\")","v":""},{"$f":"IFERROR(VLOOKUP(A29,'Gruber Tabelle'!$A$3:$AA$344,5,0),\"\")","v":""},{"$f":"IFERROR(VLOOKUP(A29,'Gruber Tabelle'!$A$3:$AA$344,6,0),\"\")","v":""},{"$f":"IFERROR(VLOOKUP(A29,'Gruber Tabelle'!$A$3:$AA$344,7,0),\"\")","v":""},{"$f":"IFERROR(VLOOKUP(A29,'Gruber Tabelle'!$A$3:$AA$344,11,0),\"\")","v":""},{"$f":"IFERROR(VLOOKUP(A29,'Gruber Tabelle'!$A$3:$AA$344,12,0),\"\")","v":""},{"$f":"IFERROR(VLOOKUP(A29,'Gruber Tabelle'!$A$3:$AA$344,9,0),\"\")","v":""},{"$f":"IFERROR(VLOOKUP(A29,'Gruber Tabelle'!$A$3:$AA$344,13,0),\"\")","v":""},{"$f":"IFERROR(VLOOKUP(A29,'Gruber Tabelle'!$A$3:$AA$344,14,0),\"\")","v":""},{"$f":"IFERROR(VLOOKUP(A29,'Gruber Tabelle'!$A$3:$AA$344,15,0),\"\")","v":""},{"$f":"IFERROR(VLOOKUP(A29,'Gruber Tabelle'!$A$3:$AA$344,16,0),\"\")","v":""},{"$f":"IFERROR(VLOOKUP(A29,'Gruber Tabelle'!$A$3:$AA$344,17,0),\"\")","v":""},{"$f":"IFERROR(VLOOKUP(A29,'Gruber Tabelle'!$A$3:$AA$344,26,0),\"\")","v":""},{"$f":"IFERROR(VLOOKUP(A29,'Gruber Tabelle'!$A$3:$AA$344,18,0),\"\")","v":""},{"$f":"IFERROR(VLOOKUP(A29,'Gruber Tabelle'!$A$3:$AA$344,19,0),\"\")","v":""},{"$f":"IFERROR(VLOOKUP(A29,'Gruber Tabelle'!$A$3:$AA$344,20,0),\"\")","v":""},{"$f":"IFERROR(VLOOKUP(A29,'Gruber Tabelle'!$A$3:$AA$344,21,0),\"\")","v":""},{"$f":"IFERROR(VLOOKUP(A29,'Gruber Tabelle'!$A$3:$AA$344,22,0),\"\")","v":""},{"$f":"IFERROR(VLOOKUP(A29,'Gruber Tabelle'!$A$3:$AA$344,23,0),\"\")","v":""},{"$f":"IFERROR(VLOOKUP(A29,'Gruber Tabelle'!$A$3:$AA$344,24,0),\"\")","v":""},{"$f":"IFERROR(VLOOKUP(A29,'Gruber Tabelle'!$A$3:$AA$344,25,0),\"\")","v":""}]
[null,{"$f":"IFERROR(VLOOKUP(A30,'Gruber Tabelle'!$A$7:$P$362,2,0),\"\")","v":""},null,null,null,{"$f":"IFERROR(VLOOKUP(A30,'Gruber Tabelle'!$A$3:$AA$344,3,0),\"\")","v":""},{"$f":"IFERROR(VLOOKUP(A30,'Gruber Tabelle'!$A$3:$AA$344,5,0),\"\")","v":""},{"$f":"IFERROR(VLOOKUP(A30,'Gruber Tabelle'!$A$3:$AA$344,6,0),\"\")","v":""},{"$f":"IFERROR(VLOOKUP(A30,'Gruber Tabelle'!$A$3:$AA$344,7,0),\"\")","v":""},{"$f":"IFERROR(VLOOKUP(A30,'Gruber Tabelle'!$A$3:$AA$344,11,0),\"\")","v":""},{"$f":"IFERROR(VLOOKUP(A30,'Gruber Tabelle'!$A$3:$AA$344,12,0),\"\")","v":""},{"$f":"IFERROR(VLOOKUP(A30,'Gruber Tabelle'!$A$3:$AA$344,9,0),\"\")","v":""},{"$f":"IFERROR(VLOOKUP(A30,'Gruber Tabelle'!$A$3:$AA$344,13,0),\"\")","v":""},{"$f":"IFERROR(VLOOKUP(A30,'Gruber Tabelle'!$A$3:$AA$344,14,0),\"\")","v":""},{"$f":"IFERROR(VLOOKUP(A30,'Gruber Tabelle'!$A$3:$AA$344,15,0),\"\")","v":""},{"$f":"IFERROR(VLOOKUP(A30,'Gruber Tabelle'!$A$3:$AA$344,16,0),\"\")","v":""},{"$f":"IFERROR(VLOOKUP(A30,'Gruber Tabelle'!$A$3:$AA$344,17,0),\"\")","v":""},{"$f":"IFERROR(VLOOKUP(A30,'Gruber Tabelle'!$A$3:$AA$344,26,0),\"\")","v":""},{"$f":"IFERROR(VLOOKUP(A30,'Gruber Tabelle'!$A$3:$AA$344,18,0),\"\")","v":""},{"$f":"IFERROR(VLOOKUP(A30,'Gruber Tabelle'!$A$3:$AA$344,19,0),\"\")","v":""},{"$f":"IFERROR(VLOOKUP(A30,'Gruber Tabelle'!$A$3:$AA$344,20,0),\"\")","v":""},{"$f":"IFERROR(VLOOKUP(A30,'Gruber Tabelle'!$A$3:$AA$344,21,0),\"\")","v":""},{"$f":"IFERROR(VLOOKUP(A30,'Gruber Tabelle'!$A$3:$AA$344,22,0),\"\")","v":""},{"$f":"IFERROR(VLOOKUP(A30,'Gruber Tabelle'!$A$3:$AA$344,23,0),\"\")","v":""},{"$f":"IFERROR(VLOOKUP(A30,'Gruber Tabelle'!$A$3:$AA$344,24,0),\"\")","v":""},{"$f":"IFERROR(VLOOKUP(A30,'Gruber Tabelle'!$A$3:$AA$344,25,0),\"\")","v":""}]
[null,{"$f":"IFERROR(VLOOKUP(A31,'Gruber Tabelle'!$A$7:$P$362,2,0),\"\")","v":""},null,null,null,{"$f":"IFERROR(VLOOKUP(A31,'Gruber Tabelle'!$A$3:$AA$344,3,0),\"\")","v":""},{"$f":"IFERROR(VLOOKUP(A31,'Gruber Tabelle'!$A$3:$AA$344,5,0),\"\")","v":""},{"$f":"IFERROR(VLOOKUP(A31,'Gruber Tabelle'!$A$3:$AA$344,6,0),\"\")","v":""},{"$f":"IFERROR(VLOOKUP(A31,'Gruber Tabelle'!$A$3:$AA$344,7,0),\"\")","v":""},{"$f":"IFERROR(VLOOKUP(A31,'Gruber Tabelle'!$A$3:$AA$344,11,0),\"\")","v":""},{"$f":"IFERROR(VLOOKUP(A31,'Gruber Tabelle'!$A$3:$AA$344,12,0),\"\")","v":""},{"$f":"IFERROR(VLOOKUP(A31,'Gruber Tabelle'!$A$3:$AA$344,9,0),\"\")","v":""},{"$f":"IFERROR(VLOOKUP(A31,'Gruber Tabelle'!$A$3:$AA$344,13,0),\"\")","v":""},{"$f":"IFERROR(VLOOKUP(A31,'Gruber Tabelle'!$A$3:$AA$344,14,0),\"\")","v":""},{"$f":"IFERROR(VLOOKUP(A31,'Gruber Tabelle'!$A$3:$AA$344,15,0),\"\")","v":""},{"$f":"IFERROR(VLOOKUP(A31,'Gruber Tabelle'!$A$3:$AA$344,16,0),\"\")","v":""},{"$f":"IFERROR(VLOOKUP(A31,'Gruber Tabelle'!$A$3:$AA$344,17,0),\"\")","v":""},{"$f":"IFERROR(VLOOKUP(A31,'Gruber Tabelle'!$A$3:$AA$344,26,0),\"\")","v":""},{"$f":"IFERROR(VLOOKUP(A31,'Gruber Tabelle'!$A$3:$AA$344,18,0),\"\")","v":""},{"$f":"IFERROR(VLOOKUP(A31,'Gruber Tabelle'!$A$3:$AA$344,19,0),\"\")","v":""},{"$f":"IFERROR(VLOOKUP(A31,'Gruber Tabelle'!$A$3:$AA$344,20,0),\"\")","v":""},{"$f":"IFERROR(VLOOKUP(A31,'Gruber Tabelle'!$A$3:$AA$344,21,0),\"\")","v":""},{"$f":"IFERROR(VLOOKUP(A31,'Gruber Tabelle'!$A$3:$AA$344,22,0),\"\")","v":""},{"$f":"IFERROR(VLOOKUP(A31,'Gruber Tabelle'!$A$3:$AA$344,23,0),\"\")","v":""},{"$f":"IFERROR(VLOOKUP(A31,'Gruber Tabelle'!$A$3:$AA$344,24,0),\"\")","v":""},{"$f":"IFERROR(VLOOKUP(A31,'Gruber Tabelle'!$A$3:$AA$344,25,0),\"\")","v":""}]
[null,{"$f":"IFERROR(VLOOKUP(A32,'Gruber Tabelle'!$A$7:$P$362,2,0),\"\")","v":""},null,null,null,{"$f":"IFERROR(VLOOKUP(A32,'Gruber Tabelle'!$A$3:$AA$344,3,0),\"\")","v":""},{"$f":"IFERROR(VLOOKUP(A32,'Gruber Tabelle'!$A$3:$AA$344,5,0),\"\")","v":""},{"$f":"IFERROR(VLOOKUP(A32,'Gruber Tabelle'!$A$3:$AA$344,6,0),\"\")","v":""},{"$f":"IFERROR(VLOOKUP(A32,'Gruber Tabelle'!$A$3:$AA$344,7,0),\"\")","v":""},{"$f":"IFERROR(VLOOKUP(A32,'Gruber Tabelle'!$A$3:$AA$344,11,0),\"\")","v":""},{"$f":"IFERROR(VLOOKUP(A32,'Gruber Tabelle'!$A$3:$AA$344,12,0),\"\")","v":""},{"$f":"IFERROR(VLOOKUP(A32,'Gruber Tabelle'!$A$3:$AA$344,9,0),\"\")","v":""},{"$f":"IFERROR(VLOOKUP(A32,'Gruber Tabelle'!$A$3:$AA$344,13,0),\"\")","v":""},{"$f":"IFERROR(VLOOKUP(A32,'Gruber Tabelle'!$A$3:$AA$344,14,0),\"\")","v":""},{"$f":"IFERROR(VLOOKUP(A32,'Gruber Tabelle'!$A$3:$AA$344,15,0),\"\")","v":""},{"$f":"IFERROR(VLOOKUP(A32,'Gruber Tabelle'!$A$3:$AA$344,16,0),\"\")","v":""},{"$f":"IFERROR(VLOOKUP(A32,'Gruber Tabelle'!$A$3:$AA$344,17,0),\"\")","v":""},{"$f":"IFERROR(VLOOKUP(A32,'Gruber Tabelle'!$A$3:$AA$344,26,0),\"\")","v":""},{"$f":"IFERROR(VLOOKUP(A32,'Gruber Tabelle'!$A$3:$AA$344,18,0),\"\")","v":""},{"$f":"IFERROR(VLOOKUP(A32,'Gruber Tabelle'!$A$3:$AA$344,19,0),\"\")","v":""},{"$f":"IFERROR(VLOOKUP(A32,'Gruber Tabelle'!$A$3:$AA$344,20,0),\"\")","v":""},{"$f":"IFERROR(VLOOKUP(A32,'Gruber Tabelle'!$A$3:$AA$344,21,0),\"\")","v":""},{"$f":"IFERROR(VLOOKUP(A32,'Gruber Tabelle'!$A$3:$AA$344,22,0),\"\")","v":""},{"$f":"IFERROR(VLOOKUP(A32,'Gruber Tabelle'!$A$3:$AA$344,23,0),\"\")","v":""},{"$f":"IFERROR(VLOOKUP(A32,'Gruber Tabelle'!$A$3:$AA$344,24,0),\"\")","v":""},{"$f":"IFERROR(VLOOKUP(A32,'Gruber Tabelle'!$A$3:$AA$344,25,0),\"\")","v":""}]
[null,{"$f":"IFERROR(VLOOKUP(A33,'Gruber Tabelle'!$A$7:$P$362,2,0),\"\")","v":""},null,null,null,{"$f":"IFERROR(VLOOKUP(A33,'Gruber Tabelle'!$A$3:$AA$344,3,0),\"\")","v":""},{"$f":"IFERROR(VLOOKUP(A33,'Gruber Tabelle'!$A$3:$AA$344,5,0),\"\")","v":""},{"$f":"IFERROR(VLOOKUP(A33,'Gruber Tabelle'!$A$3:$AA$344,6,0),\"\")","v":""},{"$f":"IFERROR(VLOOKUP(A33,'Gruber Tabelle'!$A$3:$AA$344,7,0),\"\")","v":""},{"$f":"IFERROR(VLOOKUP(A33,'Gruber Tabelle'!$A$3:$AA$344,11,0),\"\")","v":""},{"$f":"IFERROR(VLOOKUP(A33,'Gruber Tabelle'!$A$3:$AA$344,12,0),\"\")","v":""},{"$f":"IFERROR(VLOOKUP(A33,'Gruber Tabelle'!$A$3:$AA$344,9,0),\"\")","v":""},{"$f":"IFERROR(VLOOKUP(A33,'Gruber Tabelle'!$A$3:$AA$344,13,0),\"\")","v":""},{"$f":"IFERROR(VLOOKUP(A33,'Gruber Tabelle'!$A$3:$AA$344,14,0),\"\")","v":""},{"$f":"IFERROR(VLOOKUP(A33,'Gruber Tabelle'!$A$3:$AA$344,15,0),\"\")","v":""},{"$f":"IFERROR(VLOOKUP(A33,'Gruber Tabelle'!$A$3:$AA$344,16,0),\"\")","v":""},{"$f":"IFERROR(VLOOKUP(A33,'Gruber Tabelle'!$A$3:$AA$344,17,0),\"\")","v":""},{"$f":"IFERROR(VLOOKUP(A33,'Gruber Tabelle'!$A$3:$AA$344,26,0),\"\")","v":""},{"$f":"IFERROR(VLOOKUP(A33,'Gruber Tabelle'!$A$3:$AA$344,18,0),\"\")","v":""},{"$f":"IFERROR(VLOOKUP(A33,'Gruber Tabelle'!$A$3:$AA$344,19,0),\"\")","v":""},{"$f":"IFERROR(VLOOKUP(A33,'Gruber Tabelle'!$A$3:$AA$344,20,0),\"\")","v":""},{"$f":"IFERROR(VLOOKUP(A33,'Gruber Tabelle'!$A$3:$AA$344,21,0),\"\")","v":""},{"$f":"IFERROR(VLOOKUP(A33,'Gruber Tabelle'!$A$3:$AA$344,22,0),\"\")","v":""},{"$f":"IFERROR(VLOOKUP(A33,'Gruber Tabelle'!$A$3:$AA$344,23,0),\"\")","v":""},{"$f":"IFERROR(VLOOKUP(A33,'Gruber Tabelle'!$A$3:$AA$344,24,0),\"\")","v":""},{"$f":"IFERROR(VLOOKUP(A33,'Gruber Tabelle'!$A$3:$AA$344,25,0),\"\")","v":""}]

{"sheet":"Gruber Tabelle","index":4,"n_rows":344,"n_cols":27,"rows_kept":344,"cut":false,"hidden":false,"merged":[[0,0,1,0],[0,1,1,1]]}
["Ration",null,"TM/FM","CA","OM","aNDFom","CP","CL","ST","ZU","nXP","ME","Ca","P","Mg","Na","K","Fu-Art","Fe","Cu","Zn","Mn","Co","J","Se","Kosten €","Datum"]
[null,null,"g / kg FM","g / kg TM","g / kg TM","g / kg TM","g / kg TM","g / kg TM","g / kg TM","g / kg TM","g / kg TM","MJ/ kg TM","g / kg TM","g / kg TM","g / kg TM","g / kg TM","g / kg TM",null,"mg / kg TM","mg / kg TM","mg / kg TM","mg / kg TM","mg / kg TM","mg / kg TM","mg / kg TM","€ / dt"]
[1013,"Wiesengras, 1.Schnitt, im Blattstadium",175,111,{"$f":"1000-D3","v":889},433,228,33,0,137,153.62,11.57,6.9,3.8,2.4,0.9,31.5,"GF",100,8,35,59.1,0.12,0.4,0.03,0,"2024-02-11"]
[1014,"Wiesengras, 1.Schnitt, im Schossen",180,103,{"$f":"1000-D4","v":897},439,192,32,0,137,145.63999999999999,11.19,6.7,3.6,2.4,0.84,31.1,"GF",100,7.9,34.700000000000003,61.5,0.12,0.4,0.03,0,"2024-02-11"]
[1015,"Wiesengras, 1.Schnitt",185,95,905,457,167,30,0,137,143.71,10.81,6.5,3.4,2.2000000000000002,0.66,29.6,"GF",100,7.7,33,65,0.12,0.4,0.03,0,"2024-02-11"]
[1016,"Wiesengras, 1.Schnitt, Beginn Blüte",190,88,912,486,146,28,0,137,136.54,10.45,6.4,3.3,2.1,0.54,28.8,"GF",100,7.5,32.4,69.8,0.12,0.4,0.03,0,"2024-02-11"]
[1017,"Wiesengras, 1.Schnitt, Ende Blüte",200,78,922,515,120,25,0,137,127.17,9.9600000000000009,6,3.1,2,0.46,27.6,"GF",100,7.3,30.2,72,0.12,0.4,0.03,0,"2024-02-11"]
[1023,"Wiesengras, 2.und FolgeSchnitte, im Blattstadium",200,99,901,488,179,40,0,63,140.03,10.81,7.6,3.7,2.8,0.89,29,"GF",100,8.1999999999999993,37.6,54.8,0.12,0.4,0.03,0,"2024-02-11"]
[1024,"Wiesengras, 2.und FolgeSchnitte, im Schossen",200,97,903,491,159,37,0,63,134.82,10.53,7.6,3.5,2.8,0.79,28,"GF",100,8.1,35.200000000000003,69.2,0.12,0.4,0.03,0,"2024-02-11"]
[1025,"Wiesengras. 2.Schnitt",200,94,906,510,144,35,0,63,133.38999999999999,10.19,7.3,3.4,2.6,0.62,27.4,"GF",100,8,33.1,71.099999999999994,0.12,0.4,0.03,0,"2024-02-11"]
[1026,"Wiesengras, 2.und FolgeSchnitte, Beginn Blüte",200,91,909,537,124,31,0,63,126.59,9.85,6.9,3.2,2.4,0.55000000000000004,25.6,"GF",100,7.6,31.8,80.7,0.12,0.4,0.03,0,"2024-02-11"]
[1028,"Wiesengras, 3. Schnitt",200,100,900,480,168,31,0,72,135.9,10.08,8.1999999999999993,3.4,2.9,0.78,24.3,"GF",250,8.1,32.5,72,0.12,0.4,0.03,0,"2024-02-11"]
[1029,"Wiesengras, ab 4. Schnitt",180,110,890,470,202,33,0,86,144.63999999999999,10.4,8.5,3.7,3,1,26.8,"GF",300,8.4,33,74.099999999999994,0.12,0.4,0.03,0,"2024-02-11"]
[1055,"Weidegras, 1. Aufwuchs",190,90,910,400,196,35,0,121,149.54,11.5,7,3.7,2.4,0.7,30,"GF",150,7.9,42,40,0.12,0.4,0.03,0,"2024-02-11"]
[1065,"Weidegras, ab 2.Aufwuchs",200,100,900,430,192,35,0,94,141.47999999999999,10.82,7.6,4.2,3,0.8,25,"GF",250,8.4,42,50,0.12,0.4,0.03,0,"2024-02-11"]
[1075,"Gras, angewelkt, 1.Schnitt",350,90,910,430,160,35,0,135,142.52000000000001,10.8,6.5,3.5,2.2000000000000002,0.79,28.9,"GF",200,7.7,33,50,0.12,0.4,0.03,0,"2024-02-11"]
[1085,"Gras, angewelkt, ab 2.Schnitt",350,100,900,480,165,35,0,90,137.4,10.26,7.8,3.6,2.8,1.02,28.1,"GF",300,8,38.799999999999997,47.7,0.12,0.4,0.03,0,"2024-02-11"]
[1125,"GrünGerste",290,60,940,580,108,25,0,90,143.02000000000001,11.43,4.8,2.6,1.5,0.28999999999999998,23.8,"GF",100,5.0999999999999996,29.9,45.4,0.12,0.35,0.02,0,"2024-02-11"]
[1145,"GrünHafer",290,78,922,530,111,32,0,104,128.18,10.18,5.7,3.4,2.2000000000000002,0.71,27,"GF",191.6,7.3,27.6,50.3,0.12,0.35,0.02,0,"2024-02-11"]
[1165,"GrünRoggen",260,80,920,520,115,32,0,93,131.41999999999999,10.42,4.3,3.7,1.6,0.33,30.2,"GF",202.5,6.5,27.4,43.3,0.12,0.35,0.02,0,"2024-02-11"]
[1203,"GrünMais, in der Kolbenbildung",200,46,954,501,82,17,86,140,123.98,10.06,3,2.2000000000000002,1.7,0.2,12.1,"GF",120,7.7,30,26.5,0.1,0.3,0.01,0,"2019-03-10"]
[1204,"GrünMais, in der Milchreife",225,43,957,475,76,20,137,120,124.99,10.31,2.9,2.2000000000000002,1.7,0.2,12.1,"GF",110,7.7,30,26.5,0.08,0.3,0.01,0,"2024-02-11"]
[1205,"GrünMais",240,41,959,430,74,24,203,100,127.75,10.63,2.8,2.2000000000000002,1.7,0.2,12.1,"GF",100,7.7,30,26.5,7.0000000000000007E-2,0.3,0.01,0,"2024-02-11"]
[1265,"Mais, Restpflanze, grün",350,56,944,553,42,15,40,57,101,8.82,3.2,2.5,0.9,0.02,10.9,"GF",45.5,4.4000000000000004,16.2,13.7,0.08,0.3,0.01,0,"2024-02-11"]
[1275,"GrünMais, zum Silieren",340,40,960,400,76,30,320,90,132.35,11.03,2,2.2999999999999998,1.5,0.26,12,"GF",100,5,34,35,7.0000000000000007E-2,0.3,0.01,0,"2024-02-11"]
[1305,"Ackerbohnen, grün",200,82,918,506,150,20,0,47,110.83,8.48,15.5,3.5,3.3,2,23,"GF",200,9,50,60,0.12,0.35,0.02,0,"2024-02-11"]
[1306,"Sojabohnen, grün",300,108,892,453,186,22,0,44,126.24,9.52,15.8,3.9,4.3,0.4,27.1,"GF",600,10.5,41,64,0.12,0.35,0.02,0,"2024-02-11"]
[1315,"Hülsenfrucht Gemenge",200,64,936,607,120,22,0,101,126.85,9.93,7,4,1.8,0.4,30,"GF",200,9,50,60,0.12,0.35,0.02,0,"2024-02-11"]
[1335,"Erbs- Wick- Gemenge",180,88,912,571,169,28,0,52,134.19999999999999,9.91,7.7,4.8,2,0.28999999999999998,28.5,"GF",378.4,4.8,31.2,36.1,0.12,0.35,0.02,0,"2024-02-11"]
[1345,"Grünerbsen (Ganzpflanze)",170,90,910,453,197,27,0,58,145.93,9.9700000000000006,11,5,2.5,0.5,30,"GF",200,9,50,60,0.12,0.35,0.02,0,"2024-02-11"]
[1355,"Hülsenfrüchte- Sonnenblumen- Gemenge",240,107,893,575,130,22,0,59,105.49,7.83,0,0,0,0,0,"GF",0,0,0,0,0.12,0.35,0.01,0,"2024-02-11"]
[1375,"Wick- Roggen",200,70,930,620,120,21,0,80,125.1,9.77,5,4,1.9,0.1,30,"GF",200,9,50,60,0.12,0.35,0.02,0,"2019-03-10"]
[1424,"Raps, grün, jung, blattreich",120,140,860,367,180,41,0,133,146.26,10.86,17,4.5,2.6,1.3,32,"GF",200,7,22,95,0.12,0.35,0.03,0,"2019-03-10"]
[1425,"Raps, grün",180,156,844,435,150,37,0,76,127.12,9.5299999999999994,19,5,2.6,1.4,32,"GF",200,7,22,95,0.12,0.35,0.03,0,"2019-03-10"]
[1435,"Perko, grün",100,205,795,320,216,38,0,110,144.94999999999999,10.23,13,6,1.2,1.1000000000000001,30,"GF",200,8,50,60,0.12,0.35,0.1,0,"2024-02-11"]
[1444,"Rübsen, jung, blattreich",110,179,821,290,180,42,0,90,148.01,11.02,16,3.6,2.4,0.9,30,"GF",200,8,50,60,0.12,0.35,0.1,0,"2019-03-10"]
[1445,"Rübsen, grün",120,175,825,350,189,37,0,70,146.34,10.74,16,4.5999999999999996,2.7,1.4,30,"GF",200,8,50,60,0.12,0.35,0.1,0,"2019-03-10"]
[1455,"Sonnenblumen, grün",190,130,870,430,120,50,0,110,120.41,9.34,0,0,0,0,0,"GF",0,0,0,0,0.12,0.35,0.01,0,"2019-03-10"]
[1465,"Senf, grün",140,160,840,430,215,26,0,110,138.13999999999999,9.6199999999999992,15.5,4,3.4,0,25,"GF",200,8,50,60,0.12,0.35,0.1,0,"2019-03-10"]
[1485,"Markstammkohl",115,132,868,345,178,30,0,50,146.38999999999999,10.9,19.7,3.5,2,1.7,29,"GF",200,6.3,35,27,0.12,0.35,0.1,0,"2024-02-11"]
[1505,"Zuckerrübenblatt, sauber",160,165,835,295,160,21,0,220,138.81,10.46,12.4,2.5,4.8,9.5,35,"GF",250,11.5,72,179,0.37,0.83,0.1,0,"2024-02-11"]
[1555,"Futterrübenblatt, sauber",120,186,814,300,138,22,0,100,126.36,9.6300000000000008,20,2.5,6.1,6.1,45,"GF",250,8.3000000000000007,50,130,0.3,0.8,0.1,0,"2024-02-11"]
[1614,"Rotklee, 1.Schnitt, vor der Knospe",140,130,870,355,261,34,0,80,165.55,10.58,10,3.7,2.5,0.5,32,"GF",150,7.7,30,40,0.12,0.35,0.03,0,"2024-02-11"]
[1615,"Rotklee, 1.Schnitt",155,115,885,385,219,28,0,80,151.51,10.07,10,3.7,2.5,0.5,32,"GF",150,7.7,30,40,0.12,0.35,0.03,0,"2024-02-11"]
[1616,"Rotklee, 1.Schnitt, Beginn Blüte",160,100,900,425,166,24,0,80,134.04,9.4499999999999993,10,3.7,2.5,0.5,32,"GF",150,7.7,30,40,0.12,0.35,0.03,0,"2024-02-11"]
[1624,"Rotklee, 2.und FolgeSchnitte, vor der Knospe",170,118,882,370,235,29,0,60,150.47999999999999,9.66,14,3.9,3,0.5,35,"GF",150,8.8000000000000007,35,45,0.12,0.35,0.03,0,"2024-02-11"]
[1625,"Rotklee, ab 2.Schnitt",190,109,891,410,211,27,0,60,140.36000000000001,9.17,14,3.9,3,0.5,35,"GF",150,8.8000000000000007,35,45,0.12,0.35,0.03,0,"2024-02-11"]
[1626,"Rotklee, 2.und FolgeSchnitte, Beginn Blüte",210,104,896,450,164,25,0,60,123.6,8.5,14,3.9,3,0.5,35,"GF",150,8.8000000000000007,35,45,0.12,0.35,0.03,0,"2024-02-11"]
[1633,"KleeGras, 1.Schnitt, vor der Knospe",150,110,890,380,200,29,0,80,151.53,11.06,8.3000000000000007,3.9,2.7,0.6,35.1,"GF",150,8.4,32,39,0.12,0.35,0.03,0,"2024-02-11"]
[1634,"KleeGras, 1.Schnitt, in der Knospe",160,105,895,410,180,28,0,80,143.97,10.65,8.3000000000000007,3.8,2.2000000000000002,0.6,33,"GF",150,7,30,39,0.12,0.35,0.03,0,"2024-02-11"]
[1635,"KleeGras, 1.Schnitt",175,100,900,440,160,27,0,80,136.52000000000001,10.25,8.3000000000000007,3.5,2.1,0.6,32,"GF",150,6.6,27,39,0.12,0.35,0.03,0,"2024-02-11"]
[1636,"KleeGras, 1.Schnitt, in der Blüte",200,95,905,470,140,23,0,80,131.96,9.76,8.3000000000000007,3.3,1.9,0.6,29,"GF",150,6.2,25.1,39,0.12,0.35,0.03,0,"2024-02-11"]
[1644,"KleeGras, 2.und FolgeSchnitte, vor der Knospe",150,115,885,430,220,29,0,53,140.12,9.73,9.4,3.9,2.8,0.39,36.4,"GF",175,8.9,33.5,40.700000000000003,0.12,0.35,0.03,0,"2024-02-11"]
[1645,"KleeGras, 2. Schnitt",175,105,895,466,180,28,0,61,130.66,9.43,9.4,3.9,2.7,0.38,32.4,"GF",175,8.4,33.5,40.700000000000003,0.12,0.35,0.03,0,"2024-02-11"]
[1646,"KleeGras, 2.und FolgeSchnitte, Beginn Blüte",190,95,905,509,150,25,0,73,128.53,9.24,9.4,3.9,2.2999999999999998,0.43,31,"GF",175,6.8,33.5,40.700000000000003,0.12,0.35,0.03,0,"2019-03-10"]
[1648,"KleeGras, 3.Schnitt",190,104,896,440,189,27,0,56,133.04,9.52,12.2,3.7,2.9,0.41,29.8,"GF",82.6,8.9,30.6,40.299999999999997,0.12,0.35,0.03,0,"2019-03-10"]
[1649,"KleeGras, ab 4.Schnitt",170,113,887,427,211,31,0,57,142.21,10.050000000000001,10.6,4.3,2.7,0.66,31.8,"GF",111.3,9,31.8,41.2,0.12,0.35,0.03,0,"2019-03-10"]
[1655,"Juraklee- Gras",170,105,895,500,185,30,0,50,139.51,10.17,10,3.7,1.9,0.8,35,"GF",200,9,50,60,0.12,0.35,0.1,0,"2024-02-11"]
[1665,"Alexandrinerklee",125,136,864,485,200,43,0,80,156,10.220000000000001,16,3.9,3.2,1.3,33,"GF",150,9,55,60,0.12,0.35,0.1,0,"2024-02-11"]
[1685,"Perserklee",118,138,862,455,203,24,0,80,146.74,9.93,16,3.5,2,1.35,28,"GF",150,9,50,60,0.12,0.35,0.1,0,"2024-02-11"]
[1714,"Luzerne, 1.Schnitt, in der Knospe",150,115,885,368,236,26,0,50,145.53,10,16,3.8,3.1,0.5,32,"GF",150,7.2,29,29,0.15,0.3,0.03,0,"2024-02-11"]
[1715,"Luzerne, 1.Schnitt",180,105,895,400,203,23,0,50,145.05000000000001,9.77,14.5,3.5,2.8,0.5,31,"GF",150,7.2,29,29,0.15,0.3,0.03,0,"2024-02-11"]
[1716,"Luzerne, 1.Schnitt, Ende Blüte",210,95,905,465,160,22,0,50,136.6,9.33,13,3,2.5,0.5,30,"GF",150,7.2,29,29,0.15,0.3,0.03,0,"2024-02-11"]
[1724,"Luzerne, 2.und FolgeSchnitte, in der Knospe",180,115,885,357,244,27,0,55,146.66,9.99,16,4.0999999999999996,3.2,0.5,31,"GF",150,8,27,31,0.15,0.3,0.03,0,"2024-02-11"]
[1725,"Luzerne ab 2.Schnitt",195,110,890,421,208,24,0,55,138.47,9.0500000000000007,15,3.7,2.8,0.5,30,"GF",150,8,27,31,0.15,0.3,0.03,0,"2024-02-11"]
[1726,"Luzerne 2.und FolgeSchnitte, Ende Blüte",210,100,900,473,177,22,0,55,125.43,8.42,14,3.4,2.2000000000000002,0.5,29,"GF",150,8,27,31,0.15,0.3,0.03,0,"2024-02-11"]
[1734,"LuzerneGras, 1.Schnitt, vor der Knospe",160,105,895,385,195,25,0,75,148.13999999999999,10.82,10.4,3.9,2.2000000000000002,0.57999999999999996,32.9,"GF",100,7.8,36.4,44.7,0.12,0.35,0.03,0,"2024-02-11"]
[1735,"LuzerneGras, 1.Schnitt",170,101,{"$f":"1000-D68","v":899},432,183,25,0,61,139.52000000000001,10.199999999999999,8.9,3.6,2.2000000000000002,0.26,32,"GF",100,7.8,31.3,38.9,0.12,0.35,0.03,0,"2024-02-11"]
[1736,"LuzerneGras, 1.Schnitt, in der Blüte",180,99,901,503,161,24,0,47,127.4,9.4,8.6999999999999993,3.5,2.2000000000000002,0.13,28.3,"GF",100,7.8,30.1,30,0.12,0.35,0.03,0,"2024-02-11"]
[1744,"LuzerneGras, 2.und FolgeSchnitte, in der Knospe",190,113,887,381,229,29,0,46,145.21,10.07,14.5,4.2,3.1,0.43,33.1,"GF",100,9.3000000000000007,30,45.1,0.12,0.35,0.03,0,"2019-03-10"]
[1745,"LuzerneGras, ab 2.Schnitt",195,108,892,431,196,27,0,40,132.69999999999999,9.39,14.5,3.6,2.8,0.4,31.1,"GF",100,8.1,30,36.6,0.12,0.35,0.03,0,"2024-02-11"]
[1746,"LuzerneGras, 2.und FolgeSchnitte, in der Blüte",200,102,898,485,177,24,0,28,120.82,8.57,14.5,3.3,2.6,0.4,29,"GF",100,7.6,30,29.6,0.12,0.35,0.03,0,"2024-02-11"]
[1814,"Weidelgras, 1.Schnitt, im Schossen",170,95,905,420,171,31,0,180,151.85,11.5,5.5,3.8,1.8,0.4,36.700000000000003,"GF",200,6,31,50,0.12,0.35,0.03,0,"2024-02-11"]
[1815,"Weidelgras, 1.Schnitt",180,95,905,480,145,27,0,150,138.22999999999999,10.62,5.5,3.3,1.8,0.39,33,"GF",200,6,31,50,0.12,0.35,0.03,0,"2024-02-11"]
[1816,"Weidelgras, 1.Schnitt, Beginn Blüte",190,95,905,530,110,24,0,105,123.12,9.73,5.5,3.2,1.8,0.37,32.200000000000003,"GF",200,6,31,50,0.12,0.35,0.03,0,"2024-02-11"]
[1824,"Weidelgras, 2.und FolgeSchnitte, im Schossen",180,100,900,447,195,43,0,120,156.76,11.61,5.5,3.8,1.8,0.4,36.700000000000003,"GF",200,6,31,50,0.12,0.35,0.03,0,"2024-02-11"]
[1825,"Weidelgras, ab 2.Schnitt",190,100,900,496,175,38,0,90,145.16,10.83,5.5,3.3,1.8,0.4,33,"GF",200,6,31,50,0.12,0.35,0.03,0,"2024-02-11"]
[1826,"Weidelgras, 2.und FolgeSchnitte, Beginn Blüte",200,100,900,538,160,32,0,60,131.94,9.83,5.5,3.2,1.8,0.4,32.200000000000003,"GF",200,6,31,50,0.12,0.35,0.03,0,"2019-03-10"]
[1865,"Landsberger Gemenge",190,107,893,442,190,26,0,105,141.15,10.25,7.3,3,1.7,0.45,26,"GF",150,8,45,70,0.12,0.35,0.02,0,"2024-02-11"]
[1875,"Zuckerhirse",230,55,945,658,92,20,0,99,121.98,9.8800000000000008,5.2,2.2999999999999998,2,0.24,16.100000000000001,"GF",150,7.3,30.9,33.799999999999997,0.12,0.4,0.01,0,"2024-02-11"]
[1885,"SudanGras",230,56,944,681,81,18,0,29,108.71,8.82,5.2,2.2999999999999998,2,0.21,16.100000000000001,"GF",150,7.3,30.9,33.799999999999997,0.12,0.4,0.01,0,"2024-02-11"]
[2010,"GrasSilage",350,108,892,515,165,38,0,15,135.87,10.119999999999999,6.3,3.8,2.2999999999999998,0.8,30,"GF",200,8.5,50,85,0.12,0.4,0.03,0,"2024-02-11"]
[2013,"GrasSilage, angew., 1.Schnitt, im Schossen",350,99,901,488,179,40,0,63,145.56,10.81,6.8,3.7,2.4,0.89,31.1,"GF",350,7.9,34.700000000000003,61.5,0.12,0.4,0.03,0,"2024-02-11"]
[2014,"GrasSilage, angew., 1.Schnitt, RispenSchieben",350,97,903,491,159,37,0,63,139.41999999999999,10.53,6.7,3.5,2.2999999999999998,0.71,29.6,"GF",350,7.7,33,65,0.12,0.4,0.03,0,"2024-02-11"]
[2015,"GrasSilage, angewelkt, 1.Schnitt",350,94,906,510,144,35,0,63,133.38999999999999,10.19,6.5,3.4,2.2000000000000002,0.59,28.8,"GF",350,7.5,32.4,69.8,0.12,0.4,0.03,0,"2024-02-11"]
[2016,"GrasSilage, angew., 1.Schnitt, Mitte Blüte",350,91,909,537,124,31,0,63,126.59,9.85,6.1,3.2,2,0.51,27.6,"GF",350,7.3,30.2,72,0.12,0.4,0.03,0,"2024-02-11"]
[2024,"GrasSilage, angew., 2.und FolgeSchnitte, Schossen",350,105,895,495,169,40,0,50,139,10.35,7.6,3.6,2.7,0.85,28.7,"GF",380,8.1999999999999993,34.5,68.2,0.12,0.4,0.03,0,"2024-02-11"]
[2025,"GrasSilage, angewelkt, 2.Schnitt",350,103,897,510,148,37,0,50,130.94999999999999,9.91,7.4,3.5,2.6,0.75,27.4,"GF",380,8,33.1,71.099999999999994,0.12,0.4,0.03,0,"2024-02-11"]
[2026,"GrasSil, angew., 2.und FolgeSchnitte, RispenSpreiz",350,99,901,535,128,33,0,50,124.16,9.57,7,3.3,2.5,0.6,25.6,"GF",380,7.6,31.8,80.7,0.12,0.4,0.03,0,"2024-02-11"]
[2028,"GrasSilage, angewelkt, 3.Schnitt",350,110,890,488,165,38,0,46,134.13,9.9600000000000009,8.3000000000000007,3.5,3,0.9,26.1,"GF",400,8.1999999999999993,33,75,0.12,0.4,0.03,0,"2024-02-11"]
[2029,"GrasSilage, angewelkt, ab 4.Schnitt",335,120,880,476,180,41,0,39,138.84,10.18,8.6,3.8,3.1,1.1000000000000001,28,"GF",500,8.5,33.299999999999997,76.599999999999994,0.12,0.4,0.03,0,"2024-02-11"]
[2034,"GrasSilage, naß, 1.Schnitt, RispenSchieben",250,125,875,465,180,40,0,25,140.69999999999999,10.35,6.5,4,2.35,0.7,31,"GF",200,9,45,80,0.12,0.4,0.03,0,"2024-02-11"]
[2035,"GrasSilage, naß, 1.Schnitt",250,120,880,515,165,38,0,15,134.24,9.9700000000000006,6.3,3.8,2.2999999999999998,0.8,30,"GF",200,8.5,50,85,0.12,0.4,0.03,0,"2024-02-11"]
[2036,"GrasSilage, naß, 1.Schnitt, Mitte Blüte",250,110,890,570,145,36,0,10,126.78,9.57,5.8,3.7,2.15,0.8,29,"GF",200,8,50,90,0.12,0.4,0.03,0,"2024-02-11"]
[2044,"GrasSilage, naß, 2.und FolgeSchnitte, im Schossen",250,145,855,405,188,42,0,20,139.97,10.17,9,3.8,3.2,1,27,"GF",200,9,50,100,0.12,0.4,0.04,0,"2024-02-11"]
[2045,"GrasSilage, naß, ab 2.Schnitt",250,125,875,460,174,40,0,20,134.75,9.89,8.5,3.7,3.1,1,25,"GF",200,9,50,100,0.12,0.4,0.04,0,"2024-02-11"]
[2046,"GrasSilage, naß, 2.und FolgeSchnitte, RispenSpreiz",250,120,880,510,160,37,0,15,127.68,9.44,7.5,3.6,2.7,1,25,"GF",200,8.5,50,100,0.12,0.4,0.04,0,"2024-02-11"]
[2125,"GrünGersten- Silage",350,56,944,580,102,21,0,40,137.87,11.06,4.8,3.2,1.6,0.71,28.8,"GF",567.6,6.3,33.4,45.4,0.12,0.35,0.02,0,"2024-02-11"]
[2134,"GPS Gerste KornArm",340,69,931,630,91,22,150,60,108.95,8.6999999999999993,4.5,2.6,1.3,0.3,17.7,"GF",158.6,6.8,28.3,43.3,0.12,0.35,0.02,0,"2024-02-11"]
[2135,"GPS Gerste",360,55,945,590,87,23,220,50,113.24,9.15,4.3,2.6,1.3,0.3,17.7,"GF",158.6,6.8,28.3,43.3,0.12,0.35,0.02,0,"2024-02-11"]
[2136,"GPS Gerste KornReich",380,47,953,550,81,24,290,40,117,9.58,4.0999999999999996,2.6,1.3,0.3,17.7,"GF",158.6,6.8,28.3,43.3,0.12,0.35,0.02,0,"2019-03-10"]
[2144,"Grnhafersilage Rispenschieben",325,91,909,485,118,36,0,51,134.16999999999999,10.63,5.7,3.4,2.2000000000000002,0.71,27,"GF",191.6,7.3,27.6,50.3,0.12,0.35,0.02,0,"2019-03-10"]
[2145,"GrünHafer- Silage",325,77,923,529,105,32,0,45,127.26,10.18,5.7,3.4,2.2000000000000002,0.71,27,"GF",191.6,7.3,27.6,50.3,0.12,0.35,0.02,0,"2019-03-10"]
[2146,"Grünhafersilage abgeblht",325,74,926,583,101,29,0,36,123.4,9.7100000000000009,5.7,3.4,2.2000000000000002,0.71,27,"GF",191.6,7.3,27.6,50.3,0.12,0.35,0.02,0,"2024-02-11"]
[2164,"Grnroggensilage hrenschieben",270,93,907,481,130,35,0,41,137.66,10.78,4.3,3.7,1.6,0.33,30.2,"GF",202.5,6.5,27.4,43.3,0.12,0.35,0.02,0,"2019-03-10"]
[2165,"GrünRoggen- Silage",270,81,919,541,110,33,0,30,129.66,10.33,4.3,3.7,1.6,0.33,30.2,"GF",202.5,6.5,27.4,43.3,0.12,0.35,0.02,0,"2024-02-11"]
[2166,"Grnroggensilage abgeblht",270,73,927,596,98,30,0,23,124.87,10.06,4.3,3.7,1.6,0.33,30.2,"GF",202.5,6.5,27.4,43.3,0.12,0.35,0.02,0,"2019-03-10"]
[2175,"GPS Roggen u. Tritcale",350,61,939,600,78,22,180,64,109.12,8.9,3.8,2.7,1.3,0.26,15.8,"GF",100.7,6.8,31.3,45.3,0.12,0.35,0.02,0,"2024-02-11"]
[2185,"GPS Weizen",400,55,945,580,81,22,240,100,111.33,9.06,3.3,2.7,1.5,0.27,14,"GF",100,6.4,27.3,43.2,0.12,0.35,0.02,0,"2019-03-10"]
[2206,"MaisSilage, in Wachsreife, 35% TM",350,35,965,398,76,30,324,35,131.84,10.98,2.7,2.2999999999999998,1.5,0.23,12,"GF",87.8,7.8,29.8,25.7,0.08,0.3,0.01,0,"2024-02-11"]
[2216,"MaisSilage, in Wachsreife, körnerarm, 34% TM",350,38,962,430,77,27,277,38,129.13,10.69,2.8,2.2000000000000002,1.6,0.23,13.2,"GF",92.5,7.5,30.9,28.9,0.08,0.3,0.01,0,"2024-02-11"]
[2226,"MaisSilage, in Wachsreife, körnerreich, 36% TM",350,33,967,369,75,31,367,36,133.93,11.21,2.7,2.2000000000000002,1.5,0.23,11.2,"GF",84.6,7.8,29.6,25.1,0.08,0.3,0.01,0,"2024-02-11"]
[2245,"MaisSilage, Pflückhäcksel 24",400,35,965,365,80,33,360,36,135.72999999999999,11.26,2.7,2.4,1.4,0.2,9.6999999999999993,"GF",85,7.5,30,18,0.08,0.3,0.01,0,"2024-02-11"]
[2246,"MaisSilage, Pflückhäcksel 22",410,30,970,313,78,34,439,38,140.33000000000001,11.76,2.6,2.4,1.3,0.2,8.5,"GF",85,7.2,30,18,0.08,0.3,0.01,0,"2024-02-11"]
[2305,"GPS Ackerbohne",310,122,878,373,163,28,0,32,125.31,9.18,15.8,3.9,4.3,0.41,27.1,"GF",683.1,10.5,41,64,0.12,0.35,0.01,0,"2024-02-11"]
[2315,"GPS Hülsenfrüchte",310,76,924,490,116,27,0,44,120.88,9.44,9.1,3.5,1.9,0.43,19.399999999999999,"GF",151,6.7,33.799999999999997,44.6,0.12,0.35,0.01,0,"2019-03-10"]
[2424,"RapsSilage, jung, blattreich,",170,165,835,283,165,38,0,13,142.41999999999999,10.72,18,3.5,2.7,0.4,25,"GF",200,5,25,60,0.12,0.35,0.03,0,"2024-02-11"]
[2425,"RapsSilage",200,170,830,373,150,22,0,13,127.66,9.58,18,3.5,2.7,0.4,25,"GF",200,5,25,60,0.12,0.35,0.03,0,"2019-03-10"]
[2435,"PerkoSilage",140,170,830,380,185,41,0,5,146.38,10.8,13,6,1.2,1.1000000000000001,30,"GF",200,8,50,60,0.12,0.35,0.1,0,"2019-03-10"]
[2445,"RübsenSilage",170,110,890,334,114,30,0,73,138.46,11.08,0,0,0,0,0,"GF",0,0,0,0,0.12,0.35,0.03,0,"2019-03-10"]
[2485,"Markstammkohl- Silage",140,153,847,385,160,30,0,5,122.34,8.9499999999999993,19.7,3.5,2,1.7,29,"GF",200,6.3,35,27,0.12,0.35,0.1,0,"2019-03-10"]
[2505,"Zuckerrübenblatt- Silage, sauber",180,185,815,350,150,32,0,16,130.38999999999999,9.83,10,2.4,4,7,27,"GF",250,15,59,157,0.35,0.8,0.1,0,"2024-02-11"]
[2506,"Zuckerrübenblatt- Silage, verschmutzt",180,255,745,325,140,31,0,10,117.07,8.75,12,2,4.5,9,29,"GF",250,14.7,59,157,0.35,0.8,0.1,0,"2024-02-11"]
[2555,"Futterrübenblatt- Silage",180,220,780,335,145,29,0,20,122.86,9.2100000000000009,20,2.4,5,3.5,33,"GF",250,9,50,130,0.3,0.8,0.1,0,"2024-02-11"]
[2615,"RotkleeSilage, 1.Schnitt",330,105,895,412,166,27,0,38,137.94999999999999,9.82,12,3.5,2.5,0.5,30,"GF",270,7.7,30,50,0.15,0.35,0.03,0,"2024-02-11"]
[2625,"RotkleeSilage, ab 2.Schnitt",330,105,895,395,177,27,0,35,132.72,9.11,14,3.5,3,0.5,30,"GF",270,8.5,30,50,0.15,0.35,0.03,0,"2024-02-11"]
[2634,"KleeGrasSilage, 1. Schnitt, in der Knospe",330,100,900,401,184,41,0,50,146.88,10.86,8.1,3.7,2.6,0.6,33.9,"GF",260,7.5,31.8,56.9,0.12,0.35,0.03,0,"2024-02-11"]
[2635,"KleeGrasSilage, 1.Schnitt",330,100,900,422,161,37,0,50,139.07,10.47,8.1,3.6,2.5,0.6,31.4,"GF",260,7.2,30.2,59.6,0.12,0.35,0.03,0,"2024-02-11"]
[2636,"KleeGrasSilage, 1.Schnitt, in der Blüte",330,100,900,449,143,35,0,50,137.02000000000001,10.18,8.1,3,2,1,31,"GF",260,7,29,63,0.12,0.35,0.03,0,"2024-02-11"]
[2644,"KleeGrasSilage, 2.und FolgeSchnitte, vor der Knosp",340,106,894,422,178,37,0,42,131.01,9.49,10.7,3.6,2.7,0.59,32.200000000000003,"GF",300,7.9,29.7,53.2,0.12,0.35,0.03,0,"2024-02-11"]
[2645,"KleeGrasSilage, 2.Schnitt",340,99,901,457,155,35,0,44,124.4,9.2100000000000009,9.4,3.5,2.6,0.57999999999999996,30.6,"GF",300,7.6,29.7,59,0.12,0.35,0.03,0,"2024-02-11"]
[2646,"KleeGrasSilage, 2.und FolgeSchnitte, Beginn Blüte",340,95,{"$f":"1000-D132","v":905},483,130,32,0,50,117.81,8.9600000000000009,8.9,3.3,2.4,0.62,28.2,"GF",300,7,29.7,67.3,0.12,0.35,0.03,0,"2024-02-11"]
[2648,"KleeGrasSilage, 3.Schnitt",340,110,890,430,174,34,0,50,127.99,9.27,10.4,3.4,2.8,0.6,30.4,"GF",400,7.8,30,60,0.12,0.35,0.03,0,"2024-02-11"]
[2649,"KleeGrasSilage, ab 4.Schnitt",330,120,880,393,182,36,0,52,132.94,9.61,10.9,3.7,3,0.6,30.9,"GF",600,8.1999999999999993,30.6,73.2,0.12,0.35,0.03,0,"2024-02-11"]
[2714,"LuzerneSilage, in der Knospe 1.Schnitt",350,105,895,374,190,32,0,40,137.12,9.8800000000000008,16,3.5,2.9,0.5,31,"GF",400,7.5,26,44,0.15,0.3,0.03,0,"2024-02-11"]
[2715,"LuzerneSilage, 1.Schnitt",350,105,895,406,175,29,0,40,137.47999999999999,9.6,14.5,3.3,2.7,0.5,30,"GF",400,7.5,26,44,0.15,0.3,0.03,0,"2024-02-11"]
[2716,"LuzerneSilage, Ende Blüte, 1.Schnitt",350,105,895,456,150,28,0,40,133.62,9.2899999999999991,13,3.2,2.5,0.5,29,"GF",400,7.5,26,44,0.15,0.3,0.03,0,"2024-02-11"]
[2725,"LuzerneSilage, ab 2. Schnitt",350,105,895,420,176,29,0,45,128.5,8.73,14.7,3.2,2.5,0.5,29,"GF",400,8,25.6,44.3,0.15,0.3,0.03,0,"2024-02-11"]
[2734,"LuzerneGrasSilage, in der Knospe, 1.Schnitt",350,105,895,408,186,35,0,48,139.88,10.19,13,3.4,2.6,0.5,30.9,"GF",400,7.2,26.7,50.2,0.12,0.35,0.03,0,"2024-02-11"]
[2735,"LuzerneGras- Silage, 1.Schnitt",350,105,895,454,162,31,0,44,130.5,9.67,12,3.2,2.2999999999999998,0.4,29.2,"GF",400,7.2,26.7,50.2,0.12,0.35,0.03,0,"2024-02-11"]
[2736,"LuzerneGrasSilage, in der Blüte, 1.Schnitt",350,99,901,484,138,29,0,42,124.06,9.42,10,2.9,2.2999999999999998,0.4,27.2,"GF",400,7.2,26.7,50.2,0.12,0.35,0.03,0,"2024-02-11"]
[2745,"LuzerneGras- Silage, ab 2. Schnitt",350,107,893,447,172,33,0,47,123.32,8.8699999999999992,12.3,3.2,2.7,0.6,28.1,"GF",400,7.8,27.3,47.4,0.12,0.35,0.03,0,"2024-02-11"]
[2814,"WeidelGrasSilage, im Schossen",350,110,890,384,170,38,0,102,149.51,11.3,5.8,3.8,1.8,0.49,36.700000000000003,"GF",250,6.2,28,65,0.12,0.35,0.03,0,"2024-02-11"]
[2815,"Weidelgras- Silage",350,110,890,431,150,36,0,67,137.91999999999999,10.52,5.8,3.3,1.8,0.53,33.6,"GF",250,6.2,28,65,0.12,0.35,0.03,0,"2019-03-10"]
[2816,"WeidelGras- Silage, in der Blüte",350,110,890,482,125,34,0,41,124.13,9.61,5.8,3.2,1.8,0.5,32.9,"GF",250,6.2,28,65,0.12,0.35,0.03,0,"2024-02-11"]
[2865,"Landsberger Gemenge- Silage",320,105,895,427,143,34,0,44,132.91,10.16,6.2,3.9,1.9,0.42,32.9,"GF",186.7,6.9,29.8,80.7,0.12,0.35,0.02,0,"2024-02-11"]
[2885,"SudanGras- Silage",300,55,945,614,73,20,0,20,106.71,8.75,5.2,2.2999999999999998,2,0.23,16.100000000000001,"GF",150,7.3,30.9,33.799999999999997,0.12,0.4,0.01,0,"2024-02-11"]
[3014,"Heu Wiese, 1.Schnitt, RispenSchieben",860,80,920,537,127,25,0,120,130.44999999999999,9.8699999999999992,6.1,3,2,0.4,26.6,"GF",150,7.3,32,68,0.12,0.4,0.02,0,"2024-02-11"]
[3015,"Heu Wiese, 1.Schnitt",860,71,929,594,97,18,0,118,113.81,8.8800000000000008,5.8,2.7,2,0.4,22.5,"GF",150,7.2,30.5,68,0.12,0.4,0.02,0,"2024-02-11"]
[3016,"Heu Wiese, 1.Schnitt, in der Blüte",860,62,938,624,82,16,0,116,104.96,8.1999999999999993,5.5,2.2000000000000002,2,0.4,20.7,"GF",150,6.6,29,68,0.12,0.4,0.02,0,"2024-02-11"]
[3017,"Heu Wiese, 1.Schnitt, abgeblüht",860,56,944,636,64,14,0,114,97.46,7.92,5.2,2.2000000000000002,2,0.4,18.399999999999999,"GF",150,6.5,27.5,68,0.12,0.4,0.02,0,"2024-02-11"]
[3024,"Heu Wiese, 2.und FolgeSchnitte, im Schossen",860,89,911,485,145,30,0,120,137.85,10.220000000000001,8,3.4,2.9,0.5,26.4,"GF",220,7.5,30,65,0.12,0.4,0.02,0,"2024-02-11"]
[3025,"Heu Wiese, 2.Schnitt",860,86,914,527,131,26,0,106,129.05000000000001,9.66,7.8,3.3,2.8,0.5,24.6,"GF",220,7.4,30,65,0.12,0.4,0.02,0,"2024-02-11"]
[3026,"Heu Wiese, 2.und FolgeSchnitte, Beginn Blüte",860,80,920,581,113,22,0,96,119.01,9.06,6.4,3.1,2.4,0.5,23,"GF",220,7.2,30,65,0.12,0.4,0.02,0,"2024-02-11"]
[3028,"Heu Wiese 3. Schnitt",860,91,909,515,147,26,0,120,134.99,9.91,7,3.5,2.7,0.6,26.2,"GF",250,7.9,30,65,0.12,0.4,0.02,0,"2024-02-11"]
[3029,"Heu Wiese ab 4.Schnitt",860,99,901,462,180,32,0,97,149.61000000000001,10.65,7.8,4.3,3.4,0.6,27.1,"GF",350,8.5,35,65,0.12,0.4,0.02,0,"2024-02-11"]
[3034,"Heu Unter DachTrocknung, 1.Schnitt, RispenSchieben",870,85,915,498,142,27,0,142,138.29,10.32,6.6,3.2,2.1,0.5,28.2,"GF",150,7.3,33.1,68,0.12,0.4,0.02,0,"2024-02-11"]
[3035,"Heu Unter Dach Trocknung, 1.Schnitt",870,77,923,541,111,24,0,140,127.47,9.9,6.2,2.9,2.1,0.5,23.9,"GF",150,7.1,32.5,68,0.12,0.4,0.02,0,"2024-02-11"]
[3036,"Heu Unter Dach Trocknung, 1.Schnitt, in der Blüte",870,70,930,582,91,19,0,138,116.07,9.06,5.8,2.4,2.1,0.5,23.1,"GF",150,6.7,28.1,68,0.12,0.4,0.02,0,"2024-02-11"]
[3044,"Heu UnterDach Trocknung, 2.u. FolgeSchn., Schossen",870,99,901,461,172,28,0,112,145.32,10.4,8.4,3.8,3,0.6,29.5,"GF",220,7.9,38.1,65,0.12,0.4,0.02,0,"2024-02-11"]
[3045,"Heu Unter Dach Trocknung, ab 2.Schnitt",870,95,905,514,148,27,0,110,135.72999999999999,9.9600000000000009,7.4,3.7,2.8,0.6,28.5,"GF",220,7.8,33,65,0.12,0.4,0.02,0,"2024-02-11"]
[3046,"Heu Unt. DachTrocknung, 2.u. FolgSch, Beginn Blüte",870,87,913,553,137,25,0,108,128.91999999999999,9.5299999999999994,7.4,3.6,2.6,0.6,26.3,"GF",220,7.7,27.7,65,0.12,0.4,0.02,0,"2024-02-11"]
[3074,"GrasCobs, 1.Schnitt, im Blattstadium",900,95,905,425,174,30,0,154,175.49,11.28,6.9,3.9,2.9,1.1000000000000001,26,"GF",400,7.7,33,80,0.15,0.4,0.03,0,"2024-02-11"]
[3075,"GrasCobs, 1.Schnitt",900,95,905,464,152,30,0,135,160.44,10.63,6.9,3.9,2.9,1.1000000000000001,26,"GF",400,7.7,33,80,0.15,0.4,0.03,0,"2024-02-11"]
[3076,"GrasCobs, 1.Schnitt, RispenSchieben",900,95,905,499,131,30,0,120,147.65,10.18,6.7,3.6,2.9,1.1000000000000001,26,"GF",400,7.7,33,80,0.15,0.4,0.03,0,"2024-02-11"]
[3084,"GrasCobs, 2.und FolgeSchnitte, im Blattstadium",900,100,900,393,183,37,0,111,176.99,11.04,9.8000000000000007,3.7,3.4,1,24,"GF",600,8.6,32,111,0.15,0.4,0.03,0,"2024-02-11"]
[3085,"GrasCobs, ab 2.Schnitt",900,100,900,448,173,34,0,95,168.63,10.58,9.8000000000000007,3.7,3.4,1,24,"GF",600,8.6,32,111,0.15,0.4,0.03,0,"2024-02-11"]
[3086,"GrasCobs, 2.und FolgeSchnitte, RispenSchieben",900,100,900,479,162,32,0,89,161.06,10.25,9.8000000000000007,3.7,3.4,1,24,"GF",600,8.6,32,111,0.15,0.4,0.03,0,"2024-02-11"]
[3125,"Stroh Gerste",880,56,944,847,30,15,0,12,73.36,6.71,4.4000000000000004,1,1.1000000000000001,0.37,15.2,"GF",79.7,4.0999999999999996,11.2,15.1,0.1,0.35,0.01,0,"2024-02-11"]
[3134,"Stroh Gerste, NaOH aufgeschlossen",880,97,903,761,27,15,0,3,86.58,8.1999999999999993,4.4000000000000004,1,1.1000000000000001,5.18,15.2,"GF",79.7,4.0999999999999996,11.2,15.1,0.1,0.35,0.01,0,"2024-02-11"]
[3135,"Stroh Gerste, NH3 aufgeschlossen",880,56,944,847,59,15,0,3,96.79,7.98,4.4000000000000004,1,1.1000000000000001,0.37,15.2,"GF",79.7,4.0999999999999996,11.2,15.1,0.1,0.35,0.01,0,"2024-02-11"]
[3145,"Stroh Hafer",880,64,936,790,36,19,0,49,76.3,6.68,4,1.4,1,2,21,"GF",200,7,40,80,0.06,0.35,0.01,0,"2024-02-11"]
[3155,"Stroh Hafer, NH3 aufgeschlossen",880,67,933,790,82,17,0,7,90.95,6.83,4,1.4,1,2,21,"GF",200,7,40,80,0.06,0.35,0.01,0,"2024-02-11"]
[3165,"Stroh Roggen",880,58,942,850,37,13,0,10,70.67,6.04,3,1,1,0.4,10,"GF",80,4,10,20,0.05,0.35,0.01,0,"2024-02-11"]
[3185,"Stroh Weizen",880,57,943,835,40,13,0,17,75.069999999999993,6.38,3.6,1.1000000000000001,0.9,0.25,10,"GF",67.2,5.3,9.3000000000000007,26.9,0.06,0.35,0.01,0,"2024-02-11"]
[3194,"Stroh Weizen, NaOH aufgeschlossen",880,82,918,825,37,14,0,4,89.04,8.02,3.6,1.1000000000000001,0.9,4.67,10,"GF",67.2,5.3,9.3000000000000007,26.9,0.06,0.35,0.01,0,"2024-02-11"]
[3195,"Stroh Weizen, NH3 aufgeschlossen",880,56,944,835,94,12,0,4,101.81,7.59,3.6,1.1000000000000001,0.9,0.25,10,"GF",67.2,5.3,9.3000000000000007,26.9,0.06,0.35,0.01,0,"2024-02-11"]
[3205,"MaisCobs, Ganzpflanze",890,37,963,432,75,28,276,80,132.19999999999999,11.03,3.1,2.5,2.1,0.23,10.7,"GF",241.7,7.1,30.1,34.700000000000003,0.09,0.3,0.01,0,"2024-02-11"]
[3615,"RotkleeHeu, 1. Schnitt",860,100,900,463,154,21,0,66,134.54,9.2799999999999994,11,3.3,3.2,0.5,30,"GF",250,8.5,25,50,0.15,0.35,0.02,0,"2024-02-11"]
[3625,"RotkleeHeu, ab 2.Schnitt",860,100,900,459,171,21,0,66,135.85,8.98,11,3.3,3.2,0.5,30,"GF",250,8.5,25,50,0.15,0.35,0.02,0,"2024-02-11"]
[3635,"KleeGrasHeu, 1. Schnitt",860,90,910,481,130,19,0,87,127.79,9.56,8.3000000000000007,2.9,2.2000000000000002,0.4,26.2,"GF",200,7.5,28,54,0.12,0.35,0.02,0,"2024-02-11"]
[3645,"KleeGrasHeu, ab 2.Schnitt",860,97,903,490,160,20,0,74,129.22,9.11,10.6,3.2,3.3,0.4,26.7,"GF",200,7.5,28,54,0.12,0.35,0.02,0,"2024-02-11"]
[3675,"Rotklee-, KleeGrasCobs",900,110,890,446,172,29,0,68,156.86000000000001,9.94,11,3.3,3,0.6,29,"GF",300,8.3000000000000007,28,50,0.15,0.35,0.03,0,"2024-02-11"]
[3714,"LuzerneHeu, 1.Schnitt, Beginn Blüte",860,101,899,461,174,20,0,65,141.33000000000001,9.44,15,2.8,3,0.8,28,"GF",200,7,20,25,0.15,0.3,0.02,0,"2024-02-11"]
[3715,"LuzerneHeu, 1.Schnitt",860,94,906,515,166,19,0,40,139.16,8.89,15,2.8,2.7,0.6,27,"GF",200,7,20,25,0.15,0.3,0.02,0,"2024-02-11"]
[3716,"LuzerneHeu, 1.Schnitt, abgeblüht",860,93,907,536,148,15,0,36,128.66,8.39,15,2.8,2.2999999999999998,0.5,26,"GF",200,7,20,25,0.15,0.3,0.02,0,"2024-02-11"]
[3724,"LuzerneHeu, 2.und FolgeSchnitte, Beginn Blüte",860,103,897,456,185,21,0,54,141.61000000000001,9.19,15,3.1,2.6,0.5,30,"GF",200,7,20,25,0.15,0.3,0.02,0,"2024-02-11"]
[3725,"LuzerneHeu, ab 2.Schnitt",860,100,900,488,173,19,0,40,132.69,8.6199999999999992,15,3.1,2.4,0.5,29,"GF",200,7,20,25,0.15,0.3,0.02,0,"2024-02-11"]
[3726,"LuzerneHeu, 2.und FolgeSchnitte, abgeblüht",860,96,904,522,149,16,0,33,126.3,8.1199999999999992,15,3.1,2.2000000000000002,0.4,28,"GF",200,7,20,25,0.15,0.3,0.02,0,"2024-02-11"]
[3735,"LuzerneGrasHeu, 1. Schnitt",860,94,906,563,141,17,0,78,122.03,8.8000000000000007,12.7,4.2,2.9,0.38,36.5,"GF",466.6,8.9,31.7,92,0.12,0.35,0.02,0,"2024-02-11"]
[3745,"LuzerneGrasHeu, ab 2.Schnitt",860,93,907,516,155,20,0,52,123.22,8.64,10.1,3.2,2.2000000000000002,0.46,29.5,"KF",75,7.6,26.1,31.7,0.12,0.35,0.02,0,"2024-02-11"]
[3774,"LuzerneCobs,-Grünmehl, vor der Knose",900,120,880,427,209,31,0,55,178.22,10.01,15,3.7,2.9,0.6,28,"KF",400,8,26,55,0.15,0.3,0.03,0,"2024-02-11"]
[3775,"LuzerneCobs, -Grünmehl",900,115,885,449,184,29,0,55,165.9,9.7899999999999991,15,3.7,2.9,0.6,28,"KF",400,8,26,55,0.15,0.3,0.03,0,"2024-02-11"]
[3776,"LuzerneCobs,-Grünmehl, Beginn Blüte",900,110,890,480,153,25,0,55,148.52000000000001,9.2899999999999991,15,3.7,2.9,0.6,28,"GF",400,8,26,55,0.15,0.3,0.03,0,"2024-02-11"]
[3815,"Heu WeidelGras",860,96,904,471,144,28,0,133,140.71,10.51,5.5,3.3,1.8,0.4,33,"GF",200,6,31,50,0.12,0.35,0.03,0,"2019-03-10"]
[3865,"Heu, Landsberger Gemenge",860,100,{"$f":"1000-D196","v":900},560,150,21,0,60,125.57,8.9600000000000009,8.5,3,1.8,0.45,30,"KF",150,8,50,80,0.12,0.35,0.1,0,"2013-03-13"]
[4025,"Gerste, 2-zeilig",880,24,976,162,117,20,606,19,162.63999999999999,12.96,0.6,3.8,1.3,0.08,5.5,"KF",43.1,7.8,28.7,19.399999999999999,0.1,0.3,0,0,"2024-02-11"]
[4026,"Gerste, mehrzeilig",880,24,976,169,116,20,600,18,161.57,12.88,0.5,4.2,1.5,0.11,6.3,"KF",54,9.8000000000000007,39.6,20.2,0.1,0.3,0,0,"2024-02-11"]
[4065,"Hafer",880,29,971,300,110,40,472,7,140.9,11.36,1.2,3.7,1.3,0.17,4.8,"KF",99.1,6.5,33.200000000000003,48.4,7.0000000000000007E-2,0.3,0,0,"2024-02-11"]
[4075,"HaferFlocken",910,18.68,981.32,155,128.57,54.95,650.54999999999995,18.68,167.11,13.5,1,4.45,1.46,0.33,4.22,"KF",73,4.0999999999999996,26,48,0.03,0.3,0.08,0,"2013-03-13"]
[4105,"Roggen",880,19,981,139,100,14,576,34,160.29,13.28,0.5,3,1.1000000000000001,0.06,5.6,"KF",31.9,6,33.200000000000003,26.1,0.05,0.2,0,0,"2024-02-11"]
[4125,"Triticale",880,18,982,12,118,13,704,21,161.55000000000001,13.14,0.5,3.5,1.3,0.05,5.2,"KF",35.5,6.7,41.4,40.5,0.08,0.2,0,0,"2024-02-11"]
[4145,"Weizen",880,18,982,123,132,16,693,14,168.57,13.38,0.5,3.6,1.3,0.06,5.0999999999999996,"KF",42.6,5.0999999999999996,30.1,40.1,0.1,0.4,0,0,"2024-02-11"]
[4155,"WeizenFlocken",880,17.05,982.95,165,137.5,18.18,677.27,22.73,175.92,13.5,0.7,3.8,1.3,0.17,5,"KF",45,7,65,35,0.1,0.4,0.1,0,"2013-03-13"]
[4205,"Körnermais",880,13,987,104,88,41,754,15,158.72,13.31,0.3,3.4,1.6,0.1,4.0999999999999996,"KF",35.700000000000003,4,22.4,7.2,0.13,0.4,0,0,"2024-02-11"]
[4285,"Hirse",880,18,982,110,108,33,728,9,166.12,12.97,0.8,3.3,2.2999999999999998,0.2,4.5999999999999996,"KF",92,6.1,27.7,17.8,0.01,0.4,0.1,0,"2024-02-11"]
[4305,"Ackerbohnen",880,40,960,165,299,12,421,23,193.55,13.51,1.6,6,1.7,0.19,13.4,"KF",82,20,60,21,0.03,0.2,0.2,0,"2024-02-11"]
[4345,"Erbsen",880,38,962,140,234,13,484,34,182.09,13.38,1.3,5,1.6,0.2,12,"KF",104,10.3,49,16,0.2,0.2,0.1,0,"2024-02-11"]
[4365,"Süßlupine",880,42,958,207,350,101,89,37,208.55,14.86,2.8,5.9,2,0.1,13,"KF",44,7.4,47,723,0.03,0.2,0.1,0,"2024-02-11"]
[4405,"Leinsamen",910,49.45,950.55,240,248.35,364.84,0,37.36,126.98,17.3,2.8,5.4,5.6,0.93,8,"KF",133,17.8,83,26,0.21,0.44,0.1,0,"2013-03-13"]
[4425,"Rapssamen",900,44.44,955.56,194.44,225.56,444.44,0,45.56,97.71,17.53,5,7.78,3.33,0.28000000000000003,8.89,"KF",238.89,3.89,44.44,44.44,0.17,0.39,0.11,0,"2013-03-13"]
[4435,"Sojabohnen, getoastet",890,56,944,168,410,226,55,72,196.8,16.29,2.9,7.3,3,0.2,22,"KF",146,18,57,31,0.22,0.1,0.1,0,"2024-02-11"]
[4445,"Sonnenblumensamen ungeschält",880,34.090000000000003,965.91,495,192.05,359.09,0,0,112.67,15.5,2.8,3.8,2.2999999999999998,0.2,6.2,"KF",75,30,55.7,25.7,0.2,0.35,0.1,0,"2013-03-13"]
[4505,"ZuckerrübenSchnitzel",916,75.33,924.67,235,79.69,6.55,0,663.76,140.66,11.74,6.8,1,1.6,2.62,12,"KF",215,6.6,31.8,61.4,0.1,0.35,0.1,0,"2013-03-13"]
[4535,"Futterzucker",990,1.01,998.99,0,1.01,0,0,994,158.59,14.09,0,0,0,0,0,"KF",0,0,0,0,0,0,0,0,"2013-03-13"]
[4605,"KartoffelSchrot, -Schnitzel",880,57.95,942.05,175,92.05,3.41,736.36,22.73,144.91,11.92,0.5,2.6,1,0.34,24,"KF",77,6.8,12.2,6.8,0.05,0.2,0.1,0,"2013-03-13"]
[4615,"KartoffelFlocken",880,53.41,946.59,175,88.64,4.55,738.64,39.770000000000003,143.99,11.99,0.5,2.6,1,1.0900000000000001,24,"KF",62.5,7,29,6.8,0.05,0.2,0.1,0,"2013-03-13"]
[4625,"KartoffelStärke",880,4.55,995.45,140,3.41,1.1399999999999999,948,0,152.09,13.49,0.2,0.6,0.1,0.26,1,"KF",21.3,2.2000000000000002,1.8,1.2,0.01,0,0.1,0,"2013-03-13"]
[4664,"ManiokMehl, Typ 55",880,57.95,942.05,215,27.27,6.82,684.09,31.82,126.84,11.98,1.9,0.8,0.9,0.27,9,"KF",137.6,4.7,12,22.3,0.05,0.2,0.1,0,"2013-03-13"]
[4665,"ManiokMehl, -Schnitzel",880,37.5,962.5,180,26.14,5.68,755.68,29.55,131.33000000000001,12.47,1.6,1.1000000000000001,1.1000000000000001,0.44,8,"KF",220,2.7,8,19,0.05,0.2,0.1,0,"2013-03-13"]
[4905,"Dikalziumphosphat",950,1000,0,0,0,0,0,0,0,0,240,185.09,0,0,0,"KF",0,0.2,1,1,0,0,0.09,0,"2013-03-13"]
[4915,"Monokalziumphosphat",950,1000,0,0,0,0,0,0,0,0,173,241,0,0,0,"KF",0,0.2,1,1,0,0,0.09,0,"2013-03-13"]
[4925,"Kohlensaurer Kalk",997,1000,0,0,0,0,0,0,0,0,381.4,0.4,1.6,0,0,"KF",0,0.2,1,1,0,0,0.1,0,"2013-03-13"]
[4945,"Viehsalz",990,1000,0,0,0,0,0,0,0,0,0,0,0,365,0,"KF",10,0.2,1,1,0.05,0.2,0.04,0,"2013-03-13"]
[5185,"Altbrot",650,28,972,150,123,30,642,60,175.09,14.44,0.92,2.46,0.7,4.1100000000000003,5,"KF",38,3,13,0.7,0.1,0.4,0.1,0,"2013-03-13"]
[5205,"MaisKornSilage Ganzkorn",670,14,986,84,89,43,740,12,162.46,13.67,0.4,3.4,1.6,0.14000000000000001,4.3,"KF",45.9,4.2,28.6,7.4,0.1,0.2,0,0,"2013-03-13"]
[5206,"MaisKornSilage Schrot",650,13,987,83,87,43,731,7,161.72999999999999,13.68,0.5,3.2,1.4,0.21,4.0999999999999996,"KF",47.7,4.5,28.2,7.4,0.1,0.2,0,0,"2021-11-10"]
[5224,"CCM- KornSpindelGemisch, 3,5% Rohfaser",650,15,985,185,100,43,635,8,159.06,12.89,0.4,3.5,1.25,0.2,4.0999999999999996,"KF",40,4,30,9,0.1,0.2,0.01,0,"2021-11-10"]
[5225,"CCM- KornSpindelGemisch, 5,3% Rohfaser",600,16,984,210,100,43,623,8,158.01,12.78,0.4,3.5,1.25,0.2,4.0999999999999996,"KF",50,4,30,9,0.1,0.2,0.01,0,"2013-03-13"]
[5235,"CCM- KornSpindelGemisch, 7,6% Rohfaser",550,20,980,270,90,40,580,6,152.5,12.58,0.4,3.5,1.25,0.2,4.0999999999999996,"KF",50,4,30,9,0.1,0.2,0.01,0,"2013-03-13"]
[5245,"LKS gesiebt, 9% RFas",500,20,980,270,95,40,540,6,153.06,12.45,0.4,3.5,1.25,0.2,4.0999999999999996,"KF",50,4,30,9,0.1,0.2,0.01,0,"2024-02-11"]
[5405,"Leinöl",999,1,999,0,0,999,0,0,0.06,30.55,0,0,0,0,0,"KF",0,0,0,0,0,0,0,0,"2024-02-11"]
[5425,"Rapsöl",999,1,999,0,0,999,0,0,0,29.92,0,0,0,0,0,"KF",0,0,0,0,0,0,0,0,"2013-03-13"]
[5435,"Sojaöl",999,1,999,0,0,999,0,0,0.06,30.55,0,0,0,0,0,"KF",0,0,2,0,0,0,0,0,"2013-03-13"]
[5445,"Sonnenblumenöl",999,1,999,0,0,999,0,0,0.06,30.55,0,0,0,0,0,"SF",0,0,0,0,0,0,0,0,"2021-11-10"]
[5505,"Zuckerrübe",230,80,920,210,80,6,0,647,141.58000000000001,11.84,2.2999999999999998,1.5,1.6,0.95,8,"SF",215,5.0999999999999996,36,61,0.09,0.35,0.1,0,"2021-11-10"]
[5555,"Futterrübe",146,90,910,230,80,8,0,545,141.37,11.82,2.7,2.4,1.8,4.08,30,"SF",131,7.2,32,83,0.16,0.36,0.03,0,"2021-11-10"]
[5565,"Massenfutterrbe",110,118,882,250,94,9,0,543,143.09,11.71,2.5,2.5,2.5,3.31,35,"SF",264,7.8,28,80,0.18,0.35,0.1,0,"2021-11-10"]
[5575,"Stoppelrübe",120,120,880,310,130,14,0,353,152.94,11.94,2.7,2.4,1.8,4.08,30,"SF",74,7.8,28,80,0.16,0.35,0.1,0,"2013-03-13"]
[5585,"Möhren, Gelbe Rüben",150,70,930,265,90,15,0,256,148.4,12.29,4.4000000000000004,3,1.9,2.77,28,"SF",60,6.3,33,23,0.16,0.33,0.03,0,"2013-03-13"]
[5604,"Kartoffel roh, stärkereich",260,66,934,170,90,4,726,28,155.47999999999999,12.96,0.4,2.5,1.4,0.55000000000000004,22,"SF",45,5.4,24,7,0.09,0.2,0.09,0,"2013-03-13"]
[5605,"Kartoffel (roh)",220,62,938,170,97,4,710,31,157.44999999999999,13.01,0.4,2.5,1.4,0.55000000000000004,22,"SF",45,5.4,24,7,0.09,0.2,0.09,0,"2019-03-10"]
[5615,"Kartoffel, roh, siliert, 16% Stärke",300,66,934,170,90,4,726,28,157.06,13.11,0.4,2.5,1.4,0.55000000000000004,22,"SF",45,5.4,24,7,0.09,0.2,0.09,0,"2013-03-13"]
[5625,"Kartoffel, gedämpft, 15% Stärke",220,68,932,170,98,6,670,6,145.37,11.94,0.8,2.5,1.4,0.05,22,"SF",45,5.4,24.2,10.4,0.05,0.2,0.1,0,"2013-03-13"]
[5635,"Kartoffel, gedämpft, siliert, 16% Stärke",220,74,926,185,108,4,753,6,150.30000000000001,12.25,0.8,2,1.4,0.05,22,"SF",45,5.4,24.2,6.9,0.05,0.2,0.1,0,"2013-03-13"]
[5655,"Kartoffel (fritiert)",500,51,949,130,75,250,500,4,117.89,16.420000000000002,0.6,1.9,1,2,16.5,"SF",34,4,16,6.3,0.03,7.0000000000000007E-2,7.0000000000000007E-2,0,"2013-03-13"]
[5825,"Futterfett",999,1,999,0,0,999,0,0,0.06,28.68,0,0,0,0,0,"SF",0,0,0,0,0,0.1,0,0,"2013-03-13"]
[5935,"Propionsäure",990,0,1000,0,0,191.92,0,700,155.18,17.87,0,0,0,0,0,"SF",0,0,0,0,0,0,0,0,"2021-11-08"]
[5964,"Reinglyzerin",990,0,1000,0,0,70,0,930,189.09,15.85,0,0,0,0,0,"SF",0,0,0,0,0,0,0,0,"2013-03-13"]
[5965,"Rohglyzerin",880,50,950,0,0,55,0,895,156.63999999999999,13.13,0,0,0,18,0,"KF",0,0,0,0,0,0,0,0,"2021-11-10"]
[5975,"Propylenglykol",990,0,1000,0,0,1,0,999,175.61,14.72,0,0,0,0,0,"KF",0,0,0,0,0,0,0,0,"2021-11-10"]
[6025,"BierTreber, trocken",900,47.78,952.22,385,264.44,85.56,38.89,10,200.58,10.6,3.6,6,2,0.4,0.8,"KF",277,26,130,50,0.2,0.1,0.03,0,"2021-11-10"]
[6035,"MalzKeime",930,52,948,400,220,16,154,101,163.19,10.42,2.5,7,1.6,0.48,16.899999999999999,"KF",139.80000000000001,12.6,82.9,43.8,7.0000000000000007E-2,0.2,0,0,"2021-11-10"]
[6065,"HaferfutterMehl",909,26.4,973.6,220,151.82,80.31,556.66,16.5,165.74,14.39,1.1000000000000001,5.7,2,0.11,8,"KF",200,4.4000000000000004,152.80000000000001,48.4,0.05,0.1,0.1,0,"2021-11-10"]
[6075,"HaferschälKleie",908,59.47,940.53,510,74.89,33.04,165.2,11.01,107.66,8.81,1.4,1.7,1.2,0.4,10,"KF",250,3.3,22,15.2,0.09,0.1,0.1,0,"2021-11-10"]
[6105,"RoggennachMehl",880,31.82,968.18,160,154.55000000000001,31.82,471.59,95.45,164.91,12.93,0.9,5.2,2,0.13,8,"KF",71,5.4,54,49,0.03,0.1,0.1,0,"2021-11-10"]
[6115,"RoggenfutterMehl",880,36.36,963.64,185,159.09,34.090000000000003,397.73,126.14,160.04,12.42,1.3,9.1999999999999993,3.8,0.19,15,"KF",97,9,77,72,0.01,0.1,0.1,0,"2021-11-10"]
[6125,"RoggengrießKleie",880,45.45,954.55,230,159.09,37.5,250,87.5,145.87,11.12,1.7,11.3,3.6,0.79,14,"KF",105.5,13.8,91.7,96.3,0.05,0.1,0.1,0,"2017-04-07"]
[6135,"RoggenKleie",880,60.23,939.77,255,162.5,36.36,128.41,104.55,141.47999999999999,10.67,1.7,11.3,3.6,0.79,14,"KF",180,12.5,90,100,0.1,0.1,0.1,0,"2013-03-13"]
[6145,"WeizennachMehl",880,34.090000000000003,{"$f":"1000-D260","v":965.91},180,181.82,45.45,545.45000000000005,60.23,180.73,13.56,0.9,7.4,2.9,0.15,9,"KF",115,6.6,99,108,0.16,0.2,0.26,0,"2024-02-11"]
[6155,"WeizenfutterMehl",880,39.770000000000003,960.23,210,181.82,45.45,420.45,62.5,175.45,13.06,1.2,8.1,2.9,0.35,13,"KF",98,5.7,88,124,0.03,0.2,0.2,0,"2013-03-13"]
[6165,"WeizengrießKleie",880,55.68,944.32,275,181.82,45.45,244.32,67.05,155.47999999999999,11.17,1.4,10.3,4.3099999999999996,0.54,12,"KF",63,15.21,95,122,0.12,0.2,0.13,0,"2013-03-13"]
[6175,"WeizenKleie",880,59,941,495,184,48,145,66,152.29,10.26,1.2,11.1,5,0.2,13.4,"KF",181,13,96,134,0.09,0.3,0.09,0,"2013-03-13"]
[6185,"Backwaren",880,29.55,970.45,150,120.45,31.82,652.27,121.59,174.83,14.44,0.1,2.6,2.6,12.4,10,"KF",30.4,5.4,16.3,70.7,0.1,0.2,0.1,0,"2013-03-13"]
[6195,"WeizenKeime",880,50,950,195,295.45,93.18,254.55,159.09,178.36,14.81,1,9.9,2.8,0.12,10,"KF",59,8.4,131,144,0.13,0.2,0.02,0,"2013-03-13"]
[6215,"MaisfutterMehl",880,29.55,970.45,220,118.18,71.59,403.41,45.45,163.63,13.37,0.8,5,3,0.51,2,"KF",74,15.6,60,16.7,0.1,0.3,0.1,0,"2013-03-13"]
[6225,"MaisKeimExtraktionsSchrot",880,43.18,956.82,270,131.82,17.05,436.36,55.68,167.18,13.03,0.4,7.5,3.1,0.93,8,"KF",670,2.8,71.400000000000006,17,0.1,0.3,0.4,0,"2013-03-13"]
[6226,"Maiskeimschrot Mhlenind.",880,43.18,956.82,255,131.82,17.05,436.36,55.68,161.13999999999999,12.44,0.4,7.5,3.1,0.93,8,"KF",670,2.8,71.400000000000006,17,0.1,0.3,0.4,0,"2019-07-31"]
[6235,"MaisKleber",880,20.45,979.55,150,707.95,52.27,145.44999999999999,5.68,494.95,15.3,0.9,4.0999999999999996,0.3,0.5,1,"KF",444.4,8.5,20,4,0.2,0.79,0.9,0,"2018-04-18"]
[6245,"MaisKleberfutter, bis 23% Rohprotein",880,65.91,934.09,260,220.45,38.64,225,20.45,184.78,12.52,1.5,9.5,4.8,2.76,14,"KF",307,19.399999999999999,65,28,0.23,0.79,0.3,0,"2013-03-13"]
[6246,"MaisKleberfutter, 23-30% Rohprotein",880,60.23,939.77,265,257.95,40.909999999999997,201.14,22.73,193.52,12.43,1.5,9.5,4.8,2.76,14,"KF",307,19.399999999999999,64.989999999999995,28,0.23,0.79,3.2,0,"2024-02-11"]
[6265,"ReisfutterMehl",880,87.5,912.5,215,147.72999999999999,153.41,305.68,46.59,153.22,13.45,1.5,14.7,7.1,0.22,11,"KF",145.19999999999999,6.7,63.2,118,0.1,0.2,0.1,0,"2013-03-13"]
[6266,"ReisfutterMehl, gelb",880,114.77,885.23,285,146.59,179.55,240.91,45.45,129.09,11.23,0.9,6.7,4.2,0.6,11,"KF",102,3.3,35,118,0.1,0.2,0.1,0,"2013-03-13"]
[6405,"LeinExtraktionsSchrot",880,65.91,934.09,285,385.23,27.27,0,45.45,237.84,12.02,4.5,9.5,5.7,1.0900000000000001,12,"KF",328,20.2,66,47,0.3,1.1000000000000001,0.3,0,"2018-08-20"]
[6406,"LeinKuchen,-Expeller",880,63.64,936.36,295,372.73,62.5,0,43.18,252.61,12.39,4.2,8.1999999999999993,5.3,1.05,12,"KF",243,20.3,78,44,0.35,1.01,1,0,"2013-03-13"]
[6424,"Rapsextr.schrot pansenstabil",890,77.5,922.5,300.60000000000002,386.6,34.5,0,80,347.37,11.81,8.67,11.9,6,0.5,14.2,"KF",414.44,7.9,75.400000000000006,78.099999999999994,0.28999999999999998,0.68,0.19,0,"2013-03-13"]
[6425,"RapsExtraktionsSchrot",890,78,922,306,385,40,0,92,251.59,11.82,9.8000000000000007,12,5.2,0.63,14.9,"KF",205,7.4,78.7,70.099999999999994,0.28999999999999998,0.68,0,0,"2018-04-18"]
[6426,"RapsKuchen, 8% Rohfett",910,72.53,927.47,319.77999999999997,370.33,87.91,0,74.73,180.29,12.9,8.24,11.9,5.49,0.46,14.62,"KF",392.31,6.37,72.53,72.53,0.27,0.64,0.19,0,"2013-03-13"]
[6427,"RapsKuchen, 15% Rohfett",910,65.930000000000007,934.06999999999994,292.31,339.56,164.84,0,68.13,165.27,14.19,7.47,11.6,5.05,0.42,13.41,"KF",359.34,5.82,67.03,67.03,0.25,0.57999999999999996,0.16,0,"2013-03-13"]
[6428,"RapsKuchen, 20% Rohfett",910,61.54,938.46,273.63,316.48,219.78,0,63.74,154.24,15.1,7.03,10.9,4.7300000000000004,0.4,12.53,"KF",335.16,5.49,62.64,62.64,0.23,0.55000000000000004,0.15,0,"2013-03-13"]
[6432,"Sojaschalen",880,48.86,951.14,705,130.68,25,36.36,25,139.51,10.94,6,1.44,3,0.22,14.33,"KF",50,19.100000000000001,70,33,0.3,0.4,0.1,0,"2018-04-18"]
[6433,"SojaExtraktionsSchrot, 40% Rohprotein",880,68.180000000000007,931.81999999999994,285,454.55,18.18,62.5,96.59,273.39999999999998,13.45,3.6,7.4,3.7,0.39,25,"KF",160,19.100000000000001,70,33,0.3,0.6,0.25,0,"2013-03-13"]
[6435,"SojaExtraktionsSchrot, 43% Rohprotein",880,74,926,143,496,29,71,103,288.97000000000003,13.73,4.2,7.3,4,0.3,25,"KF",446,17,60,44,0.25,0.6,0.25,0,"2019-06-04"]
[6436,"SojaExtraktionsSchrot, 47% Rohprotein",880,77,923,109,532,29,73,103,301.27999999999997,13.85,4,7.7,4.2,0.36,26,"KF",528,16.899999999999999,59,48,0.1,0.2,0.3,0,"2024-02-11"]
[6438,"SojaExtraktionsSchrot, 43% Rohprotein, stabil",880,74,926,143,496,29,71,103,435.01,13.73,4.2,7.3,4,0.3,25,"KF",446,17,60,44,0.25,0.6,0.25,0,"2019-06-04"]
[6439,"SojaKuchen, 8% Rohfett",890,65.17,934.83,240,449.44,92.14,50.56,69.66,223.02,14.08,3,7,3,0.1,20,"KF",160,20,60,33,0.25,0.6,0.25,0,"2019-06-04"]
[6445,"SonnenblumenExtraktionsSchrot, 20% Rohfaser",880,70.45,929.55,465,382.95,25,0,79.55,203.31,10.24,4,10.7,5.2,0.5,13,"KF",525,29.1,46,56,0.2,0.76,0.49,0,"2019-06-04"]
[6446,"SonnenblumenExtraktionsSchrot, 11% Rohfaser",880,80.680000000000007,919.31999999999994,320,456.82,17.05,0,103.41,239.41,11.91,4.4000000000000004,9.9,5.4,0.12,13,"KF",262,25.3,64,49,0.14000000000000001,0.62,0.1,0,"2013-03-13"]
[6447,"SonnenblumenKuchen",880,80.680000000000007,919.31999999999994,605,248.86,170.45,0,103.41,148.02000000000001,11.27,3.86,9.43,5.4,0.11,13,"KF",262,25.3,64,49,0.2,0.62,0.1,0,"2018-04-18"]
[6448,"SonnenblumenKuchen, high oleic",910,79.12,920.88,395,300,167.03,0,109.89,174.63,12.57,4.18,10.66,5.4,0.12,17.579999999999998,"KF",262,25.3,64,49,0.2,0.62,0.1,0,"2024-02-11"]
[6455,"ErdnußExtraktionsSchrot, 10% Rohfaser",908,64.98,935.02,305,529.74,15.42,75.989999999999995,103.52,270.87,13.15,2.5,5.8,4.9000000000000004,0.37,14,"KF",534,20.5,58,54,0.22,0.56000000000000005,0.1,0,"2024-02-11"]
[6456,"ErdnußExtraktionsSchrot, 5% Rohfaser",880,64.77,935.23,215,568.17999999999995,13.64,95.45,117.05,287.10000000000002,13.77,1.61,6.7,3.7,0.4,13,"KF",653,13.8,58,57,0.22,0.56000000000000005,0.28000000000000003,0,"2024-02-11"]
[6465,"KokosExtraktionsSchrot",880,75,925,370,237.5,28.41,0,119.32,226.26,12.2,1.7,6.4,3.8,1.02,23,"KF",438,36.9,50,82,0.25,1.42,0.1,0,"2013-03-13"]
[6475,"PalmkernExtraktionsSchrot",880,43.18,956.82,430,187.5,20.45,0,34.090000000000003,185.71,11.15,2.9,7.2,3.9,0.11,8,"KF",367,31.7,70,261,0.15,1.24,0.12,0,"2018-04-18"]
[6505,"TrockenSchnitzel",890,72,928,366,84,7.6,0,86,143.58000000000001,11.81,9.1999999999999993,1.1000000000000001,1.8,1.05,8.77,"KF",623,6.13,26.3,84,0.57999999999999996,1,0.57999999999999996,0,"2018-04-18"]
[6514,"MelasseSchnitzel, 14% Zucker",910,72.53,927.47,330,90,9,0,150,145.33000000000001,11.89,11,0.8,1.8,1,12,"KF",800,11.4,36,184,0.21,11.4,0.21,0,"2013-03-13"]
[6515,"MelasseSchnitzel, 18% Zucker",896,76,924,315,97,8,0,200,151.05000000000001,12.25,10.6,0.77,1.8,1.7,14.4,"KF",800,11.4,36,184,0.21,11.4,0.21,0,"2013-03-13"]
[6516,"MelasseSchnitzel, 23% Zucker",907,84.9,915.1,300,110,8,0,250,152.80000000000001,12.02,10,0.8,1.8,2,15,"KF",800,11.4,36,184,0.21,11.4,0.21,0,"2013-03-13"]
[6635,"KartoffelPülpe, getrocknet",880,36.36,963.64,415,69.319999999999993,5.68,422.73,2.27,132.51,11.19,0.23,2.5,0.7,0.11,22,"KF",340.9,17.100000000000001,11.4,34.1,0.1,0.2,0.1,0,"2013-03-13"]
[6945,"Tryptophan",990,10.1,989.9,0,989.9,0,0,0,201.26,16.87,0,0,0,0,0,"KF",0,0,0,0,0,0,0,0,"2013-03-13"]
[6985,"Futterharnstoff",990,0,1000,0,2915.15,0,0,0,0,0,0,0,0,0,0,"KF",0,0,0,0,0,0,0,0,"2013-03-13"]
[7016,"BierHefe, abgepreßt",250,82,918,155,525,31,0,10,272.41000000000003,13.42,2,11.4,1.8,0.33,14.7,"KF",560,64,92,59,0.4,0.35,0.1,0,"2019-07-31"]
[7025,"BierTreber, frisch",240,45,955,395,253,82,49,12,187.54,10.92,3.6,6,2,0.4,0.8,"KF",277,26,130,50,0.2,0.1,0.03,0,"2013-03-13"]
[7026,"BierTreber, siliert",247,43,957,370,249,84,17,6,188.39,11.26,3.6,6,2,0.4,0.8,"KF",277,26,130,50,0.2,0.1,0.03,0,"2013-03-13"]
[7145,"WeizenSchlempe, flüssig",60,60,940,285,360,71,174,25,240.11,12.9,3.5,10.8,3.6,3.1,13,"KF",200,14.5,75,90,0.2,0.3,0.2,0,"2013-03-13"]
[7205,"MaisSchlempe, flüssig",70,53,947,260,287,117,81,29,219.61,13.74,2.5,8.6,4.7,1.25,9.0299999999999994,"KF",120,10,70,80,0.1,0.2,0.4,0,"2013-03-13"]
[7505,"Rübenkleinteile",170,89,911,282,75,3,0,360,137.31,11.54,3.3,2.0699999999999998,2.2999999999999998,1.4,11.5,"KF",500,11.1,14,73.3,0.1,0.35,0.1,0,"2013-03-13"]
[7515,"NaßSchnitzel",127,76,924,505,113,20,0,31,146.80000000000001,11.32,9.6999999999999993,0.9,4.5,3.8,7.01,"KF",640,11.1,14,73.3,0.2,0.8,0.18,0,"2013-03-13"]
[7525,"PreßSchnitzel siliert",270,71,929,412,94,6,0,15,146.76,11.91,12.7,1,2.4,0.45,4.4000000000000004,"KF",444.7,8.1999999999999993,29.5,81.3,0,0.8,0,0,"2018-04-18"]
[7545,"Melasse (Zuckerrübe)",780,116,884,0,135,0.3,0,652,156.72,12.2,2.5,0.51,0.2,7.6,54,"KF",154,10.9,31,36.5,0.9,0.85,0.3,0,"2013-03-13"]
[7605,"Kartoffelschälabfälle, roh",110,62,938,200,105,4,300,30,144.71,11.78,0.4,2.5,1.4,0.55000000000000004,22,"KF",45,5.4,24,7,0.05,0.4,0.09,0,"2018-04-18"]
[7625,"Kartoffelschälabfälle, gedämpft",108,84,916,220,154,6,650,15,141.04,10.75,0.8,2.5,0.5,0.04,22,"KF",45,5,9.8000000000000007,6.6,0.05,0.4,0.1,0,"2013-03-13"]
[7635,"KartoffelpreßPülpe, siliert",180,35,965,440,49,5,387,6,129.80000000000001,11.46,0.7,2.7,0.7,0.06,22,"KF",79.7,5,19.399999999999999,6.6,0.1,0.4,0.1,0,"2018-04-18"]
[7645,"KartoffelSchlempe, frisch",60,133,867,240,307,17,16,11,213.27,11.98,2.8,7.3,0.5,0.56999999999999995,55,"KF",870,5,9.9,6.6,0.1,0.4,0.1,0,"2013-03-13"]
[7685,"ObstTrester ApfelTrester",220,24,976,455,66,42,0,111,116.26,9.69,2,1,2,0.82,7,"KF",640,5,14,6,0.05,0.2,0.1,0,"2013-03-13"]
[7905,"Wasser",0.1,0,1000,0,0,0,0,0,0,0,0,0,0,0,0,"SF",0,0,0,0,0,0,0,0,"2017-04-07"]
[8085,"Mineralfutter, Rindermast",950,968.42,31.580000000000041,0,0,0,0,0,0,0,252.63,63.16,21.05,84.21,0,"KF",0,842.11,3157.89,2105.2600000000002,26.32,105.26,42.11,0,"2017-04-07"]
[8085,"Mineralfutter, Rindermast",950,968.42,31.580000000000041,0,0,0,0,0,0,0,231.58,0,21.05,84.21,0,"KF",0,526.32000000000005,1052.6300000000001,1052.6300000000001,21.05,10.53,31.58,0,"2013-03-13"]
[8183,"Mineralfutter Milchkuh trocken",950,968.42,31.580000000000041,0,0,0,0,0,0,0,31.58,0,31.58,52.63,0,"KF",0,736.84,1052.6300000000001,1052.6300000000001,10.53,21.05,31.58,0,"2013-03-13"]
[8184,"Mineralfutter Jungvieh",950,968.42,31.580000000000041,0,0,0,0,0,0,0,210.53,0,21.05,84.21,0,"KF",0,526.32000000000005,1052.6300000000001,1052.6300000000001,10.53,10.53,31.58,0,"2019-07-31"]
[8185,"Mineralfutter Milchkuh laktierend",950,968.42,31.580000000000041,0,0,0,0,0,0,0,263.16000000000003,0,31.58,131.58000000000001,0,"KF",0,736.84,1052.6300000000001,1052.6300000000001,10.53,21.05,36.840000000000003,0,"2018-08-20"]
[8186,"Mineralfutter Rind, Milchkuh, 20% Ca,  5% P",950,968.42,31.580000000000041,0,0,0,0,0,0,0,210.53,52.63,21.05,94.74,0,"KF",0,842.11,3157.89,2105.2600000000002,26.32,105.26,42.11,0,"2013-03-13"]
[8187,"Mineralfutter Rind, Milchkuh, 22% Ca,  2% P",950,968.42,31.580000000000041,0,0,0,0,0,0,0,231.58,21.05,21.05,84.21,0,"KF",0,842.11,3157.89,2105.2600000000002,26.32,105.26,42.11,0,"2013-03-13"]
[8585,"Mineralfutter Schafe",950,968.42,{"$f":"1000-D324","v":31.580000000000041},0,0,0,0,0,0,0,157.88999999999999,63.16,31.58,105.26,0,"KF",93.54,0,4210.53,0,10.53,1.94,5.26,0,"2013-03-13"]
[null,1,null,null,null,null,null,null,null,null,null,null,null,null,null,null,null,"GF"]
[null,2,null,null,null,null,null,null,null,null,null,null,null,null,null,null,null,"GF"]
[null,3,null,null,null,null,null,null,null,null,null,null,null,null,null,null,null,"GF"]
[null,4,null,null,null,null,null,null,null,null,null,null,null,null,null,null,null,"GF",null,null,null,null,null,null,null,0]
[null,5,null,null,null,null,null,null,null,null,null,null,null,null,null,null,null,"GF",null,null,null,null,null,null,null,0]
[null,6,null,null,null,null,null,null,null,null,null,null,null,null,null,null,null,"GF",null,null,null,null,null,null,null,0]
[null,7,null,null,null,null,null,null,null,null,null,null,null,null,null,null,null,"GF",null,null,null,null,null,null,null,0]
[null,8,null,null,null,null,null,null,null,null,null,null,null,null,null,null,null,"GF",null,null,null,null,null,null,null,0]
[null,9,null,null,null,null,null,null,null,null,null,null,null,null,null,null,null,"GF",null,null,null,null,null,null,null,0]
[null,10,null,null,null,null,null,null,null,null,null,null,null,null,null,null,null,"GF",null,null,null,null,null,null,null,0]
[null,11,null,null,null,null,null,null,null,null,null,null,null,null,null,null,null,"GF",null,null,null,null,null,null,null,0]
[null,12,null,null,null,null,null,null,null,null,null,null,null,null,null,null,null,"GF",null,null,null,null,null,null,null,0]
[null,13,null,null,null,null,null,null,null,null,null,null,null,null,null,null,null,"GF",null,null,null,null,null,null,null,0]
[null,14,null,null,null,null,null,null,null,null,null,null,null,null,null,null,null,"GF",null,null,null,null,null,null,null,0]
[null,15,null,null,null,null,null,null,null,null,null,null,null,null,null,null,null,"GF",null,null,null,null,null,null,null,0]
[null,16,null,null,null,null,null,null,null,null,null,null,null,null,null,null,null,"GF",null,null,null,null,null,null,null,0]
[null,17,null,null,null,null,null,null,null,null,null,null,null,null,null,null,null,"GF",null,null,null,null,null,null,null,0]
[null,18,null,null,null,null,null,null,null,null,null,null,null,null,null,null,null,"GF",null,null,null,null,null,null,null,0]
[null,19,null,null,null,null,null,null,null,null,null,null,null,null,null,null,null,"GF",null,null,null,null,null,null,null,0]
[null,20,0,null,null,null,null,null,null,null,null,null,null,null,null,null,null,"GF"]

{"sheet":"Mengenberechnung","index":5,"n_rows":27,"n_cols":7,"rows_kept":27,"cut":false,"hidden":false,"merged":[[23,1,23,3],[23,5,26,6],[24,1,24,3],[25,1,25,3],[26,1,26,3],[19,1,19,3],[19,5,22,6],[20,1,20,3],[21,1,21,3],[22,1,22,3],[15,0,15,4],[16,1,16,3],[16,5,16,6],[17,1,17,3],[18,1,18,3],[10,1,10,3],[10,5,14,6],[11,1,11,3],[12,1,12,3],[13,1,13,3],[14,1,14,3],[0,0,0,6],[1,0,1,4],[2,1,2,3],[2,5,2,6],[3,1,3,3],[3,5,9,6],[4,1,4,3],[5,1,5,3],[6,1,6,3],[7,1,7,3],[8,1,8,3],[9,1,9,3]]}
[]
["Basis – Ration für :",null,null,null,null,50,"Tiere"]
["Kenn Nr.","Futtermittel",null,null,"kg."]
[{"$f":"Ration!A4","v":0},{"$f":"Ration!B4","v":""},null,null,{"$f":"Ration!D4*F2","v":0},"Gesamtgewicht Grundfutter und Kraftfutter pro Mischung in kg:"]
[{"$f":"Ration!A5","v":0},{"$f":"Ration!B5","v":""},null,null,{"$f":"Ration!D5*F2","v":0}]
[{"$f":"Ration!A6","v":0},{"$f":"Ration!B6","v":""},null,null,{"$f":"Ration!D6*F2","v":0}]
[{"$f":"Ration!A7","v":0},{"$f":"Ration!B7","v":""},null,null,{"$f":"Ration!D7*F2","v":0}]
[{"$f":"Ration!A8","v":0},{"$f":"Ration!B8","v":""},null,null,{"$f":"Ration!D8*F2","v":0}]
[{"$f":"Ration!A9","v":0},{"$f":"Ration!B9","v":""},null,null,{"$f":"Ration!D9*F2","v":0}]
[{"$f":"Ration!A10","v":0},{"$f":"Ration!B10","v":""},null,null,{"$f":"Ration!D10*F2","v":0}]
[{"$f":"Ration!A11","v":0},{"$f":"Ration!B11","v":""},null,null,{"$f":"Ration!D11*F2","v":0},{"$f":"SUM(E4:E15)","v":0}]
[{"$f":"Ration!A12","v":0},{"$f":"Ration!B12","v":""},null,null,{"$f":"Ration!D12*F2","v":0}]
[{"$f":"Ration!A13","v":0},{"$f":"Ration!B13","v":""},null,null,{"$f":"Ration!D13*F2","v":0}]
["KF 1","Mischung 1",null,null,{"$f":"Ration!D15*F2","v":0}]
[]
["Kraftfutter – Mischung 1          Mischergröße:",null,null,null,null,1000,"kg"]
["Kenn Nr.","Futtermittel",null,null,"kg."]
[{"$f":"'Mischung 1'!A4","v":0},{"$f":"'Mischung 1'!B4","v":""},null,null,{"$f":"F16*'Mischung 1'!C4","v":0},"Tiere gesamt:"]
[{"$f":"'Mischung 1'!A5","v":0},{"$f":"'Mischung 1'!B5","v":""},null,null,{"$f":"F16*'Mischung 1'!C5","v":0},"kg je Tier/Tag:"]
[{"$f":"'Mischung 1'!A6","v":0},{"$f":"'Mischung 1'!B6","v":""},null,null,{"$f":"F16*'Mischung 1'!C6","v":0},"Die Mischung reicht für Tage :"]
[{"$f":"'Mischung 1'!A7","v":0},{"$f":"'Mischung 1'!B7","v":""},null,null,{"$f":"F16*'Mischung 1'!C7","v":0}]
[{"$f":"'Mischung 1'!A8","v":0},{"$f":"'Mischung 1'!B8","v":""},null,null,{"$f":"F16*'Mischung 1'!C8","v":0}]
[{"$f":"'Mischung 1'!A9","v":0},{"$f":"'Mischung 1'!B9","v":""},null,null,{"$f":"F16*'Mischung 1'!C9","v":0}]
[{"$f":"'Mischung 1'!A10","v":0},{"$f":"'Mischung 1'!B10","v":""},null,null,{"$f":"F16*'Mischung 1'!C10","v":0},{"$f":"IF(G19>0,F16/(G18*G19),\" \")","v":" "}]
[{"$f":"'Mischung 1'!A11","v":0},{"$f":"'Mischung 1'!B11","v":""},null,null,{"$f":"F16*'Mischung 1'!C11","v":0}]
[{"$f":"'Mischung 1'!A12","v":0},{"$f":"'Mischung 1'!B12","v":""},null,null,{"$f":"F16*'Mischung 1'!C12","v":0}]
[{"$f":"'Mischung 1'!A13","v":0},{"$f":"'Mischung 1'!B13","v":""},null,null,{"$f":"F16*'Mischung 1'!C13","v":0}]

{"sheet":"Ausdruck","index":6,"n_rows":32,"n_cols":26,"rows_kept":32,"cut":false,"hidden":false,"merged":[[31,13,31,14],[28,0,28,1],[31,5,31,10],[31,11,31,12],[18,5,18,9],[18,10,18,12],[2,0,2,4],[3,0,3,1],[3,2,3,4],[5,1,5,4],[3,5,3,9],[3,10,3,12],[5,14,5,17],[6,14,6,17],[7,14,7,17],[8,14,8,17],[9,14,9,17],[10,14,10,17],[11,14,11,17],[12,14,12,17],[13,14,13,17],[14,14,14,17],[15,14,15,17],[16,14,16,17],[26,5,26,10],[27,5,27,10],[26,2,26,3],[26,11,26,12],[27,11,27,12],[30,11,30,12],[29,11,29,12],[28,11,28,12],[26,18,26,20],[27,18,27,20],[28,18,28,20],[28,5,28,10],[29,5,29,10],[30,5,30,10],[29,0,29,1],[28,2,28,3],[29,2,29,3],[30,0,30,1],[30,2,30,3],[27,2,27,3],[2,13,2,17],[3,13,3,14],[18,13,19,17],[20,2,20,3],[19,5,19,10],[19,11,19,12],[20,5,20,10],[21,5,21,10],[22,5,22,10],[23,5,23,10],[24,5,24,10],[25,5,25,10],[22,2,22,3],[23,2,23,3],[24,2,24,3],[25,2,25,3],[21,2,21,3],[20,11,20,12],[18,18,19,20],[20,18,20,20],[21,18,21,20],[22,18,22,20],[23,18,23,20],[24,18,24,20],[0,19,3,25],[0,13,0,14],[0,15,0,17],[1,13,1,15],[1,16,1,17],[3,15,3,17],[18,21,19,25],[20,21,20,25],[0,2,0,4],[1,0,1,2],[1,3,1,4],[0,0,0,1],[19,0,19,3],[0,5,0,7],[0,8,0,12],[1,5,1,9],[2,5,2,9],[1,10,1,12],[2,10,2,12],[6,1,6,4],[7,1,7,4],[8,1,8,4],[10,1,10,4],[16,1,16,4],[17,0,17,2],[18,0,18,4],[15,1,15,4],[11,1,11,4],[9,1,9,4],[12,1,12,4],[13,1,13,4],[14,1,14,4],[21,11,21,12],[22,11,22,12],[23,11,23,12],[24,11,24,12],[25,11,25,12],[21,21,21,25],[22,21,22,25],[23,21,23,25],[24,21,24,25],[25,21,25,25],[26,21,26,25],[27,21,27,25],[28,21,28,25],[29,21,29,25],[29,18,29,20],[29,13,29,17],[20,13,20,17],[21,13,21,17],[22,13,22,17],[23,13,23,17],[24,13,24,17],[25,13,25,17],[26,13,26,17],[27,13,27,17],[28,13,28,17],[25,18,25,20]]}
[{"$f":"Einstellung!C8","v":"Betr. Nr."},null,{"$f":"Einstellung!D8","v":"091231234444"},null,null,"Basis - Ration",null,null,{"$f":"Ration!A19","v":"Sollwerte aus Liste wählen  >>>"},null,null,null,null,{"$f":"Einstellung!C8","v":"Betr. Nr."},null,{"$f":"Einstellung!D8","v":"091231234444"},null,null,null,"Konzentratfutter Mischung"]
[{"$f":"Einstellung!C5","v":"Tierhaltungsschule"},null,null,{"$f":"Einstellung!E5","v":"Triesdorf"},null,"Ration Frischmasse gesamt",null,null,null,null,{"$f":"Ration!D17","v":0},null,null,{"$f":"Einstellung!C5","v":"Tierhaltungsschule"},null,null,{"$f":"Einstellung!E5","v":"Triesdorf"}]
[{"$f":"Einstellung!C6","v":"Markgrafenstraße 1"},null,null,null,null,"Ration Trockenmasse gesamt",null,null,null,null,{"$f":"Ration!E17/1000","v":0},null,null,{"$f":"Einstellung!C6","v":"Markgrafenstraße 1"}]
[{"$f":"Einstellung!C7","v":91746},null,{"$f":"Einstellung!D7","v":"Weidenbach"},null,null,"aNDFom % aus Grobfutter",null,null,null,null,{"$f":"Ration!G20","v":0},null,null,{"$f":"Einstellung!C7","v":91746},null,{"$f":"Einstellung!D7","v":"Weidenbach"}]
[]
["FM","Futtermittel",null,null,null,"CP","nXP","ME","Ca","P","Mg","Na","K","%","Futtermittel",null,null,null,"CP","nXP","ME","Ca","P","Mg","Na","K"]
[{"$f":"Ration!D4","v":0},{"$f":"Ration!B4","v":""},null,null,null,{"$f":"Ration!H4","v":0},{"$f":"Ration!I4","v":0},{"$f":"Ration!J4","v":0},{"$f":"Ration!L4","v":0},{"$f":"Ration!M4","v":0},{"$f":"Ration!N4","v":0},{"$f":"Ration!O4","v":0},{"$f":"Ration!P4","v":0},{"$f":"'Mischung 1'!C4","v":0},{"$f":"'Mischung 1'!B4","v":""},null,null,null,{"$f":"'Mischung 1'!I4","v":""},{"$f":"'Mischung 1'!J4","v":""},{"$f":"'Mischung 1'!K4","v":""},{"$f":"'Mischung 1'!M4","v":""},{"$f":"'Mischung 1'!N4","v":""},{"$f":"'Mischung 1'!O4","v":""},{"$f":"'Mischung 1'!P4","v":""},{"$f":"'Mischung 1'!Q4","v":""}]
[{"$f":"Ration!D5","v":0},{"$f":"Ration!B5","v":""},null,null,null,{"$f":"Ration!H5","v":0},{"$f":"Ration!I5","v":0},{"$f":"Ration!J5","v":0},{"$f":"Ration!L5","v":0},{"$f":"Ration!M5","v":0},{"$f":"Ration!N5","v":0},{"$f":"Ration!O5","v":0},{"$f":"Ration!P5","v":0},{"$f":"'Mischung 1'!C5","v":0},{"$f":"'Mischung 1'!B5","v":""},null,null,null,{"$f":"'Mischung 1'!I5","v":""},{"$f":"'Mischung 1'!J5","v":""},{"$f":"'Mischung 1'!K5","v":""},{"$f":"'Mischung 1'!M5","v":""},{"$f":"'Mischung 1'!N5","v":""},{"$f":"'Mischung 1'!O5","v":""},{"$f":"'Mischung 1'!P5","v":""},{"$f":"'Mischung 1'!Q5","v":""}]
[{"$f":"Ration!D6","v":0},{"$f":"Ration!B6","v":""},null,null,null,{"$f":"Ration!H6","v":0},{"$f":"Ration!I6","v":0},{"$f":"Ration!J6","v":0},{"$f":"Ration!L6","v":0},{"$f":"Ration!M6","v":0},{"$f":"Ration!N6","v":0},{"$f":"Ration!O6","v":0},{"$f":"Ration!P6","v":0},{"$f":"'Mischung 1'!C6","v":0},{"$f":"'Mischung 1'!B6","v":""},null,null,null,{"$f":"'Mischung 1'!I6","v":""},{"$f":"'Mischung 1'!J6","v":""},{"$f":"'Mischung 1'!K6","v":""},{"$f":"'Mischung 1'!M6","v":""},{"$f":"'Mischung 1'!N6","v":""},{"$f":"'Mischung 1'!O6","v":""},{"$f":"'Mischung 1'!P6","v":""},{"$f":"'Mischung 1'!Q6","v":""}]
[{"$f":"Ration!D7","v":0},{"$f":"Ration!B7","v":""},null,null,null,{"$f":"Ration!H7","v":0},{"$f":"Ration!I7","v":0},{"$f":"Ration!J7","v":0},{"$f":"Ration!L7","v":0},{"$f":"Ration!M7","v":0},{"$f":"Ration!N7","v":0},{"$f":"Ration!O7","v":0},{"$f":"Ration!P7","v":0},{"$f":"'Mischung 1'!C7","v":0},{"$f":"'Mischung 1'!B7","v":""},null,null,null,{"$f":"'Mischung 1'!I7","v":""},{"$f":"'Mischung 1'!J7","v":""},{"$f":"'Mischung 1'!K7","v":""},{"$f":"'Mischung 1'!M7","v":""},{"$f":"'Mischung 1'!N7","v":""},{"$f":"'Mischung 1'!O7","v":""},{"$f":"'Mischung 1'!P7","v":""},{"$f":"'Mischung 1'!Q7","v":""}]
[{"$f":"Ration!D8","v":0},{"$f":"Ration!B8","v":""},null,null,null,{"$f":"Ration!H8","v":0},{"$f":"Ration!I8","v":0},{"$f":"Ration!J8","v":0},{"$f":"Ration!L8","v":0},{"$f":"Ration!M8","v":0},{"$f":"Ration!N8","v":0},{"$f":"Ration!O8","v":0},{"$f":"Ration!P8","v":0},{"$f":"'Mischung 1'!C8","v":0},{"$f":"'Mischung 1'!B8","v":""},null,null,null,{"$f":"'Mischung 1'!I8","v":""},{"$f":"'Mischung 1'!J8","v":""},{"$f":"'Mischung 1'!K8","v":""},{"$f":"'Mischung 1'!M8","v":""},{"$f":"'Mischung 1'!N8","v":""},{"$f":"'Mischung 1'!O8","v":""},{"$f":"'Mischung 1'!P8","v":""},{"$f":"'Mischung 1'!Q8","v":""}]
[{"$f":"Ration!D9","v":0},{"$f":"Ration!B9","v":""},null,null,null,{"$f":"Ration!H9","v":0},{"$f":"Ration!I9","v":0},{"$f":"Ration!J9","v":0},{"$f":"Ration!L9","v":0},{"$f":"Ration!M9","v":0},{"$f":"Ration!N9","v":0},{"$f":"Ration!O9","v":0},{"$f":"Ration!P9","v":0},{"$f":"'Mischung 1'!C9","v":0},{"$f":"'Mischung 1'!B9","v":""},null,null,null,{"$f":"'Mischung 1'!I9","v":""},{"$f":"'Mischung 1'!J9","v":""},{"$f":"'Mischung 1'!K9","v":""},{"$f":"'Mischung 1'!M9","v":""},{"$f":"'Mischung 1'!N9","v":""},{"$f":"'Mischung 1'!O9","v":""},{"$f":"'Mischung 1'!P9","v":""},{"$f":"'Mischung 1'!Q9","v":""}]
[{"$f":"Ration!D10","v":0},{"$f":"Ration!B10","v":""},null,null,null,{"$f":"Ration!H10","v":0},{"$f":"Ration!I10","v":0},{"$f":"Ration!J10","v":0},{"$f":"Ration!L10","v":0},{"$f":"Ration!M10","v":0},{"$f":"Ration!N10","v":0},{"$f":"Ration!O10","v":0},{"$f":"Ration!P10","v":0},{"$f":"'Mischung 1'!C10","v":0},{"$f":"'Mischung 1'!B10","v":""},null,null,null,{"$f":"'Mischung 1'!I10","v":""},{"$f":"'Mischung 1'!J10","v":""},{"$f":"'Mischung 1'!K10","v":""},{"$f":"'Mischung 1'!M10","v":""},{"$f":"'Mischung 1'!N10","v":""},{"$f":"'Mischung 1'!O10","v":""},{"$f":"'Mischung 1'!P10","v":""},{"$f":"'Mischung 1'!Q10","v":""}]
[{"$f":"Ration!D11","v":0},{"$f":"Ration!B11","v":""},null,null,null,{"$f":"Ration!H11","v":0},{"$f":"Ration!I11","v":0},{"$f":"Ration!J11","v":0},{"$f":"Ration!L11","v":0},{"$f":"Ration!M11","v":0},{"$f":"Ration!N11","v":0},{"$f":"Ration!O11","v":0},{"$f":"Ration!P11","v":0},{"$f":"'Mischung 1'!C11","v":0},{"$f":"'Mischung 1'!B11","v":""},null,null,null,{"$f":"'Mischung 1'!I11","v":""},{"$f":"'Mischung 1'!J11","v":""},{"$f":"'Mischung 1'!K11","v":""},{"$f":"'Mischung 1'!M11","v":""},{"$f":"'Mischung 1'!N11","v":""},{"$f":"'Mischung 1'!O11","v":""},{"$f":"'Mischung 1'!P11","v":""},{"$f":"'Mischung 1'!Q11","v":""}]
[{"$f":"Ration!D12","v":0},{"$f":"Ration!B12","v":""},null,null,null,{"$f":"Ration!H12","v":0},{"$f":"Ration!I12","v":0},{"$f":"Ration!J12","v":0},{"$f":"Ration!L12","v":0},{"$f":"Ration!M12","v":0},{"$f":"Ration!N12","v":0},{"$f":"Ration!O12","v":0},{"$f":"Ration!P12","v":0},{"$f":"'Mischung 1'!C12","v":0},{"$f":"'Mischung 1'!B12","v":""},null,null,null,{"$f":"'Mischung 1'!I12","v":""},{"$f":"'Mischung 1'!J12","v":""},{"$f":"'Mischung 1'!K12","v":""},{"$f":"'Mischung 1'!M12","v":""},{"$f":"'Mischung 1'!N12","v":""},{"$f":"'Mischung 1'!O12","v":""},{"$f":"'Mischung 1'!P12","v":""},{"$f":"'Mischung 1'!Q12","v":""}]
[{"$f":"Ration!D13","v":0},{"$f":"Ration!B13","v":""},null,null,null,{"$f":"Ration!H13","v":0},{"$f":"Ration!I13","v":0},{"$f":"Ration!J13","v":0},{"$f":"Ration!L13","v":0},{"$f":"Ration!M13","v":0},{"$f":"Ration!N13","v":0},{"$f":"Ration!O13","v":0},{"$f":"Ration!P13","v":0},{"$f":"'Mischung 1'!C13","v":0},{"$f":"'Mischung 1'!B13","v":""},null,null,null,{"$f":"'Mischung 1'!I13","v":""},{"$f":"'Mischung 1'!J13","v":""},{"$f":"'Mischung 1'!K13","v":""},{"$f":"'Mischung 1'!M13","v":""},{"$f":"'Mischung 1'!N13","v":""},{"$f":"'Mischung 1'!O13","v":""},{"$f":"'Mischung 1'!P13","v":""},{"$f":"'Mischung 1'!Q13","v":""}]
[{"$f":"SUM(A7:A16)","v":0},"Summe",null,null,null,{"$f":"SUM(F7:F16)","v":0},{"$f":"SUM(G7:G16)","v":0},0,0,0,0,0,0,{"$f":"SUM(N7:N16)","v":0},"Summe",null,null,null,{"$f":"SUM(S7:S16)","v":0},{"$f":"SUM(T7:T16)","v":0},0,0,0,0,0,0]
["Differenz zu Sollwert",null,null,"TM",{"$f":"Ration!E20","v":0},{"$f":"Ration!H20","v":0},{"$f":"Ration!H19","v":0},{"$f":"Ration!J20","v":0},{"$f":"Ration!L20","v":0},{"$f":"Ration!M20","v":0},{"$f":"Ration!N20","v":0},{"$f":"Ration!O20","v":0},{"$f":"Ration!P20","v":0}]
[null,null,null,null,null,null,null,null,null,null,null,null,null,"Mischer - Volumen kg",null,null,null,null,{"$f":"Mengenberechnung!F16","v":1000}]
["Spurenelemente mg / kg TM",null,null,null,null,"Ladeliste für Futtermischer, Anzahl Tiere :",null,null,null,null,null,{"$f":"Mengenberechnung!F2","v":50}]
[null,"Ist","\"+ / -",null,null,{"$f":"Mengenberechnung!B4","v":""},null,null,null,null,null,{"$f":"Mengenberechnung!E4","v":0},null,{"$f":"O7","v":""},null,null,null,null,{"$f":"Mengenberechnung!E18","v":0}]
["Fe",{"$f":"Ration!S17","v":0},{"$f":"Ration!S20","v":0},null,null,{"$f":"Mengenberechnung!B5","v":""},null,null,null,null,null,{"$f":"Mengenberechnung!E5","v":0},null,{"$f":"O8","v":""},null,null,null,null,{"$f":"Mengenberechnung!E19","v":0}]
["Cu",{"$f":"Ration!T17","v":0},{"$f":"Ration!T20","v":0},null,null,{"$f":"Mengenberechnung!B6","v":""},null,null,null,null,null,{"$f":"Mengenberechnung!E6","v":0},null,"",null,null,null,null,{"$f":"Mengenberechnung!E20","v":0}]
["Zn",{"$f":"Ration!U17","v":0},{"$f":"Ration!U20","v":0},null,null,{"$f":"Mengenberechnung!B7","v":""},null,null,null,null,null,{"$f":"Mengenberechnung!E7","v":0},null,"",null,null,null,null,{"$f":"Mengenberechnung!E21","v":0},null,null,"www.triesdorf.de"]
["Mn",{"$f":"Ration!V17","v":0},{"$f":"Ration!V20","v":0},null,null,{"$f":"Mengenberechnung!B8","v":""},null,null,null,null,null,{"$f":"Mengenberechnung!E8","v":0},null,"",null,null,null,null,{"$f":"Mengenberechnung!E22","v":0}]
["Co",{"$f":"Ration!W17","v":0},{"$f":"Ration!W20","v":0},null,null,{"$f":"Mengenberechnung!B9","v":""},null,null,null,null,null,{"$f":"Mengenberechnung!E9","v":0},null,"",null,null,null,null,{"$f":"Mengenberechnung!E23","v":0},null,null,"ths@triesdorf.de"]
["J",{"$f":"Ration!X17","v":0},{"$f":"Ration!X20","v":0},null,null,{"$f":"Mengenberechnung!B10","v":""},null,null,null,null,null,{"$f":"Mengenberechnung!E10","v":0},null,"",null,null,null,null,{"$f":"Mengenberechnung!E24","v":0}]
["S",{"$f":"Ration!Y17","v":0},{"$f":"Ration!Y20","v":0},null,null,{"$f":"Mengenberechnung!B11","v":""},null,null,null,null,null,{"$f":"Mengenberechnung!E11","v":0},null,"",null,null,null,null,{"$f":"Mengenberechnung!E25","v":0}]
[null,null,null,null,null,{"$f":"Mengenberechnung!B12","v":""},null,null,null,null,null,{"$f":"Mengenberechnung!E12","v":0},null,"",null,null,null,null,{"$f":"Mengenberechnung!E26","v":0}]
[null,null,null,null,null,{"$f":"Mengenberechnung!B13","v":""},null,null,null,null,null,{"$f":"Mengenberechnung!E13","v":0},null,"",null,null,null,null,{"$f":"Mengenberechnung!E27","v":0}]
[null,null,null,null,null,{"$f":"Mengenberechnung!B14","v":"Mischung 1"},null,null,null,null,null,{"$f":"Mengenberechnung!E14","v":0}]
[null,null,null,null,null,"Gesamt",null,null,null,null,null,{"$f":"Mengenberechnung!F11","v":0}]