{"text_format":"1","workbook":"xlsx","n_sheets":8,"sheets":["Einstellung","Ration","Mischung 1","Mischung 2","Gruber Tabelle","Zielwerte","Mengenberechnung","Ausdruck"],"not_rendered":{"charts":0,"images":26,"macros":1,"external_links":0,"defined_names":4,"comments":5,"pivot_tables":0},"unopened":[],"bounds":{"document_bytes":16777216,"sheet_cells":100000,"rows_first":2000,"rows_last":500,"rows_between":2000,"halvings":0,"cell_chars":16384,"cell_head_chars":4096},"cells_cut":0,"cells_raw":0,"read":"whole","date_system":"1900"}

{"sheet":"Einstellung","index":0,"n_rows":23,"n_cols":13,"rows_kept":23,"cut":false,"hidden":false,"merged":[[5,2,5,4],[5,5,5,7],[6,2,6,3],[6,4,6,7],[9,1,17,1],[10,2,10,5],[11,2,11,3],[13,2,13,3],[16,2,17,3],[13,4,13,5],[8,2,9,7],[18,1,18,6],[1,1,1,16],[2,1,2,16],[3,1,3,16],[23,1,23,12],[21,1,21,2],[22,1,22,2],[19,1,19,2],[20,3,20,9],[19,12,22,16],[19,10,22,11],[7,2,7,5],[7,6,7,7],[4,1,8,1],[4,2,4,4],[4,5,4,7]]}
[]
[]
[null,"Futterberechnung z. Fütterung d. Milchkühe, Zuchtrinder, Mastrinder, Schafe u. Ziegen           GfE 2001"]
[null,"Gruber Tabelle,  48.  Auflage / November 2024        www.LfL.bayern.de             Update vom 19.03.2026"]
[null,null,"Tierhaltungsschule",null,null,"Triesdorf"]
[null,null,"Markgrafenstraße 1",null,null,"09 000 000 0000"]
[null,null,91746,null,"Weidenbach"]
[null,null,"Futterberechnung mit Gruber Tabelle",null,null,null,"ths@triesdorf.de"]
[null,null,"Freie Software, keinerlei Gewährleistung"]
[]
[null,null,"Daten für die Berechnung von Erhaltungsbedarf :"]
[null,null,"Lebendmasse",null,"nxP","NEL MJ"]
[null,null,"kg LM",700,470,39.9]
[null,null,"Milchinhaltstoffe",null,{"$f":"IF(D15=0,\"Trockensteher\",\"\")","v":""}]
[null,null,"Fett %",4,null,{"$f":"IF(D15>=3,(D15-3.5)*0.4+3.1,0)","v":3.3000000000000003}]
[null,null,"Eiweiß %",3.5,{"$f":"IF(D16>=2.5,(D16-3.2)*(20)+81,0)","v":87}]
[null,null,"geschätzte TM Aufnahme kg",null,"GF","GF+KF"]
[null,null,null,null,14,21]
[]
[null,"Erhaltungsbedarf",null,"Ca","P","Mg","Na","K","Cl","S","Empfehlung zur Versorgung mit Mengenelementen                 Gruber Tabelle Seite 34",null,"www.triesdorf.de"]
[]
[null,"in g pro kg TM - Aufn.",null,2,1.43,0.8,0.6,8.8000000000000007,1.5,1.5]
[null,"für Leistung g/kg Milch",null,2.5,1.43,0.8,0.64,1.6,1.4,0.6]

{"sheet":"Ration","index":1,"n_rows":39,"n_cols":32,"rows_kept":39,"cut":false,"hidden":false,"merged":[[0,5,0,23],[1,25,1,31],[29,0,29,3],[31,21,31,22],[31,11,31,14],[30,0,30,4],[31,0,31,4],[31,19,31,20],[37,0,38,3],[1,5,1,23],[25,0,25,4],[25,5,25,23],[1,2,1,4],[3,5,12,5],[24,0,24,3],[35,1,36,3],[33,0,33,4],[33,12,33,15],[26,0,26,3],[27,0,27,3],[28,0,28,3]]}
[]
[11,"Bitte Gruppe auswählen!",null,null,null,{"$f":"B36","v":"Bitte Gruppe auswählen!"},null,null,null,null,null,null,null,null,null,null,null,null,null,null,null,null,null,null,null,"Spurenelemente in mg / kg TM"]
["Nr ","Futterart","TM %","TM g","FM kg","TM kg","aNDFom","CP g","nxP g","UDP g","RNB","NEL MJ","ME MJ","ST+ZU","bST","CL","Ca","P","Mg","Na","K","Cl","S","Preis / dt","Typ","Fe","Cu","Zn","Mn","Co","J","Se"]
[null,{"$f":"IFERROR(VLOOKUP(A4,'Gruber Tabelle'!$A$6:$W$359,2,0),0)","v":0},{"$f":"IFERROR(VLOOKUP(A4,'Gruber Tabelle'!$A$6:$W$359,3,0),0)/1000","v":0},{"$f":"IFERROR(VLOOKUP(A4,'Gruber Tabelle'!$A$6:$W$359,3,0),0)","v":0},{"$f":"IFERROR(F15/C15,0)","v":0},null,{"$f":"IFERROR(VLOOKUP(A4,'Gruber Tabelle'!$A$6:$W$359,5,0),0)","v":0},{"$f":"IFERROR(VLOOKUP(A4,'Gruber Tabelle'!$A$6:$W$359,7,0),0)","v":0},{"$f":"IFERROR(VLOOKUP(A4,'Gruber Tabelle'!$A$6:$W$359,8,0),0)","v":0},{"$f":"IFERROR(VLOOKUP(A4,'Gruber Tabelle'!$A$6:$W$359,9,0)/100,0)","v":0},{"$f":"IFERROR(VLOOKUP(A4,'Gruber Tabelle'!$A$6:$W$359,10,0),0)","v":0},{"$f":"IFERROR(VLOOKUP(A4,'Gruber Tabelle'!$A$6:$W$359,11,0),0)","v":0},{"$f":"IFERROR(VLOOKUP(A4,'Gruber Tabelle'!$A$6:$W$359,12,0),0)","v":0},{"$f":"IFERROR(VLOOKUP(A4,'Gruber Tabelle'!$A$6:$W$359,13,0),0)","v":0},{"$f":"IFERROR(VLOOKUP(A4,'Gruber Tabelle'!$A$6:$W$359,14,0),0)","v":0},{"$f":"IFERROR(VLOOKUP(A4,'Gruber Tabelle'!$A$6:$W$359,15,0),0)","v":0},{"$f":"IFERROR(VLOOKUP(A4,'Gruber Tabelle'!$A$6:$W$359,16,0),0)","v":0},{"$f":"IFERROR(VLOOKUP(A4,'Gruber Tabelle'!$A$6:$W$359,17,0),0)","v":0},{"$f":"IFERROR(VLOOKUP(A4,'Gruber Tabelle'!$A$6:$W$359,18,0),0)","v":0},{"$f":"IFERROR(VLOOKUP(A4,'Gruber Tabelle'!$A$6:$W$359,19,0),0)","v":0},{"$f":"IFERROR(VLOOKUP(A4,'Gruber Tabelle'!$A$6:$W$359,20,0),0)","v":0},{"$f":"IFERROR(VLOOKUP(A4,'Gruber Tabelle'!$A$6:$W$359,21,0),0)","v":0},{"$f":"IFERROR(VLOOKUP(A4,'Gruber Tabelle'!$A$6:$W$359,22,0),0)","v":0},{"$f":"IFERROR(VLOOKUP(A4,'Gruber Tabelle'!$A$6:$W$359,23,0),0)","v":0},{"$f":"IFERROR(VLOOKUP(A4,'Gruber Tabelle'!$A$6:$X$359,24,0),0)","v":0},{"$f":"IFERROR(VLOOKUP(A4,'Gruber Tabelle'!$A$6:$AE$359,25,0),0)","v":0},{"$f":"IFERROR(VLOOKUP(A4,'Gruber Tabelle'!$A$6:$AE$359,26,0),0)","v":0},{"$f":"IFERROR(VLOOKUP(A4,'Gruber Tabelle'!$A$6:$AE$359,27,0),0)","v":0},{"$f":"IFERROR(VLOOKUP(A4,'Gruber Tabelle'!$A$6:$AE$359,28,0),0)","v":0},{"$f":"IFERROR(VLOOKUP(A4,'Gruber Tabelle'!$A$6:$AE$359,29,0),0)","v":0},{"$f":"IFERROR(VLOOKUP(A4,'Gruber Tabelle'!$A$6:$AE$359,30,0),0)","v":0},{"$f":"IFERROR(VLOOKUP(A4,'Gruber Tabelle'!$A$6:$AE$359,31,0),0)","v":0}]
[null,{"$f":"IFERROR(VLOOKUP(A5,'Gruber Tabelle'!$A$6:$W$359,2,0),0)","v":0},{"$f":"IFERROR(VLOOKUP(A5,'Gruber Tabelle'!$A$6:$W$359,3,0),0)/1000","v":0},{"$f":"IFERROR(VLOOKUP(A5,'Gruber Tabelle'!$A$6:$W$359,3,0),0)","v":0},{"$f":"IFERROR(F16/C16,0)","v":0},null,{"$f":"IFERROR(VLOOKUP(A5,'Gruber Tabelle'!$A$6:$W$359,5,0),0)","v":0},{"$f":"IFERROR(VLOOKUP(A5,'Gruber Tabelle'!$A$6:$W$359,7,0),0)","v":0},{"$f":"IFERROR(VLOOKUP(A5,'Gruber Tabelle'!$A$6:$W$359,8,0),0)","v":0},{"$f":"IFERROR(VLOOKUP(A5,'Gruber Tabelle'!$A$6:$W$359,9,0)/100,0)","v":0},{"$f":"IFERROR(VLOOKUP(A5,'Gruber Tabelle'!$A$6:$W$359,10,0),0)","v":0},{"$f":"IFERROR(VLOOKUP(A5,'Gruber Tabelle'!$A$6:$W$359,11,0),0)","v":0},{"$f":"IFERROR(VLOOKUP(A5,'Gruber Tabelle'!$A$6:$W$359,12,0),0)","v":0},{"$f":"IFERROR(VLOOKUP(A5,'Gruber Tabelle'!$A$6:$W$359,13,0),0)","v":0},{"$f":"IFERROR(VLOOKUP(A5,'Gruber Tabelle'!$A$6:$W$359,14,0),0)","v":0},{"$f":"IFERROR(VLOOKUP(A5,'Gruber Tabelle'!$A$6:$W$359,15,0),0)","v":0},{"$f":"IFERROR(VLOOKUP(A5,'Gruber Tabelle'!$A$6:$W$359,16,0),0)","v":0},{"$f":"IFERROR(VLOOKUP(A5,'Gruber Tabelle'!$A$6:$W$359,17,0),0)","v":0},{"$f":"IFERROR(VLOOKUP(A5,'Gruber Tabelle'!$A$6:$W$359,18,0),0)","v":0},{"$f":"IFERROR(VLOOKUP(A5,'Gruber Tabelle'!$A$6:$W$359,19,0),0)","v":0},{"$f":"IFERROR(VLOOKUP(A5,'Gruber Tabelle'!$A$6:$W$359,20,0),0)","v":0},{"$f":"IFERROR(VLOOKUP(A5,'Gruber Tabelle'!$A$6:$W$359,21,0),0)","v":0},{"$f":"IFERROR(VLOOKUP(A5,'Gruber Tabelle'!$A$6:$W$359,22,0),0)","v":0},{"$f":"IFERROR(VLOOKUP(A5,'Gruber Tabelle'!$A$6:$W$359,23,0),0)","v":0},{"$f":"IFERROR(VLOOKUP(A5,'Gruber Tabelle'!$A$6:$X$359,24,0),0)","v":0},{"$f":"IFERROR(VLOOKUP(A5,'Gruber Tabelle'!$A$6:$AE$359,25,0),0)","v":0},{"$f":"IFERROR(VLOOKUP(A5,'Gruber Tabelle'!$A$6:$AE$359,26,0),0)","v":0},{"$f":"IFERROR(VLOOKUP(A5,'Gruber Tabelle'!$A$6:$AE$359,27,0),0)","v":0},{"$f":"IFERROR(VLOOKUP(A5,'Gruber Tabelle'!$A$6:$AE$359,28,0),0)","v":0},{"$f":"IFERROR(VLOOKUP(A5,'Gruber Tabelle'!$A$6:$AE$359,29,0),0)","v":0},{"$f":"IFERROR(VLOOKUP(A5,'Gruber Tabelle'!$A$6:$AE$359,30,0),0)","v":0},{"$f":"IFERROR(VLOOKUP(A5,'Gruber Tabelle'!$A$6:$AE$359,31,0),0)","v":0}]
[null,{"$f":"IFERROR(VLOOKUP(A6,'Gruber Tabelle'!$A$6:$W$359,2,0),0)","v":0},{"$f":"IFERROR(VLOOKUP(A6,'Gruber Tabelle'!$A$6:$W$359,3,0),0)/1000","v":0},{"$f":"IFERROR(VLOOKUP(A6,'Gruber Tabelle'!$A$6:$W$359,3,0),0)","v":0},0,null,{"$f":"IFERROR(VLOOKUP(A6,'Gruber Tabelle'!$A$6:$W$359,5,0),0)","v":0},{"$f":"IFERROR(VLOOKUP(A6,'Gruber Tabelle'!$A$6:$W$359,7,0),0)","v":0},{"$f":"IFERROR(VLOOKUP(A6,'Gruber Tabelle'!$A$6:$W$359,8,0),0)","v":0},{"$f":"IFERROR(VLOOKUP(A6,'Gruber Tabelle'!$A$6:$W$359,9,0)/100,0)","v":0},{"$f":"IFERROR(VLOOKUP(A6,'Gruber Tabelle'!$A$6:$W$359,10,0),0)","v":0},{"$f":"IFERROR(VLOOKUP(A6,'Gruber Tabelle'!$A$6:$W$359,11,0),0)","v":0},{"$f":"IFERROR(VLOOKUP(A6,'Gruber Tabelle'!$A$6:$W$359,12,0),0)","v":0},{"$f":"IFERROR(VLOOKUP(A6,'Gruber Tabelle'!$A$6:$W$359,13,0),0)","v":0},{"$f":"IFERROR(VLOOKUP(A6,'Gruber Tabelle'!$A$6:$W$359,14,0),0)","v":0},{"$f":"IFERROR(VLOOKUP(A6,'Gruber Tabelle'!$A$6:$W$359,15,0),0)","v":0},{"$f":"IFERROR(VLOOKUP(A6,'Gruber Tabelle'!$A$6:$W$359,16,0),0)","v":0},{"$f":"IFERROR(VLOOKUP(A6,'Gruber Tabelle'!$A$6:$W$359,17,0),0)","v":0},{"$f":"IFERROR(VLOOKUP(A6,'Gruber Tabelle'!$A$6:$W$359,18,0),0)","v":0},{"$f":"IFERROR(VLOOKUP(A6,'Gruber Tabelle'!$A$6:$W$359,19,0),0)","v":0},{"$f":"IFERROR(VLOOKUP(A6,'Gruber Tabelle'!$A$6:$W$359,20,0),0)","v":0},{"$f":"IFERROR(VLOOKUP(A6,'Gruber Tabelle'!$A$6:$W$359,21,0),0)","v":0},{"$f":"IFERROR(VLOOKUP(A6,'Gruber Tabelle'!$A$6:$W$359,22,0),0)","v":0},{"$f":"IFERROR(VLOOKUP(A6,'Gruber Tabelle'!$A$6:$W$359,23,0),0)","v":0},{"$f":"IFERROR(VLOOKUP(A6,'Gruber Tabelle'!$A$6:$X$359,24,0),0)","v":0},{"$f":"IFERROR(VLOOKUP(A6,'Gruber Tabelle'!$A$6:$AE$359,25,0),0)","v":0},{"$f":"IFERROR(VLOOKUP(A6,'Gruber Tabelle'!$A$6:$AE$359,26,0),0)","v":0},{"$f":"IFERROR(VLOOKUP(A6,'Gruber Tabelle'!$A$6:$AE$359,27,0),0)","v":0},{"$f":"IFERROR(VLOOKUP(A6,'Gruber Tabelle'!$A$6:$AE$359,28,0),0)","v":0},{"$f":"IFERROR(VLOOKUP(A6,'Gruber Tabelle'!$A$6:$AE$359,29,0),0)","v":0},{"$f":"IFERROR(VLOOKUP(A6,'Gruber Tabelle'!$A$6:$AE$359,30,0),0)","v":0},{"$f":"IFERROR(VLOOKUP(A6,'Gruber Tabelle'!$A$6:$AE$359,31,0),0)","v":0}]
[null,{"$f":"IFERROR(VLOOKUP(A7,'Gruber Tabelle'!$A$6:$W$359,2,0),0)","v":0},{"$f":"IFERROR(VLOOKUP(A7,'Gruber Tabelle'!$A$6:$W$359,3,0),0)/1000","v":0},{"$f":"IFERROR(VLOOKUP(A7,'Gruber Tabelle'!$A$6:$W$359,3,0),0)","v":0},0,null,{"$f":"IFERROR(VLOOKUP(A7,'Gruber Tabelle'!$A$6:$W$359,5,0),0)","v":0},{"$f":"IFERROR(VLOOKUP(A7,'Gruber Tabelle'!$A$6:$W$359,7,0),0)","v":0},{"$f":"IFERROR(VLOOKUP(A7,'Gruber Tabelle'!$A$6:$W$359,8,0),0)","v":0},{"$f":"IFERROR(VLOOKUP(A7,'Gruber Tabelle'!$A$6:$W$359,9,0)/100,0)","v":0},{"$f":"IFERROR(VLOOKUP(A7,'Gruber Tabelle'!$A$6:$W$359,10,0),0)","v":0},{"$f":"IFERROR(VLOOKUP(A7,'Gruber Tabelle'!$A$6:$W$359,11,0),0)","v":0},{"$f":"IFERROR(VLOOKUP(A7,'Gruber Tabelle'!$A$6:$W$359,12,0),0)","v":0},{"$f":"IFERROR(VLOOKUP(A7,'Gruber Tabelle'!$A$6:$W$359,13,0),0)","v":0},{"$f":"IFERROR(VLOOKUP(A7,'Gruber Tabelle'!$A$6:$W$359,14,0),0)","v":0},{"$f":"IFERROR(VLOOKUP(A7,'Gruber Tabelle'!$A$6:$W$359,15,0),0)","v":0},{"$f":"IFERROR(VLOOKUP(A7,'Gruber Tabelle'!$A$6:$W$359,16,0),0)","v":0},{"$f":"IFERROR(VLOOKUP(A7,'Gruber Tabelle'!$A$6:$W$359,17,0),0)","v":0},{"$f":"IFERROR(VLOOKUP(A7,'Gruber Tabelle'!$A$6:$W$359,18,0),0)","v":0},{"$f":"IFERROR(VLOOKUP(A7,'Gruber Tabelle'!$A$6:$W$359,19,0),0)","v":0},{"$f":"IFERROR(VLOOKUP(A7,'Gruber Tabelle'!$A$6:$W$359,20,0),0)","v":0},{"$f":"IFERROR(VLOOKUP(A7,'Gruber Tabelle'!$A$6:$W$359,21,0),0)","v":0},{"$f":"IFERROR(VLOOKUP(A7,'Gruber Tabelle'!$A$6:$W$359,22,0),0)","v":0},{"$f":"IFERROR(VLOOKUP(A7,'Gruber Tabelle'!$A$6:$W$359,23,0),0)","v":0},{"$f":"IFERROR(VLOOKUP(A7,'Gruber Tabelle'!$A$6:$X$359,24,0),0)","v":0},{"$f":"IFERROR(VLOOKUP(A7,'Gruber Tabelle'!$A$6:$AE$359,25,0),0)","v":0},{"$f":"IFERROR(VLOOKUP(A7,'Gruber Tabelle'!$A$6:$AE$359,26,0),0)","v":0},{"$f":"IFERROR(VLOOKUP(A7,'Gruber Tabelle'!$A$6:$AE$359,27,0),0)","v":0},{"$f":"IFERROR(VLOOKUP(A7,'Gruber Tabelle'!$A$6:$AE$359,28,0),0)","v":0},{"$f":"IFERROR(VLOOKUP(A7,'Gruber Tabelle'!$A$6:$AE$359,29,0),0)","v":0},{"$f":"IFERROR(VLOOKUP(A7,'Gruber Tabelle'!$A$6:$AE$359,30,0),0)","v":0},{"$f":"IFERROR(VLOOKUP(A7,'Gruber Tabelle'!$A$6:$AE$359,31,0),0)","v":0}]
[null,{"$f":"IFERROR(VLOOKUP(A8,'Gruber Tabelle'!$A$6:$W$359,2,0),0)","v":0},{"$f":"IFERROR(VLOOKUP(A8,'Gruber Tabelle'!$A$6:$W$359,3,0),0)/1000","v":0},{"$f":"IFERROR(VLOOKUP(A8,'Gruber Tabelle'!$A$6:$W$359,3,0),0)","v":0},0,null,{"$f":"IFERROR(VLOOKUP(A8,'Gruber Tabelle'!$A$6:$W$359,5,0),0)","v":0},{"$f":"IFERROR(VLOOKUP(A8,'Gruber Tabelle'!$A$6:$W$359,7,0),0)","v":0},{"$f":"IFERROR(VLOOKUP(A8,'Gruber Tabelle'!$A$6:$W$359,8,0),0)","v":0},{"$f":"IFERROR(VLOOKUP(A8,'Gruber Tabelle'!$A$6:$W$359,9,0)/100,0)","v":0},{"$f":"IFERROR(VLOOKUP(A8,'Gruber Tabelle'!$A$6:$W$359,10,0),0)","v":0},{"$f":"IFERROR(VLOOKUP(A8,'Gruber Tabelle'!$A$6:$W$359,11,0),0)","v":0},{"$f":"IFERROR(VLOOKUP(A8,'Gruber Tabelle'!$A$6:$W$359,12,0),0)","v":0},{"$f":"IFERROR(VLOOKUP(A8,'Gruber Tabelle'!$A$6:$W$359,13,0),0)","v":0},{"$f":"IFERROR(VLOOKUP(A8,'Gruber Tabelle'!$A$6:$W$359,14,0),0)","v":0},{"$f":"IFERROR(VLOOKUP(A8,'Gruber Tabelle'!$A$6:$W$359,15,0),0)","v":0},{"$f":"IFERROR(VLOOKUP(A8,'Gruber Tabelle'!$A$6:$W$359,16,0),0)","v":0},{"$f":"IFERROR(VLOOKUP(A8,'Gruber Tabelle'!$A$6:$W$359,17,0),0)","v":0},{"$f":"IFERROR(VLOOKUP(A8,'Gruber Tabelle'!$A$6:$W$359,18,0),0)","v":0},{"$f":"IFERROR(VLOOKUP(A8,'Gruber Tabelle'!$A$6:$W$359,19,0),0)","v":0},{"$f":"IFERROR(VLOOKUP(A8,'Gruber Tabelle'!$A$6:$W$359,20,0),0)","v":0},{"$f":"IFERROR(VLOOKUP(A8,'Gruber Tabelle'!$A$6:$W$359,21,0),0)","v":0},{"$f":"IFERROR(VLOOKUP(A8,'Gruber Tabelle'!$A$6:$W$359,22,0),0)","v":0},{"$f":"IFERROR(VLOOKUP(A8,'Gruber Tabelle'!$A$6:$W$359,23,0),0)","v":0},{"$f":"IFERROR(VLOOKUP(A8,'Gruber Tabelle'!$A$6:$X$359,24,0),0)","v":0},{"$f":"IFERROR(VLOOKUP(A8,'Gruber Tabelle'!$A$6:$AE$359,25,0),0)","v":0},{"$f":"IFERROR(VLOOKUP(A8,'Gruber Tabelle'!$A$6:$AE$359,26,0),0)","v":0},{"$f":"IFERROR(VLOOKUP(A8,'Gruber Tabelle'!$A$6:$AE$359,27,0),0)","v":0},{"$f":"IFERROR(VLOOKUP(A8,'Gruber Tabelle'!$A$6:$AE$359,28,0),0)","v":0},{"$f":"IFERROR(VLOOKUP(A8,'Gruber Tabelle'!$A$6:$AE$359,29,0),0)","v":0},{"$f":"IFERROR(VLOOKUP(A8,'Gruber Tabelle'!$A$6:$AE$359,30,0),0)","v":0},{"$f":"IFERROR(VLOOKUP(A8,'Gruber Tabelle'!$A$6:$AE$359,31,0),0)","v":0}]
[null,{"$f":"IFERROR(VLOOKUP(A9,'Gruber Tabelle'!$A$6:$W$359,2,0),0)","v":0},{"$f":"IFERROR(VLOOKUP(A9,'Gruber Tabelle'!$A$6:$W$359,3,0),0)/1000","v":0},{"$f":"IFERROR(VLOOKUP(A9,'Gruber Tabelle'!$A$6:$W$359,3,0),0)","v":0},0,null,{"$f":"IFERROR(VLOOKUP(A9,'Gruber Tabelle'!$A$6:$W$359,5,0),0)","v":0},{"$f":"IFERROR(VLOOKUP(A9,'Gruber Tabelle'!$A$6:$W$359,7,0),0)","v":0},{"$f":"IFERROR(VLOOKUP(A9,'Gruber Tabelle'!$A$6:$W$359,8,0),0)","v":0},{"$f":"IFERROR(VLOOKUP(A9,'Gruber Tabelle'!$A$6:$W$359,9,0)/100,0)","v":0},{"$f":"IFERROR(VLOOKUP(A9,'Gruber Tabelle'!$A$6:$W$359,10,0),0)","v":0},{"$f":"IFERROR(VLOOKUP(A9,'Gruber Tabelle'!$A$6:$W$359,11,0),0)","v":0},{"$f":"IFERROR(VLOOKUP(A9,'Gruber Tabelle'!$A$6:$W$359,12,0),0)","v":0},{"$f":"IFERROR(VLOOKUP(A9,'Gruber Tabelle'!$A$6:$W$359,13,0),0)","v":0},{"$f":"IFERROR(VLOOKUP(A9,'Gruber Tabelle'!$A$6:$W$359,14,0),0)","v":0},{"$f":"IFERROR(VLOOKUP(A9,'Gruber Tabelle'!$A$6:$W$359,15,0),0)","v":0},{"$f":"IFERROR(VLOOKUP(A9,'Gruber Tabelle'!$A$6:$W$359,16,0),0)","v":0},{"$f":"IFERROR(VLOOKUP(A9,'Gruber Tabelle'!$A$6:$W$359,17,0),0)","v":0},{"$f":"IFERROR(VLOOKUP(A9,'Gruber Tabelle'!$A$6:$W$359,18,0),0)","v":0},{"$f":"IFERROR(VLOOKUP(A9,'Gruber Tabelle'!$A$6:$W$359,19,0),0)","v":0},{"$f":"IFERROR(VLOOKUP(A9,'Gruber Tabelle'!$A$6:$W$359,20,0),0)","v":0},{"$f":"IFERROR(VLOOKUP(A9,'Gruber Tabelle'!$A$6:$W$359,21,0),0)","v":0},{"$f":"IFERROR(VLOOKUP(A9,'Gruber Tabelle'!$A$6:$W$359,22,0),0)","v":0},{"$f":"IFERROR(VLOOKUP(A9,'Gruber Tabelle'!$A$6:$W$359,23,0),0)","v":0},{"$f":"IFERROR(VLOOKUP(A9,'Gruber Tabelle'!$A$6:$X$359,24,0),0)","v":0},{"$f":"IFERROR(VLOOKUP(A9,'Gruber Tabelle'!$A$6:$AE$359,25,0),0)","v":0},{"$f":"IFERROR(VLOOKUP(A9,'Gruber Tabelle'!$A$6:$AE$359,26,0),0)","v":0},{"$f":"IFERROR(VLOOKUP(A9,'Gruber Tabelle'!$A$6:$AE$359,27,0),0)","v":0},{"$f":"IFERROR(VLOOKUP(A9,'Gruber Tabelle'!$A$6:$AE$359,28,0),0)","v":0},{"$f":"IFERROR(VLOOKUP(A9,'Gruber Tabelle'!$A$6:$AE$359,29,0),0)","v":0},{"$f":"IFERROR(VLOOKUP(A9,'Gruber Tabelle'!$A$6:$AE$359,30,0),0)","v":0},{"$f":"IFERROR(VLOOKUP(A9,'Gruber Tabelle'!$A$6:$AE$359,31,0),0)","v":0}]
[null,{"$f":"IFERROR(VLOOKUP(A10,'Gruber Tabelle'!$A$6:$W$359,2,0),0)","v":0},{"$f":"IFERROR(VLOOKUP(A10,'Gruber Tabelle'!$A$6:$W$359,3,0),0)/1000","v":0},{"$f":"IFERROR(VLOOKUP(A10,'Gruber Tabelle'!$A$6:$W$359,3,0),0)","v":0},0,null,{"$f":"IFERROR(VLOOKUP(A10,'Gruber Tabelle'!$A$6:$W$359,5,0),0)","v":0},{"$f":"IFERROR(VLOOKUP(A10,'Gruber Tabelle'!$A$6:$W$359,7,0),0)","v":0},{"$f":"IFERROR(VLOOKUP(A10,'Gruber Tabelle'!$A$6:$W$359,8,0),0)","v":0},{"$f":"IFERROR(VLOOKUP(A10,'Gruber Tabelle'!$A$6:$W$359,9,0)/100,0)","v":0},{"$f":"IFERROR(VLOOKUP(A10,'Gruber Tabelle'!$A$6:$W$359,10,0),0)","v":0},{"$f":"IFERROR(VLOOKUP(A10,'Gruber Tabelle'!$A$6:$W$359,11,0),0)","v":0},{"$f":"IFERROR(VLOOKUP(A10,'Gruber Tabelle'!$A$6:$W$359,12,0),0)","v":0},{"$f":"IFERROR(VLOOKUP(A10,'Gruber Tabelle'!$A$6:$W$359,13,0),0)","v":0},{"$f":"IFERROR(VLOOKUP(A10,'Gruber Tabelle'!$A$6:$W$359,14,0),0)","v":0},{"$f":"IFERROR(VLOOKUP(A10,'Gruber Tabelle'!$A$6:$W$359,15,0),0)","v":0},{"$f":"IFERROR(VLOOKUP(A10,'Gruber Tabelle'!$A$6:$W$359,16,0),0)","v":0},{"$f":"IFERROR(VLOOKUP(A10,'Gruber Tabelle'!$A$6:$W$359,17,0),0)","v":0},{"$f":"IFERROR(VLOOKUP(A10,'Gruber Tabelle'!$A$6:$W$359,18,0),0)","v":0},{"$f":"IFERROR(VLOOKUP(A10,'Gruber Tabelle'!$A$6:$W$359,19,0),0)","v":0},{"$f":"IFERROR(VLOOKUP(A10,'Gruber Tabelle'!$A$6:$W$359,20,0),0)","v":0},{"$f":"IFERROR(VLOOKUP(A10,'Gruber Tabelle'!$A$6:$W$359,21,0),0)","v":0},{"$f":"IFERROR(VLOOKUP(A10,'Gruber Tabelle'!$A$6:$W$359,22,0),0)","v":0},{"$f":"IFERROR(VLOOKUP(A10,'Gruber Tabelle'!$A$6:$W$359,23,0),0)","v":0},{"$f":"IFERROR(VLOOKUP(A10,'Gruber Tabelle'!$A$6:$X$359,24,0),0)","v":0},{"$f":"IFERROR(VLOOKUP(A10,'Gruber Tabelle'!$A$6:$AE$359,25,0),0)","v":0},{"$f":"IFERROR(VLOOKUP(A10,'Gruber Tabelle'!$A$6:$AE$359,26,0),0)","v":0},{"$f":"IFERROR(VLOOKUP(A10,'Gruber Tabelle'!$A$6:$AE$359,27,0),0)","v":0},{"$f":"IFERROR(VLOOKUP(A10,'Gruber Tabelle'!$A$6:$AE$359,28,0),0)","v":0},{"$f":"IFERROR(VLOOKUP(A10,'Gruber Tabelle'!$A$6:$AE$359,29,0),0)","v":0},{"$f":"IFERROR(VLOOKUP(A10,'Gruber Tabelle'!$A$6:$AE$359,30,0),0)","v":0},{"$f":"IFERROR(VLOOKUP(A10,'Gruber Tabelle'!$A$6:$AE$359,31,0),0)","v":0}]
[null,{"$f":"IFERROR(VLOOKUP(A11,'Gruber Tabelle'!$A$6:$W$359,2,0),0)","v":0},{"$f":"IFERROR(VLOOKUP(A11,'Gruber Tabelle'!$A$6:$W$359,3,0),0)/1000","v":0},{"$f":"IFERROR(VLOOKUP(A11,'Gruber Tabelle'!$A$6:$W$359,3,0),0)","v":0},0,null,{"$f":"IFERROR(VLOOKUP(A11,'Gruber Tabelle'!$A$6:$W$359,5,0),0)","v":0},{"$f":"IFERROR(VLOOKUP(A11,'Gruber Tabelle'!$A$6:$W$359,7,0),0)","v":0},{"$f":"IFERROR(VLOOKUP(A11,'Gruber Tabelle'!$A$6:$W$359,8,0),0)","v":0},{"$f":"IFERROR(VLOOKUP(A11,'Gruber Tabelle'!$A$6:$W$359,9,0)/100,0)","v":0},{"$f":"IFERROR(VLOOKUP(A11,'Gruber Tabelle'!$A$6:$W$359,10,0),0)","v":0},{"$f":"IFERROR(VLOOKUP(A11,'Gruber Tabelle'!$A$6:$W$359,11,0),0)","v":0},{"$f":"IFERROR(VLOOKUP(A11,'Gruber Tabelle'!$A$6:$W$359,12,0),0)","v":0},{"$f":"IFERROR(VLOOKUP(A11,'Gruber Tabelle'!$A$6:$W$359,13,0),0)","v":0},{"$f":"IFERROR(VLOOKUP(A11,'Gruber Tabelle'!$A$6:$W$359,14,0),0)","v":0},{"$f":"IFERROR(VLOOKUP(A11,'Gruber Tabelle'!$A$6:$W$359,15,0),0)","v":0},{"$f":"IFERROR(VLOOKUP(A11,'Gruber Tabelle'!$A$6:$W$359,16,0),0)","v":0},{"$f":"IFERROR(VLOOKUP(A11,'Gruber Tabelle'!$A$6:$W$359,17,0),0)","v":0},{"$f":"IFERROR(VLOOKUP(A11,'Gruber Tabelle'!$A$6:$W$359,18,0),0)","v":0},{"$f":"IFERROR(VLOOKUP(A11,'Gruber Tabelle'!$A$6:$W$359,19,0),0)","v":0},{"$f":"IFERROR(VLOOKUP(A11,'Gruber Tabelle'!$A$6:$W$359,20,0),0)","v":0},{"$f":"IFERROR(VLOOKUP(A11,'Gruber Tabelle'!$A$6:$W$359,21,0),0)","v":0},{"$f":"IFERROR(VLOOKUP(A11,'Gruber Tabelle'!$A$6:$W$359,22,0),0)","v":0},{"$f":"IFERROR(VLOOKUP(A11,'Gruber Tabelle'!$A$6:$W$359,23,0),0)","v":0},{"$f":"IFERROR(VLOOKUP(A11,'Gruber Tabelle'!$A$6:$X$359,24,0),0)","v":0},{"$f":"IFERROR(VLOOKUP(A11,'Gruber Tabelle'!$A$6:$AE$359,25,0),0)","v":0},{"$f":"IFERROR(VLOOKUP(A11,'Gruber Tabelle'!$A$6:$AE$359,26,0),0)","v":0},{"$f":"IFERROR(VLOOKUP(A11,'Gruber Tabelle'!$A$6:$AE$359,27,0),0)","v":0},{"$f":"IFERROR(VLOOKUP(A11,'Gruber Tabelle'!$A$6:$AE$359,28,0),0)","v":0},{"$f":"IFERROR(VLOOKUP(A11,'Gruber Tabelle'!$A$6:$AE$359,29,0),0)","v":0},{"$f":"IFERROR(VLOOKUP(A11,'Gruber Tabelle'!$A$6:$AE$359,30,0),0)","v":0},{"$f":"IFERROR(VLOOKUP(A11,'Gruber Tabelle'!$A$6:$AE$359,31,0),0)","v":0}]
[null,{"$f":"IFERROR(VLOOKUP(A12,'Gruber Tabelle'!$A$6:$W$359,2,0),0)","v":0},{"$f":"IFERROR(VLOOKUP(A12,'Gruber Tabelle'!$A$6:$W$359,3,0),0)/1000","v":0},{"$f":"IFERROR(VLOOKUP(A12,'Gruber Tabelle'!$A$6:$W$359,3,0),0)","v":0},0,null,{"$f":"IFERROR(VLOOKUP(A12,'Gruber Tabelle'!$A$6:$W$359,5,0),0)","v":0},{"$f":"IFERROR(VLOOKUP(A12,'Gruber Tabelle'!$A$6:$W$359,7,0),0)","v":0},{"$f":"IFERROR(VLOOKUP(A12,'Gruber Tabelle'!$A$6:$W$359,8,0),0)","v":0},{"$f":"IFERROR(VLOOKUP(A12,'Gruber Tabelle'!$A$6:$W$359,9,0)/100,0)","v":0},{"$f":"IFERROR(VLOOKUP(A12,'Gruber Tabelle'!$A$6:$W$359,10,0),0)","v":0},{"$f":"IFERROR(VLOOKUP(A12,'Gruber Tabelle'!$A$6:$W$359,11,0),0)","v":0},{"$f":"IFERROR(VLOOKUP(A12,'Gruber Tabelle'!$A$6:$W$359,12,0),0)","v":0},{"$f":"IFERROR(VLOOKUP(A12,'Gruber Tabelle'!$A$6:$W$359,13,0),0)","v":0},{"$f":"IFERROR(VLOOKUP(A12,'Gruber Tabelle'!$A$6:$W$359,14,0),0)","v":0},{"$f":"IFERROR(VLOOKUP(A12,'Gruber Tabelle'!$A$6:$W$359,15,0),0)","v":0},{"$f":"IFERROR(VLOOKUP(A12,'Gruber Tabelle'!$A$6:$W$359,16,0),0)","v":0},{"$f":"IFERROR(VLOOKUP(A12,'Gruber Tabelle'!$A$6:$W$359,17,0),0)","v":0},{"$f":"IFERROR(VLOOKUP(A12,'Gruber Tabelle'!$A$6:$W$359,18,0),0)","v":0},{"$f":"IFERROR(VLOOKUP(A12,'Gruber Tabelle'!$A$6:$W$359,19,0),0)","v":0},{"$f":"IFERROR(VLOOKUP(A12,'Gruber Tabelle'!$A$6:$W$359,20,0),0)","v":0},{"$f":"IFERROR(VLOOKUP(A12,'Gruber Tabelle'!$A$6:$W$359,21,0),0)","v":0},{"$f":"IFERROR(VLOOKUP(A12,'Gruber Tabelle'!$A$6:$W$359,22,0),0)","v":0},{"$f":"IFERROR(VLOOKUP(A12,'Gruber Tabelle'!$A$6:$W$359,23,0),0)","v":0},{"$f":"IFERROR(VLOOKUP(A12,'Gruber Tabelle'!$A$6:$X$359,24,0),0)","v":0},{"$f":"IFERROR(VLOOKUP(A12,'Gruber Tabelle'!$A$6:$AE$359,25,0),0)","v":0},{"$f":"IFERROR(VLOOKUP(A12,'Gruber Tabelle'!$A$6:$AE$359,26,0),0)","v":0},{"$f":"IFERROR(VLOOKUP(A12,'Gruber Tabelle'!$A$6:$AE$359,27,0),0)","v":0},{"$f":"IFERROR(VLOOKUP(A12,'Gruber Tabelle'!$A$6:$AE$359,28,0),0)","v":0},{"$f":"IFERROR(VLOOKUP(A12,'Gruber Tabelle'!$A$6:$AE$359,29,0),0)","v":0},{"$f":"IFERROR(VLOOKUP(A12,'Gruber Tabelle'!$A$6:$AE$359,30,0),0)","v":0},{"$f":"IFERROR(VLOOKUP(A12,'Gruber Tabelle'!$A$6:$AE$359,31,0),0)","v":0}]
[null,{"$f":"IFERROR(VLOOKUP(A13,'Gruber Tabelle'!$A$6:$W$359,2,0),0)","v":0},{"$f":"IFERROR(VLOOKUP(A13,'Gruber Tabelle'!$A$6:$W$359,3,0),0)/1000","v":0},{"$f":"IFERROR(VLOOKUP(A13,'Gruber Tabelle'!$A$6:$W$359,3,0),0)","v":0},0,null,{"$f":"IFERROR(VLOOKUP(A13,'Gruber Tabelle'!$A$6:$W$359,5,0),0)","v":0},{"$f":"IFERROR(VLOOKUP(A13,'Gruber Tabelle'!$A$6:$W$359,7,0),0)","v":0},{"$f":"IFERROR(VLOOKUP(A13,'Gruber Tabelle'!$A$6:$W$359,8,0),0)","v":0},{"$f":"IFERROR(VLOOKUP(A13,'Gruber Tabelle'!$A$6:$W$359,9,0)/100,0)","v":0},{"$f":"IFERROR(VLOOKUP(A13,'Gruber Tabelle'!$A$6:$W$359,10,0),0)","v":0},{"$f":"IFERROR(VLOOKUP(A13,'Gruber Tabelle'!$A$6:$W$359,11,0),0)","v":0},{"$f":"IFERROR(VLOOKUP(A13,'Gruber Tabelle'!$A$6:$W$359,12,0),0)","v":0},{"$f":"IFERROR(VLOOKUP(A13,'Gruber Tabelle'!$A$6:$W$359,13,0),0)","v":0},{"$f":"IFERROR(VLOOKUP(A13,'Gruber Tabelle'!$A$6:$W$359,14,0),0)","v":0},{"$f":"IFERROR(VLOOKUP(A13,'Gruber Tabelle'!$A$6:$W$359,15,0),0)","v":0},{"$f":"IFERROR(VLOOKUP(A13,'Gruber Tabelle'!$A$6:$W$359,16,0),0)","v":0},{"$f":"IFERROR(VLOOKUP(A13,'Gruber Tabelle'!$A$6:$W$359,17,0),0)","v":0},{"$f":"IFERROR(VLOOKUP(A13,'Gruber Tabelle'!$A$6:$W$359,18,0),0)","v":0},{"$f":"IFERROR(VLOOKUP(A13,'Gruber Tabelle'!$A$6:$W$359,19,0),0)","v":0},{"$f":"IFERROR(VLOOKUP(A13,'Gruber Tabelle'!$A$6:$W$359,20,0),0)","v":0},{"$f":"IFERROR(VLOOKUP(A13,'Gruber Tabelle'!$A$6:$W$359,21,0),0)","v":0},{"$f":"IFERROR(VLOOKUP(A13,'Gruber Tabelle'!$A$6:$W$359,22,0),0)","v":0},{"$f":"IFERROR(VLOOKUP(A13,'Gruber Tabelle'!$A$6:$W$359,23,0),0)","v":0},{"$f":"IFERROR(VLOOKUP(A13,'Gruber Tabelle'!$A$6:$X$359,24,0),0)","v":0},{"$f":"IFERROR(VLOOKUP(A13,'Gruber Tabelle'!$A$6:$AE$359,25,0),0)","v":0},{"$f":"IFERROR(VLOOKUP(A13,'Gruber Tabelle'!$A$6:$AE$359,26,0),0)","v":0},{"$f":"IFERROR(VLOOKUP(A13,'Gruber Tabelle'!$A$6:$AE$359,27,0),0)","v":0},{"$f":"IFERROR(VLOOKUP(A13,'Gruber Tabelle'!$A$6:$AE$359,28,0),0)","v":0},{"$f":"IFERROR(VLOOKUP(A13,'Gruber Tabelle'!$A$6:$AE$359,29,0),0)","v":0},{"$f":"IFERROR(VLOOKUP(A13,'Gruber Tabelle'!$A$6:$AE$359,30,0),0)","v":0},{"$f":"IFERROR(VLOOKUP(A13,'Gruber Tabelle'!$A$6:$AE$359,31,0),0)","v":0}]
["Nr ","Eingabe der Futtermengen","TM %","TM kg","FM kg","TM kg","aNDFom","CP g","nxP g","UDP g","RNB","NEL MJ","ME MJ","ST+ZU","bST","CL","Ca","P","Mg","Na","K","Cl","S","Preis","NDFomGF","Fe","Cu","Zn","Mn","Co","J","Se"]
[{"$f":"A4","v":0},0,null,null,null,{"$f":"IF(A15=0,0,IF(AND(D15>0,E15=0),D15,IF(AND(E15>0,D15=0),E15*C15,IF(AND(D15>=0,E15>=0),\"TM o. FM?\"))))","v":0},{"$f":"IFERROR(G4*F15,0)","v":0},{"$f":"IFERROR(H4*F15,0)","v":0},{"$f":"IFERROR(I4*F15,0)","v":0},{"$f":"IFERROR((H4*J4)*F15,0)","v":0},{"$f":"IFERROR(K4*F15,0)","v":0},{"$f":"IFERROR(L4*F15,0)","v":0},{"$f":"IFERROR(M4*G15,0)","v":0},{"$f":"IFERROR(N4*F15,0)","v":0},{"$f":"IFERROR(O4*F15,0)","v":0},{"$f":"IFERROR(P4*F15,0)","v":0},{"$f":"IFERROR(Q4*F15,0)","v":0},{"$f":"IFERROR(R4*F15,0)","v":0},{"$f":"IFERROR(S4*F15,0)","v":0},{"$f":"IFERROR(T4*F15,0)","v":0},{"$f":"IFERROR(U4*F15,0)","v":0},{"$f":"IFERROR(V4*F15,0)","v":0},{"$f":"IFERROR(W4*F15,0)","v":0},{"$f":"IF(F15>0,X4*E4/100,0)","v":0},{"$f":"IFERROR(IF(Y4=\"GF\",G4*F15,0),0)","v":0},{"$f":"IFERROR(Z4*F15,0)","v":0},{"$f":"IFERROR(AA4*F15,0)","v":0},{"$f":"IFERROR(AB4*F15,0)","v":0},{"$f":"IFERROR(AC4*F15,0)","v":0},{"$f":"IFERROR(AD4*F15,0)","v":0},{"$f":"IFERROR(AE4*F15,0)","v":0},{"$f":"IFERROR(AF4*F15,0)","v":0}]
[0,0,null,null,null,{"$f":"IF(A16=0,0,IF(AND(D16>0,E16=0),D16,IF(AND(E16>0,D16=0),E16*C16,IF(AND(D16>=0,E16>=0),\"TM o. FM?\"))))","v":0},{"$f":"IFERROR(G5*F16,0)","v":0},0,0,{"$f":"IFERROR((H5*J5)*F16,0)","v":0},0,{"$f":"IFERROR(L5*F16,0)","v":0},{"$f":"M5*D16","v":0},0,0,0,0,0,0,0,0,0,0,0,{"$f":"IFERROR(IF(Y5=\"GF\",G5*F16,0),0)","v":0},{"$f":"IFERROR(Z5*F16,0)","v":0},{"$f":"IFERROR(AA5*F16,0)","v":0},{"$f":"IFERROR(AB5*F16,0)","v":0},{"$f":"IFERROR(AC5*F16,0)","v":0},{"$f":"IFERROR(AD5*F16,0)","v":0},{"$f":"IFERROR(AE5*F16,0)","v":0},{"$f":"IFERROR(AF5*F16,0)","v":0}]
[0,0,null,null,null,0,{"$f":"IFERROR(G6*F17,0)","v":0},0,0,0,0,0,0,0,0,0,0,0,0,0,0,0,0,0,0,0,0,0,0,0,0,0]
[0,0,null,null,null,0,0,0,0,0,0,0,0,0,0,0,0,0,0,0,0,0,0,0,0,0,0,0,0,0,0,0]
[0,0,null,null,null,0,0,0,0,0,0,0,0,0,0,0,0,0,0,0,0,0,0,0,0,0,0,0,0,0,0,0]
[0,0,null,null,null,0,0,0,0,0,0,0,0,0,0,0,0,0,0,0,0,0,0,0,{"$f":"IFERROR(IF(Y9=\"GF\",G9*F20,0),0)","v":0},0,0,0,0,0,0,0]
[0,0,null,null,null,0,0,0,0,0,0,0,0,0,0,0,0,0,0,0,0,0,0,0,0,0,0,0,0,0,0,0]
[0,0,null,null,null,0,0,0,0,0,0,0,0,0,0,0,0,0,0,0,0,0,0,0,0,0,0,0,0,0,0,0]
[0,0,null,null,null,0,0,0,0,0,0,0,0,0,0,0,0,0,0,0,0,0,0,0,0,0,0,0,0,0,0,0]
[0,0,null,null,null,0,0,0,0,0,0,0,0,0,0,0,0,0,0,0,0,0,0,0,0,0,0,0,0,0,0,0]
["Summen FM, TM und Gehaltswerte:",null,null,null,{"$f":"SUM(E4:E13)","v":0},{"$f":"SUM(F15:F24)","v":0},{"$f":"SUM(G15:G24)","v":0},{"$f":"SUM(H15:H24)","v":0},0,0,{"$f":"SUM(H25-I25)/6.25","v":0},0,0,0,0,0,0,0,0,0,0,0,0,0,0,{"$f":"SUM(Z15:Z24)","v":0},{"$f":"SUM(AA15:AA24)","v":0},0,0,0,0,0]
["Basisration + Konzentratfutter + Wasser"]
["Zugabe von KF-Mischung 1 in kg:",null,null,null,null,{"$f":"IF(E27,SUM('Mischung 1'!E25*Ration!E27),0)","v":0},{"$f":"IF($E$27>0,'Mischung 1'!H25*Ration!$E$27,0)","v":0},{"$f":"IF($E$27>0,'Mischung 1'!I25*Ration!$E$27,0)","v":0},{"$f":"IF($E$27>0,'Mischung 1'!J25*Ration!$E$27,0)","v":0},{"$f":"IF($E$27>0,'Mischung 1'!K25*Ration!$E$27,0)","v":0},{"$f":"IF($E$27>0,'Mischung 1'!L25*Ration!$E$27,0)","v":0},{"$f":"IF($E$27>0,'Mischung 1'!M25*Ration!$E$27,0)","v":0},{"$f":"IF($E$27>0,'Mischung 1'!N25*Ration!$E$27,0)","v":0},{"$f":"IF($E$27>0,'Mischung 1'!O25*Ration!$E$27,0)","v":0},{"$f":"IF($E$27>0,'Mischung 1'!P25*Ration!$E$27,0)","v":0},{"$f":"IF($E$27>0,'Mischung 1'!Q25*Ration!$E$27,0)","v":0},{"$f":"IF($E$27>0,'Mischung 1'!R25*Ration!$E$27,0)","v":0},{"$f":"IF($E$27>0,'Mischung 1'!S25*Ration!$E$27,0)","v":0},{"$f":"IF($E$27>0,'Mischung 1'!T25*Ration!$E$27,0)","v":0},{"$f":"IF($E$27>0,'Mischung 1'!U25*Ration!$E$27,0)","v":0},{"$f":"IF($E$27>0,'Mischung 1'!V25*Ration!$E$27,0)","v":0},{"$f":"IF($E$27>0,'Mischung 1'!W25*Ration!$E$27,0)","v":0},{"$f":"IF($E$27>0,'Mischung 1'!X25*Ration!$E$27,0)","v":0},{"$f":"IF($E$27>0,'Mischung 1'!Y25*Ration!$E$27,0)","v":0},null,{"$f":"IF($E$27>0,'Mischung 1'!Z25*Ration!$E$27,0)","v":0},{"$f":"IF($E$27>0,'Mischung 1'!AA25*Ration!$E$27,0)","v":0},{"$f":"IF($E$27>0,'Mischung 1'!AB25*Ration!$E$27,0)","v":0},{"$f":"IF($E$27>0,'Mischung 1'!AC25*Ration!$E$27,0)","v":0},{"$f":"IF($E$27>0,'Mischung 1'!AD25*Ration!$E$27,0)","v":0},{"$f":"IF($E$27>0,'Mischung 1'!AE25*Ration!$E$27,0)","v":0},{"$f":"IF($E$27>0,'Mischung 1'!AF25*Ration!$E$27,0)","v":0}]
["Zugabe von KF-Mischung 2 in kg:",null,null,null,null,{"$f":"IF(E28,SUM('Mischung 2'!E25*Ration!E28),0)","v":0},{"$f":"IF($E$28>0,'Mischung 2'!H25*Ration!$E$28,0)","v":0},{"$f":"IF($E$28>0,'Mischung 2'!I25*Ration!$E$28,0)","v":0},{"$f":"IF($E$28>0,'Mischung 2'!J25*Ration!$E$28,0)","v":0},{"$f":"IF($E$28>0,'Mischung 2'!K25*Ration!$E$28,0)","v":0},{"$f":"IF($E$28>0,'Mischung 2'!L25*Ration!$E$28,0)","v":0},{"$f":"IF($E$28>0,'Mischung 2'!M25*Ration!$E$28,0)","v":0},{"$f":"IF($E$28>0,'Mischung 2'!N25*Ration!$E$28,0)","v":0},{"$f":"IF($E$28>0,'Mischung 2'!O25*Ration!$E$28,0)","v":0},{"$f":"IF($E$28>0,'Mischung 2'!P25*Ration!$E$28,0)","v":0},{"$f":"IF($E$28>0,'Mischung 2'!Q25*Ration!$E$28,0)","v":0},{"$f":"IF($E$28>0,'Mischung 2'!R25*Ration!$E$28,0)","v":0},{"$f":"IF($E$28>0,'Mischung 2'!S25*Ration!$E$28,0)","v":0},{"$f":"IF($E$28>0,'Mischung 2'!T25*Ration!$E$28,0)","v":0},{"$f":"IF($E$28>0,'Mischung 2'!U25*Ration!$E$28,0)","v":0},{"$f":"IF($E$28>0,'Mischung 2'!V25*Ration!$E$28,0)","v":0},{"$f":"IF($E$28>0,'Mischung 2'!W25*Ration!$E$28,0)","v":0},{"$f":"IF($E$28>0,'Mischung 2'!X25*Ration!$E$28,0)","v":0},{"$f":"IF($E$28>0,'Mischung 2'!Y25*Ration!$E$28,0)","v":0},null,{"$f":"IF($E$28>0,'Mischung 2'!Z25*Ration!$E$28,0)","v":0},{"$f":"IF($E$28>0,'Mischung 2'!AA25*Ration!$E$28,0)","v":0},{"$f":"IF($E$28>0,'Mischung 2'!AB25*Ration!$E$28,0)","v":0},{"$f":"IF($E$28>0,'Mischung 2'!AC25*Ration!$E$28,0)","v":0},{"$f":"IF($E$28>0,'Mischung 2'!AD25*Ration!$E$28,0)","v":0},{"$f":"IF($E$28>0,'Mischung 2'!AE25*Ration!$E$28,0)","v":0},{"$f":"IF($E$28>0,'Mischung 2'!AF25*Ration!$E$28,0)","v":0}]
["    Zugabe von Wasser (Liter o. kg):"]
["Summe Gesamt-Ration  Inhaltsw.:",null,null,null,{"$f":"SUM(E25+E27+E28+E29)","v":0},{"$f":"SUM(F25+F27+F28)","v":0},{"$f":"SUM(G25+G27+G28)","v":0},{"$f":"SUM(H25+H27+H28)","v":0},{"$f":"SUM(I25+I27+I28)","v":0},{"$f":"SUM(J25+J27+J28)","v":0},null,{"$f":"SUM(L25+L27+L28)","v":0},0,0,0,0,0,0,0,0,0,0,0,0,null,{"$f":"SUM(Z25+Z27+Z28)","v":0},{"$f":"SUM(AA25+AA27+AA28)","v":0},0,0,0,0,0]
["Gehaltswerte in g  je  kg TM oder Anteile in  %  ",null,null,null,null,{"$f":"IF(F30,F30/E30,0)","v":0},{"$f":"IF(Y25>0,Y25/F30/1000,0)","v":0},{"$f":"IF(H30>0,SUM(H30/F30)/1000,0)","v":0},{"$f":"IF(I30>0,SUM(I30/F30/1000),0)","v":0},{"$f":"IF(J30>0,SUM(J30/H30),0)","v":0},{"$f":"IF(H30>0,(H30-I30)/6.25,0)","v":0},{"$f":"IF(L30>0,L30/F30,0)","v":0},{"$f":"IF(M30>0,M30/D30,0)","v":0},{"$f":"IF(N30>0,N30/F30/1000,0)","v":0},{"$f":"IF(O30>0,O30/F30/1000,0)","v":0},{"$f":"IF(P30>0,P30/F30/1000,0)","v":0},{"$f":"IF(Q30,Q30/F30,0)","v":0},{"$f":"IF(R30,R30/F30,0)","v":0},{"$f":"IF(S30,S30/F30,0)","v":0},{"$f":"IF(T30,T30/F30,0)","v":0},{"$f":"IF(U30,U30/F30,0)","v":0},{"$f":"IF(V30,V30/F30,0)","v":0},{"$f":"IF(W30,W30/F30,0)","v":0},null,null,{"$f":"IF(Z30,Z30/F30,0)","v":0},{"$f":"IF(AA30,AA30/F30,0)","v":0},{"$f":"IF(AB30,AB30/F30,0)","v":0},{"$f":"IF(AC30,AC30/F30,0)","v":0},{"$f":"IF(AD30,AD30/F30,0)","v":0},{"$f":"IF(AE30,AE30/F30,0)","v":0},{"$f":"IF(AF30,AF30/F30,0)","v":0}]
["Kennzahlen Gesamtration",null,null,null,null,"SI :",{"$f":"IF(K32>100,100,K32)","v":0},null,null,null,{"$f":"IF(Y25>0,Y25/1000/(Y25/1000+(P32-2.8)/0.36)*100,0)","v":0}," pab KH kg :",null,null,null,{"$f":"IF(N30,(N30-O30)/1000,0)","v":0},{"$f":"IF(F30>0,SUM(P32/F30),0)","v":0},null,null,"DCAB (mEq/kg) :",null,{"$f":"IF(F30>0,((43.5*T30)+(25.6*U30)-(28.2*V30)-(62.4*W30))/F30,0)","v":0}]
[]
["Milcherzeugungswert (MEW) in kg:",null,null,null,null,null,null,{"$f":"IF(Einstellung!D16,SUM(H30-Einstellung!E13)/Einstellung!E16,\"TS\")","v":-5.4022988505747129},{"$f":"IF(Einstellung!D16,SUM(I30-Einstellung!E13)/Einstellung!E16,\"TS\")","v":-5.4022988505747129},null,null,{"$f":"IF(Einstellung!D15,SUM(L30-Einstellung!F13)/Einstellung!F15,\"TS\")","v":-12.09090909090909},null,null,null,null,{"$f":"IF(Einstellung!F15,(Q30-(Einstellung!D22*F30))/Einstellung!D23,\"TS\")","v":0},{"$f":"IF(Einstellung!F15,(R30-(Einstellung!E22*F30))/Einstellung!E23,\"TS\")","v":0},null,{"$f":"IF(Einstellung!F15,(T30-(Einstellung!G22*F30))/Einstellung!G23,\"TS\")","v":0},null,null,null,{"$f":"IF(Einstellung!F15,X30/L34,0)","v":0}]
[]
["Ziel-",{"$f":"INDEX(Zielwerte!A6:A16,Ration!A2)","v":"Bitte Gruppe auswählen!"},null,null,null,"TM","aNDFom","CP","sidP",null,"RNB","NEL MJ",null,"ST+ZU","bST","CL","Ca","P","Mg","Na","K",null,null,"DCAB",null,"Fe","Cu","Zn","Mn","Co","J","Se"]
["Werte:",null,null,null,null,"kg","%/TM ","%/kgTM","%/kgTM",null,"g","MJ/kg TM",null,"%/kgTM","%/kgTM","%/kgTM","g/kg TM","g/kg TM","g/kg TM","g/kg TM","g/kg TM",null,null,"mEq/kg TM",null,"mg/kg TM","mg/kg TM","mg/kg TM","mg/kg TM","mg/kg TM","mg/kg TM","mg/kg TM"]
["Die Werte stehen in der Tabelle 'Zielwerte'.  Damit können die Ergebnisse der Berechnung bewertet werden. Abweichungen von mehr als +/- 4% sind farblich gekennzeichnet.",null,null,null,"min",{"$f":"IFERROR(VLOOKUP($B$36,Zielwerte!$A$6:$AJ$15,3,0),0)","v":0},{"$f":"IFERROR(VLOOKUP($B$36,Zielwerte!$A$6:$AJ$15,7,0),0)","v":0},{"$f":"IFERROR(VLOOKUP($B$36,Zielwerte!$A$6:$AJ$15,11,0),0)","v":0},{"$f":"IFERROR(VLOOKUP($B$36,Zielwerte!$A$6:$AJ$15,13,0),0)","v":0},null,{"$f":"IFERROR(VLOOKUP($B$36,Zielwerte!$A$6:$AJ$15,15,0),0)","v":0},{"$f":"IFERROR(VLOOKUP($B$36,Zielwerte!$A$6:$AJ$15,17,0),0)","v":0},{"$f":"IFERROR(VLOOKUP($B$36,Zielwerte!$A$6:$AJ$15,3,0),0)","v":0},{"$f":"IFERROR(VLOOKUP($B$36,Zielwerte!$A$6:$AJ$15,19,0),0)","v":0},{"$f":"IFERROR(VLOOKUP($B$36,Zielwerte!$A$6:$AJ$15,21,0),0)","v":0},{"$f":"IFERROR(VLOOKUP($B$36,Zielwerte!$A$6:$AJ$15,23,0),0)","v":0},{"$f":"IFERROR(VLOOKUP($B$36,Zielwerte!$A$6:$AJ$15,25,0),0)","v":0},{"$f":"IFERROR(VLOOKUP($B$36,Zielwerte!$A$6:$AJ$15,27,0),0)","v":0},{"$f":"IFERROR(VLOOKUP($B$36,Zielwerte!$A$6:$AJ$15,29,0),0)","v":0},{"$f":"IFERROR(VLOOKUP($B$36,Zielwerte!$A$6:$AJ$15,31,0),0)","v":0},{"$f":"IFERROR(VLOOKUP($B$36,Zielwerte!$A$6:$AJ$15,33,0),0)","v":0},null,null,{"$f":"IFERROR(VLOOKUP($B$36,Zielwerte!$A$6:$AJ$15,35,0),0)","v":0},null,{"$f":"IFERROR(VLOOKUP($B$36,Zielwerte!$A$6:$AX$15,37,0),0)","v":0},{"$f":"IFERROR(VLOOKUP($B$36,Zielwerte!$A$6:$AX$15,39,0),0)","v":0},{"$f":"IFERROR(VLOOKUP($B$36,Zielwerte!$A$6:$AX$15,41,0),0)","v":0},{"$f":"IFERROR(VLOOKUP($B$36,Zielwerte!$A$6:$AX$15,43,0),0)","v":0},{"$f":"IFERROR(VLOOKUP($B$36,Zielwerte!$A$6:$AX$15,45,0),0)","v":0},{"$f":"IFERROR(VLOOKUP($B$36,Zielwerte!$A$6:$AX$15,47,0),0)","v":0},{"$f":"IFERROR(VLOOKUP($B$36,Zielwerte!$A$6:$AX$15,49,0),0)","v":0}]
[null,null,null,null,"max",{"$f":"IFERROR(VLOOKUP($B$36,Zielwerte!$A$6:$AJ$15,4,0),0)","v":0},{"$f":"IFERROR(VLOOKUP($B$36,Zielwerte!$A$6:$AJ$15,8,0),0)","v":0},{"$f":"IFERROR(VLOOKUP($B$36,Zielwerte!$A$6:$AJ$15,12,0),0)","v":0},{"$f":"IFERROR(VLOOKUP($B$36,Zielwerte!$A$6:$AJ$15,14,0),0)","v":0},null,{"$f":"IFERROR(VLOOKUP($B$36,Zielwerte!$A$6:$AJ$15,16,0),0)","v":0},{"$f":"IFERROR(VLOOKUP($B$36,Zielwerte!$A$6:$AJ$15,18,0),0)","v":0},{"$f":"IFERROR(VLOOKUP($B$36,Zielwerte!$A$6:$AJ$15,4,0),0)","v":0},{"$f":"IFERROR(VLOOKUP($B$36,Zielwerte!$A$6:$AJ$15,20,0),0)","v":0},{"$f":"IFERROR(VLOOKUP($B$36,Zielwerte!$A$6:$AJ$15,22,0),0)","v":0},{"$f":"IFERROR(VLOOKUP($B$36,Zielwerte!$A$6:$AJ$15,24,0),0)","v":0},{"$f":"IFERROR(VLOOKUP($B$36,Zielwerte!$A$6:$AJ$15,26,0),0)","v":0},{"$f":"IFERROR(VLOOKUP($B$36,Zielwerte!$A$6:$AJ$15,28,0),0)","v":0},{"$f":"IFERROR(VLOOKUP($B$36,Zielwerte!$A$6:$AJ$15,30,0),0)","v":0},{"$f":"IFERROR(VLOOKUP($B$36,Zielwerte!$A$6:$AJ$15,32,0),0)","v":0},{"$f":"IFERROR(VLOOKUP($B$36,Zielwerte!$A$6:$AJ$15,34,0),0)","v":0},null,null,{"$f":"IFERROR(VLOOKUP($B$36,Zielwerte!$A$6:$AJ$15,36,0),0)","v":0},null,{"$f":"IFERROR(VLOOKUP($B$36,Zielwerte!$A$6:$AX$15,38,0),0)","v":0},{"$f":"IFERROR(VLOOKUP($B$36,Zielwerte!$A$6:$AX$15,40,0),0)","v":0},{"$f":"IFERROR(VLOOKUP($B$36,Zielwerte!$A$6:$AX$15,42,0),0)","v":0},{"$f":"IFERROR(VLOOKUP($B$36,Zielwerte!$A$6:$AX$15,44,0),0)","v":0},{"$f":"IFERROR(VLOOKUP($B$36,Zielwerte!$A$6:$AX$15,46,0),0)","v":0},{"$f":"IFERROR(VLOOKUP($B$36,Zielwerte!$A$6:$AX$15,48,0),0)","v":0},{"$f":"IFERROR(VLOOKUP($B$36,Zielwerte!$A$6:$AX$15,50,0),0)","v":0}]

{"sheet":"Mischung 1","index":2,"n_rows":26,"n_cols":32,"rows_kept":26,"cut":false,"hidden":false,"merged":[[0,25,0,31],[1,25,1,31],[0,0,0,24],[25,0,25,5],[25,13,25,16],[1,0,1,5],[1,6,1,24],[3,2,12,5],[2,2,2,5]]}
[]
["KF – Berechnung 1",null,null,null,null,null,"Nähr- und Mineralstoffgehalte je kg TM",null,null,null,null,null,null,null,null,null,null,null,null,null,null,null,null,null,null,"Spurenelemente mg / kg TM"]
["Nr ","Futterart",null,null,null,null,"XF g","aNDFom","CP g","nxP g","UDP g","RNB","NEL MJ","ME MJ","ST+ZU","bST","CL","Ca","P","Mg","Na","K","Cl","S","Preis / dt","Fe","Cu","Zn","Mn","Co","J","Se"]
[null,{"$f":"IFERROR(VLOOKUP(A4,'Gruber Tabelle'!$A$6:$W$359,2,0),0)","v":0},null,null,null,null,{"$f":"IFERROR(VLOOKUP(A4,'Gruber Tabelle'!$A$6:$W$359,4,0),0)","v":0},{"$f":"IFERROR(VLOOKUP(A4,'Gruber Tabelle'!$A$6:$W$359,5,0),0)","v":0},{"$f":"IFERROR(VLOOKUP(A4,'Gruber Tabelle'!$A$6:$W$359,7,0),0)","v":0},{"$f":"IFERROR(VLOOKUP(A4,'Gruber Tabelle'!$A$6:$W$359,8,0),0)","v":0},{"$f":"IFERROR(VLOOKUP(A4,'Gruber Tabelle'!$A$6:$W$359,9,0)/100,0)","v":0},{"$f":"IFERROR(VLOOKUP(A4,'Gruber Tabelle'!$A$6:$W$359,10,0),0)","v":0},{"$f":"IFERROR(VLOOKUP(A4,'Gruber Tabelle'!$A$6:$W$359,11,0),0)","v":0},{"$f":"IFERROR(VLOOKUP(A4,'Gruber Tabelle'!$A$6:$W$359,12,0),0)","v":0},{"$f":"IFERROR(VLOOKUP(A4,'Gruber Tabelle'!$A$6:$W$359,13,0),0)","v":0},{"$f":"IFERROR(VLOOKUP(A4,'Gruber Tabelle'!$A$6:$W$359,14,0),0)","v":0},{"$f":"IFERROR(VLOOKUP(A4,'Gruber Tabelle'!$A$6:$W$359,15,0),0)","v":0},{"$f":"IFERROR(VLOOKUP(A4,'Gruber Tabelle'!$A$6:$W$359,16,0),0)","v":0},{"$f":"IFERROR(VLOOKUP(A4,'Gruber Tabelle'!$A$6:$W$359,17,0),0)","v":0},{"$f":"IFERROR(VLOOKUP(A4,'Gruber Tabelle'!$A$6:$W$359,18,0),0)","v":0},{"$f":"IFERROR(VLOOKUP(A4,'Gruber Tabelle'!$A$6:$W$359,19,0),0)","v":0},{"$f":"IFERROR(VLOOKUP(A4,'Gruber Tabelle'!$A$6:$W$359,20,0),0)","v":0},{"$f":"IFERROR(VLOOKUP(A4,'Gruber Tabelle'!$A$6:$W$359,21,0),0)","v":0},{"$f":"IFERROR(VLOOKUP(A4,'Gruber Tabelle'!$A$6:$W$359,22,0),0)","v":0},{"$f":"IFERROR(VLOOKUP(A4,'Gruber Tabelle'!$A$6:$W$359,23,0),0)","v":0},{"$f":"IFERROR(VLOOKUP(A4,'Gruber Tabelle'!$A$6:$AE$359,25,0),0)","v":0},{"$f":"IFERROR(VLOOKUP(A4,'Gruber Tabelle'!$A$6:$AE$359,26,0),0)","v":0},{"$f":"IFERROR(VLOOKUP(A4,'Gruber Tabelle'!$A$6:$AE$359,27,0),0)","v":0},{"$f":"IFERROR(VLOOKUP(A4,'Gruber Tabelle'!$A$6:$AE$359,28,0),0)","v":0},{"$f":"IFERROR(VLOOKUP(A4,'Gruber Tabelle'!$A$6:$AE$359,29,0),0)","v":0},{"$f":"IFERROR(VLOOKUP(A4,'Gruber Tabelle'!$A$6:$AE$359,30,0),0)","v":0},{"$f":"IFERROR(VLOOKUP(A4,'Gruber Tabelle'!$A$6:$AE$359,31,0),0)","v":0}]
[null,{"$f":"IFERROR(VLOOKUP(A5,'Gruber Tabelle'!$A$6:$W$359,2,0),0)","v":0},null,null,null,null,{"$f":"IFERROR(VLOOKUP(A5,'Gruber Tabelle'!$A$6:$W$359,4,0),0)","v":0},{"$f":"IFERROR(VLOOKUP(A5,'Gruber Tabelle'!$A$6:$W$359,5,0),0)","v":0},{"$f":"IFERROR(VLOOKUP(A5,'Gruber Tabelle'!$A$6:$W$359,7,0),0)","v":0},{"$f":"IFERROR(VLOOKUP(A5,'Gruber Tabelle'!$A$6:$W$359,8,0),0)","v":0},{"$f":"IFERROR(VLOOKUP(A5,'Gruber Tabelle'!$A$6:$W$359,9,0)/100,0)","v":0},{"$f":"IFERROR(VLOOKUP(A5,'Gruber Tabelle'!$A$6:$W$359,10,0),0)","v":0},{"$f":"IFERROR(VLOOKUP(A5,'Gruber Tabelle'!$A$6:$W$359,11,0),0)","v":0},{"$f":"IFERROR(VLOOKUP(A5,'Gruber Tabelle'!$A$6:$W$359,12,0),0)","v":0},{"$f":"IFERROR(VLOOKUP(A5,'Gruber Tabelle'!$A$6:$W$359,13,0),0)","v":0},{"$f":"IFERROR(VLOOKUP(A5,'Gruber Tabelle'!$A$6:$W$359,14,0),0)","v":0},{"$f":"IFERROR(VLOOKUP(A5,'Gruber Tabelle'!$A$6:$W$359,15,0),0)","v":0},{"$f":"IFERROR(VLOOKUP(A5,'Gruber Tabelle'!$A$6:$W$359,16,0),0)","v":0},{"$f":"IFERROR(VLOOKUP(A5,'Gruber Tabelle'!$A$6:$W$359,17,0),0)","v":0},{"$f":"IFERROR(VLOOKUP(A5,'Gruber Tabelle'!$A$6:$W$359,18,0),0)","v":0},{"$f":"IFERROR(VLOOKUP(A5,'Gruber Tabelle'!$A$6:$W$359,19,0),0)","v":0},{"$f":"IFERROR(VLOOKUP(A5,'Gruber Tabelle'!$A$6:$W$359,20,0),0)","v":0},{"$f":"IFERROR(VLOOKUP(A5,'Gruber Tabelle'!$A$6:$W$359,21,0),0)","v":0},{"$f":"IFERROR(VLOOKUP(A5,'Gruber Tabelle'!$A$6:$W$359,22,0),0)","v":0},{"$f":"IFERROR(VLOOKUP(A5,'Gruber Tabelle'!$A$6:$W$359,23,0),0)","v":0},{"$f":"IFERROR(VLOOKUP(A5,'Gruber Tabelle'!$A$6:$AE$359,25,0),0)","v":0},{"$f":"IFERROR(VLOOKUP(A5,'Gruber Tabelle'!$A$6:$AE$359,26,0),0)","v":0},{"$f":"IFERROR(VLOOKUP(A5,'Gruber Tabelle'!$A$6:$AE$359,27,0),0)","v":0},{"$f":"IFERROR(VLOOKUP(A5,'Gruber Tabelle'!$A$6:$AE$359,28,0),0)","v":0},{"$f":"IFERROR(VLOOKUP(A5,'Gruber Tabelle'!$A$6:$AE$359,29,0),0)","v":0},{"$f":"IFERROR(VLOOKUP(A5,'Gruber Tabelle'!$A$6:$AE$359,30,0),0)","v":0},{"$f":"IFERROR(VLOOKUP(A5,'Gruber Tabelle'!$A$6:$AE$359,31,0),0)","v":0}]
[null,{"$f":"IFERROR(VLOOKUP(A6,'Gruber Tabelle'!$A$6:$W$359,2,0),0)","v":0},null,null,null,null,{"$f":"IFERROR(VLOOKUP(A6,'Gruber Tabelle'!$A$6:$W$359,4,0),0)","v":0},{"$f":"IFERROR(VLOOKUP(A6,'Gruber Tabelle'!$A$6:$W$359,5,0),0)","v":0},{"$f":"IFERROR(VLOOKUP(A6,'Gruber Tabelle'!$A$6:$W$359,7,0),0)","v":0},{"$f":"IFERROR(VLOOKUP(A6,'Gruber Tabelle'!$A$6:$W$359,8,0),0)","v":0},{"$f":"IFERROR(VLOOKUP(A6,'Gruber Tabelle'!$A$6:$W$359,9,0)/100,0)","v":0},{"$f":"IFERROR(VLOOKUP(A6,'Gruber Tabelle'!$A$6:$W$359,10,0),0)","v":0},{"$f":"IFERROR(VLOOKUP(A6,'Gruber Tabelle'!$A$6:$W$359,11,0),0)","v":0},{"$f":"IFERROR(VLOOKUP(A6,'Gruber Tabelle'!$A$6:$W$359,12,0),0)","v":0},{"$f":"IFERROR(VLOOKUP(A6,'Gruber Tabelle'!$A$6:$W$359,13,0),0)","v":0},{"$f":"IFERROR(VLOOKUP(A6,'Gruber Tabelle'!$A$6:$W$359,14,0),0)","v":0},{"$f":"IFERROR(VLOOKUP(A6,'Gruber Tabelle'!$A$6:$W$359,15,0),0)","v":0},{"$f":"IFERROR(VLOOKUP(A6,'Gruber Tabelle'!$A$6:$W$359,16,0),0)","v":0},{"$f":"IFERROR(VLOOKUP(A6,'Gruber Tabelle'!$A$6:$W$359,17,0),0)","v":0},{"$f":"IFERROR(VLOOKUP(A6,'Gruber Tabelle'!$A$6:$W$359,18,0),0)","v":0},{"$f":"IFERROR(VLOOKUP(A6,'Gruber Tabelle'!$A$6:$W$359,19,0),0)","v":0},{"$f":"IFERROR(VLOOKUP(A6,'Gruber Tabelle'!$A$6:$W$359,20,0),0)","v":0},{"$f":"IFERROR(VLOOKUP(A6,'Gruber Tabelle'!$A$6:$W$359,21,0),0)","v":0},{"$f":"IFERROR(VLOOKUP(A6,'Gruber Tabelle'!$A$6:$W$359,22,0),0)","v":0},{"$f":"IFERROR(VLOOKUP(A6,'Gruber Tabelle'!$A$6:$W$359,23,0),0)","v":0},{"$f":"IFERROR(VLOOKUP(A6,'Gruber Tabelle'!$A$6:$AE$359,25,0),0)","v":0},{"$f":"IFERROR(VLOOKUP(A6,'Gruber Tabelle'!$A$6:$AE$359,26,0),0)","v":0},{"$f":"IFERROR(VLOOKUP(A6,'Gruber Tabelle'!$A$6:$AE$359,27,0),0)","v":0},{"$f":"IFERROR(VLOOKUP(A6,'Gruber Tabelle'!$A$6:$AE$359,28,0),0)","v":0},{"$f":"IFERROR(VLOOKUP(A6,'Gruber Tabelle'!$A$6:$AE$359,29,0),0)","v":0},{"$f":"IFERROR(VLOOKUP(A6,'Gruber Tabelle'!$A$6:$AE$359,30,0),0)","v":0},{"$f":"IFERROR(VLOOKUP(A6,'Gruber Tabelle'!$A$6:$AE$359,31,0),0)","v":0}]
[null,{"$f":"IFERROR(VLOOKUP(A7,'Gruber Tabelle'!$A$6:$W$359,2,0),0)","v":0},null,null,null,null,{"$f":"IFERROR(VLOOKUP(A7,'Gruber Tabelle'!$A$6:$W$359,4,0),0)","v":0},{"$f":"IFERROR(VLOOKUP(A7,'Gruber Tabelle'!$A$6:$W$359,5,0),0)","v":0},{"$f":"IFERROR(VLOOKUP(A7,'Gruber Tabelle'!$A$6:$W$359,7,0),0)","v":0},{"$f":"IFERROR(VLOOKUP(A7,'Gruber Tabelle'!$A$6:$W$359,8,0),0)","v":0},{"$f":"IFERROR(VLOOKUP(A7,'Gruber Tabelle'!$A$6:$W$359,9,0)/100,0)","v":0},{"$f":"IFERROR(VLOOKUP(A7,'Gruber Tabelle'!$A$6:$W$359,10,0),0)","v":0},{"$f":"IFERROR(VLOOKUP(A7,'Gruber Tabelle'!$A$6:$W$359,11,0),0)","v":0},{"$f":"IFERROR(VLOOKUP(A7,'Gruber Tabelle'!$A$6:$W$359,12,0),0)","v":0},{"$f":"IFERROR(VLOOKUP(A7,'Gruber Tabelle'!$A$6:$W$359,13,0),0)","v":0},{"$f":"IFERROR(VLOOKUP(A7,'Gruber Tabelle'!$A$6:$W$359,14,0),0)","v":0},{"$f":"IFERROR(VLOOKUP(A7,'Gruber Tabelle'!$A$6:$W$359,15,0),0)","v":0},{"$f":"IFERROR(VLOOKUP(A7,'Gruber Tabelle'!$A$6:$W$359,16,0),0)","v":0},{"$f":"IFERROR(VLOOKUP(A7,'Gruber Tabelle'!$A$6:$W$359,17,0),0)","v":0},{"$f":"IFERROR(VLOOKUP(A7,'Gruber Tabelle'!$A$6:$W$359,18,0),0)","v":0},{"$f":"IFERROR(VLOOKUP(A7,'Gruber Tabelle'!$A$6:$W$359,19,0),0)","v":0},{"$f":"IFERROR(VLOOKUP(A7,'Gruber Tabelle'!$A$6:$W$359,20,0),0)","v":0},{"$f":"IFERROR(VLOOKUP(A7,'Gruber Tabelle'!$A$6:$W$359,21,0),0)","v":0},{"$f":"IFERROR(VLOOKUP(A7,'Gruber Tabelle'!$A$6:$W$359,22,0),0)","v":0},{"$f":"IFERROR(VLOOKUP(A7,'Gruber Tabelle'!$A$6:$W$359,23,0),0)","v":0},{"$f":"IFERROR(VLOOKUP(A7,'Gruber Tabelle'!$A$6:$AE$359,25,0),0)","v":0},{"$f":"IFERROR(VLOOKUP(A7,'Gruber Tabelle'!$A$6:$AE$359,26,0),0)","v":0},{"$f":"IFERROR(VLOOKUP(A7,'Gruber Tabelle'!$A$6:$AE$359,27,0),0)","v":0},{"$f":"IFERROR(VLOOKUP(A7,'Gruber Tabelle'!$A$6:$AE$359,28,0),0)","v":0},{"$f":"IFERROR(VLOOKUP(A7,'Gruber Tabelle'!$A$6:$AE$359,29,0),0)","v":0},{"$f":"IFERROR(VLOOKUP(A7,'Gruber Tabelle'!$A$6:$AE$359,30,0),0)","v":0},{"$f":"IFERROR(VLOOKUP(A7,'Gruber Tabelle'!$A$6:$AE$359,31,0),0)","v":0}]
[null,{"$f":"IFERROR(VLOOKUP(A8,'Gruber Tabelle'!$A$6:$W$359,2,0),0)","v":0},null,null,null,null,{"$f":"IFERROR(VLOOKUP(A8,'Gruber Tabelle'!$A$6:$W$359,4,0),0)","v":0},{"$f":"IFERROR(VLOOKUP(A8,'Gruber Tabelle'!$A$6:$W$359,5,0),0)","v":0},{"$f":"IFERROR(VLOOKUP(A8,'Gruber Tabelle'!$A$6:$W$359,7,0),0)","v":0},{"$f":"IFERROR(VLOOKUP(A8,'Gruber Tabelle'!$A$6:$W$359,8,0),0)","v":0},{"$f":"IFERROR(VLOOKUP(A8,'Gruber Tabelle'!$A$6:$W$359,9,0)/100,0)","v":0},{"$f":"IFERROR(VLOOKUP(A8,'Gruber Tabelle'!$A$6:$W$359,10,0),0)","v":0},{"$f":"IFERROR(VLOOKUP(A8,'Gruber Tabelle'!$A$6:$W$359,11,0),0)","v":0},{"$f":"IFERROR(VLOOKUP(A8,'Gruber Tabelle'!$A$6:$W$359,12,0),0)","v":0},{"$f":"IFERROR(VLOOKUP(A8,'Gruber Tabelle'!$A$6:$W$359,13,0),0)","v":0},{"$f":"IFERROR(VLOOKUP(A8,'Gruber Tabelle'!$A$6:$W$359,14,0),0)","v":0},{"$f":"IFERROR(VLOOKUP(A8,'Gruber Tabelle'!$A$6:$W$359,15,0),0)","v":0},{"$f":"IFERROR(VLOOKUP(A8,'Gruber Tabelle'!$A$6:$W$359,16,0),0)","v":0},{"$f":"IFERROR(VLOOKUP(A8,'Gruber Tabelle'!$A$6:$W$359,17,0),0)","v":0},{"$f":"IFERROR(VLOOKUP(A8,'Gruber Tabelle'!$A$6:$W$359,18,0),0)","v":0},{"$f":"IFERROR(VLOOKUP(A8,'Gruber Tabelle'!$A$6:$W$359,19,0),0)","v":0},{"$f":"IFERROR(VLOOKUP(A8,'Gruber Tabelle'!$A$6:$W$359,20,0),0)","v":0},{"$f":"IFERROR(VLOOKUP(A8,'Gruber Tabelle'!$A$6:$W$359,21,0),0)","v":0},{"$f":"IFERROR(VLOOKUP(A8,'Gruber Tabelle'!$A$6:$W$359,22,0),0)","v":0},{"$f":"IFERROR(VLOOKUP(A8,'Gruber Tabelle'!$A$6:$W$359,23,0),0)","v":0},{"$f":"IFERROR(VLOOKUP(A8,'Gruber Tabelle'!$A$6:$AE$359,25,0),0)","v":0},{"$f":"IFERROR(VLOOKUP(A8,'Gruber Tabelle'!$A$6:$AE$359,26,0),0)","v":0},{"$f":"IFERROR(VLOOKUP(A8,'Gruber Tabelle'!$A$6:$AE$359,27,0),0)","v":0},{"$f":"IFERROR(VLOOKUP(A8,'Gruber Tabelle'!$A$6:$AE$359,28,0),0)","v":0},{"$f":"IFERROR(VLOOKUP(A8,'Gruber Tabelle'!$A$6:$AE$359,29,0),0)","v":0},{"$f":"IFERROR(VLOOKUP(A8,'Gruber Tabelle'!$A$6:$AE$359,30,0),0)","v":0},{"$f":"IFERROR(VLOOKUP(A8,'Gruber Tabelle'!$A$6:$AE$359,31,0),0)","v":0}]
[null,{"$f":"IFERROR(VLOOKUP(A9,'Gruber Tabelle'!$A$6:$W$359,2,0),0)","v":0},null,null,null,null,{"$f":"IFERROR(VLOOKUP(A9,'Gruber Tabelle'!$A$6:$W$359,4,0),0)","v":0},{"$f":"IFERROR(VLOOKUP(A9,'Gruber Tabelle'!$A$6:$W$359,5,0),0)","v":0},{"$f":"IFERROR(VLOOKUP(A9,'Gruber Tabelle'!$A$6:$W$359,7,0),0)","v":0},{"$f":"IFERROR(VLOOKUP(A9,'Gruber Tabelle'!$A$6:$W$359,8,0),0)","v":0},{"$f":"IFERROR(VLOOKUP(A9,'Gruber Tabelle'!$A$6:$W$359,9,0)/100,0)","v":0},{"$f":"IFERROR(VLOOKUP(A9,'Gruber Tabelle'!$A$6:$W$359,10,0),0)","v":0},{"$f":"IFERROR(VLOOKUP(A9,'Gruber Tabelle'!$A$6:$W$359,11,0),0)","v":0},{"$f":"IFERROR(VLOOKUP(A9,'Gruber Tabelle'!$A$6:$W$359,12,0),0)","v":0},{"$f":"IFERROR(VLOOKUP(A9,'Gruber Tabelle'!$A$6:$W$359,13,0),0)","v":0},{"$f":"IFERROR(VLOOKUP(A9,'Gruber Tabelle'!$A$6:$W$359,14,0),0)","v":0},{"$f":"IFERROR(VLOOKUP(A9,'Gruber Tabelle'!$A$6:$W$359,15,0),0)","v":0},{"$f":"IFERROR(VLOOKUP(A9,'Gruber Tabelle'!$A$6:$W$359,16,0),0)","v":0},{"$f":"IFERROR(VLOOKUP(A9,'Gruber Tabelle'!$A$6:$W$359,17,0),0)","v":0},{"$f":"IFERROR(VLOOKUP(A9,'Gruber Tabelle'!$A$6:$W$359,18,0),0)","v":0},{"$f":"IFERROR(VLOOKUP(A9,'Gruber Tabelle'!$A$6:$W$359,19,0),0)","v":0},{"$f":"IFERROR(VLOOKUP(A9,'Gruber Tabelle'!$A$6:$W$359,20,0),0)","v":0},{"$f":"IFERROR(VLOOKUP(A9,'Gruber Tabelle'!$A$6:$W$359,21,0),0)","v":0},{"$f":"IFERROR(VLOOKUP(A9,'Gruber Tabelle'!$A$6:$W$359,22,0),0)","v":0},{"$f":"IFERROR(VLOOKUP(A9,'Gruber Tabelle'!$A$6:$W$359,23,0),0)","v":0},{"$f":"IFERROR(VLOOKUP(A9,'Gruber Tabelle'!$A$6:$AE$359,25,0),0)","v":0},{"$f":"IFERROR(VLOOKUP(A9,'Gruber Tabelle'!$A$6:$AE$359,26,0),0)","v":0},{"$f":"IFERROR(VLOOKUP(A9,'Gruber Tabelle'!$A$6:$AE$359,27,0),0)","v":0},{"$f":"IFERROR(VLOOKUP(A9,'Gruber Tabelle'!$A$6:$AE$359,28,0),0)","v":0},{"$f":"IFERROR(VLOOKUP(A9,'Gruber Tabelle'!$A$6:$AE$359,29,0),0)","v":0},{"$f":"IFERROR(VLOOKUP(A9,'Gruber Tabelle'!$A$6:$AE$359,30,0),0)","v":0},{"$f":"IFERROR(VLOOKUP(A9,'Gruber Tabelle'!$A$6:$AE$359,31,0),0)","v":0}]
[null,{"$f":"IFERROR(VLOOKUP(A10,'Gruber Tabelle'!$A$6:$W$359,2,0),0)","v":0},null,null,null,null,{"$f":"IFERROR(VLOOKUP(A10,'Gruber Tabelle'!$A$6:$W$359,4,0),0)","v":0},{"$f":"IFERROR(VLOOKUP(A10,'Gruber Tabelle'!$A$6:$W$359,5,0),0)","v":0},{"$f":"IFERROR(VLOOKUP(A10,'Gruber Tabelle'!$A$6:$W$359,7,0),0)","v":0},{"$f":"IFERROR(VLOOKUP(A10,'Gruber Tabelle'!$A$6:$W$359,8,0),0)","v":0},{"$f":"IFERROR(VLOOKUP(A10,'Gruber Tabelle'!$A$6:$W$359,9,0)/100,0)","v":0},{"$f":"IFERROR(VLOOKUP(A10,'Gruber Tabelle'!$A$6:$W$359,10,0),0)","v":0},{"$f":"IFERROR(VLOOKUP(A10,'Gruber Tabelle'!$A$6:$W$359,11,0),0)","v":0},{"$f":"IFERROR(VLOOKUP(A10,'Gruber Tabelle'!$A$6:$W$359,12,0),0)","v":0},{"$f":"IFERROR(VLOOKUP(A10,'Gruber Tabelle'!$A$6:$W$359,13,0),0)","v":0},{"$f":"IFERROR(VLOOKUP(A10,'Gruber Tabelle'!$A$6:$W$359,14,0),0)","v":0},{"$f":"IFERROR(VLOOKUP(A10,'Gruber Tabelle'!$A$6:$W$359,15,0),0)","v":0},{"$f":"IFERROR(VLOOKUP(A10,'Gruber Tabelle'!$A$6:$W$359,16,0),0)","v":0},{"$f":"IFERROR(VLOOKUP(A10,'Gruber Tabelle'!$A$6:$W$359,17,0),0)","v":0},{"$f":"IFERROR(VLOOKUP(A10,'Gruber Tabelle'!$A$6:$W$359,18,0),0)","v":0},{"$f":"IFERROR(VLOOKUP(A10,'Gruber Tabelle'!$A$6:$W$359,19,0),0)","v":0},{"$f":"IFERROR(VLOOKUP(A10,'Gruber Tabelle'!$A$6:$W$359,20,0),0)","v":0},{"$f":"IFERROR(VLOOKUP(A10,'Gruber Tabelle'!$A$6:$W$359,21,0),0)","v":0},{"$f":"IFERROR(VLOOKUP(A10,'Gruber Tabelle'!$A$6:$W$359,22,0),0)","v":0},{"$f":"IFERROR(VLOOKUP(A10,'Gruber Tabelle'!$A$6:$W$359,23,0),0)","v":0},{"$f":"IFERROR(VLOOKUP(A10,'Gruber Tabelle'!$A$6:$AE$359,25,0),0)","v":0},{"$f":"IFERROR(VLOOKUP(A10,'Gruber Tabelle'!$A$6:$AE$359,26,0),0)","v":0},{"$f":"IFERROR(VLOOKUP(A10,'Gruber Tabelle'!$A$6:$AE$359,27,0),0)","v":0},{"$f":"IFERROR(VLOOKUP(A10,'Gruber Tabelle'!$A$6:$AE$359,28,0),0)","v":0},{"$f":"IFERROR(VLOOKUP(A10,'Gruber Tabelle'!$A$6:$AE$359,29,0),0)","v":0},{"$f":"IFERROR(VLOOKUP(A10,'Gruber Tabelle'!$A$6:$AE$359,30,0),0)","v":0},{"$f":"IFERROR(VLOOKUP(A10,'Gruber Tabelle'!$A$6:$AE$359,31,0),0)","v":0}]
[null,{"$f":"IFERROR(VLOOKUP(A11,'Gruber Tabelle'!$A$6:$W$359,2,0),0)","v":0},null,null,null,null,{"$f":"IFERROR(VLOOKUP(A11,'Gruber Tabelle'!$A$6:$W$359,4,0),0)","v":0},{"$f":"IFERROR(VLOOKUP(A11,'Gruber Tabelle'!$A$6:$W$359,5,0),0)","v":0},{"$f":"IFERROR(VLOOKUP(A11,'Gruber Tabelle'!$A$6:$W$359,7,0),0)","v":0},{"$f":"IFERROR(VLOOKUP(A11,'Gruber Tabelle'!$A$6:$W$359,8,0),0)","v":0},{"$f":"IFERROR(VLOOKUP(A11,'Gruber Tabelle'!$A$6:$W$359,9,0)/100,0)","v":0},{"$f":"IFERROR(VLOOKUP(A11,'Gruber Tabelle'!$A$6:$W$359,10,0),0)","v":0},{"$f":"IFERROR(VLOOKUP(A11,'Gruber Tabelle'!$A$6:$W$359,11,0),0)","v":0},{"$f":"IFERROR(VLOOKUP(A11,'Gruber Tabelle'!$A$6:$W$359,12,0),0)","v":0},{"$f":"IFERROR(VLOOKUP(A11,'Gruber Tabelle'!$A$6:$W$359,13,0),0)","v":0},{"$f":"IFERROR(VLOOKUP(A11,'Gruber Tabelle'!$A$6:$W$359,14,0),0)","v":0},{"$f":"IFERROR(VLOOKUP(A11,'Gruber Tabelle'!$A$6:$W$359,15,0),0)","v":0},{"$f":"IFERROR(VLOOKUP(A11,'Gruber Tabelle'!$A$6:$W$359,16,0),0)","v":0},{"$f":"IFERROR(VLOOKUP(A11,'Gruber Tabelle'!$A$6:$W$359,17,0),0)","v":0},{"$f":"IFERROR(VLOOKUP(A11,'Gruber Tabelle'!$A$6:$W$359,18,0),0)","v":0},{"$f":"IFERROR(VLOOKUP(A11,'Gruber Tabelle'!$A$6:$W$359,19,0),0)","v":0},{"$f":"IFERROR(VLOOKUP(A11,'Gruber Tabelle'!$A$6:$W$359,20,0),0)","v":0},{"$f":"IFERROR(VLOOKUP(A11,'Gruber Tabelle'!$A$6:$W$359,21,0),0)","v":0},{"$f":"IFERROR(VLOOKUP(A11,'Gruber Tabelle'!$A$6:$W$359,22,0),0)","v":0},{"$f":"IFERROR(VLOOKUP(A11,'Gruber Tabelle'!$A$6:$W$359,23,0),0)","v":0},{"$f":"IFERROR(VLOOKUP(A11,'Gruber Tabelle'!$A$6:$AE$359,25,0),0)","v":0},{"$f":"IFERROR(VLOOKUP(A11,'Gruber Tabelle'!$A$6:$AE$359,26,0),0)","v":0},{"$f":"IFERROR(VLOOKUP(A11,'Gruber Tabelle'!$A$6:$AE$359,27,0),0)","v":0},{"$f":"IFERROR(VLOOKUP(A11,'Gruber Tabelle'!$A$6:$AE$359,28,0),0)","v":0},{"$f":"IFERROR(VLOOKUP(A11,'Gruber Tabelle'!$A$6:$AE$359,29,0),0)","v":0},{"$f":"IFERROR(VLOOKUP(A11,'Gruber Tabelle'!$A$6:$AE$359,30,0),0)","v":0},{"$f":"IFERROR(VLOOKUP(A11,'Gruber Tabelle'!$A$6:$AE$359,31,0),0)","v":0}]
[null,{"$f":"IFERROR(VLOOKUP(A12,'Gruber Tabelle'!$A$6:$W$359,2,0),0)","v":0},null,null,null,null,{"$f":"IFERROR(VLOOKUP(A12,'Gruber Tabelle'!$A$6:$W$359,4,0),0)","v":0},{"$f":"IFERROR(VLOOKUP(A12,'Gruber Tabelle'!$A$6:$W$359,5,0),0)","v":0},{"$f":"IFERROR(VLOOKUP(A12,'Gruber Tabelle'!$A$6:$W$359,7,0),0)","v":0},{"$f":"IFERROR(VLOOKUP(A12,'Gruber Tabelle'!$A$6:$W$359,8,0),0)","v":0},{"$f":"IFERROR(VLOOKUP(A12,'Gruber Tabelle'!$A$6:$W$359,9,0)/100,0)","v":0},{"$f":"IFERROR(VLOOKUP(A12,'Gruber Tabelle'!$A$6:$W$359,10,0),0)","v":0},{"$f":"IFERROR(VLOOKUP(A12,'Gruber Tabelle'!$A$6:$W$359,11,0),0)","v":0},{"$f":"IFERROR(VLOOKUP(A12,'Gruber Tabelle'!$A$6:$W$359,12,0),0)","v":0},{"$f":"IFERROR(VLOOKUP(A12,'Gruber Tabelle'!$A$6:$W$359,13,0),0)","v":0},{"$f":"IFERROR(VLOOKUP(A12,'Gruber Tabelle'!$A$6:$W$359,14,0),0)","v":0},{"$f":"IFERROR(VLOOKUP(A12,'Gruber Tabelle'!$A$6:$W$359,15,0),0)","v":0},{"$f":"IFERROR(VLOOKUP(A12,'Gruber Tabelle'!$A$6:$W$359,16,0),0)","v":0},{"$f":"IFERROR(VLOOKUP(A12,'Gruber Tabelle'!$A$6:$W$359,17,0),0)","v":0},{"$f":"IFERROR(VLOOKUP(A12,'Gruber Tabelle'!$A$6:$W$359,18,0),0)","v":0},{"$f":"IFERROR(VLOOKUP(A12,'Gruber Tabelle'!$A$6:$W$359,19,0),0)","v":0},{"$f":"IFERROR(VLOOKUP(A12,'Gruber Tabelle'!$A$6:$W$359,20,0),0)","v":0},{"$f":"IFERROR(VLOOKUP(A12,'Gruber Tabelle'!$A$6:$W$359,21,0),0)","v":0},{"$f":"IFERROR(VLOOKUP(A12,'Gruber Tabelle'!$A$6:$W$359,22,0),0)","v":0},{"$f":"IFERROR(VLOOKUP(A12,'Gruber Tabelle'!$A$6:$W$359,23,0),0)","v":0},{"$f":"IFERROR(VLOOKUP(A12,'Gruber Tabelle'!$A$6:$AE$359,25,0),0)","v":0},{"$f":"IFERROR(VLOOKUP(A12,'Gruber Tabelle'!$A$6:$AE$359,26,0),0)","v":0},{"$f":"IFERROR(VLOOKUP(A12,'Gruber Tabelle'!$A$6:$AE$359,27,0),0)","v":0},{"$f":"IFERROR(VLOOKUP(A12,'Gruber Tabelle'!$A$6:$AE$359,28,0),0)","v":0},{"$f":"IFERROR(VLOOKUP(A12,'Gruber Tabelle'!$A$6:$AE$359,29,0),0)","v":0},{"$f":"IFERROR(VLOOKUP(A12,'Gruber Tabelle'!$A$6:$AE$359,30,0),0)","v":0},{"$f":"IFERROR(VLOOKUP(A12,'Gruber Tabelle'!$A$6:$AE$359,31,0),0)","v":0}]
[null,{"$f":"IFERROR(VLOOKUP(A13,'Gruber Tabelle'!$A$6:$W$359,2,0),0)","v":0},null,null,null,null,{"$f":"IFERROR(VLOOKUP(A13,'Gruber Tabelle'!$A$6:$W$359,4,0),0)","v":0},{"$f":"IFERROR(VLOOKUP(A13,'Gruber Tabelle'!$A$6:$W$359,5,0),0)","v":0},{"$f":"IFERROR(VLOOKUP(A13,'Gruber Tabelle'!$A$6:$W$359,7,0),0)","v":0},{"$f":"IFERROR(VLOOKUP(A13,'Gruber Tabelle'!$A$6:$W$359,8,0),0)","v":0},{"$f":"IFERROR(VLOOKUP(A13,'Gruber Tabelle'!$A$6:$W$359,9,0)/100,0)","v":0},{"$f":"IFERROR(VLOOKUP(A13,'Gruber Tabelle'!$A$6:$W$359,10,0),0)","v":0},{"$f":"IFERROR(VLOOKUP(A13,'Gruber Tabelle'!$A$6:$W$359,11,0),0)","v":0},{"$f":"IFERROR(VLOOKUP(A13,'Gruber Tabelle'!$A$6:$W$359,12,0),0)","v":0},{"$f":"IFERROR(VLOOKUP(A13,'Gruber Tabelle'!$A$6:$W$359,13,0),0)","v":0},{"$f":"IFERROR(VLOOKUP(A13,'Gruber Tabelle'!$A$6:$W$359,14,0),0)","v":0},{"$f":"IFERROR(VLOOKUP(A13,'Gruber Tabelle'!$A$6:$W$359,15,0),0)","v":0},{"$f":"IFERROR(VLOOKUP(A13,'Gruber Tabelle'!$A$6:$W$359,16,0),0)","v":0},{"$f":"IFERROR(VLOOKUP(A13,'Gruber Tabelle'!$A$6:$W$359,17,0),0)","v":0},{"$f":"IFERROR(VLOOKUP(A13,'Gruber Tabelle'!$A$6:$W$359,18,0),0)","v":0},{"$f":"IFERROR(VLOOKUP(A13,'Gruber Tabelle'!$A$6:$W$359,19,0),0)","v":0},{"$f":"IFERROR(VLOOKUP(A13,'Gruber Tabelle'!$A$6:$W$359,20,0),0)","v":0},{"$f":"IFERROR(VLOOKUP(A13,'Gruber Tabelle'!$A$6:$W$359,21,0),0)","v":0},{"$f":"IFERROR(VLOOKUP(A13,'Gruber Tabelle'!$A$6:$W$359,22,0),0)","v":0},{"$f":"IFERROR(VLOOKUP(A13,'Gruber Tabelle'!$A$6:$W$359,23,0),0)","v":0},{"$f":"IFERROR(VLOOKUP(A13,'Gruber Tabelle'!$A$6:$AE$359,25,0),0)","v":0},{"$f":"IFERROR(VLOOKUP(A13,'Gruber Tabelle'!$A$6:$AE$359,26,0),0)","v":0},{"$f":"IFERROR(VLOOKUP(A13,'Gruber Tabelle'!$A$6:$AE$359,27,0),0)","v":0},{"$f":"IFERROR(VLOOKUP(A13,'Gruber Tabelle'!$A$6:$AE$359,28,0),0)","v":0},{"$f":"IFERROR(VLOOKUP(A13,'Gruber Tabelle'!$A$6:$AE$359,29,0),0)","v":0},{"$f":"IFERROR(VLOOKUP(A13,'Gruber Tabelle'!$A$6:$AE$359,30,0),0)","v":0},{"$f":"IFERROR(VLOOKUP(A13,'Gruber Tabelle'!$A$6:$AE$359,31,0),0)","v":0}]
["Nr ","Futterart","Anteil in %","TM %","TM kg","FM kg","XF g","aNDFom","CP g","nxP g","UDP g","RNB","NEL MJ","ME MJ","ST+ZU","bST","CL","Ca","P","Mg","Na","K","Cl","S","Preis","Fe","Cu","Zn","Mn","Co","J","Se"]
[{"$f":"A4","v":0},{"$f":"B4","v":0},null,{"$f":"IFERROR(VLOOKUP(A4,'Gruber Tabelle'!$A$6:$W$359,3,0)/1000,0)","v":0},{"$f":"IF(F15>0,F15*D15,0)","v":0},{"$f":"IF(C15>0,(1*C15),0)","v":0},{"$f":"IF(G4>0,(G4*C15)*D15,0)","v":0},{"$f":"IF(H4>0,(H4*C15)*D15,0)","v":0},{"$f":"IF(I4>0,(I4*C15)*D15,0)","v":0},{"$f":"IF(J4>0,(J4*C15)*D15,0)","v":0},{"$f":"IF(K4>0,(I4*K4)*E15,0)","v":0},{"$f":"IFERROR(SUM((I15-J15)/6.25),0)","v":0},{"$f":"IF(M4>0,(M4*C15)*D15,0)","v":0},{"$f":"IF(N4>0,(N4*C15)*D15,0)","v":0},{"$f":"IF(O4>0,(O4*C15)*D15,0)","v":0},{"$f":"IF(P4>0,(P4*C15)*D15,0)","v":0},{"$f":"IF(Q4>0,(Q4*C15)*D15,0)","v":0},{"$f":"IF(R4>0,(R4*C15)*D15,0)","v":0},{"$f":"IF(S4>0,(S4*C15)*D15,0)","v":0},{"$f":"IF(T4>0,(T4*C15)*D15,0)","v":0},{"$f":"IF(U4>0,(U4*C15)*D15,0)","v":0},{"$f":"IF(V4>0,(V4*C15)*D15,0)","v":0},{"$f":"IF(W4>0,(W4*C15)*D15,0)","v":0},{"$f":"IF(X4>0,(X4*C15)*D15,0)","v":0},{"$f":"IF(C15>0,Y4*F15/100,0)","v":0},{"$f":"IF(Z4>0,(Z4*C15)*D15,0)","v":0},{"$f":"IF(AA4>0,(AA4*C15)*D15,0)","v":0},{"$f":"IF(AB4>0,(AB4*C15)*D15,0)","v":0},{"$f":"IF(AC4>0,(AC4*C15)*D15,0)","v":0},{"$f":"IF(AD4>0,(AD4*C15)*D15,0)","v":0},{"$f":"IF(AE4>0,(AE4*C15)*D15,0)","v":0},{"$f":"IF(AF4>0,(AF4*C15)*D15,0)","v":0}]
[{"$f":"A5","v":0},0,null,{"$f":"IFERROR(VLOOKUP(A5,'Gruber Tabelle'!$A$6:$W$359,3,0)/1000,0)","v":0},{"$f":"IF(F16>0,F16*D16,0)","v":0},{"$f":"IF(C16>0,(1*C16),0)","v":0},{"$f":"IF(G5>0,(G5*C16)*D16,0)","v":0},{"$f":"IF(H5>0,(H5*C16)*D16,0)","v":0},{"$f":"IF(I5>0,(I5*C16)*D16,0)","v":0},{"$f":"IF(J5>0,(J5*C16)*D16,0)","v":0},{"$f":"IF(K5>0,(I5*K5)*E16,0)","v":0},0,{"$f":"IF(M5>0,(M5*C16)*D16,0)","v":0},{"$f":"IF(N5>0,(N5*C16)*D16,0)","v":0},{"$f":"IF(O5>0,(O5*C16)*D16,0)","v":0},{"$f":"IF(P5>0,(P5*C16)*D16,0)","v":0},{"$f":"IF(Q5>0,(Q5*C16)*D16,0)","v":0},{"$f":"IF(R5>0,(R5*C16)*D16,0)","v":0},{"$f":"IF(S5>0,(S5*C16)*D16,0)","v":0},{"$f":"IF(T5>0,(T5*C16)*D16,0)","v":0},{"$f":"IF(U5>0,(U5*C16)*D16,0)","v":0},{"$f":"IF(V5>0,(V5*C16)*D16,0)","v":0},{"$f":"IF(W5>0,(W5*C16)*D16,0)","v":0},{"$f":"IF(X5>0,(X5*C16)*D16,0)","v":0},0,{"$f":"IF(Z5>0,(Z5*C16)*D16,0)","v":0},{"$f":"IF(AA5>0,(AA5*C16)*D16,0)","v":0},{"$f":"IF(AB5>0,(AB5*C16)*D16,0)","v":0},{"$f":"IF(AC5>0,(AC5*C16)*D16,0)","v":0},{"$f":"IF(AD5>0,(AD5*C16)*D16,0)","v":0},{"$f":"IF(AE5>0,(AE5*C16)*D16,0)","v":0},{"$f":"IF(AF5>0,(AF5*C16)*D16,0)","v":0}]
[0,0,null,{"$f":"IFERROR(VLOOKUP(A6,'Gruber Tabelle'!$A$6:$W$359,3,0)/1000,0)","v":0},0,0,0,0,0,0,0,0,0,0,0,0,0,0,0,0,0,0,0,0,0,0,0,0,0,0,0,0]
[0,0,null,{"$f":"IFERROR(VLOOKUP(A7,'Gruber Tabelle'!$A$6:$W$359,3,0)/1000,0)","v":0},0,0,0,0,0,0,0,0,0,0,0,0,0,0,0,0,0,0,0,0,0,0,0,0,0,0,0,0]
[0,0,null,{"$f":"IFERROR(VLOOKUP(A8,'Gruber Tabelle'!$A$6:$W$359,3,0)/1000,0)","v":0},0,0,0,0,0,0,0,0,0,0,0,0,0,0,0,0,0,0,0,0,0,0,0,0,0,0,0,0]
[0,0,null,{"$f":"IFERROR(VLOOKUP(A9,'Gruber Tabelle'!$A$6:$W$359,3,0)/1000,0)","v":0},0,0,0,0,0,0,0,0,0,0,0,0,0,0,0,0,0,0,0,0,0,0,0,0,0,0,0,0]
[0,0,null,{"$f":"IFERROR(VLOOKUP(A10,'Gruber Tabelle'!$A$6:$W$359,3,0)/1000,0)","v":0},0,0,0,0,0,0,0,0,0,0,0,0,0,0,0,0,0,0,0,0,0,0,0,0,0,0,0,0]
[0,0,null,{"$f":"IFERROR(VLOOKUP(A11,'Gruber Tabelle'!$A$6:$W$359,3,0)/1000,0)","v":0},0,0,0,0,0,0,0,0,0,0,0,0,0,0,0,0,0,0,0,0,0,0,0,0,0,0,0,0]
[0,0,null,{"$f":"IFERROR(VLOOKUP(A12,'Gruber Tabelle'!$A$6:$W$359,3,0)/1000,0)","v":0},0,0,0,0,0,0,0,0,0,0,0,0,0,0,0,0,0,0,0,0,0,0,0,0,0,0,0,0]
[0,0,null,{"$f":"IFERROR(VLOOKUP(A13,'Gruber Tabelle'!$A$6:$W$359,3,0)/1000,0)","v":0},0,0,0,0,0,0,0,0,0,0,0,0,0,0,0,0,0,0,0,0,0,0,0,0,0,0,0,0]
[null,"Summe je kg FM :",{"$f":"SUM(C15:C24)","v":0},null,{"$f":"SUM(E15:E24)","v":0},{"$f":"SUM(F15:F24)","v":0},0,0,0,0,0,{"$f":"SUM(L15:L24)","v":0},0,0,0,0,0,0,0,0,0,0,0,0,0,{"$f":"SUM(Z15:Z24)","v":0},{"$f":"SUM(AA15:AA24)","v":0},0,0,0,0,{"$f":"SUM(AF15:AF24)","v":0}]
["Milcherzeugungswerte / Kennzahlen",null,null,null,null,null,null,{"$f":"IF(C25=100%,H25/1000,0)","v":0},{"$f":"IFERROR(I25/Einstellung!E16,0)","v":0},{"$f":"IFERROR(J25/Einstellung!E16,0)","v":0},{"$f":"IF(K25>0,K25/I25,0)","v":0},{"$f":"SUM(I25-J25)/6.25","v":0},{"$f":"IFERROR(M25/Einstellung!F15,0)","v":0},"Mengenelem. f. kg Milch :",null,null,null,{"$f":"IF(R25>0,(R25/Einstellung!D23),0)","v":0},{"$f":"IF(S25>0,(S25/Einstellung!E23),0)","v":0},{"$f":"IF(T25>0,(T25/Einstellung!F23),0)","v":0},{"$f":"IF(U25>0,(U25/Einstellung!G23),0)","v":0},null,null,null,{"$f":"IFERROR(Y25/M26,0)","v":0}]

{"sheet":"Mischung 2","index":3,"n_rows":26,"n_cols":32,"rows_kept":26,"cut":false,"hidden":false,"merged":[[0,25,0,31],[1,25,1,31],[0,0,0,24],[25,0,25,5],[25,13,25,16],[1,0,1,5],[1,6,1,24],[2,1,2,5],[3,2,12,5]]}
[]
["KF – Berechnung 2",null,null,null,null,null,"Nähr- und Mineralstoffgehalte je kg TM",null,null,null,null,null,null,null,null,null,null,null,null,null,null,null,null,null,null,"Spurenelemente mg / kg TM"]
["Nr ","Futterart",null,null,null,null,"XF  g","aNDFom","CP g","nxP g","UDP g","RNB","Nel MJ","ME MJ","ST+ZU","bST","CL","Ca","P","Mg","Na","K","Cl","S","Preis / dt","Fe","Cu","Zn","Mn","Co","J","Se"]
[null,{"$f":"IFERROR(VLOOKUP(A4,'Gruber Tabelle'!$A$6:$W$359,2,0),0)","v":0},null,null,null,null,{"$f":"IFERROR(VLOOKUP(A4,'Gruber Tabelle'!$A$6:$W$359,4,0),0)","v":0},{"$f":"IFERROR(VLOOKUP(A4,'Gruber Tabelle'!$A$6:$W$359,5,0),0)","v":0},{"$f":"IFERROR(VLOOKUP(A4,'Gruber Tabelle'!$A$6:$W$359,7,0),0)","v":0},{"$f":"IFERROR(VLOOKUP(A4,'Gruber Tabelle'!$A$6:$W$359,8,0),0)","v":0},{"$f":"IFERROR(VLOOKUP(A4,'Gruber Tabelle'!$A$6:$W$359,9,0)/100,0)","v":0},{"$f":"IFERROR(VLOOKUP(A4,'Gruber Tabelle'!$A$6:$W$359,10,0),0)","v":0},{"$f":"IFERROR(VLOOKUP(A4,'Gruber Tabelle'!$A$6:$W$359,11,0),0)","v":0},{"$f":"IFERROR(VLOOKUP(A4,'Gruber Tabelle'!$A$6:$W$359,12,0),0)","v":0},{"$f":"IFERROR(VLOOKUP(A4,'Gruber Tabelle'!$A$6:$W$359,13,0),0)","v":0},{"$f":"IFERROR(VLOOKUP(A4,'Gruber Tabelle'!$A$6:$W$359,14,0),0)","v":0},{"$f":"IFERROR(VLOOKUP(A4,'Gruber Tabelle'!$A$6:$W$359,15,0),0)","v":0},{"$f":"IFERROR(VLOOKUP(A4,'Gruber Tabelle'!$A$6:$W$359,16,0),0)","v":0},{"$f":"IFERROR(VLOOKUP(A4,'Gruber Tabelle'!$A$6:$W$359,17,0),0)","v":0},{"$f":"IFERROR(VLOOKUP(A4,'Gruber Tabelle'!$A$6:$W$359,18,0),0)","v":0},{"$f":"IFERROR(VLOOKUP(A4,'Gruber Tabelle'!$A$6:$W$359,19,0),0)","v":0},{"$f":"IFERROR(VLOOKUP(A4,'Gruber Tabelle'!$A$6:$W$359,20,0),0)","v":0},{"$f":"IFERROR(VLOOKUP(A4,'Gruber Tabelle'!$A$6:$W$359,21,0),0)","v":0},{"$f":"IFERROR(VLOOKUP(A4,'Gruber Tabelle'!$A$6:$W$359,22,0),0)","v":0},{"$f":"IFERROR(VLOOKUP(A4,'Gruber Tabelle'!$A$6:$W$359,23,0),0)","v":0},{"$f":"IFERROR(VLOOKUP(A4,'Gruber Tabelle'!$A$6:$AE$359,25,0),0)","v":0},{"$f":"IFERROR(VLOOKUP(A4,'Gruber Tabelle'!$A$6:$AE$359,26,0),0)","v":0},{"$f":"IFERROR(VLOOKUP(A4,'Gruber Tabelle'!$A$6:$AE$359,27,0),0)","v":0},{"$f":"IFERROR(VLOOKUP(A4,'Gruber Tabelle'!$A$6:$AE$359,28,0),0)","v":0},{"$f":"IFERROR(VLOOKUP(A4,'Gruber Tabelle'!$A$6:$AE$359,29,0),0)","v":0},{"$f":"IFERROR(VLOOKUP(A4,'Gruber Tabelle'!$A$6:$AE$359,30,0),0)","v":0},{"$f":"IFERROR(VLOOKUP(A4,'Gruber Tabelle'!$A$6:$AE$359,31,0),0)","v":0}]
[null,{"$f":"IFERROR(VLOOKUP(A5,'Gruber Tabelle'!$A$6:$W$359,2,0),0)","v":0},null,null,null,null,{"$f":"IFERROR(VLOOKUP(A5,'Gruber Tabelle'!$A$6:$W$359,4,0),0)","v":0},{"$f":"IFERROR(VLOOKUP(A5,'Gruber Tabelle'!$A$6:$W$359,5,0),0)","v":0},{"$f":"IFERROR(VLOOKUP(A5,'Gruber Tabelle'!$A$6:$W$359,7,0),0)","v":0},{"$f":"IFERROR(VLOOKUP(A5,'Gruber Tabelle'!$A$6:$W$359,8,0),0)","v":0},{"$f":"IFERROR(VLOOKUP(A5,'Gruber Tabelle'!$A$6:$W$359,9,0)/100,0)","v":0},{"$f":"IFERROR(VLOOKUP(A5,'Gruber Tabelle'!$A$6:$W$359,10,0),0)","v":0},{"$f":"IFERROR(VLOOKUP(A5,'Gruber Tabelle'!$A$6:$W$359,11,0),0)","v":0},{"$f":"IFERROR(VLOOKUP(A5,'Gruber Tabelle'!$A$6:$W$359,12,0),0)","v":0},{"$f":"IFERROR(VLOOKUP(A5,'Gruber Tabelle'!$A$6:$W$359,13,0),0)","v":0},{"$f":"IFERROR(VLOOKUP(A5,'Gruber Tabelle'!$A$6:$W$359,14,0),0)","v":0},{"$f":"IFERROR(VLOOKUP(A5,'Gruber Tabelle'!$A$6:$W$359,15,0),0)","v":0},{"$f":"IFERROR(VLOOKUP(A5,'Gruber Tabelle'!$A$6:$W$359,16,0),0)","v":0},{"$f":"IFERROR(VLOOKUP(A5,'Gruber Tabelle'!$A$6:$W$359,17,0),0)","v":0},{"$f":"IFERROR(VLOOKUP(A5,'Gruber Tabelle'!$A$6:$W$359,18,0),0)","v":0},{"$f":"IFERROR(VLOOKUP(A5,'Gruber Tabelle'!$A$6:$W$359,19,0),0)","v":0},{"$f":"IFERROR(VLOOKUP(A5,'Gruber Tabelle'!$A$6:$W$359,20,0),0)","v":0},{"$f":"IFERROR(VLOOKUP(A5,'Gruber Tabelle'!$A$6:$W$359,21,0),0)","v":0},{"$f":"IFERROR(VLOOKUP(A5,'Gruber Tabelle'!$A$6:$W$359,22,0),0)","v":0},{"$f":"IFERROR(VLOOKUP(A5,'Gruber Tabelle'!$A$6:$W$359,23,0),0)","v":0},{"$f":"IFERROR(VLOOKUP(A5,'Gruber Tabelle'!$A$6:$AE$359,25,0),0)","v":0},{"$f":"IFERROR(VLOOKUP(A5,'Gruber Tabelle'!$A$6:$AE$359,26,0),0)","v":0},{"$f":"IFERROR(VLOOKUP(A5,'Gruber Tabelle'!$A$6:$AE$359,27,0),0)","v":0},{"$f":"IFERROR(VLOOKUP(A5,'Gruber Tabelle'!$A$6:$AE$359,28,0),0)","v":0},{"$f":"IFERROR(VLOOKUP(A5,'Gruber Tabelle'!$A$6:$AE$359,29,0),0)","v":0},{"$f":"IFERROR(VLOOKUP(A5,'Gruber Tabelle'!$A$6:$AE$359,30,0),0)","v":0},{"$f":"IFERROR(VLOOKUP(A5,'Gruber Tabelle'!$A$6:$AE$359,31,0),0)","v":0}]
[null,{"$f":"IFERROR(VLOOKUP(A6,'Gruber Tabelle'!$A$6:$W$359,2,0),0)","v":0},null,null,null,null,{"$f":"IFERROR(VLOOKUP(A6,'Gruber Tabelle'!$A$6:$W$359,4,0),0)","v":0},{"$f":"IFERROR(VLOOKUP(A6,'Gruber Tabelle'!$A$6:$W$359,5,0),0)","v":0},{"$f":"IFERROR(VLOOKUP(A6,'Gruber Tabelle'!$A$6:$W$359,7,0),0)","v":0},{"$f":"IFERROR(VLOOKUP(A6,'Gruber Tabelle'!$A$6:$W$359,8,0),0)","v":0},{"$f":"IFERROR(VLOOKUP(A6,'Gruber Tabelle'!$A$6:$W$359,9,0)/100,0)","v":0},{"$f":"IFERROR(VLOOKUP(A6,'Gruber Tabelle'!$A$6:$W$359,10,0),0)","v":0},{"$f":"IFERROR(VLOOKUP(A6,'Gruber Tabelle'!$A$6:$W$359,11,0),0)","v":0},{"$f":"IFERROR(VLOOKUP(A6,'Gruber Tabelle'!$A$6:$W$359,12,0),0)","v":0},{"$f":"IFERROR(VLOOKUP(A6,'Gruber Tabelle'!$A$6:$W$359,13,0),0)","v":0},{"$f":"IFERROR(VLOOKUP(A6,'Gruber Tabelle'!$A$6:$W$359,14,0),0)","v":0},{"$f":"IFERROR(VLOOKUP(A6,'Gruber Tabelle'!$A$6:$W$359,15,0),0)","v":0},{"$f":"IFERROR(VLOOKUP(A6,'Gruber Tabelle'!$A$6:$W$359,16,0),0)","v":0},{"$f":"IFERROR(VLOOKUP(A6,'Gruber Tabelle'!$A$6:$W$359,17,0),0)","v":0},{"$f":"IFERROR(VLOOKUP(A6,'Gruber Tabelle'!$A$6:$W$359,18,0),0)","v":0},{"$f":"IFERROR(VLOOKUP(A6,'Gruber Tabelle'!$A$6:$W$359,19,0),0)","v":0},{"$f":"IFERROR(VLOOKUP(A6,'Gruber Tabelle'!$A$6:$W$359,20,0),0)","v":0},{"$f":"IFERROR(VLOOKUP(A6,'Gruber Tabelle'!$A$6:$W$359,21,0),0)","v":0},{"$f":"IFERROR(VLOOKUP(A6,'Gruber Tabelle'!$A$6:$W$359,22,0),0)","v":0},{"$f":"IFERROR(VLOOKUP(A6,'Gruber Tabelle'!$A$6:$W$359,23,0),0)","v":0},{"$f":"IFERROR(VLOOKUP(A6,'Gruber Tabelle'!$A$6:$AE$359,25,0),0)","v":0},{"$f":"IFERROR(VLOOKUP(A6,'Gruber Tabelle'!$A$6:$AE$359,26,0),0)","v":0},{"$f":"IFERROR(VLOOKUP(A6,'Gruber Tabelle'!$A$6:$AE$359,27,0),0)","v":0},{"$f":"IFERROR(VLOOKUP(A6,'Gruber Tabelle'!$A$6:$AE$359,28,0),0)","v":0},{"$f":"IFERROR(VLOOKUP(A6,'Gruber Tabelle'!$A$6:$AE$359,29,0),0)","v":0},{"$f":"IFERROR(VLOOKUP(A6,'Gruber Tabelle'!$A$6:$AE$359,30,0),0)","v":0},{"$f":"IFERROR(VLOOKUP(A6,'Gruber Tabelle'!$A$6:$AE$359,31,0),0)","v":0}]
[null,{"$f":"IFERROR(VLOOKUP(A7,'Gruber Tabelle'!$A$6:$W$359,2,0),0)","v":0},null,null,null,null,{"$f":"IFERROR(VLOOKUP(A7,'Gruber Tabelle'!$A$6:$W$359,4,0),0)","v":0},{"$f":"IFERROR(VLOOKUP(A7,'Gruber Tabelle'!$A$6:$W$359,5,0),0)","v":0},{"$f":"IFERROR(VLOOKUP(A7,'Gruber Tabelle'!$A$6:$W$359,7,0),0)","v":0},{"$f":"IFERROR(VLOOKUP(A7,'Gruber Tabelle'!$A$6:$W$359,8,0),0)","v":0},{"$f":"IFERROR(VLOOKUP(A7,'Gruber Tabelle'!$A$6:$W$359,9,0)/100,0)","v":0},{"$f":"IFERROR(VLOOKUP(A7,'Gruber Tabelle'!$A$6:$W$359,10,0),0)","v":0},{"$f":"IFERROR(VLOOKUP(A7,'Gruber Tabelle'!$A$6:$W$359,11,0),0)","v":0},{"$f":"IFERROR(VLOOKUP(A7,'Gruber Tabelle'!$A$6:$W$359,12,0),0)","v":0},{"$f":"IFERROR(VLOOKUP(A7,'Gruber Tabelle'!$A$6:$W$359,13,0),0)","v":0},{"$f":"IFERROR(VLOOKUP(A7,'Gruber Tabelle'!$A$6:$W$359,14,0),0)","v":0},{"$f":"IFERROR(VLOOKUP(A7,'Gruber Tabelle'!$A$6:$W$359,15,0),0)","v":0},{"$f":"IFERROR(VLOOKUP(A7,'Gruber Tabelle'!$A$6:$W$359,16,0),0)","v":0},{"$f":"IFERROR(VLOOKUP(A7,'Gruber Tabelle'!$A$6:$W$359,17,0),0)","v":0},{"$f":"IFERROR(VLOOKUP(A7,'Gruber Tabelle'!$A$6:$W$359,18,0),0)","v":0},{"$f":"IFERROR(VLOOKUP(A7,'Gruber Tabelle'!$A$6:$W$359,19,0),0)","v":0},{"$f":"IFERROR(VLOOKUP(A7,'Gruber Tabelle'!$A$6:$W$359,20,0),0)","v":0},{"$f":"IFERROR(VLOOKUP(A7,'Gruber Tabelle'!$A$6:$W$359,21,0),0)","v":0},{"$f":"IFERROR(VLOOKUP(A7,'Gruber Tabelle'!$A$6:$W$359,22,0),0)","v":0},{"$f":"IFERROR(VLOOKUP(A7,'Gruber Tabelle'!$A$6:$W$359,23,0),0)","v":0},{"$f":"IFERROR(VLOOKUP(A7,'Gruber Tabelle'!$A$6:$AE$359,25,0),0)","v":0},{"$f":"IFERROR(VLOOKUP(A7,'Gruber Tabelle'!$A$6:$AE$359,26,0),0)","v":0},{"$f":"IFERROR(VLOOKUP(A7,'Gruber Tabelle'!$A$6:$AE$359,27,0),0)","v":0},{"$f":"IFERROR(VLOOKUP(A7,'Gruber Tabelle'!$A$6:$AE$359,28,0),0)","v":0},{"$f":"IFERROR(VLOOKUP(A7,'Gruber Tabelle'!$A$6:$AE$359,29,0),0)","v":0},{"$f":"IFERROR(VLOOKUP(A7,'Gruber Tabelle'!$A$6:$AE$359,30,0),0)","v":0},{"$f":"IFERROR(VLOOKUP(A7,'Gruber Tabelle'!$A$6:$AE$359,31,0),0)","v":0}]
[null,{"$f":"IFERROR(VLOOKUP(A8,'Gruber Tabelle'!$A$6:$W$359,2,0),0)","v":0},null,null,null,null,{"$f":"IFERROR(VLOOKUP(A8,'Gruber Tabelle'!$A$6:$W$359,4,0),0)","v":0},{"$f":"IFERROR(VLOOKUP(A8,'Gruber Tabelle'!$A$6:$W$359,5,0),0)","v":0},{"$f":"IFERROR(VLOOKUP(A8,'Gruber Tabelle'!$A$6:$W$359,7,0),0)","v":0},{"$f":"IFERROR(VLOOKUP(A8,'Gruber Tabelle'!$A$6:$W$359,8,0),0)","v":0},{"$f":"IFERROR(VLOOKUP(A8,'Gruber Tabelle'!$A$6:$W$359,9,0)/100,0)","v":0},{"$f":"IFERROR(VLOOKUP(A8,'Gruber Tabelle'!$A$6:$W$359,10,0),0)","v":0},{"$f":"IFERROR(VLOOKUP(A8,'Gruber Tabelle'!$A$6:$W$359,11,0),0)","v":0},{"$f":"IFERROR(VLOOKUP(A8,'Gruber Tabelle'!$A$6:$W$359,12,0),0)","v":0},{"$f":"IFERROR(VLOOKUP(A8,'Gruber Tabelle'!$A$6:$W$359,13,0),0)","v":0},{"$f":"IFERROR(VLOOKUP(A8,'Gruber Tabelle'!$A$6:$W$359,14,0),0)","v":0},{"$f":"IFERROR(VLOOKUP(A8,'Gruber Tabelle'!$A$6:$W$359,15,0),0)","v":0},{"$f":"IFERROR(VLOOKUP(A8,'Gruber Tabelle'!$A$6:$W$359,16,0),0)","v":0},{"$f":"IFERROR(VLOOKUP(A8,'Gruber Tabelle'!$A$6:$W$359,17,0),0)","v":0},{"$f":"IFERROR(VLOOKUP(A8,'Gruber Tabelle'!$A$6:$W$359,18,0),0)","v":0},{"$f":"IFERROR(VLOOKUP(A8,'Gruber Tabelle'!$A$6:$W$359,19,0),0)","v":0},{"$f":"IFERROR(VLOOKUP(A8,'Gruber Tabelle'!$A$6:$W$359,20,0),0)","v":0},{"$f":"IFERROR(VLOOKUP(A8,'Gruber Tabelle'!$A$6:$W$359,21,0),0)","v":0},{"$f":"IFERROR(VLOOKUP(A8,'Gruber Tabelle'!$A$6:$W$359,22,0),0)","v":0},{"$f":"IFERROR(VLOOKUP(A8,'Gruber Tabelle'!$A$6:$W$359,23,0),0)","v":0},{"$f":"IFERROR(VLOOKUP(A8,'Gruber Tabelle'!$A$6:$AE$359,25,0),0)","v":0},{"$f":"IFERROR(VLOOKUP(A8,'Gruber Tabelle'!$A$6:$AE$359,26,0),0)","v":0},{"$f":"IFERROR(VLOOKUP(A8,'Gruber Tabelle'!$A$6:$AE$359,27,0),0)","v":0},{"$f":"IFERROR(VLOOKUP(A8,'Gruber Tabelle'!$A$6:$AE$359,28,0),0)","v":0},{"$f":"IFERROR(VLOOKUP(A8,'Gruber Tabelle'!$A$6:$AE$359,29,0),0)","v":0},{"$f":"IFERROR(VLOOKUP(A8,'Gruber Tabelle'!$A$6:$AE$359,30,0),0)","v":0},{"$f":"IFERROR(VLOOKUP(A8,'Gruber Tabelle'!$A$6:$AE$359,31,0),0)","v":0}]
[null,{"$f":"IFERROR(VLOOKUP(A9,'Gruber Tabelle'!$A$6:$W$359,2,0),0)","v":0},null,null,null,null,{"$f":"IFERROR(VLOOKUP(A9,'Gruber Tabelle'!$A$6:$W$359,4,0),0)","v":0},{"$f":"IFERROR(VLOOKUP(A9,'Gruber Tabelle'!$A$6:$W$359,5,0),0)","v":0},{"$f":"IFERROR(VLOOKUP(A9,'Gruber Tabelle'!$A$6:$W$359,7,0),0)","v":0},{"$f":"IFERROR(VLOOKUP(A9,'Gruber Tabelle'!$A$6:$W$359,8,0),0)","v":0},{"$f":"IFERROR(VLOOKUP(A9,'Gruber Tabelle'!$A$6:$W$359,9,0)/100,0)","v":0},{"$f":"IFERROR(VLOOKUP(A9,'Gruber Tabelle'!$A$6:$W$359,10,0),0)","v":0},{"$f":"IFERROR(VLOOKUP(A9,'Gruber Tabelle'!$A$6:$W$359,11,0),0)","v":0},{"$f":"IFERROR(VLOOKUP(A9,'Gruber Tabelle'!$A$6:$W$359,12,0),0)","v":0},{"$f":"IFERROR(VLOOKUP(A9,'Gruber Tabelle'!$A$6:$W$359,13,0),0)","v":0},{"$f":"IFERROR(VLOOKUP(A9,'Gruber Tabelle'!$A$6:$W$359,14,0),0)","v":0},{"$f":"IFERROR(VLOOKUP(A9,'Gruber Tabelle'!$A$6:$W$359,15,0),0)","v":0},{"$f":"IFERROR(VLOOKUP(A9,'Gruber Tabelle'!$A$6:$W$359,16,0),0)","v":0},{"$f":"IFERROR(VLOOKUP(A9,'Gruber Tabelle'!$A$6:$W$359,17,0),0)","v":0},{"$f":"IFERROR(VLOOKUP(A9,'Gruber Tabelle'!$A$6:$W$359,18,0),0)","v":0},{"$f":"IFERROR(VLOOKUP(A9,'Gruber Tabelle'!$A$6:$W$359,19,0),0)","v":0},{"$f":"IFERROR(VLOOKUP(A9,'Gruber Tabelle'!$A$6:$W$359,20,0),0)","v":0},{"$f":"IFERROR(VLOOKUP(A9,'Gruber Tabelle'!$A$6:$W$359,21,0),0)","v":0},{"$f":"IFERROR(VLOOKUP(A9,'Gruber Tabelle'!$A$6:$W$359,22,0),0)","v":0},{"$f":"IFERROR(VLOOKUP(A9,'Gruber Tabelle'!$A$6:$W$359,23,0),0)","v":0},{"$f":"IFERROR(VLOOKUP(A9,'Gruber Tabelle'!$A$6:$AE$359,25,0),0)","v":0},{"$f":"IFERROR(VLOOKUP(A9,'Gruber Tabelle'!$A$6:$AE$359,26,0),0)","v":0},{"$f":"IFERROR(VLOOKUP(A9,'Gruber Tabelle'!$A$6:$AE$359,27,0),0)","v":0},{"$f":"IFERROR(VLOOKUP(A9,'Gruber Tabelle'!$A$6:$AE$359,28,0),0)","v":0},{"$f":"IFERROR(VLOOKUP(A9,'Gruber Tabelle'!$A$6:$AE$359,29,0),0)","v":0},{"$f":"IFERROR(VLOOKUP(A9,'Gruber Tabelle'!$A$6:$AE$359,30,0),0)","v":0},{"$f":"IFERROR(VLOOKUP(A9,'Gruber Tabelle'!$A$6:$AE$359,31,0),0)","v":0}]
[null,{"$f":"IFERROR(VLOOKUP(A10,'Gruber Tabelle'!$A$6:$W$359,2,0),0)","v":0},null,null,null,null,{"$f":"IFERROR(VLOOKUP(A10,'Gruber Tabelle'!$A$6:$W$359,4,0),0)","v":0},{"$f":"IFERROR(VLOOKUP(A10,'Gruber Tabelle'!$A$6:$W$359,5,0),0)","v":0},{"$f":"IFERROR(VLOOKUP(A10,'Gruber Tabelle'!$A$6:$W$359,7,0),0)","v":0},{"$f":"IFERROR(VLOOKUP(A10,'Gruber Tabelle'!$A$6:$W$359,8,0),0)","v":0},{"$f":"IFERROR(VLOOKUP(A10,'Gruber Tabelle'!$A$6:$W$359,9,0)/100,0)","v":0},{"$f":"IFERROR(VLOOKUP(A10,'Gruber Tabelle'!$A$6:$W$359,10,0),0)","v":0},{"$f":"IFERROR(VLOOKUP(A10,'Gruber Tabelle'!$A$6:$W$359,11,0),0)","v":0},{"$f":"IFERROR(VLOOKUP(A10,'Gruber Tabelle'!$A$6:$W$359,12,0),0)","v":0},{"$f":"IFERROR(VLOOKUP(A10,'Gruber Tabelle'!$A$6:$W$359,13,0),0)","v":0},{"$f":"IFERROR(VLOOKUP(A10,'Gruber Tabelle'!$A$6:$W$359,14,0),0)","v":0},{"$f":"IFERROR(VLOOKUP(A10,'Gruber Tabelle'!$A$6:$W$359,15,0),0)","v":0},{"$f":"IFERROR(VLOOKUP(A10,'Gruber Tabelle'!$A$6:$W$359,16,0),0)","v":0},{"$f":"IFERROR(VLOOKUP(A10,'Gruber Tabelle'!$A$6:$W$359,17,0),0)","v":0},{"$f":"IFERROR(VLOOKUP(A10,'Gruber Tabelle'!$A$6:$W$359,18,0),0)","v":0},{"$f":"IFERROR(VLOOKUP(A10,'Gruber Tabelle'!$A$6:$W$359,19,0),0)","v":0},{"$f":"IFERROR(VLOOKUP(A10,'Gruber Tabelle'!$A$6:$W$359,20,0),0)","v":0},{"$f":"IFERROR(VLOOKUP(A10,'Gruber Tabelle'!$A$6:$W$359,21,0),0)","v":0},{"$f":"IFERROR(VLOOKUP(A10,'Gruber Tabelle'!$A$6:$W$359,22,0),0)","v":0},{"$f":"IFERROR(VLOOKUP(A10,'Gruber Tabelle'!$A$6:$W$359,23,0),0)","v":0},{"$f":"IFERROR(VLOOKUP(A10,'Gruber Tabelle'!$A$6:$AE$359,25,0),0)","v":0},{"$f":"IFERROR(VLOOKUP(A10,'Gruber Tabelle'!$A$6:$AE$359,26,0),0)","v":0},{"$f":"IFERROR(VLOOKUP(A10,'Gruber Tabelle'!$A$6:$AE$359,27,0),0)","v":0},{"$f":"IFERROR(VLOOKUP(A10,'Gruber Tabelle'!$A$6:$AE$359,28,0),0)","v":0},{"$f":"IFERROR(VLOOKUP(A10,'Gruber Tabelle'!$A$6:$AE$359,29,0),0)","v":0},{"$f":"IFERROR(VLOOKUP(A10,'Gruber Tabelle'!$A$6:$AE$359,30,0),0)","v":0},{"$f":"IFERROR(VLOOKUP(A10,'Gruber Tabelle'!$A$6:$AE$359,31,0),0)","v":0}]
[null,{"$f":"IFERROR(VLOOKUP(A11,'Gruber Tabelle'!$A$6:$W$359,2,0),0)","v":0},null,null,null,null,{"$f":"IFERROR(VLOOKUP(A11,'Gruber Tabelle'!$A$6:$W$359,4,0),0)","v":0},{"$f":"IFERROR(VLOOKUP(A11,'Gruber Tabelle'!$A$6:$W$359,5,0),0)","v":0},{"$f":"IFERROR(VLOOKUP(A11,'Gruber Tabelle'!$A$6:$W$359,7,0),0)","v":0},{"$f":"IFERROR(VLOOKUP(A11,'Gruber Tabelle'!$A$6:$W$359,8,0),0)","v":0},{"$f":"IFERROR(VLOOKUP(A11,'Gruber Tabelle'!$A$6:$W$359,9,0)/100,0)","v":0},{"$f":"IFERROR(VLOOKUP(A11,'Gruber Tabelle'!$A$6:$W$359,10,0),0)","v":0},{"$f":"IFERROR(VLOOKUP(A11,'Gruber Tabelle'!$A$6:$W$359,11,0),0)","v":0},{"$f":"IFERROR(VLOOKUP(A11,'Gruber Tabelle'!$A$6:$W$359,12,0),0)","v":0},{"$f":"IFERROR(VLOOKUP(A11,'Gruber Tabelle'!$A$6:$W$359,13,0),0)","v":0},{"$f":"IFERROR(VLOOKUP(A11,'Gruber Tabelle'!$A$6:$W$359,14,0),0)","v":0},{"$f":"IFERROR(VLOOKUP(A11,'Gruber Tabelle'!$A$6:$W$359,15,0),0)","v":0},{"$f":"IFERROR(VLOOKUP(A11,'Gruber Tabelle'!$A$6:$W$359,16,0),0)","v":0},{"$f":"IFERROR(VLOOKUP(A11,'Gruber Tabelle'!$A$6:$W$359,17,0),0)","v":0},{"$f":"IFERROR(VLOOKUP(A11,'Gruber Tabelle'!$A$6:$W$359,18,0),0)","v":0},{"$f":"IFERROR(VLOOKUP(A11,'Gruber Tabelle'!$A$6:$W$359,19,0),0)","v":0},{"$f":"IFERROR(VLOOKUP(A11,'Gruber Tabelle'!$A$6:$W$359,20,0),0)","v":0},{"$f":"IFERROR(VLOOKUP(A11,'Gruber Tabelle'!$A$6:$W$359,21,0),0)","v":0},{"$f":"IFERROR(VLOOKUP(A11,'Gruber Tabelle'!$A$6:$W$359,22,0),0)","v":0},{"$f":"IFERROR(VLOOKUP(A11,'Gruber Tabelle'!$A$6:$W$359,23,0),0)","v":0},{"$f":"IFERROR(VLOOKUP(A11,'Gruber Tabelle'!$A$6:$AE$359,25,0),0)","v":0},{"$f":"IFERROR(VLOOKUP(A11,'Gruber Tabelle'!$A$6:$AE$359,26,0),0)","v":0},{"$f":"IFERROR(VLOOKUP(A11,'Gruber Tabelle'!$A$6:$AE$359,27,0),0)","v":0},{"$f":"IFERROR(VLOOKUP(A11,'Gruber Tabelle'!$A$6:$AE$359,28,0),0)","v":0},{"$f":"IFERROR(VLOOKUP(A11,'Gruber Tabelle'!$A$6:$AE$359,29,0),0)","v":0},{"$f":"IFERROR(VLOOKUP(A11,'Gruber Tabelle'!$A$6:$AE$359,30,0),0)","v":0},{"$f":"IFERROR(VLOOKUP(A11,'Gruber Tabelle'!$A$6:$AE$359,31,0),0)","v":0}]
[null,{"$f":"IFERROR(VLOOKUP(A12,'Gruber Tabelle'!$A$6:$W$359,2,0),0)","v":0},null,null,null,null,{"$f":"IFERROR(VLOOKUP(A12,'Gruber Tabelle'!$A$6:$W$359,4,0),0)","v":0},{"$f":"IFERROR(VLOOKUP(A12,'Gruber Tabelle'!$A$6:$W$359,5,0),0)","v":0},{"$f":"IFERROR(VLOOKUP(A12,'Gruber Tabelle'!$A$6:$W$359,7,0),0)","v":0},{"$f":"IFERROR(VLOOKUP(A12,'Gruber Tabelle'!$A$6:$W$359,8,0),0)","v":0},{"$f":"IFERROR(VLOOKUP(A12,'Gruber Tabelle'!$A$6:$W$359,9,0)/100,0)","v":0},{"$f":"IFERROR(VLOOKUP(A12,'Gruber Tabelle'!$A$6:$W$359,10,0),0)","v":0},{"$f":"IFERROR(VLOOKUP(A12,'Gruber Tabelle'!$A$6:$W$359,11,0),0)","v":0},{"$f":"IFERROR(VLOOKUP(A12,'Gruber Tabelle'!$A$6:$W$359,12,0),0)","v":0},{"$f":"IFERROR(VLOOKUP(A12,'Gruber Tabelle'!$A$6:$W$359,13,0),0)","v":0},{"$f":"IFERROR(VLOOKUP(A12,'Gruber Tabelle'!$A$6:$W$359,14,0),0)","v":0},{"$f":"IFERROR(VLOOKUP(A12,'Gruber Tabelle'!$A$6:$W$359,15,0),0)","v":0},{"$f":"IFERROR(VLOOKUP(A12,'Gruber Tabelle'!$A$6:$W$359,16,0),0)","v":0},{"$f":"IFERROR(VLOOKUP(A12,'Gruber Tabelle'!$A$6:$W$359,17,0),0)","v":0},{"$f":"IFERROR(VLOOKUP(A12,'Gruber Tabelle'!$A$6:$W$359,18,0),0)","v":0},{"$f":"IFERROR(VLOOKUP(A12,'Gruber Tabelle'!$A$6:$W$359,19,0),0)","v":0},{"$f":"IFERROR(VLOOKUP(A12,'Gruber Tabelle'!$A$6:$W$359,20,0),0)","v":0},{"$f":"IFERROR(VLOOKUP(A12,'Gruber Tabelle'!$A$6:$W$359,21,0),0)","v":0},{"$f":"IFERROR(VLOOKUP(A12,'Gruber Tabelle'!$A$6:$W$359,22,0),0)","v":0},{"$f":"IFERROR(VLOOKUP(A12,'Gruber Tabelle'!$A$6:$W$359,23,0),0)","v":0},{"$f":"IFERROR(VLOOKUP(A12,'Gruber Tabelle'!$A$6:$AE$359,25,0),0)","v":0},{"$f":"IFERROR(VLOOKUP(A12,'Gruber Tabelle'!$A$6:$AE$359,26,0),0)","v":0},{"$f":"IFERROR(VLOOKUP(A12,'Gruber Tabelle'!$A$6:$AE$359,27,0),0)","v":0},{"$f":"IFERROR(VLOOKUP(A12,'Gruber Tabelle'!$A$6:$AE$359,28,0),0)","v":0},{"$f":"IFERROR(VLOOKUP(A12,'Gruber Tabelle'!$A$6:$AE$359,29,0),0)","v":0},{"$f":"IFERROR(VLOOKUP(A12,'Gruber Tabelle'!$A$6:$AE$359,30,0),0)","v":0},{"$f":"IFERROR(VLOOKUP(A12,'Gruber Tabelle'!$A$6:$AE$359,31,0),0)","v":0}]
[null,{"$f":"IFERROR(VLOOKUP(A13,'Gruber Tabelle'!$A$6:$W$359,2,0),0)","v":0},null,null,null,null,{"$f":"IFERROR(VLOOKUP(A13,'Gruber Tabelle'!$A$6:$W$359,4,0),0)","v":0},{"$f":"IFERROR(VLOOKUP(A13,'Gruber Tabelle'!$A$6:$W$359,5,0),0)","v":0},{"$f":"IFERROR(VLOOKUP(A13,'Gruber Tabelle'!$A$6:$W$359,7,0),0)","v":0},{"$f":"IFERROR(VLOOKUP(A13,'Gruber Tabelle'!$A$6:$W$359,8,0),0)","v":0},{"$f":"IFERROR(VLOOKUP(A13,'Gruber Tabelle'!$A$6:$W$359,9,0)/100,0)","v":0},{"$f":"IFERROR(VLOOKUP(A13,'Gruber Tabelle'!$A$6:$W$359,10,0),0)","v":0},{"$f":"IFERROR(VLOOKUP(A13,'Gruber Tabelle'!$A$6:$W$359,11,0),0)","v":0},{"$f":"IFERROR(VLOOKUP(A13,'Gruber Tabelle'!$A$6:$W$359,12,0),0)","v":0},{"$f":"IFERROR(VLOOKUP(A13,'Gruber Tabelle'!$A$6:$W$359,13,0),0)","v":0},{"$f":"IFERROR(VLOOKUP(A13,'Gruber Tabelle'!$A$6:$W$359,14,0),0)","v":0},{"$f":"IFERROR(VLOOKUP(A13,'Gruber Tabelle'!$A$6:$W$359,15,0),0)","v":0},{"$f":"IFERROR(VLOOKUP(A13,'Gruber Tabelle'!$A$6:$W$359,16,0),0)","v":0},{"$f":"IFERROR(VLOOKUP(A13,'Gruber Tabelle'!$A$6:$W$359,17,0),0)","v":0},{"$f":"IFERROR(VLOOKUP(A13,'Gruber Tabelle'!$A$6:$W$359,18,0),0)","v":0},{"$f":"IFERROR(VLOOKUP(A13,'Gruber Tabelle'!$A$6:$W$359,19,0),0)","v":0},{"$f":"IFERROR(VLOOKUP(A13,'Gruber Tabelle'!$A$6:$W$359,20,0),0)","v":0},{"$f":"IFERROR(VLOOKUP(A13,'Gruber Tabelle'!$A$6:$W$359,21,0),0)","v":0},{"$f":"IFERROR(VLOOKUP(A13,'Gruber Tabelle'!$A$6:$W$359,22,0),0)","v":0},{"$f":"IFERROR(VLOOKUP(A13,'Gruber Tabelle'!$A$6:$W$359,23,0),0)","v":0},{"$f":"IFERROR(VLOOKUP(A13,'Gruber Tabelle'!$A$6:$AE$359,25,0),0)","v":0},{"$f":"IFERROR(VLOOKUP(A13,'Gruber Tabelle'!$A$6:$AE$359,26,0),0)","v":0},{"$f":"IFERROR(VLOOKUP(A13,'Gruber Tabelle'!$A$6:$AE$359,27,0),0)","v":0},{"$f":"IFERROR(VLOOKUP(A13,'Gruber Tabelle'!$A$6:$AE$359,28,0),0)","v":0},{"$f":"IFERROR(VLOOKUP(A13,'Gruber Tabelle'!$A$6:$AE$359,29,0),0)","v":0},{"$f":"IFERROR(VLOOKUP(A13,'Gruber Tabelle'!$A$6:$AE$359,30,0),0)","v":0},{"$f":"IFERROR(VLOOKUP(A13,'Gruber Tabelle'!$A$6:$AE$359,31,0),0)","v":0}]
["Nr ","Futterart","Anteil in %","TS %","TM kg","FM kg","XF  g","aNDFom","CP g","nxP g","UDP g","RNB","Nel MJ","ME MJ","ST+ZU","bST","CL","Ca","P","Mg","Na","K","Cl","S","Preis","Fe","Cu","Zn","Mn","Co","J","Se"]
[{"$f":"A4","v":0},0,null,{"$f":"IFERROR(VLOOKUP(A4,'Gruber Tabelle'!$A$6:$W$359,3,0)/1000,0)","v":0},{"$f":"IF(F15>0,F15*D15,0)","v":0},{"$f":"IF(C15>0,(1*C15),0)","v":0},{"$f":"IF(G4>0,(G4*C15)*D15,0)","v":0},{"$f":"IF(H4>0,(H4*C15)*D15,0)","v":0},{"$f":"IF(I4>0,(I4*C15)*D15,0)","v":0},{"$f":"IF(J4>0,(J4*C15)*D15,0)","v":0},{"$f":"IF(K4>0,(I4*K4)*E15,0)","v":0},{"$f":"IFERROR(SUM((I15-J15)/6.25),0)","v":0},{"$f":"IF(M4>0,(M4*C15)*D15,0)","v":0},{"$f":"IF(N4>0,(N4*C15)*D15,0)","v":0},{"$f":"IF(O4>0,(O4*C15)*D15,0)","v":0},{"$f":"IF(P4>0,(P4*C15)*D15,0)","v":0},{"$f":"IF(Q4>0,(Q4*C15)*D15,0)","v":0},{"$f":"IF(R4>0,(R4*C15)*D15,0)","v":0},{"$f":"IF(S4>0,(S4*C15)*D15,0)","v":0},{"$f":"IF(T4>0,(T4*C15)*D15,0)","v":0},{"$f":"IF(U4>0,(U4*C15)*D15,0)","v":0},{"$f":"IF(V4>0,(V4*C15)*D15,0)","v":0},{"$f":"IF(W4>0,(W4*C15)*D15,0)","v":0},{"$f":"IF(X4>0,(X4*C15)*D15,0)","v":0},{"$f":"IF(C15>0,Y4*F15/100,0)","v":0},{"$f":"IF(Z4>0,(Z4*C15)*D15,0)","v":0},{"$f":"IF(AA4>0,(AA4*C15)*D15,0)","v":0},{"$f":"IF(AB4>0,(AB4*C15)*D15,0)","v":0},{"$f":"IF(AC4>0,(AC4*C15)*D15,0)","v":0},{"$f":"IF(AD4>0,(AD4*C15)*D15,0)","v":0},{"$f":"IF(AE4>0,(AE4*C15)*D15,0)","v":0},{"$f":"IF(AF4>0,(AF4*C15)*D15,0)","v":0}]
[0,0,null,{"$f":"IFERROR(VLOOKUP(A5,'Gruber Tabelle'!$A$6:$W$359,3,0)/1000,0)","v":0},{"$f":"IF(F16>0,F16*D16,0)","v":0},{"$f":"IF(C16>0,(1*C16),0)","v":0},{"$f":"IF(G5>0,(G5*C16)*D16,0)","v":0},{"$f":"IF(H5>0,(H5*C16)*D16,0)","v":0},{"$f":"IF(I5>0,(I5*C16)*D16,0)","v":0},{"$f":"IF(J5>0,(J5*C16)*D16,0)","v":0},{"$f":"IF(K5>0,(I5*K5)*E16,0)","v":0},0,{"$f":"IF(M5>0,(M5*C16)*D16,0)","v":0},{"$f":"IF(N5>0,(N5*C16)*D16,0)","v":0},{"$f":"IF(O5>0,(O5*C16)*D16,0)","v":0},{"$f":"IF(P5>0,(P5*C16)*D16,0)","v":0},{"$f":"IF(Q5>0,(Q5*C16)*D16,0)","v":0},{"$f":"IF(R5>0,(R5*C16)*D16,0)","v":0},{"$f":"IF(S5>0,(S5*C16)*D16,0)","v":0},{"$f":"IF(T5>0,(T5*C16)*D16,0)","v":0},{"$f":"IF(U5>0,(U5*C16)*D16,0)","v":0},{"$f":"IF(V5>0,(V5*C16)*D16,0)","v":0},{"$f":"IF(W5>0,(W5*C16)*D16,0)","v":0},{"$f":"IF(X5>0,(X5*C16)*D16,0)","v":0},0,{"$f":"IF(Z5>0,(Z5*C16)*D16,0)","v":0},{"$f":"IF(AA5>0,(AA5*C16)*D16,0)","v":0},{"$f":"IF(AB5>0,(AB5*C16)*D16,0)","v":0},{"$f":"IF(AC5>0,(AC5*C16)*D16,0)","v":0},{"$f":"IF(AD5>0,(AD5*C16)*D16,0)","v":0},{"$f":"IF(AE5>0,(AE5*C16)*D16,0)","v":0},{"$f":"IF(AF5>0,(AF5*C16)*D16,0)","v":0}]
[0,0,null,{"$f":"IFERROR(VLOOKUP(A6,'Gruber Tabelle'!$A$6:$W$359,3,0)/1000,0)","v":0},0,0,0,0,0,0,0,0,0,0,0,0,0,0,0,0,0,0,0,0,0,0,0,0,0,0,0,0]
[0,0,null,{"$f":"IFERROR(VLOOKUP(A7,'Gruber Tabelle'!$A$6:$W$359,3,0)/1000,0)","v":0},0,0,0,0,0,0,0,0,0,0,0,0,0,0,0,0,0,0,0,0,0,0,0,0,0,0,0,0]
[0,0,null,{"$f":"IFERROR(VLOOKUP(A8,'Gruber Tabelle'!$A$6:$W$359,3,0)/1000,0)","v":0},0,0,0,0,0,0,0,0,0,0,0,0,0,0,0,0,0,0,0,0,0,0,0,0,0,0,0,0]
[0,0,null,{"$f":"IFERROR(VLOOKUP(A9,'Gruber Tabelle'!$A$6:$W$359,3,0)/1000,0)","v":0},0,0,0,0,0,0,0,0,0,0,0,0,0,0,0,0,0,0,0,0,0,0,0,0,0,0,0,0]
[0,0,null,{"$f":"IFERROR(VLOOKUP(A10,'Gruber Tabelle'!$A$6:$W$359,3,0)/1000,0)","v":0},0,0,0,0,0,0,0,0,0,0,0,0,0,0,0,0,0,0,0,0,0,0,0,0,0,0,0,0]
[0,0,null,{"$f":"IFERROR(VLOOKUP(A11,'Gruber Tabelle'!$A$6:$W$359,3,0)/1000,0)","v":0},0,0,0,0,0,0,0,0,0,0,0,0,0,0,0,0,0,0,0,0,0,0,0,0,0,0,0,0]
[0,0,null,{"$f":"IFERROR(VLOOKUP(A12,'Gruber Tabelle'!$A$6:$W$359,3,0)/1000,0)","v":0},0,0,0,0,0,0,0,0,0,0,0,0,0,0,0,0,0,0,0,0,0,0,0,0,0,0,0,0]
[0,0,null,{"$f":"IFERROR(VLOOKUP(A13,'Gruber Tabelle'!$A$6:$W$359,3,0)/1000,0)","v":0},0,0,0,0,0,0,0,0,0,0,0,0,0,0,0,0,0,0,0,0,0,0,0,0,0,0,0,0]
[null,"Summe je kg FM:",{"$f":"SUM(C15:C24)","v":0},null,{"$f":"SUM(E15:E24)","v":0},{"$f":"SUM(F15:F24)","v":0},0,0,0,0,0,0,0,0,0,0,0,0,0,0,0,0,0,0,0,{"$f":"SUM(Z15:Z24)","v":0},{"$f":"SUM(AA15:AA24)","v":0},0,0,0,0,0]
["Milcherzeugungswerte / Kennzahlen",null,null,null,null,null,null,{"$f":"IF(C25=100%,H25/1000,0)","v":0},{"$f":"IFERROR(I25/Einstellung!E16,0)","v":0},{"$f":"IFERROR(J25/Einstellung!E16,0)","v":0},{"$f":"IF(K25>0,K25/I25,0)","v":0},{"$f":"IF(C25=100%,(I25-J25)/6.25,0)","v":0},{"$f":"IFERROR(M25/Einstellung!F15,0)","v":0},"Mengenelem. f. kg Milch:",null,null,null,{"$f":"IF(R25>0,R25/Einstellung!D23,0)","v":0},{"$f":"IF(S25>0,S25/Einstellung!E23,0)","v":0},{"$f":"IF(T25>0,T25/Einstellung!F23,0)","v":0},{"$f":"IF(U25>0,U25/Einstellung!G23,0)","v":0},null,null,null,{"$f":"IFERROR(Y25/M26,0)","v":0}]

{"sheet":"Gruber Tabelle","index":4,"n_rows":353,"n_cols":31,"rows_kept":353,"cut":false,"hidden":false,"merged":[[0,0,0,1],[0,24,0,30],[1,24,1,30],[2,24,2,30],[1,2,1,6],[2,2,3,2],[2,3,2,21],[1,7,1,23],[3,23,4,23],[1,0,4,1]]}
["Mischung 1"]
[null,null,"www.LfL.bayern.de",null,null,null,null,"Gruber Tabelle zur Fütterung der Milchkühe – Zuchtrinder – Mastrinder – Schafe – Ziegen"]
[null,null,"TM","in 1000 g Trockenmasse ( TM )",null,null,null,null,null,null,null,null,null,null,null,null,null,null,null,null,null,null,"Preis","Typ","Spurenelemente mg / kg TM"]
[null,null,null,"XF","aNDF","ADF","CP","nxP","UDP","RNB","NEL","ME","ST+ZU","bST","CL","Ca","P","Mg","Na","K","Cl","S","FM",null,"Fe","Cu","Zn","Mn","Co","J","Se"]
[null,null,"g","g","om g","om g","g","g","g","g","MJ","MJ","g","g","g","g","g","g","g","g","g","g","€ / dt",null,"mg","mg","mg","mg","mg","mg","mg"]
[1013,"Wiesengras, 1.Schnitt, im Blattst",175,173,433,209,228,153.62,43.44,{"$f":"(G6-H6)/6.25","v":11.900799999999998},7.12,12.87,137,0,33,6.9,3.8,2.4,0.9,31.5,7.1,2.8,null,"GF",100,8,35,59.1,0.12,0.4,0.03]
[1014,"Wiesengras, 1.Schnitt, im Scho",180,185,439,222,192,145.63999999999999,36.58,{"$f":"(G7-H7)/6.25","v":7.417600000000002},6.84,12.13,137,0,32,6.7,3.6,2.4,0.84,31.1,7,2.7,null,"GF",100,7.9,34.700000000000003,61.5,0.12,0.4,0.03]
[1015,"Wiesengras, 1.Schnitt",185,204,457,241,167,143.71,31.82,{"$f":"(G8-H8)/6.25","v":3.7263999999999986},6.56,11.48,137,0,30,6.5,3.4,2.2000000000000002,0.66,29.6,6.7,2.5,null,"GF",100,7.7,33,65,0.12,0.4,0.03]
[1016,"Wiesengras, 1.Schnitt, Beginn Bl",190,224,486,260,146,136.54,27.81,1.5136000000000012,6.29,10.8,137,0,28,6.4,3.3,2.1,0.54,28.8,6.6,2.2999999999999998,null,"GF",100,7.5,32.4,69.8,0.12,0.4,0.03]
[1017,"Wiesengras, 1.Schnitt, Ende Bl",200,246,515,281,120,127.17,22.86,-1.1472000000000002,5.93,9.9700000000000006,137,0,25,6,3.1,2,0.46,27.6,6.6,2.1,0,"GF",100,7.3,30.2,72,0.12,0.4,0.03]
[1023,"Wiesengras, 2.u Folge, i Blattst",200,227,488,270,179,140.03,34.1,6.2351999999999999,6.53,11.68,63,0,40,7.6,3.7,2.8,0.89,29,8.3000000000000007,3.2,0,"GF",100,8.1999999999999993,37.6,54.8,0.12,0.4,0.03]
[1024,"Wiesengras, 2.u Folge, i Sch",200,233,491,275,159,134.82,30.29,3.8688000000000011,6.34,11.18,63,0,37,7.6,3.5,2.8,0.79,28,8.1,3.2,0,"GF",100,8.1,35.200000000000003,69.2,0.12,0.4,0.03]
[1025,"Wiesengras. 2.Schnitt",200,241,510,285,144,133.38999999999999,27.43,1.6976000000000022,6.09,10.56,63,0,35,7.3,3.4,2.6,0.62,27.4,8,2.7,null,"GF",100,8,33.1,71.099999999999994,0.12,0.4,0.03]
[1026,"Wiesengras, 2.u Folge, Beg Blüte",200,259,537,304,124,126.59,23.62,-0.41440000000000055,5.85,9.9499999999999993,63,0,31,6.9,3.2,2.4,0.55000000000000004,25.6,7.7,2.5,null,"GF",100,7.6,31.8,80.7,0.12,0.4,0.03]
[1028,"Wiesengras, 3. Schnitt",200,237,480,266,168,135.9,32.01,5.1359999999999992,6.01,10.74,72,0,31,8.1999999999999993,3.4,2.9,0.78,24.3,7.6,2.7,null,"GF",250,8.1,32.5,72,0.12,0.4,0.03]
[1029,"Wiesengras, ab 4. Schnitt",180,212,470,260,202,144.63999999999999,38.49,9.1776000000000018,6.25,11.43,86,0,33,8.5,3.7,3,1,26.8,7.8,3.2,null,"GF",300,8.4,33,74.099999999999994,0.12,0.4,0.03]
[1055,"Weidegras, 1. Aufwuchs",190,180,400,210,196,149.54,37.340000000000003,7.4336000000000011,7.05,12.86,121,0,35,7,3.7,2.4,0.7,30,7,3,null,"GF",150,7.9,42,40,0.12,0.4,0.03]
[1065,"Weidegras, ab 2.Aufwuchs",200,214,430,230,192,141.47999999999999,36.58,8.0832000000000015,6.55,11.91,94,0,35,7.6,4.2,3,0.8,25,8.3000000000000007,3,null,"GF",250,8.4,42,50,0.12,0.4,0.03]
[1075,"Gras, angewelkt, 1.Schnitt",350,220,430,260,160,142.52000000000001,30.48,2.7967999999999984,6.53,11.82,135,0,35,6.5,3.5,2.2000000000000002,0.79,28.9,6.6,2.4,null,"GF",200,7.7,33,50,0.12,0.4,0.03]
[1085,"Gras, angewelkt, ab 2.Schnitt",350,230,480,270,165,137.4,31.43,4.4159999999999995,6.14,10.9,90,0,35,7.8,3.6,2.8,1.02,28.1,7.8,2.8,null,"GF",300,8,38.799999999999997,47.7,0.12,0.4,0.03]
[1125,"GrünGerste",290,235,580,320,108,143.02000000000001,21.3,-5.603200000000002,7.01,10.3,90,0,25,4.8,2.6,1.5,0.28999999999999998,23.8,1.8,1.8,null,"GF",100,5.0999999999999996,29.9,45.4,0.12,0.35,0.02]
[1145,"GrünHafer",290,285,530,340,111,128.18,21.89,-2.748800000000001,6.07,10.17,104,0,32,5.7,3.4,2.2000000000000002,0.71,27,3.9,1.8,null,"GF",191.6,7.3,27.6,50.3,0.12,0.35,0.02]
[1165,"GrünRoggen",260,300,520,330,115,131.41999999999999,22.68,-2.627199999999998,6.25,10.17,93,0,32,4.3,3.7,1.6,0.33,30.2,5,1.8,null,"GF",202.5,6.5,27.4,43.3,0.12,0.35,0.02]
[1203,"GrünMais, in der Kolbenbildung",200,248,501,284,82,123.98,15.63,-6.716800000000001,5.99,10.31,226,19.78,17,3,2.2000000000000002,1.7,0.2,12.1,1.5,1.1000000000000001,null,"GF",120,7.7,30,26.5,0.1,0.3,0.01]
[1204,"GrünMais, in der Milchreife",225,230,475,266,76,124.99,14.48,-7.8383999999999991,6.17,10.61,257,31.51,20,2.9,2.2000000000000002,1.7,0.2,12.1,1.5,1.1000000000000001,null,"GF",110,7.7,30,26.5,0.08,0.3,0.01]
[1205,"GrünMais",240,210,430,245,74,127.75,14.1,-8.6,6.4,10.94,303,46.69,24,2.8,2.2000000000000002,1.7,0.2,12.1,1.5,1.1000000000000001,null,"GF",100,7.7,30,26.5,7.0000000000000007E-2,0.3,0.01]
[1265,"Mais, Restpflanze, grün",350,270,553,330,42,101,6.34,-9.44,5.13,6.26,97,9.1999999999999993,15,3.2,2.5,0.9,0.02,10.9,2.2000000000000002,1.1000000000000001,null,"GF",45.5,4.4000000000000004,16.2,13.7,0.08,0.3,0.01]
[1275,"GrünMais, zum Silieren",340,200,400,225,76,132.35,14.48,-9.0159999999999982,6.69,11.26,410,48,30,2,2.2999999999999998,1.5,0.26,12,1.1000000000000001,1,null,"GF",100,5,34,35,7.0000000000000007E-2,0.3,0.01]
[1305,"Ackerbohnen, grün",200,330,506,386,150,110.83,12.32,6.2671999999999999,4.87,10.82,47,0,20,15.5,3.5,3.3,2,23,2,2,null,"GF",200,9,50,60,0.12,0.35,0.02]
[1306,"Sojabohnen, grün",300,274,453,349,186,126.24,15.27,9.5616000000000003,5.62,10.71,44,0,22,15.8,3.9,4.3,0.4,27.1,1.5,2.4,null,"GF",600,10.5,41,64,0.12,0.35,0.02]
[1315,"Hülsenfrucht Gemenge",200,265,607,330,120,126.85,9.85,-1.0959999999999992,5.89,11.13,101,0,22,7,4,1.8,0.4,30,2,3,null,"GF",200,9,50,60,0.12,0.35,0.02]
[1335,"Erbs- Wick- Gemenge",180,269,571,342,169,134.19999999999999,13.88,5.5680000000000014,5.87,11.54,52,0,28,7.7,4.8,2,0.28999999999999998,28.5,5.0999999999999996,3.1,null,"GF",378.4,4.8,31.2,36.1,0.12,0.35,0.02]
[1345,"Grünerbsen (Ganzpflanze)",170,262,453,336,197,145.93,16.170000000000002,8.1711999999999989,5.91,11.3,58,0,27,11,5,2.5,0.5,30,2,2,null,"GF",200,9,50,60,0.12,0.35,0.02]
[1355,"Hülsenfrüchte- Sonnenbl- Gem",240,398,575,461,130,105.49,10.68,3.9216000000000006,4.45,10.54,59,0,22,0,0,0,0,0,0,0,null,"GF",0,0,0,0,0.12,0.35,0.01]
[1375,"Wick- Roggen",200,300,620,350,120,125.1,22.86,-0.81599999999999906,5.78,11.6,80,0,21,5,4,1.9,0.1,30,2,2,null,"GF",200,9,50,60,0.12,0.35,0.02]
[1424,"Raps, grün, jung, blattreich",120,134,367,209,180,146.26,17.91,5.3984000000000014,6.65,11.41,133,0,41,17,4.5,2.6,1.3,32,11,7,null,"GF",200,7,22,95,0.12,0.35,0.03]
[1425,"Raps, grün",180,215,435,283,150,127.12,14.92,3.6607999999999992,5.69,11.27,76,0,37,19,5,2.6,1.4,32,11,7,null,"GF",200,7,22,95,0.12,0.35,0.03]
[1435,"Perko, grün",100,127,320,190,216,144.94999999999999,21.48,11.368000000000002,6.26,10.58,110,0,38,13,6,1.2,1.1000000000000001,30,9,4,null,"GF",200,8,50,60,0.12,0.35,0.1]
[1444,"Rübsen, jung, blattreich",110,107,290,170,180,148.01,17.91,5.1184000000000012,6.85,11.02,90,0,42,16,3.6,2.4,0.9,30,9,4,null,"GF",200,8,50,60,0.12,0.35,0.1]
[1445,"Rübsen, grün",120,146,350,205,189,146.34,18.8,{"$f":"(G40-H40)/6.25","v":6.8255999999999997},6.62,11.04,70,0,37,16,4.5999999999999996,2.7,1.4,30,9,4,null,"GF",200,8,50,60,0.12,0.35,0.1]
[1455,"Sonnenblumen, grün",190,220,430,290,120,120.41,9.85,-6.559999999999945E-2,5.51,10.25,110,0,50,0,0,0,0,0,0,0,null,"GF",0,0,0,0,0.12,0.35,0.01]
[1465,"Senf, grün",140,210,430,250,215,138.13999999999999,21.39,12.297600000000003,5.75,10.96,110,0,26,15.5,4,3.4,0,25,9,4,null,"GF",200,8,50,60,0.12,0.35,0.1]
[1485,"Markstammkohl",115,144,345,205,178,146.38999999999999,17.71,5.0576000000000025,6.69,11.52,50,0,30,19.7,3.5,2,1.7,29,11.4,6.1,null,"GF",200,6.3,35,27,0.12,0.35,0.1]
[1505,"Zuckerrübenblatt, sauber",160,109,295,175,160,138.81,30.12,3.3903999999999996,6.45,10.72,220,0,21,12.4,2.5,4.8,9.5,35,15,5.2,null,"GF",250,11.5,72,179,0.37,0.83,0.1]
[1555,"Futterrübenblatt, sauber",120,114,300,180,138,126.36,25.98,1.8624000000000001,5.86,9.83,100,0,22,20,2.5,6.1,6.1,45,13.3,6.2,null,"GF",250,8.3000000000000007,50,130,0.3,0.8,0.1]
[1614,"Rotklee, 1.Schnitt, vor der Knospe",140,200,355,275,261,165.55,17.75,15.271999999999998,6.38,10.36,80,0,34,10,3.7,2.5,0.5,32,3,2.2999999999999998,null,"GF",150,7.7,30,40,0.12,0.35,0.03]
[1615,"Rotklee, 1.Schnitt",155,215,385,305,219,151.51,14.89,10.798400000000001,6.01,10.01,80,0,28,10,3.7,2.5,0.5,32,3,2.2999999999999998,null,"GF",150,7.7,30,40,0.12,0.35,0.03]
[1616,"Rotklee, 1.Schnitt, Beginn Blüte",160,230,425,345,166,134.04,11.29,5.1136000000000017,5.57,9.56,80,0,24,10,3.7,2.5,0.5,32,3,2.2999999999999998,null,"GF",150,7.7,30,40,0.12,0.35,0.03]
[1624,"Rotklee, 2. FolgeSchnitte, v d Kn",170,210,370,290,235,150.47999999999999,15.98,13.523200000000001,5.71,9.65,60,0,29,14,3.9,3,0.5,35,4.4000000000000004,2.5,null,"GF",150,8.8000000000000007,35,45,0.12,0.35,0.03]
[1625,"Rotklee, ab 2.Schnitt",190,217,410,330,211,140.36000000000001,14.35,11.302399999999999,5.36,9.14,60,0,27,14,3.9,3,0.5,35,4.4000000000000004,2.5,null,"GF",150,8.8000000000000007,35,45,0.12,0.35,0.03]
[1626,"Rotklee, 2.und Folge, Begi Blüte",210,282,450,370,164,123.6,11.15,6.4640000000000013,4.9000000000000004,8.57,60,0,25,14,3.9,3,0.5,35,4.4000000000000004,2.5,null,"GF",150,8.8000000000000007,35,45,0.12,0.35,0.03]
[1633,"KleeGras, 1.Schnitt, vor der Knospe",150,215,380,220,200,151.53,13.6,7.7551999999999994,6.75,11.52,80,0,29,8.3000000000000007,3.9,2.7,0.6,35.1,4.5,2.5,null,"GF",150,8.4,32,39,0.12,0.35,0.03]
[1634,"KleeGras, 1.Schnitt, in der Knospe",160,225,410,250,180,143.97,12.24,5.7648000000000001,6.44,11.07,80,0,28,8.3000000000000007,3.8,2.2000000000000002,0.6,33,4.5,2.2000000000000002,null,"GF",150,7,30,39,0.12,0.35,0.03]
[1635,"KleeGras, 1.Schnitt",175,235,440,280,160,136.52000000000001,10.88,3.7567999999999984,6.15,10.64,80,0,27,8.3000000000000007,3.5,2.1,0.6,32,4.5,2,null,"GF",150,6.6,27,39,0.12,0.35,0.03]
[1636,"KleeGras, 1.Schnitt, in der Blüte",200,245,470,310,140,131.96,9.52,1.2863999999999987,5.8,10.18,80,0,23,8.3000000000000007,3.3,1.9,0.6,29,4,1.7,null,"GF",150,6.2,25.1,39,0.12,0.35,0.03]
[1644,"KleeGras, 2.u Folge, vor d Kn",150,218,430,283,220,140.12,14.96,12.780799999999999,5.76,9.86,53,0,29,9.4,3.9,2.8,0.39,36.4,5.7,2.8,null,"GF",175,8.9,33.5,40.700000000000003,0.12,0.35,0.03]
[1645,"KleeGras, 2. Schnitt",175,248,466,306,180,130.66,12.24,7.894400000000001,5.55,9.7200000000000006,61,0,28,9.4,3.9,2.7,0.38,32.4,5.7,2.6,null,"GF",175,8.4,33.5,40.700000000000003,0.12,0.35,0.03]
[1646,"KleeGras, 2.uFolge, Beg Blüte",190,271,509,328,150,128.53,10.199999999999999,3.4352,5.41,9.68,73,0,25,9.4,3.9,2.2999999999999998,0.43,31,5.7,2.1,null,"GF",175,6.8,33.5,40.700000000000003,0.12,0.35,0.03]
[1648,"KleeGras, 3.Schnitt",190,238,440,295,189,133.04,12.85,8.9536000000000016,5.61,9.76,56,0,27,12.2,3.7,2.9,0.41,29.8,5.7,2.5,null,"GF",82.6,8.9,30.6,40.299999999999997,0.12,0.35,0.03]
[1649,"KleeGras, ab 4.Schnitt",170,212,427,255,211,142.21,14.35,11.006399999999999,5.99,10.35,57,0,31,10.6,4.3,2.7,0.66,31.8,7,3,null,"GF",111.3,9,31.8,41.2,0.12,0.35,0.03]
[1655,"Juraklee- Gras",170,245,500,290,185,139.51,12.58,{"$f":"(G61-H61)/6.25","v":7.2784000000000013},6.08,10.41,50,0,30,10,3.7,1.9,0.8,35,6,2,null,"GF",200,9,50,60,0.12,0.35,0.1]
[1665,"Alexandrinerklee",125,237,485,285,200,156,13.6,{"$f":"(G62-H62)/6.25","v":7.04},6.13,10.08,80,0,43,16,3.9,3.2,1.3,33,6,2,null,"GF",150,9,55,60,0.12,0.35,0.1]
[1685,"Perserklee",118,218,455,265,203,146.74,13.8,9.001599999999998,5.95,10.1,80,0,24,16,3.5,2,1.35,28,6,2,null,"GF",150,9,50,60,0.12,0.35,0.1]
[1714,"Luzerne, 1.Schnitt, in der Knospe",150,233,368,310,236,145.53,31.68,14.475199999999999,5.95,9.91,50,0,26,16,3.8,3.1,0.5,32,2.8,2.5,null,"GF",150,7.2,29,29,0.15,0.3,0.03]
[1715,"Luzerne, 1.Schnitt",180,246,400,320,203,145.05000000000001,27.24,9.2719999999999985,5.79,9.8699999999999992,50,0,23,14.5,3.5,2.8,0.5,31,2.8,2.5,null,"GF",150,7.2,29,29,0.15,0.3,0.03]
[1716,"Luzerne, 1.Schnitt, Ende Blüte",210,283,465,350,160,136.6,21.48,3.7440000000000011,5.48,9.5299999999999994,50,0,22,13,3,2.5,0.5,30,2.8,2.5,null,"GF",150,7.2,29,29,0.15,0.3,0.03]
[1724,"Luzerne, 2.u FolgeSchn, i d Kn",180,223,357,264,244,146.66,32.75,15.574400000000001,5.94,10.02,55,0,27,16,4.0999999999999996,3.2,0.5,31,3,2.9,null,"GF",150,8,27,31,0.15,0.3,0.03]
[1725,"Luzerne ab 2.Schnitt",195,280,421,331,208,138.47,27.92,11.1248,5.27,8.98,55,0,24,15,3.7,2.8,0.5,30,3,2.9,null,"GF",150,8,27,31,0.15,0.3,0.03]
[1726,"Luzerne 2.u FolgeSchn, Ende Bl",210,327,473,379,177,125.43,23.75,8.251199999999999,4.83,8.35,55,0,22,14,3.4,2.2000000000000002,0.5,29,3,2.9,null,"GF",150,8,27,31,0.15,0.3,0.03]
[1734,"LuzerneGras, 1.Schnitt, vor d Kn",160,205,385,238,195,148.13999999999999,26.17,7.497600000000002,6.57,11.29,75,0,25,10.4,3.9,2.2000000000000002,0.57999999999999996,32.9,2.6,2.4,null,"GF",100,7.8,36.4,44.7,0.12,0.35,0.03]
[1735,"LuzerneGras, 1.Schnitt",170,243,432,288,183,139.52000000000001,24.56,6.9567999999999985,6.1,10.52,61,0,25,8.9,3.6,2.2000000000000002,0.26,32,2.6,2.4,null,"GF",100,7.8,31.3,38.9,0.12,0.35,0.03]
[1736,"LuzerneGras, 1.Schnitt, i d Bl",180,300,503,346,161,127.4,21.61,5.3759999999999994,5.53,9.58,47,0,24,8.6999999999999993,3.5,2.2000000000000002,0.13,28.3,2.6,2.4,null,"GF",100,7.8,30.1,30,0.12,0.35,0.03]
[1744,"LuzerneGras, 2.u Folge, i d Kn",190,213,381,256,229,145.21,30.73,{"$f":"(G73-H73)/6.25","v":13.406399999999998},6,10.26,46,0,29,14.5,4.2,3.1,0.43,33.1,4.2,3.3,null,"GF",100,9.3000000000000007,30,45.1,0.12,0.35,0.03]
[1745,"LuzerneGras, ab 2.Schnitt",195,259,431,307,196,132.69999999999999,26.31,10.128000000000002,5.52,9.58,40,0,27,14.5,3.6,2.8,0.4,31.1,3.4,2.9,null,"GF",100,8.1,30,36.6,0.12,0.35,0.03]
[1746,"LuzerneGras, 2.u FolgeSchn, i d Bl",200,315,485,367,177,120.82,23.75,8.9888000000000012,4.9400000000000004,8.61,28,0,24,14.5,3.3,2.6,0.4,29,1.7,2.7,null,"GF",100,7.6,30,29.6,0.12,0.35,0.03]
[1814,"Weidelgras, 1.Schnitt, im Schossen",170,190,420,200,171,151.85,32.96,3.0640000000000009,7.08,12.17,180,0,31,5.5,3.8,1.8,0.4,36.700000000000003,6,2,null,"GF",200,6,31,50,0.12,0.35,0.03]
[1815,"Weidelgras, 1.Schnitt",180,220,480,260,145,138.22999999999999,27.94,1.0832000000000017,6.43,11.01,150,0,27,5.5,3.3,1.8,0.39,33,6,2,null,"GF",200,6,31,50,0.12,0.35,0.03]
[1816,"Weidelgras, 1.Schnitt, Beginn Blüte",190,260,530,310,110,123.12,21.2,-2.0992000000000006,5.79,9.75,105,0,24,5.5,3.2,1.8,0.37,32.200000000000003,6,2,null,"GF",200,6,31,50,0.12,0.35,0.03]
[1824,"Weidelgras, 2.uFolgeSchni, im Sch",180,210,447,218,195,156.76,37.58,6.1184000000000012,7.13,12.56,120,0,43,5.5,3.8,1.8,0.4,36.700000000000003,6,2,null,"GF",200,6,31,50,0.12,0.35,0.03]
[1825,"Weidelgras, ab 2.Schnitt",190,229,496,251,175,145.16,33.729999999999997,4.7744000000000009,6.55,11.35,90,0,38,5.5,3.3,1.8,0.4,33,6,2,null,"GF",200,6,31,50,0.12,0.35,0.03]
[1826,"Weidelgras, 2.und FolgeSchn, Beg Bl",200,261,538,311,160,131.94,30.83,4.4896000000000003,5.83,10.3,60,0,32,5.5,3.2,1.8,0.4,32.200000000000003,6,2,null,"GF",200,6,31,50,0.12,0.35,0.03]
[1865,"Landsberger Gemenge",190,202,442,254,190,141.15,18.89,7.8159999999999989,6.15,10.98,105,0,26,7.3,3,1.7,0.45,26,5,2,null,"GF",150,8,45,70,0.12,0.35,0.02]
[1875,"Zuckerhirse",230,315,658,392,92,121.98,10.63,-4.7968000000000011,5.85,11.38,99,0,20,5.2,2.2999999999999998,2,0.24,16.100000000000001,3.8,1.4,null,"GF",150,7.3,30.9,33.799999999999997,0.12,0.4,0.01]
[1885,"SudanGras",230,330,681,408,81,108.71,9.36,-4.4335999999999993,5.1100000000000003,11.32,29,0,18,5.2,2.2999999999999998,2,0.21,16.100000000000001,3.8,1.4,null,"GF",150,7.3,30.9,33.799999999999997,0.12,0.4,0.01]
[2010,"GrasSilage",350,256,515,281,165,135.87,21.81,4.6607999999999992,6.04,10.62,15,0,38,6.3,3.8,2.2999999999999998,0.8,30,7,2.2000000000000002,null,"GF",200,8.5,50,85,0.12,0.4,0.03]
[2013,"GrasSilage, angew., 1.Schnitt, i Sch",350,227,488,270,179,145.56,23.65,5.3503999999999996,6.53,11.68,63,0,40,6.8,3.7,2.4,0.89,31.1,7,2.7,null,"GF",350,7.9,34.700000000000003,61.5,0.12,0.4,0.03]
[2014,"GrasSilage, angew., 1.Sch, RispSch",350,233,491,275,159,139.41999999999999,21.01,3.1328000000000018,6.34,11.18,63,0,37,6.7,3.5,2.2999999999999998,0.71,29.6,6.7,2.5,null,"GF",350,7.7,33,65,0.12,0.4,0.03]
[2015,"GrasSilage, angewelkt, 1.Schnitt",350,241,510,285,144,133.38999999999999,19.03,1.6976000000000022,6.09,10.56,63,0,35,6.5,3.4,2.2000000000000002,0.59,28.8,6.6,2.2999999999999998,0,"GF",350,7.5,32.4,69.8,0.12,0.4,0.03]
[2016,"GrasSilage, angew., 1.Schn, Mitte Bl",350,259,537,304,124,126.59,16.39,-0.41440000000000055,5.85,9.9499999999999993,63,0,31,6.1,3.2,2,0.51,27.6,6.6,2.1,null,"GF",350,7.3,30.2,72,0.12,0.4,0.03]
[2024,"GrasSilage, angew., 2.uFolge, Sch",350,255,495,270,169,139,22.33,4.8,6.2,10.94,50,0,40,7.6,3.6,2.7,0.85,28.7,8.1,2.9,null,"GF",380,8.1999999999999993,34.5,68.2,0.12,0.4,0.03]
[2025,"GrasSilage, angewelkt, 2.Schnitt",350,275,510,285,148,130.94999999999999,19.559999999999999,2.728000000000002,5.89,10.23,50,0,37,7.4,3.5,2.6,0.75,27.4,8,2.7,null,"GF",380,8,33.1,71.099999999999994,0.12,0.4,0.03]
[2026,"GrasSil, angew., 2.u F, RispenSpr",350,297,535,305,128,124.16,16.91,0.6144000000000005,5.65,9.64,50,0,33,7,3.3,2.5,0.6,25.6,7.7,2.5,null,"GF",380,7.6,31.8,80.7,0.12,0.4,0.03]
[2028,"GrasSilage, angewelkt, 3.Schnitt",350,241,488,272,165,134.13,21.81,4.9392000000000005,5.93,10.49,46,0,38,8.3000000000000007,3.5,3,0.9,26.1,7.7,2.8,null,"GF",400,8.1999999999999993,33,75,0.12,0.4,0.03]
[2029,"GrasSilage, angewelkt, ab 4.Schnitt",335,217,476,267,180,138.84,23.79,6.5855999999999995,6.09,10.93,39,0,41,8.6,3.8,3.1,1.1000000000000001,28,7.8,3.3,null,"GF",500,8.5,33.299999999999997,76.599999999999994,0.12,0.4,0.03]
[2034,"GrasSilage, naß, 1.Schn, RispSch",250,224,465,260,180,140.69999999999999,23.79,6.288000000000002,6.23,11.2,25,0,40,6.5,4,2.35,0.7,31,7,2.2000000000000002,null,"GF",200,9,45,80,0.12,0.4,0.03]
[2035,"GrasSilage, naß, 1.Schnitt",250,256,515,280,165,134.24,21.81,4.9215999999999989,5.95,10.37,15,0,38,6.3,3.8,2.2999999999999998,0.8,30,7,2.2000000000000002,null,"GF",200,8.5,50,85,0.12,0.4,0.03]
[2036,"GrasSilage, naß, 1.Sch, Mitte Bl",250,295,570,308,145,126.78,19.16,2.9152,5.65,9.51,10,0,36,5.8,3.7,2.15,0.8,29,8,2.2000000000000002,null,"GF",200,8,50,90,0.12,0.4,0.03]
[2044,"GrasSilage, naß, 2.und Folge, Scho",250,190,405,252,188,139.97,24.84,7.6848000000000001,6.12,11.46,20,0,42,9,3.8,3.2,1,27,6,2.2000000000000002,null,"GF",200,9,50,100,0.12,0.4,0.04]
[2045,"GrasSilage, naß, ab 2.Schnitt",250,225,460,272,174,134.75,23,6.28,5.89,10.73,20,0,40,8.5,3.7,3.1,1,25,7,2.4,null,"GF",200,9,50,100,0.12,0.4,0.04]
[2046,"GrasSil, naß, 2.u Folge, RispSpr",250,258,510,303,160,127.68,21.14,5.1711999999999989,5.57,9.93,15,0,37,7.5,3.6,2.7,1,25,7,2.2999999999999998,null,"GF",200,8.5,50,100,0.12,0.4,0.04]
[2125,"GrünGersten- Silage",350,260,580,320,102,137.87,13.11,-5.7392000000000003,6.73,10.64,40,0,21,4.8,3.2,1.6,0.71,28.8,5.8,2.2000000000000002,null,"GF",567.6,6.3,33.4,45.4,0.12,0.35,0.02]
[2134,"GPS Gerste KornArm",340,300,630,347,91,108.95,19.64,-2.8720000000000003,5.03,9.5500000000000007,210,15,22,4.5,2.6,1.3,0.3,17.7,3.4,1.6,null,"GF",158.6,6.8,28.3,43.3,0.12,0.35,0.02]
[2135,"GPS Gerste",360,270,590,315,87,113.24,18.78,-4.1983999999999995,5.34,9.65,270,22,23,4.3,2.6,1.3,0.3,17.7,3.4,1.6,null,"GF",158.6,6.8,28.3,43.3,0.12,0.35,0.02]
[2136,"GPS Gerste KornReich",380,240,550,294,81,117,17.48,-5.76,5.64,9.6999999999999993,330,29,24,4.0999999999999996,2.6,1.3,0.3,17.7,3.4,1.6,null,"GF",158.6,6.8,28.3,43.3,0.12,0.35,0.02]
[2144,"Grnhafersilage Rispenschieben",325,260,485,302,118,134.16999999999999,15.17,-2.5871999999999979,6.42,11.12,51,0,36,5.7,3.4,2.2000000000000002,0.71,27,3.9,1.8,null,"GF",191.6,7.3,27.6,50.3,0.12,0.35,0.02]
[2145,"GrünHafer- Silage",325,286,529,338,105,127.26,13.49,-3.5616000000000008,6.08,11.93,45,0,32,5.7,3.4,2.2000000000000002,0.71,27,3.9,1.8,null,"GF",191.6,7.3,27.6,50.3,0.12,0.35,0.02]
[2146,"Grünhafersilage abgeblht",325,313,583,370,101,123.4,12.98,-3.584000000000001,5.73,9.3699999999999992,36,0,29,5.7,3.4,2.2000000000000002,0.71,27,3.9,1.8,null,"GF",191.6,7.3,27.6,50.3,0.12,0.35,0.02]
[2164,"Grnroggensilage hrenschieben",270,259,481,295,130,137.66,16.71,-1.2255999999999994,6.53,10.25,41,0,35,4.3,3.7,1.6,0.33,30.2,5,1.8,null,"GF",202.5,6.5,27.4,43.3,0.12,0.35,0.02]
[2165,"GrünRoggen- Silage",270,305,541,337,110,129.66,14.13,-3.1455999999999995,6.18,11.24,30,0,33,4.3,3.7,1.6,0.33,30.2,5,1.8,null,"GF",202.5,6.5,27.4,43.3,0.12,0.35,0.02]
[2166,"Grnroggensilage abgeblht",270,335,596,378,98,124.87,12.59,-4.2992000000000008,5.98,9.41,23,0,30,4.3,3.7,1.6,0.33,30.2,5,1.8,null,"GF",202.5,6.5,27.4,43.3,0.12,0.35,0.02]
[2175,"GPS Roggen u. Tritcale",350,285,600,329,78,109.12,16.829999999999998,-4.9792000000000005,5.17,9.5500000000000007,244,18,22,3.8,2.7,1.3,0.26,15.8,3,1.4,null,"GF",100.7,6.8,31.3,45.3,0.12,0.35,0.02]
[2185,"GPS Weizen",400,263,580,312,81,111.33,17.48,{"$f":"(G112-H112)/6.25","v":-4.8527999999999993},5.28,9.59,340,24,22,3.3,2.7,1.5,0.27,14,2.1,1.6,null,"GF",100,6.4,27.3,43.2,0.12,0.35,0.02]
[2206,"MaisSilage, in Wachsreife",350,200,398,234,76,131.84,11.47,-8.9344000000000001,6.64,11.25,359,48.6,30,2.7,2.2999999999999998,1.5,0.23,12,1.5,1.1000000000000001,null,"GF",87.8,7.8,29.8,25.7,0.08,0.3,0.01]
[2216,"MaisSil, Wachsr körn arm ",350,221,430,253,77,129.13,11.62,-8.3407999999999998,6.43,10.98,315,41.55,27,2.8,2.2000000000000002,1.6,0.23,13.2,1.7,1.2,null,"GF",92.5,7.5,30.9,28.9,0.08,0.3,0.01]
[2226,"MaisSilage, in Wachsreife, körnerreich, 36% TM",350,183,369,216,75,133.93,11.32,-9.4288000000000007,6.82,11.47,403,55.05,31,2.7,2.2000000000000002,1.5,0.23,11.2,1.4,1.1000000000000001,0,"GF",84.6,7.8,29.6,25.1,0.08,0.3,0.01]
[2245,"MaisSilage, Pflückhäcksel 24",400,180,365,215,80,135.72999999999999,12.07,-8.9167999999999985,6.85,11.49,396,54,33,2.7,2.4,1.4,0.2,9.6999999999999993,1.2,1.1000000000000001,0,"GF",85,7.5,30,18,0.08,0.3,0.01]
[2246,"MaisSilage, Pflückhäcksel 22",410,151,313,175,78,140.33000000000001,11.77,-9.9728000000000012,7.23,11.97,477,65.849999999999994,34,2.6,2.4,1.3,0.2,8.5,0.9,1.1000000000000001,null,"GF",85,7.2,30,18,0.08,0.3,0.01]
[2305,"GPS Ackerbohne",310,272,373,315,163,125.31,18.89,6.0303999999999993,5.39,9.5,32,0,28,15.8,3.9,4.3,0.41,27.1,1.5,2.4,null,"GF",683.1,10.5,41,64,0.12,0.35,0.01]
[2315,"GPS Hülsenfrüchte",310,274,490,334,116,120.88,13.44,-0.78079999999999927,5.55,10.32,44,0,27,9.1,3.5,1.9,0.43,19.399999999999999,3.1,1.7,null,"GF",151,6.7,33.799999999999997,44.6,0.12,0.35,0.01]
[2424,"RapsSilage, jung, blattreich,",170,150,283,239,165,142.41999999999999,19.11,3.6128000000000018,6.6,10.82,13,0,38,18,3.5,2.7,0.4,25,9,5,null,"GF",200,5,25,60,0.12,0.35,0.03]
[2425,"RapsSilage",200,225,373,284,150,127.66,17.38,3.5744000000000007,5.77,9.11,13,0,22,18,3.5,2.7,0.4,25,9,5,null,"GF",200,5,25,60,0.12,0.35,0.03]
[2435,"PerkoSilage",140,165,380,225,185,146.38,21.43,{"$f":"(G122-H122)/6.25","v":6.1792000000000007},6.64,9.36,5,0,41,13,6,1.2,1.1000000000000001,30,9,4,null,"GF",200,8,50,60,0.12,0.35,0.1]
[2445,"RübsenSilage",170,226,334,318,114,138.46,13.21,-3.9136000000000011,6.81,9.77,73,0,30,0,0,0,0,0,0,0,null,"GF",0,0,0,0,0.12,0.35,0.03]
[2485,"Markstammkohl- Silage",140,170,385,225,160,122.34,18.53,6.0255999999999998,5.28,8.76,5,0,30,19.7,3.5,2,1.7,29,11.4,6.1,null,"GF",200,6.3,35,27,0.12,0.35,0.1]
[2505,"Zuckerrübenblatt- Silage, sauber",180,145,350,205,150,130.38999999999999,20.7,3.1376000000000022,5.98,10.64,16,0,32,10,2.4,4,7,27,15,5,null,"GF",250,15,59,157,0.35,0.8,0.1]
[2506,"Zuckerrübenblatt- Sil, verschm",180,130,325,195,140,117.07,19.32,3.6688000000000009,5.28,9.76,10,0,31,12,2,4.5,9,29,15,5,null,"GF",250,14.7,59,157,0.35,0.8,0.1]
[2555,"Futterrübenblatt- Silage",180,145,335,195,145,122.86,20.010000000000002,3.5424000000000002,5.57,10.14,20,0,29,20,2.4,5,3.5,33,13,6,null,"GF",250,9,50,130,0.3,0.8,0.1]
[2615,"RotkleeSilage, 1.Schnitt",330,242,412,305,166,137.94999999999999,17.37,4.4880000000000022,5.84,10.130000000000001,38,0,27,12,3.5,2.5,0.5,30,3,2,null,"GF",270,7.7,30,50,0.15,0.35,0.03]
[2625,"RotkleeSilage, ab 2.Schnitt",330,236,395,314,177,132.72,18.52,{"$f":"(G129-H129)/6.25","v":7.0848000000000004},5.33,9.31,35,0,27,14,3.5,3,0.5,30,3,2,null,"GF",270,8.5,30,50,0.15,0.35,0.03]
[2634,"KleeGrasSilage, 1. Schnitt, i d Kn",330,221,401,270,184,146.88,22.21,5.9392000000000005,6.57,11.09,50,0,41,8.1,3.7,2.6,0.6,33.9,4.5,2.6,null,"GF",260,7.5,31.8,56.9,0.12,0.35,0.03]
[2635,"KleeGrasSilage, 1.Schnitt",330,231,422,283,161,139.07,19.440000000000001,3.5088000000000013,6.29,10.79,50,0,37,8.1,3.6,2.5,0.6,31.4,4.5,2.5,null,"GF",260,7.2,30.2,59.6,0.12,0.35,0.03]
[2636,"KleeGrasSilage, 1.Schnitt, in der Blüte",330,243,449,295,143,137.02000000000001,17.27,0.95679999999999832,6.09,10.55,50,0,35,8.1,3,2,1,31,4,2,null,"GF",260,7,29,63,0.12,0.35,0.03]
[2644,"KleeGrasSilage, 2.u FoSchn, v d Kn",340,240,422,298,178,131.01,21.49,7.5184000000000015,5.58,9.86,42,0,37,10.7,3.6,2.7,0.59,32.200000000000003,5.3,2.6,null,"GF",300,7.9,29.7,53.2,0.12,0.35,0.03]
[2645,"KleeGrasSilage, 2.Schnitt",340,256,457,316,155,124.4,18.72,4.895999999999999,5.38,9.6300000000000008,44,0,35,9.4,3.5,2.6,0.57999999999999996,30.6,5.3,2.4,null,"GF",300,7.6,29.7,59,0.12,0.35,0.03]
[2646,"KleeGrasSilage, 2.und Folge, Beg Bl",340,273,483,327,130,117.81,15.7,1.9503999999999997,5.22,9.4499999999999993,50,0,32,8.9,3.3,2.4,0.62,28.2,5.3,2.4,null,"GF",300,7,29.7,67.3,0.12,0.35,0.03]
[2648,"KleeGrasSilage, 3.Schnitt",340,244,430,304,174,127.99,21.01,7.361600000000001,5.43,9.56,50,0,34,10.4,3.4,2.8,0.6,30.4,5.6,2.8,null,"GF",400,7.8,30,60,0.12,0.35,0.03]
[2649,"KleeGrasSilage, ab 4.Schnitt",330,218,393,272,182,132.94,21.98,{"$f":"(G137-H137)/6.25","v":7.8496000000000006},5.69,10.01,52,0,36,10.9,3.7,3,0.6,30.9,7.4,3.1,null,"GF",600,8.1999999999999993,30.6,73.2,0.12,0.35,0.03]
[2714,"LuzerneSilage, in der Knospe 1.Schnitt",350,235,374,319,190,137.12,24.74,8.460799999999999,5.86,9.94,40,0,32,16,3.5,2.9,0.5,31,3.1,2.1,null,"GF",400,7.5,26,44,0.15,0.3,0.03]
[2715,"LuzerneSilage, 1.Schnitt",350,253,406,330,175,137.47999999999999,22.79,6.0032000000000014,5.67,9.7100000000000009,40,0,29,14.5,3.3,2.7,0.5,30,3.1,2.1,null,"GF",400,7.5,26,44,0.15,0.3,0.03]
[2716,"LuzerneSilage, Ende Blüte, 1.Schnitt",350,270,456,344,150,133.62,19.53,2.6207999999999991,5.46,9.4700000000000006,40,0,28,13,3.2,2.5,0.5,29,3.1,2.1,null,"GF",400,7.5,26,44,0.15,0.3,0.03]
[2725,"LuzerneSilage, ab 2. Schnitt",350,280,420,352,176,128.5,22.92,7.6,5.05,8.81,45,0,29,14.7,3.2,2.5,0.5,29,3.6,2.5,null,"GF",400,8,25.6,44.3,0.15,0.3,0.03]
[2734,"LuzerneGrasSilage, i d Kn, 1.Sch",350,233,408,302,186,139.88,24.21,7.3792000000000009,6.09,10.3,48,0,35,13,3.4,2.6,0.5,30.9,4.5,2.4,null,"GF",400,7.2,26.7,50.2,0.12,0.35,0.03]
[2735,"LuzerneGras- Silage, 1.Schnitt",350,261,454,329,162,130.5,21.09,5.04,5.72,9.83,44,0,31,12,3.2,2.2999999999999998,0.4,29.2,4.5,2.1,null,"GF",400,7.2,26.7,50.2,0.12,0.35,0.03]
[2736,"LuzerneGrasSilage, in der Blüte, 1.Sch",350,279,484,344,138,124.06,17.96,2.2303999999999995,5.55,9.67,42,0,29,10,2.9,2.2999999999999998,0.4,27.2,4.5,2,null,"GF",400,7.2,26.7,50.2,0.12,0.35,0.03]
[2745,"LuzerneGras- Silage, ab 2. Schnitt",350,251,447,334,172,123.32,22.39,7.7888000000000011,5.15,9.02,47,0,33,12.3,3.2,2.7,0.6,28.1,5.3,2.5,null,"GF",400,7.8,27.3,47.4,0.12,0.35,0.03]
[2814,"WeidelGrasSilage, im Schossen",350,196,384,223,170,149.51,22.46,3.2784000000000013,6.93,12.57,102,0,38,5.8,3.8,1.8,0.49,36.700000000000003,6,2,null,"GF",250,6.2,28,65,0.12,0.35,0.03]
[2815,"Weidelgras- Silage",350,227,431,262,150,137.91999999999999,19.82,1.9328000000000021,6.35,11.45,67,0,36,5.8,3.3,1.8,0.53,33.6,6,2,null,"GF",250,6.2,28,65,0.12,0.35,0.03]
[2816,"WeidelGras- Silage, in der Blüte",350,259,482,304,125,124.13,16.52,0.13920000000000074,5.7,10.1,41,0,34,5.8,3.2,1.8,0.5,32.9,6,2,null,"GF",250,6.2,28,65,0.12,0.35,0.03]
[2865,"Landsberger Gemenge- Silage",320,234,427,278,143,132.91,17.27,1.6144000000000005,6.09,10.75,44,0,34,6.2,3.9,1.9,0.42,32.9,6.6,2,null,"GF",186.7,6.9,29.8,80.7,0.12,0.35,0.02]
[2885,"SudanGras- Silage",300,315,614,380,73,106.71,10.58,-5.3935999999999993,5.0599999999999996,9.49,20,0,20,5.2,2.2999999999999998,2,0.23,16.100000000000001,3.8,1.4,null,"GF",150,7.3,30.9,33.799999999999997,0.12,0.4,0.01]
[3014,"Heu Wiese, 1.Schnitt, RispenSch",860,260,537,304,127,130.44999999999999,20.64,-0.55199999999999816,5.86,9.99,120,0,25,6.1,3,2,0.4,26.6,6.9,1.9,null,"GF",150,7.3,32,68,0.12,0.4,0.02]
[3015,"Heu Wiese, 1.Schnitt",860,297,594,346,97,113.81,15.76,-2.6896000000000004,5.16,8.5500000000000007,118,0,18,5.8,2.7,2,0.4,22.5,5.6,1.8,null,"GF",150,7.2,30.5,68,0.12,0.4,0.02]
[3016,"Heu Wiese, 1.Schnitt, in der Blüte",860,331,624,380,82,104.96,13.33,{"$f":"(G153-H153)/6.25","v":-3.6735999999999991},4.6900000000000004,7.75,116,0,16,5.5,2.2000000000000002,2,0.4,20.7,5.0999999999999996,1.6,0,"GF",150,6.6,29,68,0.12,0.4,0.02]
[3017,"Heu Wiese, 1.Schnitt, abgeblüht",860,345,636,391,64,97.46,10.4,-5.3535999999999992,4.5,7.32,114,0,14,5.2,2.2000000000000002,2,0.4,18.399999999999999,4.4000000000000004,1.5,null,"GF",150,6.5,27.5,68,0.12,0.4,0.02]
[3024,"Heu Wiese, 2.und FolgeSch, i Sch",860,230,485,272,145,137.85,23.56,1.144000000000001,6.12,10.66,120,0,30,8,3.4,2.9,0.5,26.4,6.5,2.4,null,"GF",220,7.5,30,65,0.12,0.4,0.02]
[3025,"Heu Wiese, 2.Schnitt",860,256,527,304,131,129.05000000000001,21.29,0.31199999999999817,5.71,9.86,106,0,26,7.8,3.3,2.8,0.5,24.6,6.5,2.2000000000000002,null,"GF",220,7.4,30,65,0.12,0.4,0.02]
[3026,"Heu Wiese, 2.u Folge, Beg Bl",860,288,581,340,113,119.01,18.36,-0.96160000000000079,5.29,8.92,96,0,22,6.4,3.1,2.4,0.5,23,6.5,2.1,null,"GF",220,7.2,30,65,0.12,0.4,0.02]
[3028,"Heu Wiese 3. Schnitt",860,244,515,292,147,134.99,23.89,1.9215999999999986,5.9,10.26,120,0,26,7,3.5,2.7,0.6,26.2,7.2,2.9,null,"GF",250,7.9,30,65,0.12,0.4,0.02]
[3029,"Heu Wiese ab 4.Schnitt",860,210,462,254,180,149.61000000000001,29.25,4.8623999999999974,6.43,11.55,97,0,32,7.8,4.3,3.4,0.6,27.1,8,3.1,null,"GF",350,8.5,35,65,0.12,0.4,0.02]
[3034,"Heu Unt. DachTr, 1.Schn, RispSch",870,236,498,281,142,138.29,23.07,0.59360000000000124,6.19,10.72,142,0,27,6.6,3.2,2.1,0.5,28.2,5.4,2,null,"GF",150,7.3,33.1,68,0.12,0.4,0.02]
[3035,"Heu Unt. DachTr, 1.Schnitt",870,263,541,307,111,127.47,18.04,-2.6351999999999998,5.89,9.85,140,0,24,6.2,2.9,2.1,0.5,23.9,5.4,1.9,null,"GF",150,7.1,32.5,68,0.12,0.4,0.02]
[3036,"Heu Unt. DachTr, 1.Sch, i d Bl",870,298,582,350,91,116.07,14.79,-4.0111999999999988,5.29,8.81,138,0,19,5.8,2.4,2.1,0.5,23.1,5.4,1.8,null,"GF",150,6.7,28.1,68,0.12,0.4,0.02]
[3044,"Heu Unt. DachTr, 2.u. FolgeSchn., Sch",870,222,461,260,172,145.32,27.95,4.2688000000000015,6.25,11.24,112,0,28,8.4,3.8,3,0.6,29.5,7.8,2.7,null,"GF",220,7.9,38.1,65,0.12,0.4,0.02]
[3045,"Heu Unt. DachTr, ab 2.Schnitt",870,249,514,287,148,135.72999999999999,24.05,1.9632000000000016,5.93,10.28,110,0,27,7.4,3.7,2.8,0.6,28.5,7.8,2.6,null,"GF",220,7.8,33,65,0.12,0.4,0.02]
[3046,"Heu Unt. DachTr, 2.u. FolgSch, Beg Bl",870,272,553,312,137,128.91999999999999,22.26,1.2928000000000019,5.62,9.61,108,0,25,7.4,3.6,2.6,0.6,26.3,7.8,2.5,null,"GF",220,7.7,27.7,65,0.12,0.4,0.02]
[3074,"GrasCobs, 1.Schnitt, im Blattstadium",900,172,425,208,174,175.49,33.119999999999997,-0.23840000000000144,6.91,12.03,154,0,30,6.9,3.9,2.9,1.1000000000000001,26,6.3,2.2000000000000002,null,"GF",400,7.7,33,80,0.15,0.4,0.03]
[3075,"GrasCobs, 1.Schnitt",900,209,464,253,152,160.44,28.94,-1.3503999999999996,6.43,11.16,135,0,30,6.9,3.9,2.9,1.1000000000000001,26,6.3,2.2000000000000002,null,"GF",400,7.7,33,80,0.15,0.4,0.03]
[3076,"GrasCobs, 1.Schnitt, RispenSch",900,228,499,274,131,147.65,24.94,-2.664000000000001,6.1,10.34,120,0,30,6.7,3.6,2.9,1.1000000000000001,26,6.3,2.2000000000000002,null,"GF",400,7.7,33,80,0.15,0.4,0.03]
[3084,"GrasCobs, 2.u FolgeSch, i Blattst",900,177,393,220,183,176.99,34.83,0.96159999999999857,6.72,12.28,111,0,37,9.8000000000000007,3.7,3.4,1,24,7.5,2.7,null,"GF",600,8.6,32,111,0.15,0.4,0.03]
[3085,"GrasCobs, ab 2.Schnitt",900,201,448,252,173,168.63,32.93,{"$f":"(G170-H170)/6.25","v":0.69920000000000071},6.38,11.49,95,0,34,9.8000000000000007,3.7,3.4,1,24,7.5,2.7,null,"GF",600,8.6,32,111,0.15,0.4,0.03]
[3086,"GrasCobs, 2.und Folge, RispSch",900,221,479,271,162,161.06,30.83,0.15039999999999965,6.14,10.9,89,0,32,9.8000000000000007,3.7,3.4,1,24,7.5,2.7,null,"GF",600,8.6,32,111,0.15,0.4,0.03]
[3125,"Stroh Gerste",880,452,847,542,30,73.36,1.58,-6.9375999999999998,3.7,7.09,12,0,15,4.4000000000000004,1,1.1000000000000001,0.37,15.2,2.8,0.9,null,"GF",79.7,4.0999999999999996,11.2,15.1,0.1,0.35,0.01]
[3134,"Stroh Gerste, NaOH aufgeschlossen",880,440,761,489,27,86.58,1.01,-9.5327999999999999,4.72,9.73,3,0,15,4.4000000000000004,1,1.1000000000000001,5.18,15.2,2.8,0.9,null,"GF",79.7,4.0999999999999996,11.2,15.1,0.1,0.35,0.01]
[3135,"Stroh Gerste, NH3 aufgeschlossen",880,452,847,542,59,96.79,2.2200000000000002,-6.0464000000000011,4.53,9.6300000000000008,3,0,15,4.4000000000000004,1,1.1000000000000001,0.37,15.2,2.8,0.9,null,"GF",79.7,4.0999999999999996,11.2,15.1,0.1,0.35,0.01]
[3145,"Stroh Hafer",880,454,790,516,36,76.3,1.9,-6.4479999999999995,3.68,7.01,49,0,19,4,1.4,1,2,21,8,2,null,"GF",200,7,40,80,0.06,0.35,0.01]
[3155,"Stroh Hafer, NH3 aufgeschlossen",880,454,790,516,82,90.95,3.08,-1.4320000000000004,3.77,9.52,7,0,17,4,1.4,1,2,21,8,2,0,"GF",200,7,40,80,0.06,0.35,0.01]
[3165,"Stroh Roggen",880,470,850,550,37,70.67,1.96,-5.3872,3.28,7.05,10,0,13,3,1,1,0.4,10,3,0.7,null,"GF",80,4,10,20,0.05,0.35,0.01]
[3185,"Stroh Weizen",880,453,835,527,40,75.069999999999993,2.11,-5.6111999999999993,3.49,7.05,17,0,13,3.6,1.1000000000000001,0.9,0.25,10,2.2000000000000002,0.7,null,"GF",67.2,5.3,9.3000000000000007,26.9,0.06,0.35,0.01]
[3194,"Stroh Weizen, NaOH aufgeschlossen",880,448,825,521,37,89.04,1.39,-8.3264000000000014,4.58,7.89,4,0,14,3.6,1.1000000000000001,0.9,4.67,10,2.2000000000000002,0.7,null,"GF",67.2,5.3,9.3000000000000007,26.9,0.06,0.35,0.01]
[3195,"Stroh Weizen, NH3 aufgeschlossen",880,453,835,527,94,101.81,3.53,-1.2496000000000003,4.26,7.67,4,0,12,3.6,1.1000000000000001,0.9,0.25,10,2.2000000000000002,0.7,null,"GF",67.2,5.3,9.3000000000000007,26.9,0.06,0.35,0.01]
[3205,"MaisCobs, Ganzpflanze",890,188,432,219,75,132.19999999999999,14.27,-9.1519999999999975,6.69,11.31,356,115.92,28,3.1,2.5,2.1,0.23,10.7,1,1,null,"GF",241.7,7.1,30.1,34.700000000000003,0.09,0.3,0.01]
[3615,"RotkleeHeu, 1. Schnitt",860,269,463,344,154,134.54,17.079999999999998,{"$f":"(G182-H182)/6.25","v":3.1136000000000013},5.45,9.51,66,0,21,11,3.3,3.2,0.5,30,3,2,null,"GF",250,8.5,25,50,0.15,0.35,0.02]
[3625,"RotkleeHeu, ab 2.Schnitt",860,261,459,345,171,135.85,18.97,{"$f":"(G183-H183)/6.25","v":5.6240000000000006},5.24,9.17,66,0,21,11,3.3,3.2,0.5,30,3,2,null,"GF",250,8.5,25,50,0.15,0.35,0.02]
[3635,"KleeGrasHeu, 1. Schnitt",860,260,481,320,130,127.79,17.239999999999998,{"$f":"(G184-H184)/6.25","v":0.35359999999999903},5.66,10.029999999999999,87,0,19,8.3000000000000007,2.9,2.2000000000000002,0.4,26.2,7.1,1.8,null,"GF",200,7.5,28,54,0.12,0.35,0.02]
[3645,"KleeGrasHeu, ab 2.Schnitt",860,260,490,330,160,129.22,21.22,{"$f":"(G185-H185)/6.25","v":4.9248000000000003},5.33,9.3800000000000008,74,0,20,10.6,3.2,3.3,0.4,26.7,4.2,2.1,null,"GF",200,7.5,28,54,0.12,0.35,0.02]
[3675,"Rotklee-, KleeGrasCobs",900,227,446,299,172,156.86000000000001,22.82,2.4223999999999979,5.93,10.16,68,0,29,11,3.3,3,0.6,29,4.3,2.5,null,"GF",300,8.3000000000000007,28,50,0.15,0.35,0.03]
[3714,"LuzerneHeu, 1.Schnitt, Beginn Blüte",860,278,461,332,174,141.33000000000001,21.2,5.2271999999999981,5.56,9.65,65,0,20,15,2.8,3,0.8,28,4,2,null,"GF",200,7,20,25,0.15,0.3,0.02]
[3715,"LuzerneHeu, 1.Schnitt",860,320,515,379,166,139.16,20.22,4.2944000000000004,5.16,8.98,40,0,19,15,2.8,2.7,0.6,27,4,2,null,"GF",200,7,20,25,0.15,0.3,0.02]
[3716,"LuzerneHeu, 1.Schnitt, abgeblüht",860,347,536,406,148,128.66,18.03,3.0944000000000007,4.82,8.5299999999999994,36,0,15,15,2.8,2.2999999999999998,0.5,26,4,2,null,"GF",200,7,20,25,0.15,0.3,0.02]
[3724,"LuzerneHeu, 2. FolgeSchn, Beg Bl",860,271,456,318,185,141.61000000000001,22.54,6.9423999999999975,5.38,9.34,54,0,21,15,3.1,2.6,0.5,30,4,2,null,"GF",200,7,20,25,0.15,0.3,0.02]
[3725,"LuzerneHeu, ab 2.Schnitt",860,305,488,362,173,132.69,21.08,6.4496000000000002,4.9800000000000004,8.68,40,0,19,15,3.1,2.4,0.5,29,4,2,null,"GF",200,7,20,25,0.15,0.3,0.02]
[3726,"LuzerneHeu, 2.u FolgeSchn, abgebl",860,348,522,398,149,126.3,18.149999999999999,3.6320000000000006,4.6399999999999997,8.1999999999999993,33,0,16,15,3.1,2.2000000000000002,0.4,28,4,2,null,"GF",200,7,20,25,0.15,0.3,0.02]
[3735,"LuzerneGrasHeu, 1. Schnitt",860,330,563,378,141,122.03,17.18,3.0351999999999997,5.1100000000000003,9,78,0,17,12.7,4.2,2.9,0.38,36.5,8.6,3.1,0,"GF",466.6,8.9,31.7,92,0.12,0.35,0.02]
[3745,"LuzerneGrasHeu, ab 2.Schnitt",860,320,516,363,155,123.22,18.88,5.0848000000000004,4.99,8.82,52,0,20,10.1,3.2,2.2000000000000002,0.46,29.5,3.5,2,null,"GF",75,7.6,26.1,31.7,0.12,0.35,0.02]
[3774,"LuzerneCobs,-Grünm, vor Knose",900,225,427,301,209,178.22,45.91,4.9248000000000003,5.97,10,55,0,31,15,3.7,2.9,0.6,28,3.7,2.5,null,"KF",400,8,26,55,0.15,0.3,0.03]
[3775,"LuzerneCobs, -Grünmehl",900,238,449,310,184,165.9,40.43,2.895999999999999,5.82,9.9,55,0,29,15,3.7,2.9,0.6,28,3.7,2.5,null,"KF",400,8,26,55,0.15,0.3,0.03]
[3776,"LuzerneCobs,-Grünm Beg Blüte",900,267,480,338,153,148.52000000000001,33.619999999999997,0.71679999999999833,5.47,9.49,55,0,25,15,3.7,2.9,0.6,28,3.7,2.5,null,"KF",400,8,26,55,0.15,0.3,0.03]
[3815,"Heu WeidelGras",860,210,471,238,144,140.71,23.4,0.52639999999999876,6.35,10.74,133,0,28,5.5,3.3,1.8,0.4,33,6,2,null,"GF",200,6,31,50,0.12,0.35,0.03]
[3865,"Heu, Landsberger Gemenge",860,285,560,325,150,125.57,18.27,3.9088000000000012,5.23,10.76,60,0,21,8.5,3,1.8,0.45,30,5,2,null,"GF",150,8,50,80,0.12,0.35,0.1]
[4025,"Gerste, 2-zeilig",880,50,162,63,117,162.63999999999999,14.5,-7.3023999999999978,8.19,13.1,625,60.6,20,0.6,3.8,1.3,0.08,5.5,1,1.5,0,"KF",43.1,7.8,28.7,19.399999999999999,0.1,0.3,0]
[4026,"Gerste, mehrzeilig",880,54,169,79,116,161.57,14.37,-7.291199999999999,8.1300000000000008,13.12,618,60,20,0.5,4.2,1.5,0.11,6.3,1.3,1.5,null,"KF",54,9.8000000000000007,39.6,20.2,0.1,0.3,0]
[4065,"Hafer",880,108,300,155,110,140.9,8.93,{"$f":"(G202-H202)/6.25","v":-4.9440000000000008},6.9,11.84,479,47.2,40,1.2,3.7,1.3,0.17,4.8,0.3,1.6,null,"KF",99.1,6.5,33.200000000000003,48.4,7.0000000000000007E-2,0.3,0]
[4075,"HaferFlocken",910,17.579999999999998,155,95,128.57,167.11,10.44,-6.166400000000003,8.52,11.95,669.2299999999999,65.05,54.95,1,4.45,1.46,0.33,4.22,3,2,null,"KF",73,4.0999999999999996,26,48,0.03,0.3,0.08]
[4105,"Roggen",880,27,139,42,100,160.29,7.67,-9.6463999999999981,8.48,12.98,610,57.6,14,0.5,3,1.1000000000000001,0.06,5.6,0.4,1.2,null,"KF",31.9,6,33.200000000000003,26.1,0.05,0.2,0]
[4125,"Triticale",880,28,12,50,118,161.55000000000001,11.11,-6.9680000000000017,8.35,13.32,725,70.400000000000006,13,0.5,3.5,1.3,0.05,5.2,0.3,1.3,null,"KF",35.5,6.7,41.4,40.5,0.08,0.2,0]
[4145,"Weizen",880,29,123,44,132,168.57,15.56,-5.8511999999999986,8.5299999999999994,13,707,69.3,16,0.5,3.6,1.3,0.06,5.0999999999999996,0.5,1.5,null,"KF",42.6,5.0999999999999996,30.1,40.1,0.1,0.4,0]
[4155,"WeizenFlocken",880,22.73,165,100,137.5,175.92,16.21,-6.147199999999998,8.61,13.05,700,67.73,18.18,0.7,3.8,1.3,0.17,5,1,2,null,"KF",45,7,65,35,0.1,0.4,0.1]
[4205,"Körnermais",880,23,104,44,88,158.72,23.53,-11.315199999999999,8.43,12.99,769,316.68,41,0.3,3.4,1.6,0.1,4.0999999999999996,0.3,1.1000000000000001,null,"KF",35.700000000000003,4,22.4,7.2,0.13,0.4,0]
[4285,"Hirse",880,39,110,47,108,166.12,28.72,-9.2992000000000008,8.17,12.4,737,254.8,33,0.8,3.3,2.2999999999999998,0.2,4.5999999999999996,0.7,1.3,null,"KF",92,6.1,27.7,17.8,0.01,0.4,0.1]
[4305,"Ackerbohnen",880,102,165,128,299,193.55,31.07,16.872,8.5299999999999994,13.77,444,105.25,12,1.6,6,1.7,0.19,13.4,1,2.2000000000000002,null,"KF",82,20,60,21,0.03,0.2,0.2]
[4345,"Erbsen",880,66,140,73,234,182.09,28.13,8.3056000000000001,8.48,13.41,518,121,13,1.3,5,1.6,0.2,12,1,2,null,"KF",104,10.3,49,16,0.2,0.2,0.1]
[4365,"Süßlupine",880,131,207,167,350,208.55,28.64,22.631999999999998,9.34,16.13,126,22.25,101,2.8,5.9,2,0.1,13,1,3,null,"KF",44,7.4,47,723,0.03,0.2,0.1]
[4405,"Leinsamen",910,72.53,240,140,248.35,126.98,36.93,19.4192,10.72,13.99,37.36,0,364.84,2.8,5.4,5.6,0.93,8,0.3,2,null,"KF",133,17.8,83,26,0.21,0.44,0.1]
[4425,"Rapssamen",900,82.22,194.44,116.67,225.56,97.71,41.21,20.456000000000003,10.73,17.5,45.56,0,444.44,5,7.78,3.33,0.28000000000000003,8.89,0.22,4.5599999999999996,null,"KF",238.89,3.89,44.44,44.44,0.17,0.39,0.11]
[4435,"Sojabohnen, getoastet",890,54,168,138,410,196.8,59.25,34.111999999999995,10.16,18.53,127,11,226,2.9,7.3,3,0.2,22,1,4,null,"KF",146,18,57,31,0.22,0.1,0.1]
[4445,"Sonnenblumensamen ungeschält",880,244.32,495,290,192.05,112.67,28.47,12.700800000000001,9.33,15.7,0,0,359.09,2.8,3.8,2.2999999999999998,0.2,6.2,1,3,null,"KF",75,30,55.7,25.7,0.2,0.35,0.1]
[4505,"ZuckerrübenSchnitzel",916,85.15,235,140,79.69,140.66,12.8,-9.7552000000000003,7.38,11.37,663.76,0,6.55,6.8,1,1.6,2.62,12,1,2,null,"KF",215,6.6,31.8,61.4,0.1,0.35,0.1]
[4535,"Futterzucker",990,0,0,0,1.01,158.59,0,-25.212800000000001,9.25,12.49,994,0,0,0,0,0,0,0,0,0,null,"KF",0,0,0,0,0,0,0]
[4605,"KartoffelSchrot, -Schnitzel",880,29.55,175,105,92.05,144.91,10.94,-8.4575999999999993,7.5,12.29,759.09,147.27000000000001,3.41,0.5,2.6,1,0.34,24,1,2,null,"KF",77,6.8,12.2,6.8,0.05,0.2,0.1]
[4615,"KartoffelFlocken",880,29.55,175,105,88.64,143.99,14.24,-8.8560000000000016,7.55,12.65,778.41,147.72999999999999,4.55,0.5,2.6,1,1.0900000000000001,24,1,2,null,"KF",62.5,7,29,6.8,0.05,0.2,0.1]
[4625,"KartoffelStärke",880,4.55,140,85,3.41,152.09,0.55000000000000004,-23.788800000000002,8.75,13.07,948,189.6,1.1399999999999999,0.2,0.6,0.1,0.26,1,1,2,null,"KF",21.3,2.2000000000000002,1.8,1.2,0.01,0,0.1]
[4664,"ManiokMehl, Typ 55",880,55.68,215,130,27.27,126.84,4.38,-15.9312,7.58,12,715.91000000000008,205.23,6.82,1.9,0.8,0.9,0.27,9,1,2,null,"KF",137.6,4.7,12,22.3,0.05,0.2,0.1]
[4665,"ManiokMehl, -Schnitzel",880,31.82,180,110,26.14,131.33000000000001,4.2,-16.830400000000001,7.94,12.17,785.2299999999999,226.7,5.68,1.6,1.1000000000000001,1.1000000000000001,0.44,8,1,2,0,"KF",220,2.7,8,19,0.05,0.2,0.1]
[4905,"Dikalziumphosphat",950,0,0,0,0,0,0,0,0,0,0,0,0,240,185.09,0,0,0,0,0,null,"KF",0,0.2,1,1,0,0,0.09]
[4915,"Monokalziumphosphat",950,0,0,0,0,0,0,0,0,0,0,0,0,173,241,0,0,0,0,0,null,"KF",0,0.2,1,1,0,0,0.09]
[4925,"Kohlensaurer Kalk",997,0,0,0,0,0,0,0,0,0,0,0,0,381.4,0.4,1.6,0,0,0.9,0,null,"KF",0,0.2,1,1,0,0,0.1]
[4945,"Viehsalz",990,0,0,0,0,0,0,0,0,0,0,0,0,0,0,0,365,0,560,0,null,"KF",10,0.2,1,1,0.05,0.2,0.04]
[5185,"Altbrot",650,14,150,90,123,175.09,13.43,-8.3344000000000005,9.39,13.06,702,64.2,30,0.92,2.46,0.7,4.1100000000000003,5,13,2,null,"KF",38,3,13,0.7,0.1,0.4,0.1]
[5205,"MaisKornSilage Ganzkorn",670,24,84,35,89,162.46,23.16,-11.7536,8.7100000000000009,13.93,752,185,43,0.4,3.4,1.6,0.14000000000000001,4.3,0.3,1.2,null,"KF",45.9,4.2,28.6,7.4,0.1,0.2,0]
[5206,"MaisKornSilage Schrot",650,25,83,42,87,161.72999999999999,22.64,-11.956799999999998,8.7200000000000006,13.97,738,182.75,43,0.5,3.2,1.4,0.21,4.0999999999999996,0.3,1.2,null,"KF",47.7,4.5,28.2,7.4,0.1,0.2,0]
[5224,"CCM- KornSpGem., 3,5% Rohf",650,35,185,110,100,159.06,26.02,-9.4496000000000002,8.08,14.08,643,158.75,43,0.4,3.5,1.25,0.2,4.0999999999999996,1,1.5,null,"KF",40,4,30,9,0.1,0.2,0.01]
[5225,"CCM- KornSpGem.,, 5,3% Rohf",600,53,210,125,100,158.01,26.02,-9.2815999999999992,7.99,14.08,631,155.75,43,0.4,3.5,1.25,0.2,4.0999999999999996,1,1.5,null,"KF",50,4,30,9,0.1,0.2,0.01]
[5235,"CCM- KornSpGem.,, 7,6% Rohf",550,76,270,160,90,152.5,23.41,-10,7.85,14.03,586,145,40,0.4,3.5,1.25,0.2,4.0999999999999996,1,1.5,null,"KF",50,4,30,9,0.1,0.2,0.01]
[5245,"LKS gesiebt, 9% RFas",500,90,270,160,95,153.06,17.25,-9.2896000000000001,7.74,13.17,546,81,40,0.4,3.5,1.25,0.2,4.0999999999999996,1,1.5,null,"KF",50,4,30,9,0.1,0.2,0.01]
[5405,"Leinöl",999,0,0,0,0,0.06,0,-9.5999999999999992E-3,19.78,30.21,0,0,999,0,0,0,0,0,0,0,null,"KF",0,0,0,0,0,0,0]
[5425,"Rapsöl",999,0,0,0,0,0,0,0,19.260000000000002,30.02,0,0,999,0,0,0,0,0,0,0,null,"KF",0,0,0,0,0,0,0]
[5435,"Sojaöl",999,0,0,0,0,0.06,0,-9.5999999999999992E-3,19.78,30.6,0,0,999,0,0,0,0,0,0,0,null,"KF",0,0,2,0,0,0,0]
[5445,"Sonnenblumenöl",999,0,0,0,0,0.06,0,-9.5999999999999992E-3,19.78,30.6,0,0,999,0,0,0,0,0,0,0,null,"KF",0,0,0,0,0,0,0]
[5505,"Zuckerrübe",230,85,210,125,80,141.58000000000001,7.53,-9.852800000000002,7.47,11.93,647,0,6,2.2999999999999998,1.5,1.6,0.95,8,1,2,null,"SF",215,5.0999999999999996,36,61,0.09,0.35,0.1]
[5555,"Futterrübe",146,70,230,135,80,141.37,7.53,-9.8192000000000004,7.47,11.63,545,0,8,2.7,2.4,1.8,4.08,30,1,2,null,"SF",131,7.2,32,83,0.16,0.36,0.03]
[5565,"Massenfutterrbe",110,79,250,150,94,143.09,8.85,-7.8544000000000009,7.43,11.27,543,0,9,2.5,2.5,2.5,3.31,35,1,2,null,"SF",264,7.8,28,80,0.18,0.35,0.1]
[5575,"Stoppelrübe",120,120,310,185,130,152.94,12.24,-3.6703999999999994,7.56,11.8,353,0,14,2.7,2.4,1.8,4.08,30,1,2,null,"SF",74,7.8,28,80,0.16,0.35,0.1]
[5585,"Möhren, Gelbe Rüben",150,150,265,160,90,148.4,8.48,-9.3440000000000012,7.75,12.75,256,0,15,4.4000000000000004,3,1.9,2.77,28,1,2,null,"SF",60,6.3,33,23,0.16,0.33,0.03]
[5604,"Kartoffel roh, stärkereich",260,28,170,105,90,155.47999999999999,9.8699999999999992,-10.476799999999999,8.36,12.51,754,181.5,4,0.4,2.5,1.4,0.55000000000000004,22,1,2,null,"SF",45,5.4,24,7,0.09,0.2,0.09]
[5605,"Kartoffel (roh)",220,27,170,105,97,157.44999999999999,10.63,{"$f":"(G245-H245)/6.25","v":-9.6719999999999988},8.39,12.58,741,177.5,4,0.4,2.5,1.4,0.55000000000000004,22,1,2,0,"SF",45,5.4,24,7,0.09,0.2,0.09]
[5615,"Kartoffel, roh, siliert, 16% Stärke",300,28,170,105,90,157.06,8.48,{"$f":"(G246-H246)/6.25","v":-10.7296},8.49,10.79,754,181.5,4,0.4,2.5,1.4,0.55000000000000004,22,1,2,null,"SF",45,5.4,24,7,0.09,0.2,0.09]
[5625,"Kartoffel, gedämpft, 15% Stärke",220,28,170,105,98,145.37,9.23,-7.579200000000001,7.53,11.22,676,134,6,0.8,2.5,1.4,0.05,22,1,2,null,"SF",45,5.4,24.2,10.4,0.05,0.2,0.1]
[5635,"Kartoffel, gedämpft, siliert, 16% St",220,37,185,110,108,150.30000000000001,10.17,-6.7680000000000016,7.78,11.01,759,150.6,4,0.8,2,1.4,0.05,22,1,2,null,"SF",45,5.4,24.2,6.9,0.05,0.2,0.1]
[5655,"Kartoffel (fritiert)",500,21,130,80,75,117.89,7.06,-6.8624000000000001,10.45,15.62,504,100,250,0.6,1.9,1,2,16.5,3,1,null,"SF",34,4,16,6.3,0.03,7.0000000000000007E-2,7.0000000000000007E-2]
[5825,"Futterfett",999,0,0,0,0,0.06,0,-9.5999999999999992E-3,18.25,30.02,0,0,999,0,0,0,0,0,0,0,null,"SF",0,0,0,0,0,0.1,0]
[5935,"Propionsäure",990,0,0,0,0,155.18,0,-24.828800000000001,11.8,18.09,700,0,191.92,0,0,0,0,0,0,0,null,"KF",0,0,0,0,0,0,0]
[5964,"Reinglyzerin",990,0,0,0,0,189.09,0,-30.2544,10.51,14.99,930,0,70,0,0,0,0,0,0,0,null,"KF",0,0,0,0,0,0,0]
[5965,"Rohglyzerin",880,0,0,0,0,156.63999999999999,0,-25.062399999999997,8.4,13.97,895,0,55,0,0,0,18,0,28,0,null,"KF",0,0,0,0,0,0,0]
[5975,"Propylenglykol",990,0,0,0,0,175.61,0,-28.097600000000003,9.7899999999999991,12.22,999,0,1,0,0,0,0,0,0,0,null,"KF",0,0,0,0,0,0,0]
[6025,"BierTreber, trocken",900,168.89,385,225,264.44,200.58,103.99,10.217599999999997,6.21,11.02,48.89,7.78,85.56,3.6,6,2,0.4,0.8,1.6,3,null,"KF",277,26,130,50,0.2,0.1,0.03]
[6035,"MalzKeime",930,118,400,150,220,163.19,42.24,9.0896000000000008,6.22,11.49,255,30.8,16,2.5,7,1.6,0.48,16.899999999999999,2,2.9,null,"KF",139.80000000000001,12.6,82.9,43.8,7.0000000000000007E-2,0.2,0]
[6065,"HaferfutterMehl",909,59.41,220,130,151.82,165.74,14.35,{"$f":"(G257-H257)/6.25","v":-2.2272000000000025},9.16,14.37,573.16,55.67,80.31,1.1000000000000001,5.7,2,0.11,8,1,2,null,"KF",200,4.4000000000000004,152.80000000000001,48.4,0.05,0.1,0.1]
[6075,"HaferschälKleie",908,253.3,510,300,74.89,107.66,6.63,-5.243199999999999,5.0999999999999996,9.4600000000000009,176.20999999999998,16.52,33.04,1.4,1.7,1.2,0.4,10,1,2,null,"KF",250,3.3,22,15.2,0.09,0.1,0.1]
[6105,"RoggennachMehl",880,25,160,100,154.55000000000001,164.91,14.6,-1.6575999999999977,8.1300000000000008,12.67,567.04,47.16,31.82,0.9,5.2,2,0.13,8,1,2,null,"KF",71,5.4,54,49,0.03,0.1,0.1]
[6115,"RoggenfutterMehl",880,37.5,185,115,159.09,160.04,15.03,-0.15199999999999819,7.73,11.46,523.87,39.770000000000003,34.090000000000003,1.3,9.1999999999999993,3.8,0.19,15,1,2,null,"KF",97,9,77,72,0.01,0.1,0.1]
[6125,"RoggengrießKleie",880,65.91,230,135,159.09,145.87,15.03,2.1151999999999997,6.74,11.31,337.5,25,37.5,1.7,11.3,3.6,0.79,14,1,2,null,"KF",105.5,13.8,91.7,96.3,0.05,0.1,0.1]
[6135,"RoggenKleie",880,82.95,255,150,162.5,141.47999999999999,14.38,3.3632000000000017,6.42,10.52,232.95999999999998,12.84,36.36,1.7,11.3,3.6,0.79,14,1,2,null,"KF",180,12.5,90,100,0.1,0.1,0.1]
[6145,"WeizennachMehl",880,22.73,180,110,181.82,180.73,17.18,{"$f":"(G263-H263)/6.25","v":0.17440000000000055},8.59,13.39,605.68000000000006,54.54,45.45,0.9,7.4,2.9,0.15,9,0.7,2,null,"KF",115,6.6,99,108,0.16,0.2,0.26]
[6155,"WeizenfutterMehl",880,45.45,210,125,181.82,175.45,17.18,{"$f":"(G264-H264)/6.25","v":1.0192000000000008},8.19,12.76,482.95,42.04,45.45,1.2,8.1,2.9,0.35,13,0.7,2,null,"KF",98,5.7,88,124,0.03,0.2,0.2]
[6165,"WeizengrießKleie",880,90.91,275,160,181.82,155.47999999999999,14.18,{"$f":"(G265-H265)/6.25","v":4.2144000000000004},6.75,12.24,311.37,24.43,45.45,1.4,10.3,4.3099999999999996,0.54,12,0.5,2,null,"KF",63,15.21,95,122,0.12,0.2,0.13]
[6175,"WeizenKleie",880,115,495,160,184,152.29,14.35,{"$f":"(G266-H266)/6.25","v":5.0736000000000017},6.08,11.82,211,14.5,48,1.2,11.1,5,0.2,13.4,1.4,2,null,"KF",181,13,96,134,0.09,0.3,0.09]
[6185,"Backwaren",880,12.5,150,90,120.45,174.83,13.16,-8.700800000000001,9.39,12.91,773.86,65.23,31.82,0.1,2.6,2.6,12.4,10,1,2,null,"KF",30.4,5.4,16.3,70.7,0.1,0.2,0.1]
[6195,"WeizenKeime",880,40.909999999999997,195,120,295.45,178.36,56.73,18.734399999999997,9.4,14.18,413.64,25.45,93.18,1,9.9,2.8,0.12,10,1,3,null,"KF",59,8.4,131,144,0.13,0.2,0.02]
[6215,"MaisfutterMehl",880,59.09,220,130,118.18,163.63,11.17,{"$f":"(G269-H269)/6.25","v":-7.2719999999999985},8.39,14.12,448.86,100.85,71.59,0.8,5,3,0.51,2,1,2,null,"KF",74,15.6,60,16.7,0.1,0.3,0.1]
[6225,"MaisKeimExtraktionsSchrot",880,80.680000000000007,270,160,131.82,167.18,23.66,-5.6576000000000022,8.2799999999999994,11.9,492.04,109.09,17.05,0.4,7.5,3.1,0.93,8,1,3,null,"KF",670,2.8,71.400000000000006,17,0.1,0.3,0.4]
[6226,"Maiskeimschrot Mhlenind.",880,80.680000000000007,255,150,131.82,161.13999999999999,23.66,-4.6911999999999985,7.81,11.9,492.04,109.09,17.05,0.4,7.5,3.1,0.93,8,1,2,null,"KF",670,2.8,71.400000000000006,17,0.1,0.3,0.4]
[6235,"MaisKleber",880,12.5,150,90,707.95,494.95,220.72,34.080000000000013,9.5399999999999991,14.7,151.13,30.54,52.27,0.9,4.0999999999999996,0.3,0.5,1,0.2,8,null,"KF",444.4,8.5,20,4,0.2,0.79,0.9]
[6245,"MaisKleberfutter, bis 23% CP",880,85.23,260,155,220.45,184.78,17.37,5.7071999999999976,7.8,12.83,245.45,47.25,38.64,1.5,9.5,4.8,2.76,14,2.7,4,null,"KF",307,19.399999999999999,65,28,0.23,0.79,0.3]
[6246,"MaisKleberfutter, 23-30% CP",880,89.77,265,155,257.95,193.52,20.329999999999998,10.308799999999996,7.68,12.97,223.86999999999998,42.24,40.909999999999997,1.5,9.5,4.8,2.76,14,2.7,5,null,"KF",307,19.399999999999999,64.989999999999995,28,0.23,0.79,3.2]
[6265,"ReisfutterMehl",880,56.82,215,130,147.72999999999999,153.22,13.96,-0.8784000000000014,8.35,13.92,352.27,61.14,153.41,1.5,14.7,7.1,0.22,11,0.4,2,null,"KF",145.19999999999999,6.7,63.2,118,0.1,0.2,0.1]
[6266,"ReisfutterMehl, gelb",880,104.55,285,170,146.59,129.09,13.85,2.8,6.66,11.75,286.36,48.18,179.55,0.9,6.7,4.2,0.6,11,0.4,2,null,"KF",102,3.3,35,118,0.1,0.2,0.1]
[6405,"LeinExtraktionsSchrot",880,103.41,285,170,385.23,237.84,71.55,23.582400000000003,7.33,10.84,45.45,0,27.27,4.5,9.5,5.7,1.0900000000000001,12,0.7,4,null,"KF",328,20.2,66,47,0.3,1.1000000000000001,0.3]
[6406,"LeinKuchen,-Expeller",880,106.82,295,175,372.73,252.61,60.8,19.219200000000001,7.54,11.19,43.18,0,62.5,4.2,8.1999999999999993,5.3,1.05,12,0.6,4,null,"KF",243,20.3,78,44,0.35,1.01,1]
[6424,"Rapsextr.schrot pansenstabil",890,133.1,300.60000000000002,227.7,386.6,347.37,109.34,6.2768000000000033,7.17,11.85,80,0,34.5,8.67,11.9,6,0.5,14.2,0.3,7.1,null,"KF",414.44,7.9,75.400000000000006,78.099999999999994,0.28999999999999998,0.68,0.19]
[6425,"RapsExtraktionsSchrot",890,142,306,229,385,251.59,73.180000000000007,{"$f":"(G280-H280)/6.25","v":21.345600000000001},7.16,11.86,92,0,40,9.8000000000000007,12,5.2,0.63,14.9,0.4,7.7,0,"KF",205,7.4,78.7,70.099999999999994,0.28999999999999998,0.68,0]
[6426,"RapsKuchen, 8% Rohfett",910,135.16,319.77999999999997,191.21,370.33,180.29,42.99,30.406399999999998,7.89,13.2,74.73,0,87.91,8.24,11.9,5.49,0.46,14.62,0.36,7.47,null,"KF",392.31,6.37,72.53,72.53,0.27,0.64,0.19]
[6427,"RapsKuchen, 15% Rohfett",910,123.08,292.31,175.82,339.56,165.27,39.409999999999997,{"$f":"(G282-H282)/6.25","v":27.886399999999998},8.7200000000000006,14.56,68.13,0,164.84,7.47,11.6,5.05,0.42,13.41,0.33,6.81,null,"KF",359.34,5.82,67.03,67.03,0.25,0.57999999999999996,0.16]
[6428,"RapsKuchen, 20% Rohfett",910,115.38,273.63,163.74,316.48,154.24,36.729999999999997,25.958400000000001,9.31,15.51,63.74,0,219.78,7.03,10.9,4.7300000000000004,0.4,12.53,0.31,6.37,null,"KF",335.16,5.49,62.64,62.64,0.23,0.55000000000000004,0.15]
[6432,"Sojaschalen",880,381.82,705,410,130.68,139.51,14.33,-1.4127999999999974,6.58,12.17,61.36,7.27,25,6,1.44,3,0.22,14.33,0.5,3,null,"KF",50,19.100000000000001,70,33,0.3,0.4,0.1]
[6433,"SojaExtraktionsSchrot, 40% CP",880,104.55,285,170,454.55,273.39999999999998,121.19,28.984000000000005,8.41,13.91,159.09,12.5,18.18,3.6,7.4,3.7,0.39,25,0.5,4.8,null,"KF",160,19.100000000000001,70,33,0.3,0.6,0.25]
[6435,"SojaExtraktionsSchrot, 43% CP",880,85,143,93,496,288.97000000000003,132.25,33.124799999999993,8.59,14.02,174,14.2,29,4.2,7.3,4,0.3,25,0.1,4.2,null,"KF",446,17,60,44,0.25,0.6,0.25]
[6436,"SojaExtraktionsSchrot, 47% CP",880,58,109,68,532,301.27999999999997,141.84,36.915200000000006,8.68,13.99,176,14.6,29,4,7.7,4.2,0.36,26,0,4.5,null,"KF",528,16.899999999999999,59,48,0.1,0.2,0.3]
[6438,"SojaExtrSchrot, 43% CP, stabil",880,85,143,93,496,435.01,230.11,9.7584000000000017,8.59,13.72,174,14.2,29,4.2,7.3,4,0.3,25,0.1,4.2,0,"KF",446,17,60,44,0.25,0.6,0.25]
[6439,"SojaKuchen, 8% Rohfett",890,65.17,240,145,449.44,223.02,123.57,36.227199999999996,8.74,15.48,120.22,10.11,92.14,3,7,3,0.1,20,0.5,4.8,null,"KF",160,20,60,33,0.25,0.6,0.25]
[6445,"SonnenblExtrSchrot, 20% XF",880,221.59,465,270,382.95,203.31,48.56,28.742399999999996,6.01,8.48,79.55,0,25,4,10.7,5.2,0.5,13,0.8,4,0,"KF",525,29.1,46,56,0.2,0.76,0.49]
[6446,"SonnenblExtrSchrot, 11% XF",880,128.41,320,190,456.82,239.41,57.93,34.785600000000002,7.24,9.2799999999999994,103.41,0,17.05,4.4000000000000004,9.9,5.4,0.12,13,0.8,5,0,"KF",262,25.3,64,49,0.14000000000000001,0.62,0.1]
[6447,"SonnenblumenKuchen",880,315.91000000000003,605,350,248.86,148.02000000000001,43.31,16.134399999999999,6.59,13.97,103.41,0,170.45,3.86,9.43,5.4,0.11,13,0.8,3,0,"KF",262,25.3,64,49,0.2,0.62,0.1]
[6448,"SonnenblumenKuchen, high oleic",910,176.92,395,230,300,174.63,52.2,20.059200000000001,7.53,13.91,109.89,0,167.03,4.18,10.66,5.4,0.12,17.579999999999998,0.8,3,0,"KF",262,25.3,64,49,0.2,0.62,0.1]
[6455,"ErdnußExtraktionsSchrot, 10% XF",908,114.54,305,180,529.74,270.87,95.11,41.419200000000004,8.1300000000000008,12.66,179.51,15.2,15.42,2.5,5.8,4.9000000000000004,0.37,14,0.7,4,0,"KF",534,20.5,58,54,0.22,0.56000000000000005,0.1]
[6456,"ErdnußExtraktionsSchrot, 5% XF",880,56.82,215,130,568.17999999999995,287.10000000000002,102.01,44.972799999999985,8.6,13.71,212.5,19.09,13.64,1.61,6.7,3.7,0.4,13,0.7,4,0,"KF",653,13.8,58,57,0.22,0.56000000000000005,0.28000000000000003]
[6465,"KokosExtraktionsSchrot",880,161.36000000000001,370,220,237.5,226.26,42.64,1.7984000000000016,7.56,12.77,119.32,0,28.41,1.7,6.4,3.8,1.02,23,7,3,0,"KF",438,36.9,50,82,0.25,1.42,0.1]
[6475,"PalmkernExtraktionsSchrot",880,198.86,430,250,187.5,185.71,33.659999999999997,0.28639999999999871,6.74,11.1,34.090000000000003,0,20.45,2.9,7.2,3.9,0.11,8,1.9,3,0,"KF",367,31.7,70,261,0.15,1.24,0.12]
[6505,"TrockenSchnitzel",890,157,366,191,84,143.58000000000001,13.49,{"$f":"(G298-H298)/6.25","v":-9.5328000000000017},7.4,11.52,86,0,7.6,9.1999999999999993,1.1000000000000001,1.8,1.05,8.77,1.4,3,null,"KF",623,6.13,26.3,84,0.57999999999999996,1,0.57999999999999996]
[6514,"MelasseSchnitzel, 14% Zucker",910,160,330,220,90,145.33000000000001,14.45,-8.852800000000002,7.46,13.15,150,0,9,11,0.8,1.8,1,12,1.4,3,null,"KF",800,11.4,36,184,0.21,11.4,0.21]
[6515,"MelasseSchnitzel, 18% Zucker",896,146,315,184,97,151.05000000000001,15.58,-8.6480000000000015,7.75,12.96,200,0,8,10.6,0.77,1.8,1.7,14.4,1.4,3,null,"KF",800,11.4,36,184,0.21,11.4,0.21]
[6516,"MelasseSchnitzel, 23% Zucker",907,134,300,170,110,152.80000000000001,17.670000000000002,-6.8480000000000016,7.58,12.71,250,0,8,10,0.8,1.8,2,15,1.4,3,null,"KF",800,11.4,36,184,0.21,11.4,0.21]
[6635,"KartoffelPülpe, getrocknet",880,188.64,415,245,69.319999999999993,132.51,11.13,-10.1104,6.86,9.61,425,105.68,5.68,0.23,2.5,0.7,0.11,22,1,2,null,"KF",340.9,17.100000000000001,11.4,34.1,0.1,0.2,0.1]
[6945,"Tryptophan",990,0,0,0,989.9,201.26,null,126.1824,10.7,null,0,0,0,0,0,0,0,0,0,0,null,"KF",0,0,0,0,0,0,0]
[6985,"Futterharnstoff",990,0,0,0,2915.15,0,0,466.42400000000004,0,18.64,0,0,0,0,0,0,0,0,0,0,null,"KF",0,0,0,0,0,0,0]
[7016,"BierHefe, abgepreßt",250,17,155,95,525,272.41000000000003,null,40.414399999999993,8.36,null,10,0,31,2,11.4,1.8,0.33,14.7,1,4,null,"SF",560,64,92,59,0.4,0.35,0.1]
[7025,"BierTreber, frisch",240,178,395,235,253,187.54,92.21,{"$f":"(G306-H306)/6.25","v":10.473600000000001},6.45,10.99,61,4.9000000000000004,82,3.6,6,2,0.4,0.8,1.6,3,0,"SF",277,26,130,50,0.2,0.1,0.03]
[7026,"BierTreber, siliert",247,160,370,220,249,188.39,90.75,{"$f":"(G307-H307)/6.25","v":9.6976000000000013},6.69,11.08,23,1.7,84,3.6,6,2,0.4,0.8,1.6,3,null,"SF",277,26,130,50,0.2,0.1,0.03]
[7145,"WeizenSchlempe, flüssig",60,102,285,170,360,240.11,79.69,19.182399999999998,7.91,12.36,199,17.399999999999999,71,3.5,10.8,3.6,3.1,13,1,3,null,"SF",200,14.5,75,90,0.2,0.3,0.2]
[7205,"MaisSchlempe, flüssig",70,85,260,155,287,219.61,63.54,10.782399999999997,8.5,13.29,110,12.15,117,2.5,8.6,4.7,1.25,9.0299999999999994,1.7,3,null,"SF",120,10,70,80,0.1,0.2,0.4]
[7505,"Rübenkleinteile",170,102,282,136,75,137.31,7.06,34,7.25,11.4,360,0,3,3.3,2.0699999999999998,2.2999999999999998,1.4,11.5,1.4,3,null,"SF",500,11.1,14,73.3,0.1,0.35,0.1]
[7515,"NaßSchnitzel",127,250,505,295,113,146.80000000000001,10.64,-5.4080000000000021,6.95,13.4,31,0,20,9.6999999999999993,0.9,4.5,3.8,7.01,1.4,3,null,"SF",640,11.1,14,73.3,0.2,0.8,0.18]
[7525,"PreßSchnitzel siliert",270,205,412,229,94,146.76,8.85,-8.4415999999999993,7.46,13.26,15,0,6,12.7,1,2.4,0.45,4.4000000000000004,0.1,1.8,null,"SF",444.7,8.1999999999999993,29.5,81.3,0,0.8,0]
[7545,"Melasse (Zuckerrübe)",780,0,0,0,135,156.72,21.68,-3.4751999999999996,7.84,11.09,652,0,0.3,2.5,0.51,0.2,7.6,54,10,3,null,"SF",154,10.9,31,36.5,0.9,0.85,0.3]
[7605,"Kartoffelschälabfälle, roh",110,45,200,120,105,144.71,11.94,{"$f":"(G314-H314)/6.25","v":-6.353600000000001},7.38,11.35,330,75,4,0.4,2.5,1.4,0.55000000000000004,22,1,2,null,"SF",45,5.4,24,7,0.05,0.4,0.09]
[7625,"Kartoffelschälabfälle, gedämpft",108,61,220,130,154,141.04,17.52,{"$f":"(G315-H315)/6.25","v":2.0736000000000012},6.58,11.02,665,162.5,6,0.8,2.5,0.5,0.04,22,1,2,null,"SF",45,5,9.8000000000000007,6.6,0.05,0.4,0.1]
[7635,"KartoffelpreßPülpe, siliert",180,208,440,260,49,129.80000000000001,5.72,{"$f":"(G316-H316)/6.25","v":-12.928000000000003},7.07,14.14,393,96.75,5,0.7,2.7,0.7,0.06,22,1,2,0,"SF",79.7,5,19.399999999999999,6.6,0.1,0.4,0.1]
[7645,"KartoffelSchlempe, frisch",60,72,240,140,307,213.27,34.92,14.996799999999999,7.5,8.49,27,4,17,2.8,7.3,0.5,0.56999999999999995,55,1,3,null,"SF",870,5,9.9,6.6,0.1,0.4,0.1]
[7685,"ObstTrester ApfelTrester",220,216,455,265,66,116.26,7.5,-8.0416000000000007,5.67,7.77,111,0,42,2,1,2,0.82,7,1,2,null,"SF",640,5,14,6,0.05,0.2,0.1]
[7905,"Wasser",0.1,0,0,0,0,0,0,0,0,-1.32,0,0,0,0,0,0,0,0,0,0,null,"SF",0,0,0,0,0,0,0]
[8085,"Mineralfutter, Rindermast",950,0,0,0,0,0,0,0,0,0.35,0,0,0,252.63,63.16,21.05,84.21,0,1.94,1.94,null,"KF",0,842.11,3157.89,2105.2600000000002,26.32,105.26,42.11]
[8085,"Mineralfutter, Rindermast",950,0,0,0,0,0,0,0,0,0.35,0,0,0,231.58,0,21.05,84.21,0,1.94,1.94,null,"KF",0,526.32000000000005,1052.6300000000001,1052.6300000000001,21.05,10.53,31.58]
[8183,"Mineralfutter Milchkuh trocken",950,0,0,0,0,0,0,0,0,0.35,0,0,0,31.58,0,31.58,52.63,0,62.95,0,null,"KF",0,736.84,1052.6300000000001,1052.6300000000001,10.53,21.05,31.58]
[8184,"Mineralfutter Jungvieh",950,0,0,0,0,0,0,0,0,0.35,0,0,0,210.53,0,21.05,84.21,0,100.72,0,null,"KF",0,526.32000000000005,1052.6300000000001,1052.6300000000001,10.53,10.53,31.58]
[8185,"Mineralfutter Milchkuh laktierend",950,0,0,0,0,0,0,0,0,0.35,0,0,0,263.16000000000003,0,31.58,131.58000000000001,0,125.89,0,0,"KF",0,736.84,1052.6300000000001,1052.6300000000001,10.53,21.05,36.840000000000003]
[8186,"Mineralf. Rind, 20% Ca,  5% P",950,0,0,0,0,0,0,0,0,0.35,0,0,0,210.53,52.63,21.05,94.74,0,116.21,0,null,"KF",0,842.11,3157.89,2105.2600000000002,26.32,105.26,42.11]
[8187,"Mineralf.Rind,  22% Ca,  2% P",950,0,0,0,0,0,0,0,0,0.35,0,0,0,231.58,21.05,21.05,84.21,0,125.89,0,0,"KF",0,842.11,3157.89,2105.2600000000002,26.32,105.26,42.11]
[8585,"Mineralfutter Schafe",950,0,0,0,0,0,0,0,0,0.35,0,0,0,157.88999999999999,63.16,31.58,105.26,0,48.42,0,null,"KF",93.54,0,4210.53,0,10.53,1.94,5.26]
[9000,null,null,null,null,null,null,null,null,0]
[9001,null,null,null,null,null,null,null,null,0]
[9002,null,null,null,null,null,null,null,null,{"$f":"(G330-H330)/6.25","v":0}]
[9003,null,null,null,null,null,null,null,null,0]
[9004,null,null,null,null,null,null,null,null,0]
[9005,null,null,null,null,null,null,null,null,0]
[9006,null,null,null,null,null,null,null,null,0]
[9007,null,null,null,null,null,null,null,null,{"$f":"(G335-H335)/6.25","v":0}]
[9008,null,null,null,null,null,null,null,null,0]
[9009,null,null,null,null,null,null,null,null,0]
[9010,null,null,null,null,null,null,null,null,{"$f":"(G338-H338)/6.25","v":0}]
[9011,null,null,null,null,null,null,null,null,{"$f":"(G339-H339)/6.25","v":0}]
[9012,null,null,null,null,null,null,null,null,0]
[9013]
[9014,null,null,null,null,null,null,null,null,0]
[9015,null,null,null,null,null,null,null,null,0]
[9016,null,null,null,null,null,null,null,null,0]
[9017,null,null,null,null,null,null,null,null,0,null,null,null,null,null,null,null,null,null,null,null,null,0]
[9018,null,null,null,null,null,null,null,null,0,null,null,null,null,null,null,null,null,null,null,null,null,0]
[9019,null,null,null,null,null,null,null,null,0]
[9020,null,null,null,null,null,null,null,null,0]
[9021,null,null,null,null,null,null,null,null,{"$f":"(G349-H349)/6.25","v":0}]
[9022,null,null,null,null,null,null,null,null,0]
[9023,null,null,null,null,null,null,null,null,0,null,null,null,null,null,null,null,null,null,null,null,null,0]
[9024,null,null,null,null,null,null,null,null,0]
[9025,null,null,null,null,null,null,null,null,0]

{"sheet":"Zielwerte","index":5,"n_rows":16,"n_cols":50,"rows_kept":16,"cut":false,"hidden":false,"merged":[[0,2,0,35],[2,0,4,0],[1,0,1,35],[0,0,0,1],[2,34,2,35],[3,34,3,35],[2,14,2,15],[3,14,3,15],[2,2,2,3],[3,2,3,3],[2,4,2,5],[3,4,3,5],[2,8,2,9],[3,8,3,9],[2,10,2,11],[3,10,3,11],[2,12,2,13],[3,12,3,13],[2,16,2,17],[3,16,3,17],[2,18,2,19],[3,18,3,19],[2,6,2,7],[3,6,3,7],[2,32,2,33],[3,32,3,33],[2,26,2,27],[3,26,3,27],[2,28,2,29],[3,28,3,29],[2,30,2,31],[3,30,3,31],[2,20,2,21],[3,20,3,21],[2,22,2,23],[3,22,3,23],[2,24,2,25],[3,24,3,25],[3,48,3,49],[0,36,0,49],[1,36,1,49],[3,36,3,37],[2,36,2,37],[2,38,2,39],[2,40,2,41],[2,42,2,43],[2,44,2,45],[2,46,2,47],[2,48,2,49],[3,38,3,39],[3,40,3,41],[3,42,3,43],[3,44,3,45],[3,46,3,47]]}
[]
[]
["Die bereits eingetragenen Werte können überschrieben werden.","Kenn","TM",null,"XF",null,"aNDFom",null,"S-Index",null,"CP",null,"nxP",null,"RNB",null,"NEL",null,"ST+ZU",null,"bST",null,"CL",null,"Ca",null,"P",null,"Mg",null,"Na",null,"K",null,"DCAB",null,"Fe",null,"Cu",null,"Zn",null,"Mg",null,"Co",null,"J",null,"Se"]
[null,"Nr.","kg",null,"%/kg TM",null,"%/TM",null,null,null,"%/kg TM",null,"%/kg TM",null,"g",null,"MJ/kg TM",null,"%/kg TM",null,"%/kg TM",null,"%/kg TM",null,"g/kg TM",null,"g/kg TM",null,"g/kg TM",null,"g/kg TM",null,"g/kg TM",null,"mEq/kg TM",null,"mg/kg TM",null,"mg/kg TM",null,"mg/kg TM",null,"mg/kg TM",null,"mg/kg TM",null,"mg/kg TM",null,"mg/kg TM"]
[null,null,"min","max","min","max","min","max","min","max","min","max","min","max","min","max","min","max","min","max","min","max","min","max","min","max","min","max","min","max","min","max","min","max","min","max","min","max","min","max","min","max","min","max","min","max","min","max","min","max"]
["Trockensteher",1,10,14,0,0,28,null,50,null,10,13,10,13,-5,15,5.5,6,12,15,null,null,null,null,4,6,2,3.5,1,2,1.5,2.5,10,20,100,300,50,450,10,30,50,120,50,150,0.2,1,0.5,5,0.2,0.5]
["Transit",2,11,15,0,0,28,null,50,null,13,15,13,15,-5,10,6.3,6.8,14,20,null,null,null,null,3,5,2,3.5,2,4,1.5,2,10,15,0,200,50,450,10,30,50,120,50,150,0.2,1,0.5,5,0.2,0.5]
["Hochleistung",3,20,26,0,0,28,null,50,null,15.5,17.5,15.5,17.5,-10,10,6.8,7.5,22,30,3.5,5.5,3,5,5.5,7.5,3.5,4.2,1,2.5,1.5,2,10,20,150,350,50,450,10,30,50,120,50,150,0.2,1,0.5,5,0.2,0.5]
["Altmelker",4,16,20,0,0,28,null,50,null,15,17,15,17,-5,15,6.3,7,20,28,1,3.5,null,null,5,7,3.5,4,1,2.5,1.5,2,10,20,150,350,50,450,10,30,50,120,50,150,0.2,1,0.5,5,0.2,0.5]
[null,5]
[null,6]
[null,7]
[null,8]
[null,9]
[null,10]
["Bitte Gruppe auswählen!",11]

{"sheet":"Mengenberechnung","index":6,"n_rows":40,"n_cols":9,"rows_kept":40,"cut":false,"hidden":false,"merged":[[1,0,39,0],[36,2,36,4],[36,6,39,7],[37,2,37,4],[38,2,38,4],[39,2,39,4],[32,6,35,7],[33,2,33,4],[34,2,34,4],[35,2,35,4],[24,2,24,4],[24,6,27,7],[25,2,25,4],[26,2,26,4],[27,2,27,4],[32,2,32,4],[10,6,15,7],[29,6,29,7],[28,1,28,5],[30,2,30,4],[31,2,31,4],[29,2,29,4],[10,2,10,4],[13,2,13,4],[14,2,14,4],[16,1,16,5],[11,2,11,4],[12,2,12,4],[15,2,15,4],[16,8,28,11],[17,6,17,7],[18,2,18,4],[19,2,19,4],[20,2,20,4],[20,6,23,7],[21,2,21,4],[22,2,22,4],[23,2,23,4],[17,2,17,4],[0,1,0,11],[1,1,1,5],[2,2,2,4],[2,6,2,7],[3,2,3,4],[3,6,9,7],[4,2,4,4],[5,2,5,4],[6,2,6,4],[7,2,7,4],[8,2,8,4],[9,2,9,4],[1,8,9,11]]}
[]
[null,"Grundfutter – Ration für",null,null,null,null,10,"Tiere","Die Tabelle zur Mengenberechnung zeigt die Gewichte der einzelnen Futtermittel für die Beladung des Mischwagens oder bei der Kraftfuttermischung den Gewichtsanteil  der einzelnen Komponenten.                                                                                                    Geben Sie in das Eingabefeld die Anzahl der Tiere ein, für welche eine Ration gemischt werden soll (Anzeige = Tagesmenge)."]
[null,"Nr.","Futtermittel",null,null,"kg."]
[null,{"$f":"Ration!A15","v":0},{"$f":"Ration!B15","v":0},null,null,{"$f":"Ration!E4*G2","v":0},"Gesamt GF und KF in kg:"]
[null,{"$f":"Ration!A16","v":0},{"$f":"Ration!B16","v":0},null,null,{"$f":"Ration!E5*G2","v":0}]
[null,{"$f":"Ration!A17","v":0},{"$f":"Ration!B17","v":0},null,null,{"$f":"Ration!E6*G2","v":0}]
[null,{"$f":"Ration!A18","v":0},{"$f":"Ration!B18","v":0},null,null,{"$f":"Ration!E7*G2","v":0}]
[null,{"$f":"Ration!A19","v":0},{"$f":"Ration!B19","v":0},null,null,{"$f":"Ration!E8*G2","v":0}]
[null,{"$f":"Ration!A20","v":0},{"$f":"Ration!B20","v":0},null,null,{"$f":"Ration!E9*G2","v":0}]
[null,{"$f":"Ration!A21","v":0},{"$f":"Ration!B21","v":0},null,null,{"$f":"Ration!E10*G2","v":0}]
[null,{"$f":"Ration!A22","v":0},{"$f":"Ration!B22","v":0},null,null,{"$f":"Ration!E11*G2","v":0},{"$f":"SUM(F4:F16)","v":0}]
[null,{"$f":"Ration!A23","v":0},{"$f":"Ration!B23","v":0},null,null,{"$f":"Ration!E12*G2","v":0}]
[null,{"$f":"Ration!A24","v":0},{"$f":"Ration!B24","v":0},null,null,{"$f":"Ration!E13*G2","v":0}]
[null,"KF 1","Mischung 1",null,null,{"$f":"Ration!E27*G2","v":0}]
[null,"KF 2","Mischung 2",null,null,{"$f":"Ration!E28*G2","v":0}]
[null,null,"Zugabe Liter / kg  Wasser",null,null,{"$f":"Ration!E29*G2","v":0}]
[null,"Kraftfutter – Mischung 1          Mischergröße:",null,null,null,null,1000,"kg","Bitte die Gesamtmenge einer Mischung ins Eingabefeld eintragen. Die Tabelle darunter zeigt die Komponenten der Kraftfutter – Mischung 1 in kg Frischmasse an. Mittels der Tierzahl sowie der geplanten Futtermengemenge pro Tag wird die Anzahl Tage berechnet, bis wieder gemischt werden muß."]
[null,"Nr.","Futtermittel",null,null,"kg."]
[null,{"$f":"'Mischung 1'!A15","v":0},{"$f":"'Mischung 1'!B15","v":0},null,null,{"$f":"$G$17*'Mischung 1'!F15","v":0},"Tiere gesamt:",10]
[null,{"$f":"'Mischung 1'!A16","v":0},{"$f":"'Mischung 1'!B16","v":0},null,null,{"$f":"$G$17*'Mischung 1'!F16","v":0},"kg je Tier/Tag:",{"$f":"Ration!E27","v":0}]
[null,{"$f":"'Mischung 1'!A17","v":0},{"$f":"'Mischung 1'!B17","v":0},null,null,{"$f":"$G$17*'Mischung 1'!F17","v":0},"1 Mischung reicht für eine Anzahl an Futtertagen von:"]
[null,{"$f":"'Mischung 1'!A18","v":0},{"$f":"'Mischung 1'!B18","v":0},null,null,{"$f":"$G$17*'Mischung 1'!F18","v":0}]
[null,{"$f":"'Mischung 1'!A19","v":0},{"$f":"'Mischung 1'!B19","v":0},null,null,{"$f":"$G$17*'Mischung 1'!F19","v":0}]
[null,{"$f":"'Mischung 1'!A20","v":0},{"$f":"'Mischung 1'!B20","v":0},null,null,{"$f":"$G$17*'Mischung 1'!F20","v":0}]
[null,{"$f":"'Mischung 1'!A21","v":0},{"$f":"'Mischung 1'!B21","v":0},null,null,{"$f":"$G$17*'Mischung 1'!F21","v":0},{"$f":"IFERROR(G17/(H19*H20),\" \")","v":" "}]
[null,{"$f":"'Mischung 1'!A22","v":0},{"$f":"'Mischung 1'!B22","v":0},null,null,{"$f":"$G$17*'Mischung 1'!F22","v":0}]
[null,{"$f":"'Mischung 1'!A23","v":0},{"$f":"'Mischung 1'!B23","v":0},null,null,{"$f":"$G$17*'Mischung 1'!F23","v":0}]
[null,{"$f":"'Mischung 1'!A24","v":0},{"$f":"'Mischung 1'!B24","v":0},null,null,{"$f":"$G$17*'Mischung 1'!F24","v":0}]
[null,"Kraftfutter – Mischung 2          Mischergröße:",null,null,null,null,1000,"kg"]
[null,"Nr.","Futtermittel",null,null,"kg."]
[null,{"$f":"'Mischung 2'!A15","v":0},{"$f":"'Mischung 2'!B15","v":0},null,null,{"$f":"$G$29*'Mischung 2'!F15","v":0},"Tiere gesamt:",10]
[null,{"$f":"'Mischung 2'!A16","v":0},{"$f":"'Mischung 2'!B16","v":0},null,null,{"$f":"$G$29*'Mischung 2'!F16","v":0},"kg je Tier/Tag:",{"$f":"Ration!E28","v":0}]
[null,{"$f":"'Mischung 2'!A17","v":0},{"$f":"'Mischung 2'!B17","v":0},null,null,{"$f":"$G$29*'Mischung 2'!F17","v":0},"1 Mischung reicht für eine Anzahl an Futtertagen von:"]
[null,{"$f":"'Mischung 2'!A18","v":0},{"$f":"'Mischung 2'!B18","v":0},null,null,{"$f":"$G$29*'Mischung 2'!F18","v":0}]
[null,{"$f":"'Mischung 2'!A19","v":0},{"$f":"'Mischung 2'!B19","v":0},null,null,{"$f":"$G$29*'Mischung 2'!F19","v":0}]
[null,{"$f":"'Mischung 2'!A20","v":0},{"$f":"'Mischung 2'!B20","v":0},null,null,{"$f":"$G$29*'Mischung 2'!F20","v":0}]
[null,{"$f":"'Mischung 2'!A21","v":0},{"$f":"'Mischung 2'!B21","v":0},null,null,{"$f":"$G$29*'Mischung 2'!F21","v":0},{"$f":"IFERROR(G29/(H31*H32),\" \")","v":" "}]
[null,{"$f":"'Mischung 2'!A22","v":0},{"$f":"'Mischung 2'!B22","v":0},null,null,{"$f":"$G$29*'Mischung 2'!F22","v":0}]
[null,{"$f":"'Mischung 2'!A23","v":0},{"$f":"'Mischung 2'!B23","v":0},null,null,{"$f":"$G$29*'Mischung 2'!F23","v":0}]
[null,{"$f":"'Mischung 2'!A24","v":0},{"$f":"'Mischung 2'!B24","v":0},null,null,{"$f":"$G$29*'Mischung 2'!F24","v":0}]

{"sheet":"Ausdruck","index":7,"n_rows":144,"n_cols":14,"rows_kept":144,"cut":false,"hidden":false,"merged":[[86,1,86,13],[87,2,87,4],[88,2,88,4],[89,2,89,4],[90,2,90,4],[91,2,91,4],[92,2,92,4],[75,12,75,13],[76,12,76,13],[82,3,82,5],[82,6,85,13],[83,1,83,3],[83,4,83,5],[84,1,84,5],[85,1,85,2],[85,3,85,5],[76,6,76,11],[77,6,77,11],[78,6,78,11],[79,6,79,11],[77,12,77,13],[78,12,78,13],[79,12,79,13],[80,12,80,13],[32,11,33,13],[34,12,34,13],[35,12,35,13],[36,12,36,13],[37,12,37,13],[38,12,38,13],[39,12,39,13],[40,12,40,13],[32,7,33,9],[34,8,34,9],[35,8,35,9],[36,8,36,9],[40,8,40,9],[0,1,0,13],[143,11,143,13],[143,1,143,2],[143,3,143,10],[144,1,144,13],[107,1,107,13],[134,11,134,13],[135,11,135,13],[136,11,136,13],[137,11,137,13],[138,11,138,13],[139,11,139,13],[140,11,140,13],[141,11,141,13],[142,11,142,13],[134,3,134,10],[135,3,135,10],[136,3,136,10],[137,3,137,10],[138,3,138,10],[139,3,139,10],[140,3,140,10],[141,3,141,10],[142,3,142,10],[134,1,134,2],[135,1,135,2],[136,1,136,2],[137,1,137,2],[138,1,138,2],[139,1,139,2],[140,1,140,2],[141,1,141,2],[142,1,142,2],[126,1,126,13],[127,11,127,13],[127,1,127,10],[128,1,128,13],[129,1,129,2],[130,1,130,2],[131,1,131,2],[132,1,132,2],[133,1,133,2],[129,3,129,10],[130,3,130,10],[131,3,131,10],[132,3,132,10],[133,3,133,10],[129,11,129,13],[130,11,130,13],[131,11,131,13],[132,11,132,13],[133,11,133,13],[93,2,93,4],[94,2,94,4],[122,1,122,2],[122,3,122,5],[122,6,125,13],[123,1,123,3],[123,4,123,5],[124,1,124,5],[125,1,125,2],[125,3,125,5],[121,1,121,13],[102,1,102,5],[102,7,102,13],[99,1,99,13],[100,1,100,13],[101,1,101,13],[97,2,97,4],[98,1,98,3],[98,4,98,5],[114,6,114,11],[114,12,114,13],[42,1,42,2],[44,1,44,5],[71,6,71,11],[72,6,72,11],[73,6,73,11],[74,6,74,11],[75,6,75,11],[62,7,62,13],[62,1,62,5],[71,1,80,5],[36,4,36,5],[34,1,34,5],[59,1,59,13],[67,1,67,13],[68,1,69,10],[68,11,69,13],[70,1,70,13],[39,1,39,3],[39,4,39,5],[40,1,40,3],[40,4,40,5],[41,1,41,13],[46,1,46,13],[58,1,58,3],[58,4,58,5],[42,6,45,13],[45,1,45,2],[45,3,45,5],[47,2,47,4],[48,2,48,4],[49,2,49,4],[50,2,50,4],[51,2,51,4],[52,2,52,4],[21,8,21,9],[21,10,21,11],[42,3,42,5],[43,1,43,3],[43,4,43,5],[22,8,22,9],[38,1,38,5],[37,1,37,3],[37,4,37,5],[26,8,26,9],[26,10,26,11],[27,8,27,9],[27,10,27,11],[28,8,28,9],[28,10,28,11],[30,1,30,13],[31,1,31,13],[32,1,32,3],[33,1,33,3],[32,4,32,5],[33,4,33,5],[35,1,35,3],[35,4,35,5],[36,1,36,3],[1,6,1,8],[1,9,1,13],[20,1,20,2],[20,3,20,4],[20,10,20,11],[20,8,20,9],[7,2,7,4],[8,2,8,4],[9,2,9,4],[10,2,10,4],[11,2,11,4],[12,2,12,4],[13,2,13,4],[14,2,14,4],[15,2,15,4],[16,2,16,4],[1,1,1,2],[1,3,1,5],[2,1,2,3],[2,4,2,5],[18,1,18,13],[17,1,17,13],[2,6,2,11],[3,6,3,11],[2,12,2,13],[3,12,3,13],[95,2,95,4],[96,2,96,4],[60,1,60,13],[61,1,61,13],[53,2,53,4],[54,2,54,4],[55,2,55,4],[56,2,56,4],[57,2,57,4],[6,2,6,4],[4,11,4,12],[26,1,26,2],[25,8,25,9],[25,10,25,11],[21,1,21,2],[22,1,22,2],[23,1,23,2],[24,1,24,2],[25,1,25,2],[39,8,39,9],[24,8,24,9],[24,10,24,11],[3,1,3,5],[4,1,4,2],[116,6,116,11],[116,12,116,13],[117,6,117,11],[117,12,117,13],[118,6,118,11],[4,3,4,5],[27,1,27,2],[28,1,28,2],[21,3,21,4],[22,3,22,4],[23,3,23,4],[24,3,24,4],[37,8,37,9],[38,8,38,9],[27,3,27,4],[28,3,28,4],[29,1,29,13],[22,10,22,11],[23,8,23,9],[23,10,23,11],[115,6,115,11],[115,12,115,13],[25,3,25,4],[26,3,26,4],[118,12,118,13],[119,6,119,11],[119,12,119,13],[120,6,120,11],[120,12,120,13],[80,6,80,11],[71,12,71,13],[72,12,72,13],[73,12,73,13],[74,12,74,13],[108,1,109,10],[108,11,109,13],[110,1,110,13],[111,1,120,5],[111,6,111,11],[111,12,111,13],[112,6,112,11],[112,12,112,13],[113,6,113,11],[113,12,113,13],[81,1,81,13],[82,1,82,2]]}
[]
[null,"Betriebs - Nr.",null,{"$f":"Einstellung!F6","v":"09 000 000 0000"},null,null,"Basis - Ration",null,null,{"$f":"Ration!B36","v":"Bitte Gruppe auswählen!"}]
[null,{"$f":"Einstellung!C5","v":"Tierhaltungsschule"},null,null,{"$f":"Einstellung!F5","v":"Triesdorf"},null,"FM gesamt   Grundfutter + KF  kg",null,null,null,null,null,{"$f":"Ration!E30","v":0}]
[null,{"$f":"Einstellung!C6","v":"Markgrafenstraße 1"},null,null,null,null,"TM gesamt   Grundfutter + KF  kg",null,null,null,null,null,{"$f":"Ration!F30","v":0}]
[null,{"$f":"Einstellung!C7","v":91746},null,{"$f":"Einstellung!E7","v":"Weidenbach"},null,null,"KF 1 kg",{"$f":"Ration!E27","v":0},"KF 2 kg",{"$f":"Ration!E28","v":0},null,"Wasser l.",null,{"$f":"Ration!E29","v":0}]
[]
[null,"Nr.","Futtermittel",null,null,"FM kg","TM","TM kg","aNDFom","CP g","nxP g","NEL MJ","CL g","Preis €"]
[null,{"$f":"Ration!A4","v":0},{"$f":"Ration!B4","v":0},null,null,{"$f":"Ration!E4","v":0},{"$f":"Ration!C15","v":0},{"$f":"Ration!F15","v":0},{"$f":"Ration!G15","v":0},{"$f":"Ration!H15","v":0},{"$f":"Ration!I15","v":0},{"$f":"Ration!L15","v":0},{"$f":"Ration!P15","v":0},{"$f":"Ration!X15","v":0}]
[null,{"$f":"Ration!A5","v":0},{"$f":"Ration!B5","v":0},null,null,{"$f":"Ration!E5","v":0},{"$f":"Ration!C16","v":0},{"$f":"Ration!F16","v":0},{"$f":"Ration!G16","v":0},{"$f":"Ration!H16","v":0},{"$f":"Ration!I16","v":0},{"$f":"Ration!L16","v":0},{"$f":"Ration!P16","v":0},{"$f":"Ration!X16","v":0}]
[null,{"$f":"Ration!A6","v":0},{"$f":"Ration!B6","v":0},null,null,{"$f":"Ration!E6","v":0},{"$f":"Ration!C17","v":0},{"$f":"Ration!F17","v":0},{"$f":"Ration!G17","v":0},{"$f":"Ration!H17","v":0},{"$f":"Ration!I17","v":0},{"$f":"Ration!L17","v":0},{"$f":"Ration!P17","v":0},{"$f":"Ration!X17","v":0}]
[null,{"$f":"Ration!A7","v":0},{"$f":"Ration!B7","v":0},null,null,{"$f":"Ration!E7","v":0},{"$f":"Ration!C18","v":0},{"$f":"Ration!F18","v":0},{"$f":"Ration!G18","v":0},{"$f":"Ration!H18","v":0},{"$f":"Ration!I18","v":0},{"$f":"Ration!L18","v":0},{"$f":"Ration!P18","v":0},{"$f":"Ration!X18","v":0}]
[null,{"$f":"Ration!A8","v":0},{"$f":"Ration!B8","v":0},null,null,{"$f":"Ration!E8","v":0},{"$f":"Ration!C19","v":0},{"$f":"Ration!F19","v":0},{"$f":"Ration!G19","v":0},{"$f":"Ration!H19","v":0},{"$f":"Ration!I19","v":0},{"$f":"Ration!L19","v":0},{"$f":"Ration!P19","v":0},{"$f":"Ration!X19","v":0}]
[null,{"$f":"Ration!A9","v":0},{"$f":"Ration!B9","v":0},null,null,{"$f":"Ration!E9","v":0},{"$f":"Ration!C20","v":0},{"$f":"Ration!F20","v":0},{"$f":"Ration!G20","v":0},{"$f":"Ration!H20","v":0},{"$f":"Ration!I20","v":0},{"$f":"Ration!L20","v":0},{"$f":"Ration!P20","v":0},{"$f":"Ration!X20","v":0}]
[null,{"$f":"Ration!A10","v":0},{"$f":"Ration!B10","v":0},null,null,{"$f":"Ration!E10","v":0},{"$f":"Ration!C21","v":0},{"$f":"Ration!F21","v":0},{"$f":"Ration!G21","v":0},{"$f":"Ration!H21","v":0},{"$f":"Ration!I21","v":0},{"$f":"Ration!L21","v":0},{"$f":"Ration!P21","v":0},{"$f":"Ration!X21","v":0}]
[null,{"$f":"Ration!A11","v":0},{"$f":"Ration!B11","v":0},null,null,{"$f":"Ration!E11","v":0},{"$f":"Ration!C22","v":0},{"$f":"Ration!F22","v":0},{"$f":"Ration!G22","v":0},{"$f":"Ration!H22","v":0},{"$f":"Ration!I22","v":0},{"$f":"Ration!L22","v":0},{"$f":"Ration!P22","v":0},{"$f":"Ration!X22","v":0}]
[null,{"$f":"Ration!A12","v":0},{"$f":"Ration!B12","v":0},null,null,{"$f":"Ration!E12","v":0},{"$f":"Ration!C23","v":0},{"$f":"Ration!F23","v":0},{"$f":"Ration!G23","v":0},{"$f":"Ration!H23","v":0},{"$f":"Ration!I23","v":0},{"$f":"Ration!L23","v":0},{"$f":"Ration!P23","v":0},{"$f":"Ration!X23","v":0}]
[null,{"$f":"Ration!A13","v":0},{"$f":"Ration!B13","v":0},null,null,{"$f":"Ration!E13","v":0},{"$f":"Ration!C24","v":0},{"$f":"Ration!F24","v":0},{"$f":"Ration!G24","v":0},{"$f":"Ration!H24","v":0},{"$f":"Ration!I24","v":0},{"$f":"Ration!L24","v":0},{"$f":"Ration!P24","v":0},{"$f":"Ration!X24","v":0}]
[]
[null,"Kennzahlen der Ration und Vergleich mit Zielwerten"]
[]
[null,"Wert",null,"Ist",null,"min","max",null,"Wert",null,"Ist",null,"min","max"]
[null,"TM kg",null,{"$f":"Ration!F30","v":0},null,{"$f":"Ration!F38","v":0},{"$f":"Ration!F39","v":0},null,"bST % / kg TM",null,{"$f":"Ration!O31","v":0},null,{"$f":"Ration!O38","v":0},{"$f":"Ration!O39","v":0}]
[null,"aNDFom %",null,{"$f":"Ration!G31","v":0},null,{"$f":"Ration!G38","v":0},{"$f":"Ration!G39","v":0},null,"CL % / kg TM",null,{"$f":"Ration!P31","v":0},null,{"$f":"Ration!P38","v":0},{"$f":"Ration!P39","v":0}]
[null,"Struktur - Index",null,{"$f":"Ration!G32","v":0},null,50,null,null,"Ca g / kg TM",null,{"$f":"Ration!Q31","v":0},null,{"$f":"Ration!Q38","v":0},{"$f":"Ration!Q39","v":0}]
[null,"CP % / kg TM",null,{"$f":"Ration!H31","v":0},null,{"$f":"Ration!H38","v":0},{"$f":"Ration!H39","v":0},null,"P g / kg TM",null,{"$f":"Ration!R31","v":0},null,{"$f":"Ration!R38","v":0},{"$f":"Ration!R39","v":0}]
[null,"nxP % / kg TM",null,{"$f":"Ration!I31","v":0},null,{"$f":"Ration!I38","v":0},{"$f":"Ration!I39","v":0},null,"Mg g / kg TM",null,{"$f":"Ration!S31","v":0},null,{"$f":"Ration!S38","v":0},{"$f":"Ration!S39","v":0}]
[null,"RNB",null,{"$f":"Ration!K31","v":0},null,{"$f":"Ration!K38","v":0},{"$f":"Ration!K39","v":0},null,"Na g / kg TM",null,{"$f":"Ration!T31","v":0},null,{"$f":"Ration!T38","v":0},{"$f":"Ration!T39","v":0}]
[null,"NEL MJ / kg TM",null,{"$f":"Ration!L31","v":0},null,{"$f":"Ration!L38","v":0},{"$f":"Ration!L39","v":0},null,"K g /kg TM",null,{"$f":"Ration!U31","v":0},null,{"$f":"Ration!U38","v":0},{"$f":"Ration!U39","v":0}]
[null,"ST+ZU % / kg TM",null,{"$f":"Ration!N31","v":0},null,{"$f":"Ration!N38","v":0},{"$f":"Ration!N39","v":0},null,"DCAB mEq/kgTM  ",null,{"$f":"Ration!V32","v":0},null,{"$f":"Ration!X38","v":0},{"$f":"Ration!X39","v":0}]
[]
[null,"Weitere Kennzahlen, Futterkosten  und Milcherzeugungswerte (MEW)"]
[]
[null,"TM % Gesamtration",null,null,{"$f":"Ration!F31","v":0},null,null,"Mengenelem. für kg Milch",null,null,null,"Spurenelemente mg/kg TM"]
[null,"Wasser Zusatz / l",null,null,{"$f":"Ration!E29","v":0}]
[null,"Ration reicht für kg Milch",null,null,null,null,null,"Ca",{"$f":"Ration!Q34","v":0},null,null,"Fe",{"$f":"Ration!Z31","v":0}]
[null,"CP MEW kg",null,null,{"$f":"Ration!H34","v":-5.4022988505747129},null,null,"P",{"$f":"Ration!R34","v":0},null,null,"Cu",{"$f":"Ration!AA31","v":0}]
[null,"nxP MEW kg",null,null,{"$f":"Ration!I34","v":-5.4022988505747129},null,null,"Mg",{"$f":"Ration!S34","v":0},null,null,"Zn",{"$f":"Ration!AB31","v":0}]
[null,"NEL MEW kg",null,null,{"$f":"Ration!L34","v":-12.09090909090909},null,null,"Na",{"$f":"Ration!T34","v":0},null,null,"Mn",{"$f":"Ration!AC31","v":0}]
[null,null,null,null,null,null,null,null,null,null,null,"Co",{"$f":"Ration!AD31","v":0}]
[null,"Futterkosten Kuh / Tag ",null,null,{"$f":"Ration!X30","v":0},null,null,null,null,null,null,"J",{"$f":"Ration!AE31","v":0}]
[null,"Futterkosten je kg Milch",null,null,{"$f":"Ration!X34","v":0},null,null,null,null,null,null,"Se",{"$f":"Ration!AF31","v":0}]
[]
[null,"Betriebs - Nr.",null,{"$f":"Einstellung!F6","v":"09 000 000 0000"},null,null,"KF -  Mischung 1"]
[null,{"$f":"Einstellung!C5","v":"Tierhaltungsschule"},null,null,{"$f":"Einstellung!F5","v":"Triesdorf"}]
[null,{"$f":"Einstellung!C6","v":"Markgrafenstraße 1"}]
[null,{"$f":"Einstellung!C7","v":91746},null,{"$f":"Einstellung!E7","v":"Weidenbach"}]
[]
[null,"Nr.","Futtermittel",null,null,"% Ant.","FM kg","TM kg","XF g","CP g","nxP g","NEL MJ","CL g","Preis €"]
[null,{"$f":"'Mischung 1'!A15","v":0},{"$f":"'Mischung 1'!B15","v":0},null,null,{"$f":"'Mischung 1'!C15","v":0},{"$f":"'Mischung 1'!F15","v":0},{"$f":"'Mischung 1'!E15","v":0},{"$f":"'Mischung 1'!G15","v":0},{"$f":"'Mischung 1'!I15","v":0},{"$f":"'Mischung 1'!J15","v":0},{"$f":"'Mischung 1'!M15","v":0},{"$f":"'Mischung 1'!Q15","v":0},{"$f":"'Mischung 1'!Y15","v":0}]
[null,{"$f":"'Mischung 1'!A16","v":0},{"$f":"'Mischung 1'!B16","v":0},null,null,{"$f":"'Mischung 1'!C16","v":0},{"$f":"'Mischung 1'!F16","v":0},{"$f":"'Mischung 1'!E16","v":0},{"$f":"'Mischung 1'!G16","v":0},{"$f":"'Mischung 1'!I16","v":0},{"$f":"'Mischung 1'!J16","v":0},{"$f":"'Mischung 1'!M16","v":0},{"$f":"'Mischung 1'!Q16","v":0},{"$f":"'Mischung 1'!Y16","v":0}]
[null,{"$f":"'Mischung 1'!A17","v":0},{"$f":"'Mischung 1'!B17","v":0},null,null,{"$f":"'Mischung 1'!C17","v":0},{"$f":"'Mischung 1'!F17","v":0},{"$f":"'Mischung 1'!E17","v":0},{"$f":"'Mischung 1'!G17","v":0},{"$f":"'Mischung 1'!I17","v":0},{"$f":"'Mischung 1'!J17","v":0},{"$f":"'Mischung 1'!M17","v":0},{"$f":"'Mischung 1'!Q17","v":0},{"$f":"'Mischung 1'!Y17","v":0}]
[null,{"$f":"'Mischung 1'!A18","v":0},{"$f":"'Mischung 1'!B18","v":0},null,null,{"$f":"'Mischung 1'!C18","v":0},{"$f":"'Mischung 1'!F18","v":0},{"$f":"'Mischung 1'!E18","v":0},{"$f":"'Mischung 1'!G18","v":0},{"$f":"'Mischung 1'!I18","v":0},{"$f":"'Mischung 1'!J18","v":0},{"$f":"'Mischung 1'!M18","v":0},{"$f":"'Mischung 1'!Q18","v":0},{"$f":"'Mischung 1'!Y18","v":0}]
[null,{"$f":"'Mischung 1'!A19","v":0},{"$f":"'Mischung 1'!B19","v":0},null,null,{"$f":"'Mischung 1'!C19","v":0},{"$f":"'Mischung 1'!F19","v":0},{"$f":"'Mischung 1'!E19","v":0},{"$f":"'Mischung 1'!G19","v":0},{"$f":"'Mischung 1'!I19","v":0},{"$f":"'Mischung 1'!J19","v":0},{"$f":"'Mischung 1'!M19","v":0},{"$f":"'Mischung 1'!Q19","v":0},{"$f":"'Mischung 1'!Y19","v":0}]
[null,{"$f":"'Mischung 1'!A20","v":0},{"$f":"'Mischung 1'!B20","v":0},null,null,{"$f":"'Mischung 1'!C20","v":0},{"$f":"'Mischung 1'!F20","v":0},{"$f":"'Mischung 1'!E20","v":0},{"$f":"'Mischung 1'!G20","v":0},{"$f":"'Mischung 1'!I20","v":0},{"$f":"'Mischung 1'!J20","v":0},{"$f":"'Mischung 1'!M20","v":0},{"$f":"'Mischung 1'!Q20","v":0},{"$f":"'Mischung 1'!Y20","v":0}]
[null,{"$f":"'Mischung 1'!A21","v":0},{"$f":"'Mischung 1'!B21","v":0},null,null,{"$f":"'Mischung 1'!C21","v":0},{"$f":"'Mischung 1'!F21","v":0},{"$f":"'Mischung 1'!E21","v":0},{"$f":"'Mischung 1'!G21","v":0},{"$f":"'Mischung 1'!I21","v":0},{"$f":"'Mischung 1'!J21","v":0},{"$f":"'Mischung 1'!M21","v":0},{"$f":"'Mischung 1'!Q21","v":0},{"$f":"'Mischung 1'!Y21","v":0}]
[null,{"$f":"'Mischung 1'!A22","v":0},{"$f":"'Mischung 1'!B22","v":0},null,null,{"$f":"'Mischung 1'!C22","v":0},{"$f":"'Mischung 1'!F22","v":0},{"$f":"'Mischung 1'!E22","v":0},{"$f":"'Mischung 1'!G22","v":0},{"$f":"'Mischung 1'!I22","v":0},{"$f":"'Mischung 1'!J22","v":0},{"$f":"'Mischung 1'!M22","v":0},{"$f":"'Mischung 1'!Q22","v":0},{"$f":"'Mischung 1'!Y22","v":0}]
[null,{"$f":"'Mischung 1'!A23","v":0},{"$f":"'Mischung 1'!B23","v":0},null,null,{"$f":"'Mischung 1'!C23","v":0},{"$f":"'Mischung 1'!F23","v":0},{"$f":"'Mischung 1'!E23","v":0},{"$f":"'Mischung 1'!G23","v":0},{"$f":"'Mischung 1'!I23","v":0},{"$f":"'Mischung 1'!J23","v":0},{"$f":"'Mischung 1'!M23","v":0},{"$f":"'Mischung 1'!Q23","v":0},{"$f":"'Mischung 1'!Y23","v":0}]
[null,{"$f":"'Mischung 1'!A24","v":0},{"$f":"'Mischung 1'!B24","v":0},null,null,{"$f":"'Mischung 1'!C24","v":0},{"$f":"'Mischung 1'!F24","v":0},{"$f":"'Mischung 1'!E24","v":0},{"$f":"'Mischung 1'!G24","v":0},{"$f":"'Mischung 1'!I24","v":0},{"$f":"'Mischung 1'!J24","v":0},{"$f":"'Mischung 1'!M24","v":0},{"$f":"'Mischung 1'!Q24","v":0},{"$f":"'Mischung 1'!Y24","v":0}]
[null,"Summe",null,null,{"$f":"'Mischung 1'!C25","v":0},null,{"$f":"'Mischung 1'!F25","v":0},{"$f":"'Mischung 1'!E25","v":0},{"$f":"'Mischung 1'!G25","v":0},{"$f":"'Mischung 1'!I25","v":0},{"$f":"'Mischung 1'!J25","v":0},{"$f":"'Mischung 1'!M25","v":0},{"$f":"'Mischung 1'!Q25","v":0},{"$f":"'Mischung 1'!Y25","v":0}]
[]
[]
[]
[null,"Milcherzeugungswerte (MEW) in kg",null,null,null,null,null,"Spurenelemente mg / kg TM"]
[null,"CP",{"$f":"'Mischung 1'!I26","v":0},null,"Ca",{"$f":"'Mischung 1'!R26","v":0},null,"Fe","Cu","Zn","Mn","Co","J","Se"]
[null,"nxP",{"$f":"'Mischung 1'!J26","v":0},null,"P",{"$f":"'Mischung 1'!S26","v":0},null,{"$f":"'Mischung 1'!Z25","v":0},{"$f":"'Mischung 1'!AA25","v":0},{"$f":"'Mischung 1'!AB25","v":0},{"$f":"'Mischung 1'!AC25","v":0},{"$f":"'Mischung 1'!AD25","v":0},{"$f":"'Mischung 1'!AE25","v":0},{"$f":"'Mischung 1'!AF25","v":0}]
[null,"NEL",{"$f":"'Mischung 1'!M26","v":0},null,"Mg",{"$f":"'Mischung 1'!T26","v":0}]
[null,null,null,null,"Na",{"$f":"'Mischung 1'!U26","v":0}]
[]
[null,"Zusammensetzung einer KF 1 - Mischung         bei Mischergröße in kg ",null,null,null,null,null,null,null,null,null,{"$f":"Mengenberechnung!G17","v":1000}]
[]
[]
[null,null,null,null,null,null,{"$f":"Mengenberechnung!C19","v":0},null,null,null,null,null,{"$f":"Mengenberechnung!F19","v":0}]
[null,null,null,null,null,null,{"$f":"Mengenberechnung!C20","v":0},null,null,null,null,null,{"$f":"Mengenberechnung!F20","v":0}]
[null,null,null,null,null,null,{"$f":"Mengenberechnung!C21","v":0},null,null,null,null,null,{"$f":"Mengenberechnung!F21","v":0}]
[null,null,null,null,null,null,{"$f":"Mengenberechnung!C22","v":0},null,null,null,null,null,{"$f":"Mengenberechnung!F22","v":0}]
[null,null,null,null,null,null,{"$f":"Mengenberechnung!C23","v":0},null,null,null,null,null,{"$f":"Mengenberechnung!F23","v":0}]
[null,null,null,null,null,null,{"$f":"Mengenberechnung!C24","v":0},null,null,null,null,null,{"$f":"Mengenberechnung!F24","v":0}]
[null,null,null,null,null,null,{"$f":"Mengenberechnung!C25","v":0},null,null,null,null,null,{"$f":"Mengenberechnung!F25","v":0}]
[null,null,null,null,null,null,{"$f":"Mengenberechnung!C26","v":0},null,null,null,null,null,{"$f":"Mengenberechnung!F26","v":0}]
[null,null,null,null,null,null,{"$f":"Mengenberechnung!C27","v":0},null,null,null,null,null,{"$f":"Mengenberechnung!F27","v":0}]
[null,null,null,null,null,null,{"$f":"Mengenberechnung!C28","v":0},null,null,null,null,null,{"$f":"Mengenberechnung!F28","v":0}]
[]
[null,"Betriebs - Nr.",null,{"$f":"Einstellung!F6","v":"09 000 000 0000"},null,null,"KF - Mischung 2"]
[null,{"$f":"Einstellung!C5","v":"Tierhaltungsschule"},null,null,{"$f":"Einstellung!F5","v":"Triesdorf"}]
[null,{"$f":"Einstellung!C6","v":"Markgrafenstraße 1"}]
[null,{"$f":"Einstellung!C7","v":91746},null,{"$f":"Einstellung!E7","v":"Weidenbach"}]
[]
[null,"Nr.","Futtermittel",null,null,"% Ant.","FM kg","TM kg","XF g","CP g","nxP g","NEL MJ","CL g","Preis €"]
[null,{"$f":"'Mischung 2'!A15","v":0},{"$f":"'Mischung 2'!B15","v":0},null,null,{"$f":"'Mischung 2'!C15","v":0},{"$f":"'Mischung 2'!F15","v":0},{"$f":"'Mischung 2'!E15","v":0},{"$f":"'Mischung 2'!G15","v":0},{"$f":"'Mischung 2'!I15","v":0},{"$f":"'Mischung 2'!J15","v":0},{"$f":"'Mischung 2'!M15","v":0},{"$f":"'Mischung 2'!Q15","v":0},{"$f":"'Mischung 2'!Y15","v":0}]
[null,{"$f":"'Mischung 2'!A16","v":0},{"$f":"'Mischung 2'!B16","v":0},null,null,{"$f":"'Mischung 2'!C16","v":0},{"$f":"'Mischung 2'!F16","v":0},{"$f":"'Mischung 2'!E16","v":0},{"$f":"'Mischung 2'!G16","v":0},{"$f":"'Mischung 2'!I16","v":0},{"$f":"'Mischung 2'!J16","v":0},{"$f":"'Mischung 2'!M16","v":0},{"$f":"'Mischung 2'!Q16","v":0},{"$f":"'Mischung 2'!Y16","v":0}]
[null,{"$f":"'Mischung 2'!A17","v":0},{"$f":"'Mischung 2'!B17","v":0},null,null,{"$f":"'Mischung 2'!C17","v":0},{"$f":"'Mischung 2'!F17","v":0},{"$f":"'Mischung 2'!E17","v":0},{"$f":"'Mischung 2'!G17","v":0},{"$f":"'Mischung 2'!I17","v":0},{"$f":"'Mischung 2'!J17","v":0},{"$f":"'Mischung 2'!M17","v":0},{"$f":"'Mischung 2'!Q17","v":0},{"$f":"'Mischung 2'!Y17","v":0}]
[null,{"$f":"'Mischung 2'!A18","v":0},{"$f":"'Mischung 2'!B18","v":0},null,null,{"$f":"'Mischung 2'!C18","v":0},{"$f":"'Mischung 2'!F18","v":0},{"$f":"'Mischung 2'!E18","v":0},{"$f":"'Mischung 2'!G18","v":0},{"$f":"'Mischung 2'!I18","v":0},{"$f":"'Mischung 2'!J18","v":0},{"$f":"'Mischung 2'!M18","v":0},{"$f":"'Mischung 2'!Q18","v":0},{"$f":"'Mischung 2'!Y18","v":0}]
[null,{"$f":"'Mischung 2'!A19","v":0},{"$f":"'Mischung 2'!B19","v":0},null,null,{"$f":"'Mischung 2'!C19","v":0},{"$f":"'Mischung 2'!F19","v":0},{"$f":"'Mischung 2'!E19","v":0},{"$f":"'Mischung 2'!G19","v":0},{"$f":"'Mischung 2'!I19","v":0},{"$f":"'Mischung 2'!J19","v":0},{"$f":"'Mischung 2'!M19","v":0},{"$f":"'Mischung 2'!Q19","v":0},{"$f":"'Mischung 2'!Y19","v":0}]
[null,{"$f":"'Mischung 2'!A20","v":0},{"$f":"'Mischung 2'!B20","v":0},null,null,{"$f":"'Mischung 2'!C20","v":0},{"$f":"'Mischung 2'!F20","v":0},{"$f":"'Mischung 2'!E20","v":0},{"$f":"'Mischung 2'!G20","v":0},{"$f":"'Mischung 2'!I20","v":0},{"$f":"'Mischung 2'!J20","v":0},{"$f":"'Mischung 2'!M20","v":0},{"$f":"'Mischung 2'!Q20","v":0},{"$f":"'Mischung 2'!Y20","v":0}]
[null,{"$f":"'Mischung 2'!A21","v":0},{"$f":"'Mischung 2'!B21","v":0},null,null,{"$f":"'Mischung 2'!C21","v":0},{"$f":"'Mischung 2'!F21","v":0},{"$f":"'Mischung 2'!E21","v":0},{"$f":"'Mischung 2'!G21","v":0},{"$f":"'Mischung 2'!I21","v":0},{"$f":"'Mischung 2'!J21","v":0},{"$f":"'Mischung 2'!M21","v":0},{"$f":"'Mischung 2'!Q21","v":0},{"$f":"'Mischung 2'!Y21","v":0}]
[null,{"$f":"'Mischung 2'!A22","v":0},{"$f":"'Mischung 2'!B22","v":0},null,null,{"$f":"'Mischung 2'!C22","v":0},{"$f":"'Mischung 2'!F22","v":0},{"$f":"'Mischung 2'!E22","v":0},{"$f":"'Mischung 2'!G22","v":0},{"$f":"'Mischung 2'!I22","v":0},{"$f":"'Mischung 2'!J22","v":0},{"$f":"'Mischung 2'!M22","v":0},{"$f":"'Mischung 2'!Q22","v":0},{"$f":"'Mischung 2'!Y22","v":0}]
[null,{"$f":"'Mischung 2'!A23","v":0},{"$f":"'Mischung 2'!B23","v":0},null,null,{"$f":"'Mischung 2'!C23","v":0},{"$f":"'Mischung 2'!F23","v":0},{"$f":"'Mischung 2'!E23","v":0},{"$f":"'Mischung 2'!G23","v":0},{"$f":"'Mischung 2'!I23","v":0},{"$f":"'Mischung 2'!J23","v":0},{"$f":"'Mischung 2'!M23","v":0},{"$f":"'Mischung 2'!Q23","v":0},{"$f":"'Mischung 2'!Y23","v":0}]
[null,{"$f":"'Mischung 2'!A24","v":0},{"$f":"'Mischung 2'!B24","v":0},null,null,{"$f":"'Mischung 2'!C24","v":0},{"$f":"'Mischung 2'!F24","v":0},{"$f":"'Mischung 2'!E24","v":0},{"$f":"'Mischung 2'!G24","v":0},{"$f":"'Mischung 2'!I24","v":0},{"$f":"'Mischung 2'!J24","v":0},{"$f":"'Mischung 2'!M24","v":0},{"$f":"'Mischung 2'!Q24","v":0},{"$f":"'Mischung 2'!Y24","v":0}]
[null,"Summe",null,null,{"$f":"'Mischung 2'!C25","v":0},null,{"$f":"'Mischung 2'!F25","v":0},{"$f":"'Mischung 2'!E25","v":0},{"$f":"'Mischung 2'!G25","v":0},{"$f":"'Mischung 2'!I25","v":0},{"$f":"'Mischung 2'!J25","v":0},{"$f":"'Mischung 2'!M25","v":0},{"$f":"'Mischung 2'!Q25","v":0},{"$f":"'Mischung 2'!Y25","v":0}]
[]
[]
[]
[null,"Milcherzeugungswerte (MEW) in kg",null,null,null,null,null,"Spurenelemente mg / kg TM"]
[null,"CP",{"$f":"'Mischung 2'!I26","v":0},null,"Ca",{"$f":"'Mischung 2'!R26","v":0},null,"Fe","Cu","Zn","Mn","Co","J","Se"]
[null,"nxP",{"$f":"'Mischung 2'!J26","v":0},null,"P",{"$f":"'Mischung 2'!S26","v":0},null,{"$f":"'Mischung 2'!Z25","v":0},{"$f":"'Mischung 2'!AA25","v":0},{"$f":"'Mischung 2'!AB25","v":0},{"$f":"'Mischung 2'!AC25","v":0},{"$f":"'Mischung 2'!AD25","v":0},{"$f":"'Mischung 2'!AE25","v":0},{"$f":"'Mischung 2'!AF25","v":0}]
[null,"NEL",{"$f":"'Mischung 2'!M26","v":0},null,"Mg",{"$f":"'Mischung 2'!T26","v":0}]
[null,null,null,null,"Na",{"$f":"'Mischung 2'!U26","v":0}]
[]
[null,"Zusammensetzung einer KF 2 - Mischung         bei Mischergröße in kg ",null,null,null,null,null,null,null,null,null,{"$f":"Mengenberechnung!G29","v":1000}]
[]
[]
[null,null,null,null,null,null,{"$f":"Mengenberechnung!C31","v":0},null,null,null,null,null,{"$f":"Mengenberechnung!F31","v":0}]
[null,null,null,null,null,null,{"$f":"Mengenberechnung!C32","v":0},null,null,null,null,null,{"$f":"Mengenberechnung!F32","v":0}]
[null,null,null,null,null,null,{"$f":"Mengenberechnung!C33","v":0},null,null,null,null,null,{"$f":"Mengenberechnung!F33","v":0}]
[null,null,null,null,null,null,{"$f":"Mengenberechnung!C34","v":0},null,null,null,null,null,{"$f":"Mengenberechnung!F34","v":0}]
[null,null,null,null,null,null,{"$f":"Mengenberechnung!C35","v":0},null,null,null,null,null,{"$f":"Mengenberechnung!F35","v":0}]
[null,null,null,null,null,null,{"$f":"Mengenberechnung!C36","v":0},null,null,null,null,null,{"$f":"Mengenberechnung!F36","v":0}]
[null,null,null,null,null,null,{"$f":"Mengenberechnung!C37","v":0},null,null,null,null,null,{"$f":"Mengenberechnung!F37","v":0}]
[null,null,null,null,null,null,{"$f":"Mengenberechnung!C38","v":0},null,null,null,null,null,{"$f":"Mengenberechnung!F38","v":0}]
[null,null,null,null,null,null,{"$f":"Mengenberechnung!C39","v":0},null,null,null,null,null,{"$f":"Mengenberechnung!F39","v":0}]
[null,null,null,null,null,null,{"$f":"Mengenberechnung!C40","v":0},null,null,null,null,null,{"$f":"Mengenberechnung!F40","v":0}]
[]
[null,"Betriebs - Nr.",null,{"$f":"Einstellung!F6","v":"09 000 000 0000"},null,null,"Ladeliste Mischwagen"]
[null,{"$f":"Einstellung!C5","v":"Tierhaltungsschule"},null,null,{"$f":"Einstellung!F5","v":"Triesdorf"}]
[null,{"$f":"Einstellung!C6","v":"Markgrafenstraße 1"}]
[null,{"$f":"Einstellung!C7","v":91746},null,{"$f":"Einstellung!E7","v":"Weidenbach"}]
[]
[null,"Tagesration für Anzahl Kühe",null,null,null,null,null,null,null,null,null,{"$f":"Mengenberechnung!G2","v":10}]
[]
[null,{"$f":"Mengenberechnung!B4","v":0},null,{"$f":"Mengenberechnung!C4","v":0},null,null,null,null,null,null,null,{"$f":"Mengenberechnung!F4","v":0}]
[null,{"$f":"Mengenberechnung!B5","v":0},null,{"$f":"Mengenberechnung!C5","v":0},null,null,null,null,null,null,null,{"$f":"Mengenberechnung!F5","v":0}]
[null,{"$f":"Mengenberechnung!B6","v":0},null,{"$f":"Mengenberechnung!C6","v":0},null,null,null,null,null,null,null,{"$f":"Mengenberechnung!F6","v":0}]
[null,{"$f":"Mengenberechnung!B7","v":0},null,{"$f":"Mengenberechnung!C7","v":0},null,null,null,null,null,null,null,{"$f":"Mengenberechnung!F7","v":0}]
[null,{"$f":"Mengenberechnung!B8","v":0},null,{"$f":"Mengenberechnung!C8","v":0},null,null,null,null,null,null,null,{"$f":"Mengenberechnung!F8","v":0}]
[null,{"$f":"Mengenberechnung!B9","v":0},null,{"$f":"Mengenberechnung!C9","v":0},null,null,null,null,null,null,null,{"$f":"Mengenberechnung!F9","v":0}]
[null,{"$f":"Mengenberechnung!B10","v":0},null,{"$f":"Mengenberechnung!C10","v":0},null,null,null,null,null,null,null,{"$f":"Mengenberechnung!F10","v":0}]
[null,{"$f":"Mengenberechnung!B11","v":0},null,{"$f":"Mengenberechnung!C11","v":0},null,null,null,null,null,null,null,{"$f":"Mengenberechnung!F11","v":0}]
[null,{"$f":"Mengenberechnung!B12","v":0},null,{"$f":"Mengenberechnung!C12","v":0},null,null,null,null,null,null,null,{"$f":"Mengenberechnung!F12","v":0}]
[null,{"$f":"Mengenberechnung!B13","v":0},null,{"$f":"Mengenberechnung!C13","v":0},null,null,null,null,null,null,null,{"$f":"Mengenberechnung!F13","v":0}]
[]
[null,{"$f":"Mengenberechnung!B14","v":"KF 1"},null,{"$f":"Mengenberechnung!C14","v":"Mischung 1"},null,null,null,null,null,null,null,{"$f":"Mengenberechnung!F14","v":0}]
[null,{"$f":"Mengenberechnung!B15","v":"KF 2"},null,{"$f":"Mengenberechnung!C15","v":"Mischung 2"},null,null,null,null,null,null,null,{"$f":"Mengenberechnung!F15","v":0}]
[null,null,null,"Wasser zugeben   l / kg",null,null,null,null,null,null,null,{"$f":"Mengenberechnung!F16","v":0}]
[null,null,null,"Gesamtgewicht aller Komponenten in kg",null,null,null,null,null,null,null,{"$f":"Mengenberechnung!G11","v":0}]