{"text_format":"1","workbook":"xlsx","n_sheets":8,"sheets":["Einstellung","Sollwerte","Ration","Mischung 1","Mischung 2","Gruber Tabelle","Mengenberechnung","Ausdruck"],"not_rendered":{"charts":0,"images":28,"macros":1,"external_links":0,"defined_names":4,"comments":2,"pivot_tables":0},"unopened":[],"bounds":{"document_bytes":16777216,"sheet_cells":100000,"rows_first":2000,"rows_last":500,"rows_between":2000,"halvings":0,"cell_chars":16384,"cell_head_chars":4096},"cells_cut":0,"cells_raw":0,"read":"whole","date_system":"1900"}

{"sheet":"Einstellung","index":0,"n_rows":17,"n_cols":6,"rows_kept":17,"cut":false,"hidden":false,"merged":[[2,1,3,4],[14,1,14,4],[8,1,9,4],[24,1,24,12],[4,3,4,4],[4,1,4,2],[5,1,5,4],[1,1,1,16],[15,1,15,4],[16,1,16,4],[4,5,23,16],[6,2,6,4],[7,1,7,4],[10,1,10,4],[11,1,11,4],[12,1,12,4],[13,1,13,4],[2,5,2,16],[3,5,3,16]]}
[]
[]
[null,"Adressfelder bitte bearbeiten. Diese sind zur Dokumentation von Futtermischungen nötig.",null,null,null,"Futterberechnung zur Fütterung in der Rindermast"]
[null,null,null,null,null,"Gruber Tabelle, 28. Auflage / Januar 2024        www.LfL.bayern.de"]
[null,"Tierhaltungsschule",null,"Triesdorf"]
[null,"Markgrafenstraße 12"]
[null,91746,"Weidenbach"]
[null,"09 111 111 1111"]
[]
[]
[null,"Freie Software  -  Keinerlei Gewährleistung !"]
[null,"Update  v. 24.01.2026"]
[null,"Tierhaltungsschule Triesdorf"]
[]
[null,"ths@triesdorf.de"]
[]
[null,"www.triesdorf.de"]

{"sheet":"Sollwerte","index":1,"n_rows":80,"n_cols":23,"rows_kept":80,"cut":false,"hidden":false,"merged":[[1,1,2,13],[0,1,0,13],[1,16,2,22]]}
[]
[null,"Richtwerte zur Futteraufnahme (TM-Tag) , Empfehlungen zur Energieversorgung (MJ ME) und Rohproteinversorgung (CP) pro Tag",null,null,null,null,null,null,null,null,null,null,null,null,null,null,"Spurenelemente mg / kg TM"]
[]
[null,"Tiere zur Mast","Kenn - Nr.","TM g","aNDF %","CP g","CP/kg TM","ME/MJ","ME/kgTM"," Ca g","P g","Mg g","Na g","K g","LM","Faktor","Fe","Cu","Zn","Mn","Co","J","Se"]
[null,"    Bitte Sollwerte auswählen !",0,0,null,0,null,0,null,0,0,0,0,0,null,"zur Ber. v. pabKH u. NDF","mg","mg","mg","mg","mg","mg","mg"]
[null,"Fresserfütterung  LM 100  - mittl. ZN 1000 g  ",1,1700,25,264,152,20.399999999999999,11.77,16.600000000000001,7.7,3,2.5,17.5,100,{"$f":"IF(O6>0,700^0.62/O6^0.62,0)","v":3.3416486480802288},50,10,50,50,0.2,0.5,0.2]
[null,"Fresserfütterung  LM 100  - mittl. ZN 1150 g ",2,1800,25,296,162,22.5,12.3,18.5,8.6,3.3,2.8,18.5,100,{"$f":"IF(O7>0,700^0.62/O7^0.62,0)","v":3.3416486480802288},50,10,50,50,0.2,0.5,0.2]
[null,"Fresserfütterung  LM 100  - mittl. ZN 1300 g ",3,1900,25,330,171,24.7,12.78,20.399999999999999,9.5,3.6,3,19.5,100,3.3416486480802288,50,10,50,50,0.2,0.5,0.2]
[null,"Fresserfütterung  LM 140  - mittl. ZN 1000 g ",4,3300,25,478,145,37.799999999999997,11.47,31.9,13.3,5.4,4.5,31.5,140,2.7124478848111053,50,10,50,50,0.2,0.5,0.2]
[null,"Fresserfütterung  LM 140  - mittl. ZN 1150 g ",5,3500,25,540,154,42,11.97,35.1,14.6,5.8,4.9000000000000004,33.4,140,2.7124478848111053,50,10,50,50,0.2,0.5,0.2]
[null,"Fresserfütterung  LM 140  - mittl. ZN 1300 g ",6,3700,25,606,162,46.4,12.43,38.299999999999997,16,6.2,5.2,35.299999999999997,140,2.7124478848111053,50,10,50,50,0.2,0.5,0.2]
[null,"Fresserfütterung  LM 200  - mittl. ZN 1000 g ",7,4500,25,603,134,49.8,11.06,43.8,17,7.4,6.3,46.8,200,2.1743136259638773,50,10,50,50,0.2,0.5,0.2]
[null,"Fresserfütterung  LM 200  - mittl. ZN 1150 g ",8,4900,25,713,146,57.6,11.76,49.4,19.100000000000001,8.1,6.9,50.6,200,2.1743136259638773,50,10,50,50,0.2,0.5,0.2]
[null,"Fresserfütterung  LM 200  - mittl. ZN 1300 g ",9,5300,25,830,156,65.7,12.34,55,21.1,8.9,7.5,54.5,200,2.1743136259638773,50,10,50,50,0.2,0.5,0.2]
[null,10,10,null,null,null,null,null,null,null,null,null,null,null,null,0]
[null,"Mastbullen LM 200 - mittlere ZN 1250 g",11,4900,25,666,137,55.4,11.4,41,18.899999999999999,6.9,5.9,43.8,200,2.1743136259638773,50,10,50,50,0.2,0.5,0.2]
[null,"Mastbullen LM 200 - mittlere ZN 1350 g",12,5000,25,702,141,57.7,11.6,43.4,20,7.3,6.1,45.4,200,2.1743136259638773,50,10,50,50,0.2,0.5,0.2]
[null,"Mastbullen LM 200 - mittlere ZN 1450 g",13,5100,25,738,144,60,11.73,45.9,21.1,7.6,6.4,47.1,200,2.1743136259638773,50,10,50,50,0.2,0.5,0.2]
[null,"Mastbullen LM 300 - mittlere ZN 1250 g",14,6600,25,861,131,75.099999999999994,11.4,47.4,22.6,8.9,7.6,60,300,1.691007784576364,50,10,50,50,0.2,0.5,0.2]
[null,"Mastbullen LM 300 - mittlere ZN 1350 g",15,6700,25,900,133,77.8,11.53,49.9,23.7,9.3000000000000007,7.9,61.8,300,1.691007784576364,50,10,50,50,0.2,0.5,0.2]
[null,"Mastbullen LM 300 - mittlere ZN 1450 g",16,6900,25,938,136,80.5,11.65,52.4,24.9,9.6,8.1999999999999993,63.7,300,1.691007784576364,50,10,50,50,0.2,0.5,0.2]
[null,"Mastbullen LM 400 - mittlere ZN 1250 g",17,8000,25,1009,126,91.1,11.36,50.4,24.7,10.4,8.9,72.900000000000006,400,1.414762664162255,50,10,50,50,0.2,0.5,0.2]
[null,"Mastbullen LM 400 - mittlere ZN 1350 g",18,8200,25,1050,128,94.2,11.48,52.9,25.8,10.8,9.1999999999999993,74.8,400,1.414762664162255,50,10,40,40,0.2,0.26,0.15]
[null,"Mastbullen LM 400 - mittlere ZN 1450 g",19,8400,25,1091,130,97.3,11.59,55.4,27,11.1,9.5,76.8,400,1.414762664162255,50,10,50,50,0.2,0.5,0.2]
[null,"Mastbullen LM 500 - mittlere ZN 1250 g",20,9100,25,1119,122,103.5,11.31,50.9,25.6,11.4,9.8000000000000007,82.8,500,1.2319678718225184,50,10,50,50,0.2,0.5,0.2]
[null,"Mastbullen LM 500 - mittlere ZN 1350 g",21,9400,25,1161,124,106.9,11.42,53.4,26.7,11.8,10.1,84.8,500,1.2319678718225184,50,10,50,50,0.2,0.5,0.2]
[null,"Mastbullen LM 500 - mittlere ZN 1450 g",22,9600,25,1204,126,110.4,11.53,55.9,27.9,12.1,10.4,86.8,500,1.2319678718225184,50,10,50,50,0.2,0.5,0.2]
[null,"Mastbullen LM 600 - mittlere ZN 1250 g",23,10000,25,1204,120,112.7,11.23,50,25.8,12.1,10.4,90.3,600,1.1002896039736794,50,10,50,50,0.2,0.5,0.2]
[null,"Mastbullen LM 600 - mittlere ZN 1350 g",24,10300,25,1248,122,116.6,11.36,52.4,26.9,12.4,10.7,92.3,600,1.1002896039736794,50,10,50,50,0.2,0.5,0.2]
[null,"Mastbullen LM 600 - mittlere ZN 1450 g",25,10500,25,1292,123,120.5,11.47,54.9,28.1,12.8,11,94.4,600,1.1002896039736794,50,10,50,50,0.2,0.5,0.2]
[null,"Mastbullen LM 700 - mittlere ZN 1250 g",26,10800,25,1281,119,120.1,11.17,48.8,25.7,12.5,10.8,96.2,700,1,50,10,50,50,0.2,0.5,0.2]
[null,"Mastbullen LM 700 - mittlere ZN 1350 g",27,11000,25,1326,120,124.4,11.3,51.1,26.8,12.9,11.1,98.3,700,1,50,10,50,50,0.2,0.5,0.2]
[null,"Mastbullen LM 700 - mittlere ZN 1450 g",28,11300,25,1372,122,128.6,11.41,53.5,27.9,13.3,11.4,100.5,700,1,50,10,50,50,0.2,0.5,0.2]
[null,"Mastbullen LM 800 - mittlere ZN 1250 g",29,11400,25,1368,119,127.5,11.14,48,25.8,13,11.2,101.5,800,0.92054493519544134,50,10,50,50,0.2,0.5,0.2]
[null,"Mastbullen LM 800 - mittlere ZN 1350 g",30,11700,25,1415,121,132.19999999999999,11.27,50.4,26.9,13.4,11.5,103.6,800,0.92054493519544134,50,10,50,50,0.2,0.5,0.2]
[null,"Mastbullen LM 800 - mittlere ZN 1450 g",31,12000,25,1462,122,136.80000000000001,11.39,52.7,28,13.8,11.9,105.8,800,0.92054493519544134,50,10,50,50,0.2,0.5,0.2]
[null,32,32,null,null,null,null,null,null,null,null,null,null,null,null,0]
[null,"Ochsenmast LM 250 - mittlere ZN   800 g",33,5000,25,629,126,55.5,11.1,33.1,15.8,6.5,4.7,45.8,250,1.8933808463482398,50,10,50,50,0.2,0.5,0.2]
[null,"Ochsenmast LM 250 - mittlere ZN 1000 g",34,5400,25,697,129,61.1,11.33,39.6,18.5,7.3,5.2,49.7,250,1.8933808463482398,50,10,50,50,0.2,0.5,0.2]
[null,"Ochsenmast LM 250 - mittlere ZN 1200 g",35,5800,25,766,133,66.7,11.56,46.1,21.2,8.1,5.8,53.4,250,1.8933808463482398,50,10,50,50,0.2,0.5,0.2]
[null,"Ochsenmast LM 350 - mittlere ZN   800 g",36,6600,25,812,124,71,10.84,37.5,18.5,8.1999999999999993,5.9,59.6,350,1.5368751812880119,50,10,50,50,0.2,0.5,0.2]
[null,"Ochsenmast LM 350 - mittlere ZN 1000 g",37,7000,25,888,127,77.5,11.04,44.2,21.3,9,6.5,64.2,350,1.5368751812880119,50,10,50,50,0.2,0.5,0.2]
[null,"Ochsenmast LM 350 - mittlere ZN 1200 g",38,7500,25,964,129,84.1,11.26,50.8,24.1,9.9,7.1,68.5,350,1.5368751812880119,50,10,50,50,0.2,0.5,0.2]
[null,"Ochsenmast LM 450 - mittlere ZN   800 g",39,7800,25,958,123,83.3,10.67,39.299999999999997,20,9.4,6.8,70.7,450,1.3151310341580724,50,10,50,50,0.2,0.5,0.2]
[null,"Ochsenmast LM 450 - mittlere ZN 1000 g",40,8400,25,1042,125,90.8,10.87,46.2,23,10.3,7.5,75.900000000000006,450,1.3151310341580724,50,10,50,50,0.2,0.5,0.2]
[null,"Ochsenmast LM 450 - mittlere ZN 1200 g",41,8900,25,1127,127,98.3,11.07,52.9,25.9,11.2,8.1,81,450,1.3151310341580724,50,10,50,50,0.2,0.5,0.2]
[null,"Ochsenmast LM 550 - mittlere ZN   800 g",42,8700,25,1060,122,91.5,10.55,38.200000000000003,20.2,10.1,7.3,78.2,550,1.1612772479832225,50,10,50,50,0.2,0.5,0.2]
[null,"Ochsenmast LM 550 - mittlere ZN 1000 g",43,9300,25,1152,124,99.9,10.73,45.2,23.3,11.1,8,84.2,550,1.1612772479832225,50,10,50,50,0.2,0.5,0.2]
[null,"Ochsenmast LM 550 - mittlere ZN 1200 g",44,9900,25,1244,125,108.4,10.92,52.2,26.3,12.1,8.6999999999999993,90,550,1.1612772479832225,50,10,50,50,0.2,0.5,0.2]
[null,"Ochsenmast LM 650 - mittlere ZN   800 g",45,9100,25,1109,122,94.4,10.41,34.1,18.899999999999999,10.1,7.4,81.3,650,1.0470188575265318,50,10,50,50,0.2,0.5,0.2]
[null,"Ochsenmast LM 650 - mittlere ZN 1000 g",46,9800,25,1209,123,103.8,10.6,41.3,22.1,11.2,8.1999999999999993,88.1,650,1.0470188575265318,50,10,50,50,0.2,0.5,0.2]
[null,"Ochsenmast LM 650 - mittlere ZN 1200 g",47,10500,25,1308,125,113.2,10.78,48.4,25.3,12.3,9,94.8,650,1.0470188575265318,50,10,50,50,0.2,0.5,0.2]
[null,48,48,null,null,null,null,null,null,null,null,null,null,null,null,0]
[null,"Färsenmast LM 200 - mittlere ZN    800 g",49,4400,25,559,127,49.2,11.14,31.7,14.9,5.9,4.3,40.9,200,2.1743136259638773,50,10,50,50,0.2,0.5,0.2]
[null,"Färsenmast LM 200 - mittlere ZN  950 g",50,4700,25,609,129,53.4,11.3,36.6,16.899999999999999,6.5,4.7,44,200,2.1743136259638773,50,10,50,50,0.2,0.5,0.2]
[null,"Färsenmast LM 200 - mittlere ZN  1100 g",51,5000,25,658,131,57.6,11.47,41.5,19,7.1,5.0999999999999996,46.9,200,2.1743136259638773,50,10,50,50,0.2,0.5,0.2]
[null,"Färsenmast LM 300 - mittlere ZN    800 g",52,6200,25,767,124,67,10.83,37.1,18.100000000000001,7.8,5.7,56.8,300,1.691007784576364,50,10,50,50,0.2,0.5,0.2]
[null,"Färsenmast LM 300 - mittlere ZN  950 g",53,6600,25,826,126,72,10.97,42.2,20.3,8.5,6.1,60.4,300,1.691007784576364,50,10,50,50,0.2,0.5,0.2]
[null,"Färsenmast LM 300 - mittlere ZN  1100 g",54,6900,25,885,128,77,11.12,47.2,22.4,9.1,6.6,63.8,300,1.691007784576364,50,10,50,50,0.2,0.5,0.2]
[null,"Färsenmast LM 400 - mittlere ZN    800 g",55,7600,25,927,122,80.599999999999994,10.57,39.299999999999997,19.899999999999999,9.1999999999999993,6.7,69.400000000000006,400,1.414762664162255,50,10,50,50,0.2,0.5,0.2]
[null,"Färsenmast LM 400 - mittlere ZN  950 g",56,8100,25,994,123,86.5,10.73,44.5,22.1,9.9,7.2,73.599999999999994,400,1.414762664162255,50,10,50,50,0.2,0.5,0.2]
[null,"Färsenmast LM 400 - mittlere ZN  1100 g",57,8500,25,1062,125,92.3,10.87,49.6,24.4,10.7,7.7,77.7,400,1.414762664162255,50,10,50,50,0.2,0.5,0.2]
[null,"Färsenmast LM 500 - mittlere ZN    800 g",58,8600,25,1021,119,88.7,10.33,38,20.100000000000001,10,7.2,77.7,500,1.2319678718225184,50,10,50,50,0.2,0.5,0.2]
[null,"Färsenmast LM 500 - mittlere ZN  950 g",59,9100,25,1097,120,95.4,10.47,43.3,22.4,10.8,7.8,82.6,500,1.2319678718225184,50,10,50,50,0.2,0.5,0.2]
[null,"Färsenmast LM 500 - mittlere ZN  1100 g",60,9600,25,1174,122,102,10.61,48.6,24.7,11.6,8.4,87.4,500,1.2319678718225184,50,10,50,50,0.2,0.5,0.2]
[null,"Färsenmast LM 600 - mittlere ZN    800 g",61,9000,25,1035,116,89.8,10.029999999999999,32.9,18.399999999999999,9.9,7.3,80.599999999999994,600,1.1002896039736794,50,10,50,50,0.2,0.5,0.2]
[null,"Färsenmast LM 600 - mittlere ZN  950 g",62,9600,25,1120,117,97.3,10.18,38.4,20.9,10.8,7.9,86.2,600,1.1002896039736794,50,10,50,50,0.2,0.5,0.2]
[null,"Färsenmast LM 600 - mittlere ZN  1100 g",63,10200,25,1205,119,104.8,10.32,43.9,23.3,11.7,8.5,91.7,600,1.1002896039736794,50,10,50,50,0.2,0.5,0.2]
[null,64,64,null,null,null,null,null,null,null,null,null,null,null,null,0]
[null,65,65,null,null,null,null,null,null,null,null,null,null,null,null,0]
[null,"Aufzuchtrinder LM 200 - mittlere ZN 700 g",66,4600,25,561,121,46.5,10.01,33.1,15.4,6.1,4.4000000000000004,41.6,200,2.1743136259638773,50,10,50,50,0.2,0.5,0.2]
[null,"Aufzuchtrinder LM 200 - mittlere ZN 850 g",67,4900,25,605,123,49.9,10.119999999999999,37.9,17.399999999999999,6.7,4.8,44.4,200,2.1743136259638773,50,10,50,50,0.2,0.5,0.2]
[null,"Aufzuchtrinder LM 400 - mittlere ZN 700 g",68,7200,25,846,117,66.5,9.23,33,17.2,8.4,6,64.3,400,1.414762664162255,50,10,50,50,0.2,0.5,0.2]
[null,"Aufzuchtrinder LM 400 - mittlere ZN 850 g",69,7400,25,889,120,70.599999999999994,9.49,38,19.2,9,6.5,67.599999999999994,400,{"$f":"IF(O74>0,700^0.62/O74^0.62,0)","v":1.414762664162255},50,10,50,50,0.2,0.5,0.2]
[null,"Aufzuchtrinder LM 600 - mittlere ZN 700 g",70,8700,25,1035,119,84.2,9.7200000000000006,36.200000000000003,19.399999999999999,10,7.2,78.099999999999994,600,1.1002896039736794,50,10,50,50,0.2,0.5,0.2]
[null,"Aufzuchtrinder LM 600 - mittlere ZN 850 g",71,8900,25,1081,122,89,10.02,41.2,21.6,10.6,7.7,81.900000000000006,600,1.1002896039736794,50,10,50,50,0.2,0.5,0.2]
[null,72,72,null,null,null,null,null,null,null,null,null,null,null,null,0]
[null,73,73,null,null,null,null,null,null,null,null,null,null,null,null,0]
[null,74,74,null,null,null,null,null,null,null,null,null,null,null,null,0]
[null,75,75,null,null,null,null,null,null,null,null,null,null,null,null,0]

{"sheet":"Ration","index":2,"n_rows":37,"n_cols":28,"rows_kept":37,"cut":false,"hidden":false,"merged":[[1,21,1,27],[31,0,32,2],[24,0,24,2],[30,0,30,2],[28,0,28,2],[3,5,12,5],[27,21,27,27],[25,0,25,3],[26,0,26,3],[27,0,27,3],[1,10,1,17]]}
[]
[1,null,null,null,null,null,null,null,null,null,{"$f":"INDEX(Sollwerte!B5:B80,Ration!A2)","v":"    Bitte Sollwerte auswählen !"},{"$f":"INDEX(Sollwerte!H6:H80,Ration!G2)","v":{"$error":"#VALUE!"}},{"$f":"INDEX(Sollwerte!I6:I80,Ration!H2)","v":{"$error":"#VALUE!"}},{"$f":"INDEX(Sollwerte!J6:J80,Ration!I2)","v":{"$error":"#VALUE!"}},{"$f":"INDEX(Sollwerte!K6:K80,Ration!J2)","v":{"$error":"#VALUE!"}},{"$f":"INDEX(Sollwerte!L6:L80,Ration!K2)","v":{"$error":"#VALUE!"}},{"$f":"INDEX(Sollwerte!M6:M80,Ration!L2)","v":{"$error":"#VALUE!"}},{"$f":"INDEX(Sollwerte!N6:N80,Ration!M2)","v":{"$error":"#VALUE!"}},null,null,null,"Spurenelemente in mg / kg TM"]
["Nr ","Futterart","TM %","TM g","FM kg Ration",null,null,"aNDF om g","CP g","nXP g","ME MJ","ST+ZU g","bST g","CL g","Ca g","P g","Mg g","Na g","K g","Preis / dt FM","Typ","Fe","Cu","Zn","Mn","Co","J","Se"]
[null,{"$f":"IFERROR(VLOOKUP(A4,'Gruber Tabelle'!$A$6:$V$354,2,0),0)","v":0},{"$f":"IFERROR(VLOOKUP(A4,'Gruber Tabelle'!$A$6:$V$354,3,0)/1000,0)","v":0},{"$f":"IFERROR(VLOOKUP(A4,'Gruber Tabelle'!$A$6:$V$354,3,0),0)","v":0},{"$f":"IFERROR(F15/C15,0)","v":0},"in 1000 g Trockenmasse",null,{"$f":"IFERROR(VLOOKUP(A4,'Gruber Tabelle'!$A$6:$V$354,5,0),0)","v":0},{"$f":"IFERROR(VLOOKUP(A4,'Gruber Tabelle'!$A$6:$V$354,7,0),0)","v":0},{"$f":"IFERROR(VLOOKUP(A4,'Gruber Tabelle'!$A$6:$V$354,8,0),0)","v":0},{"$f":"IFERROR(VLOOKUP(A4,'Gruber Tabelle'!$A$6:$V$354,12,0),0)","v":0},{"$f":"IFERROR(VLOOKUP(A4,'Gruber Tabelle'!$A$6:$V$354,13,0),0)","v":0},{"$f":"IFERROR(VLOOKUP(A4,'Gruber Tabelle'!$A$6:$V$354,14,0),0)","v":0},{"$f":"IFERROR(VLOOKUP(A4,'Gruber Tabelle'!$A$6:$V$354,15,0),0)","v":0},{"$f":"IFERROR(VLOOKUP(A4,'Gruber Tabelle'!$A$6:$V$354,16,0),0)","v":0},{"$f":"IFERROR(VLOOKUP(A4,'Gruber Tabelle'!$A$6:$V$354,17,0),0)","v":0},{"$f":"IFERROR(VLOOKUP(A4,'Gruber Tabelle'!$A$6:$V$354,18,0),0)","v":0},{"$f":"IFERROR(VLOOKUP(A4,'Gruber Tabelle'!$A$6:$V$354,19,0),0)","v":0},{"$f":"IFERROR(VLOOKUP(A4,'Gruber Tabelle'!$A$6:$V$354,20,0),0)","v":0},{"$f":"IFERROR(VLOOKUP(A4,'Gruber Tabelle'!$A$6:$V$354,21,0),0)","v":0},{"$f":"IFERROR(VLOOKUP(A4,'Gruber Tabelle'!$A$6:$V$354,22,0),0)","v":0},{"$f":"IFERROR(VLOOKUP(A4,'Gruber Tabelle'!$A$6:$AC$354,23,0),0)","v":0},{"$f":"IFERROR(VLOOKUP(A4,'Gruber Tabelle'!$A$6:$AC$354,24,0),0)","v":0},{"$f":"IFERROR(VLOOKUP(A4,'Gruber Tabelle'!$A$6:$AC$354,25,0),0)","v":0},{"$f":"IFERROR(VLOOKUP(A4,'Gruber Tabelle'!$A$6:$AC$354,26,0),0)","v":0},{"$f":"IFERROR(VLOOKUP(A4,'Gruber Tabelle'!$A$6:$AC$354,27,0),0)","v":0},{"$f":"IFERROR(VLOOKUP(A4,'Gruber Tabelle'!$A$6:$AC$354,28,0),0)","v":0},{"$f":"IFERROR(VLOOKUP(A4,'Gruber Tabelle'!$A$6:$AC$354,29,0),0)","v":0}]
[null,{"$f":"IFERROR(VLOOKUP(A5,'Gruber Tabelle'!$A$6:$V$354,2,0),0)","v":0},{"$f":"IFERROR(VLOOKUP(A5,'Gruber Tabelle'!$A$6:$V$354,3,0)/1000,0)","v":0},{"$f":"IFERROR(VLOOKUP(A5,'Gruber Tabelle'!$A$6:$V$354,3,0),0)","v":0},0,null,null,{"$f":"IFERROR(VLOOKUP(A5,'Gruber Tabelle'!$A$6:$V$354,5,0),0)","v":0},{"$f":"IFERROR(VLOOKUP(A5,'Gruber Tabelle'!$A$6:$V$354,7,0),0)","v":0},{"$f":"IFERROR(VLOOKUP(A5,'Gruber Tabelle'!$A$6:$V$354,8,0),0)","v":0},{"$f":"IFERROR(VLOOKUP(A5,'Gruber Tabelle'!$A$6:$V$354,12,0),0)","v":0},{"$f":"IFERROR(VLOOKUP(A5,'Gruber Tabelle'!$A$6:$V$354,13,0),0)","v":0},{"$f":"IFERROR(VLOOKUP(A5,'Gruber Tabelle'!$A$6:$V$354,14,0),0)","v":0},{"$f":"IFERROR(VLOOKUP(A5,'Gruber Tabelle'!$A$6:$V$354,15,0),0)","v":0},{"$f":"IFERROR(VLOOKUP(A5,'Gruber Tabelle'!$A$6:$V$354,16,0),0)","v":0},{"$f":"IFERROR(VLOOKUP(A5,'Gruber Tabelle'!$A$6:$V$354,17,0),0)","v":0},{"$f":"IFERROR(VLOOKUP(A5,'Gruber Tabelle'!$A$6:$V$354,18,0),0)","v":0},{"$f":"IFERROR(VLOOKUP(A5,'Gruber Tabelle'!$A$6:$V$354,19,0),0)","v":0},{"$f":"IFERROR(VLOOKUP(A5,'Gruber Tabelle'!$A$6:$V$354,20,0),0)","v":0},{"$f":"IFERROR(VLOOKUP(A5,'Gruber Tabelle'!$A$6:$V$354,21,0),0)","v":0},{"$f":"IFERROR(VLOOKUP(A5,'Gruber Tabelle'!$A$6:$V$354,22,0),0)","v":0},{"$f":"IFERROR(VLOOKUP(A5,'Gruber Tabelle'!$A$6:$AC$354,23,0),0)","v":0},{"$f":"IFERROR(VLOOKUP(A5,'Gruber Tabelle'!$A$6:$AC$354,24,0),0)","v":0},{"$f":"IFERROR(VLOOKUP(A5,'Gruber Tabelle'!$A$6:$AC$354,25,0),0)","v":0},{"$f":"IFERROR(VLOOKUP(A5,'Gruber Tabelle'!$A$6:$AC$354,26,0),0)","v":0},{"$f":"IFERROR(VLOOKUP(A5,'Gruber Tabelle'!$A$6:$AC$354,27,0),0)","v":0},{"$f":"IFERROR(VLOOKUP(A5,'Gruber Tabelle'!$A$6:$AC$354,28,0),0)","v":0},{"$f":"IFERROR(VLOOKUP(A5,'Gruber Tabelle'!$A$6:$AC$354,29,0),0)","v":0}]
[null,{"$f":"IFERROR(VLOOKUP(A6,'Gruber Tabelle'!$A$6:$V$354,2,0),0)","v":0},{"$f":"IFERROR(VLOOKUP(A6,'Gruber Tabelle'!$A$6:$V$354,3,0)/1000,0)","v":0},{"$f":"IFERROR(VLOOKUP(A6,'Gruber Tabelle'!$A$6:$V$354,3,0),0)","v":0},0,null,null,{"$f":"IFERROR(VLOOKUP(A6,'Gruber Tabelle'!$A$6:$V$354,5,0),0)","v":0},{"$f":"IFERROR(VLOOKUP(A6,'Gruber Tabelle'!$A$6:$V$354,7,0),0)","v":0},{"$f":"IFERROR(VLOOKUP(A6,'Gruber Tabelle'!$A$6:$V$354,8,0),0)","v":0},{"$f":"IFERROR(VLOOKUP(A6,'Gruber Tabelle'!$A$6:$V$354,12,0),0)","v":0},{"$f":"IFERROR(VLOOKUP(A6,'Gruber Tabelle'!$A$6:$V$354,13,0),0)","v":0},{"$f":"IFERROR(VLOOKUP(A6,'Gruber Tabelle'!$A$6:$V$354,14,0),0)","v":0},{"$f":"IFERROR(VLOOKUP(A6,'Gruber Tabelle'!$A$6:$V$354,15,0),0)","v":0},{"$f":"IFERROR(VLOOKUP(A6,'Gruber Tabelle'!$A$6:$V$354,16,0),0)","v":0},{"$f":"IFERROR(VLOOKUP(A6,'Gruber Tabelle'!$A$6:$V$354,17,0),0)","v":0},{"$f":"IFERROR(VLOOKUP(A6,'Gruber Tabelle'!$A$6:$V$354,18,0),0)","v":0},{"$f":"IFERROR(VLOOKUP(A6,'Gruber Tabelle'!$A$6:$V$354,19,0),0)","v":0},{"$f":"IFERROR(VLOOKUP(A6,'Gruber Tabelle'!$A$6:$V$354,20,0),0)","v":0},{"$f":"IFERROR(VLOOKUP(A6,'Gruber Tabelle'!$A$6:$V$354,21,0),0)","v":0},{"$f":"IFERROR(VLOOKUP(A6,'Gruber Tabelle'!$A$6:$V$354,22,0),0)","v":0},{"$f":"IFERROR(VLOOKUP(A6,'Gruber Tabelle'!$A$6:$AC$354,23,0),0)","v":0},{"$f":"IFERROR(VLOOKUP(A6,'Gruber Tabelle'!$A$6:$AC$354,24,0),0)","v":0},{"$f":"IFERROR(VLOOKUP(A6,'Gruber Tabelle'!$A$6:$AC$354,25,0),0)","v":0},{"$f":"IFERROR(VLOOKUP(A6,'Gruber Tabelle'!$A$6:$AC$354,26,0),0)","v":0},{"$f":"IFERROR(VLOOKUP(A6,'Gruber Tabelle'!$A$6:$AC$354,27,0),0)","v":0},{"$f":"IFERROR(VLOOKUP(A6,'Gruber Tabelle'!$A$6:$AC$354,28,0),0)","v":0},{"$f":"IFERROR(VLOOKUP(A6,'Gruber Tabelle'!$A$6:$AC$354,29,0),0)","v":0}]
[null,{"$f":"IFERROR(VLOOKUP(A7,'Gruber Tabelle'!$A$6:$V$354,2,0),0)","v":0},{"$f":"IFERROR(VLOOKUP(A7,'Gruber Tabelle'!$A$6:$V$354,3,0)/1000,0)","v":0},{"$f":"IFERROR(VLOOKUP(A7,'Gruber Tabelle'!$A$6:$V$354,3,0),0)","v":0},0,null,null,{"$f":"IFERROR(VLOOKUP(A7,'Gruber Tabelle'!$A$6:$V$354,5,0),0)","v":0},{"$f":"IFERROR(VLOOKUP(A7,'Gruber Tabelle'!$A$6:$V$354,7,0),0)","v":0},{"$f":"IFERROR(VLOOKUP(A7,'Gruber Tabelle'!$A$6:$V$354,8,0),0)","v":0},{"$f":"IFERROR(VLOOKUP(A7,'Gruber Tabelle'!$A$6:$V$354,12,0),0)","v":0},{"$f":"IFERROR(VLOOKUP(A7,'Gruber Tabelle'!$A$6:$V$354,13,0),0)","v":0},{"$f":"IFERROR(VLOOKUP(A7,'Gruber Tabelle'!$A$6:$V$354,14,0),0)","v":0},{"$f":"IFERROR(VLOOKUP(A7,'Gruber Tabelle'!$A$6:$V$354,15,0),0)","v":0},{"$f":"IFERROR(VLOOKUP(A7,'Gruber Tabelle'!$A$6:$V$354,16,0),0)","v":0},{"$f":"IFERROR(VLOOKUP(A7,'Gruber Tabelle'!$A$6:$V$354,17,0),0)","v":0},{"$f":"IFERROR(VLOOKUP(A7,'Gruber Tabelle'!$A$6:$V$354,18,0),0)","v":0},{"$f":"IFERROR(VLOOKUP(A7,'Gruber Tabelle'!$A$6:$V$354,19,0),0)","v":0},{"$f":"IFERROR(VLOOKUP(A7,'Gruber Tabelle'!$A$6:$V$354,20,0),0)","v":0},{"$f":"IFERROR(VLOOKUP(A7,'Gruber Tabelle'!$A$6:$V$354,21,0),0)","v":0},{"$f":"IFERROR(VLOOKUP(A7,'Gruber Tabelle'!$A$6:$V$354,22,0),0)","v":0},{"$f":"IFERROR(VLOOKUP(A7,'Gruber Tabelle'!$A$6:$AC$354,23,0),0)","v":0},{"$f":"IFERROR(VLOOKUP(A7,'Gruber Tabelle'!$A$6:$AC$354,24,0),0)","v":0},{"$f":"IFERROR(VLOOKUP(A7,'Gruber Tabelle'!$A$6:$AC$354,25,0),0)","v":0},{"$f":"IFERROR(VLOOKUP(A7,'Gruber Tabelle'!$A$6:$AC$354,26,0),0)","v":0},{"$f":"IFERROR(VLOOKUP(A7,'Gruber Tabelle'!$A$6:$AC$354,27,0),0)","v":0},{"$f":"IFERROR(VLOOKUP(A7,'Gruber Tabelle'!$A$6:$AC$354,28,0),0)","v":0},{"$f":"IFERROR(VLOOKUP(A7,'Gruber Tabelle'!$A$6:$AC$354,29,0),0)","v":0}]
[null,{"$f":"IFERROR(VLOOKUP(A8,'Gruber Tabelle'!$A$6:$V$354,2,0),0)","v":0},{"$f":"IFERROR(VLOOKUP(A8,'Gruber Tabelle'!$A$6:$V$354,3,0)/1000,0)","v":0},{"$f":"IFERROR(VLOOKUP(A8,'Gruber Tabelle'!$A$6:$V$354,3,0),0)","v":0},0,null,null,{"$f":"IFERROR(VLOOKUP(A8,'Gruber Tabelle'!$A$6:$V$354,5,0),0)","v":0},{"$f":"IFERROR(VLOOKUP(A8,'Gruber Tabelle'!$A$6:$V$354,7,0),0)","v":0},{"$f":"IFERROR(VLOOKUP(A8,'Gruber Tabelle'!$A$6:$V$354,8,0),0)","v":0},{"$f":"IFERROR(VLOOKUP(A8,'Gruber Tabelle'!$A$6:$V$354,12,0),0)","v":0},{"$f":"IFERROR(VLOOKUP(A8,'Gruber Tabelle'!$A$6:$V$354,13,0),0)","v":0},{"$f":"IFERROR(VLOOKUP(A8,'Gruber Tabelle'!$A$6:$V$354,14,0),0)","v":0},{"$f":"IFERROR(VLOOKUP(A8,'Gruber Tabelle'!$A$6:$V$354,15,0),0)","v":0},{"$f":"IFERROR(VLOOKUP(A8,'Gruber Tabelle'!$A$6:$V$354,16,0),0)","v":0},{"$f":"IFERROR(VLOOKUP(A8,'Gruber Tabelle'!$A$6:$V$354,17,0),0)","v":0},{"$f":"IFERROR(VLOOKUP(A8,'Gruber Tabelle'!$A$6:$V$354,18,0),0)","v":0},{"$f":"IFERROR(VLOOKUP(A8,'Gruber Tabelle'!$A$6:$V$354,19,0),0)","v":0},{"$f":"IFERROR(VLOOKUP(A8,'Gruber Tabelle'!$A$6:$V$354,20,0),0)","v":0},{"$f":"IFERROR(VLOOKUP(A8,'Gruber Tabelle'!$A$6:$V$354,21,0),0)","v":0},{"$f":"IFERROR(VLOOKUP(A8,'Gruber Tabelle'!$A$6:$V$354,22,0),0)","v":0},{"$f":"IFERROR(VLOOKUP(A8,'Gruber Tabelle'!$A$6:$AC$354,23,0),0)","v":0},{"$f":"IFERROR(VLOOKUP(A8,'Gruber Tabelle'!$A$6:$AC$354,24,0),0)","v":0},{"$f":"IFERROR(VLOOKUP(A8,'Gruber Tabelle'!$A$6:$AC$354,25,0),0)","v":0},{"$f":"IFERROR(VLOOKUP(A8,'Gruber Tabelle'!$A$6:$AC$354,26,0),0)","v":0},{"$f":"IFERROR(VLOOKUP(A8,'Gruber Tabelle'!$A$6:$AC$354,27,0),0)","v":0},{"$f":"IFERROR(VLOOKUP(A8,'Gruber Tabelle'!$A$6:$AC$354,28,0),0)","v":0},{"$f":"IFERROR(VLOOKUP(A8,'Gruber Tabelle'!$A$6:$AC$354,29,0),0)","v":0}]
[null,{"$f":"IFERROR(VLOOKUP(A9,'Gruber Tabelle'!$A$6:$V$354,2,0),0)","v":0},{"$f":"IFERROR(VLOOKUP(A9,'Gruber Tabelle'!$A$6:$V$354,3,0)/1000,0)","v":0},{"$f":"IFERROR(VLOOKUP(A9,'Gruber Tabelle'!$A$6:$V$354,3,0),0)","v":0},0,null,null,{"$f":"IFERROR(VLOOKUP(A9,'Gruber Tabelle'!$A$6:$V$354,5,0),0)","v":0},{"$f":"IFERROR(VLOOKUP(A9,'Gruber Tabelle'!$A$6:$V$354,7,0),0)","v":0},{"$f":"IFERROR(VLOOKUP(A9,'Gruber Tabelle'!$A$6:$V$354,8,0),0)","v":0},{"$f":"IFERROR(VLOOKUP(A9,'Gruber Tabelle'!$A$6:$V$354,12,0),0)","v":0},{"$f":"IFERROR(VLOOKUP(A9,'Gruber Tabelle'!$A$6:$V$354,13,0),0)","v":0},{"$f":"IFERROR(VLOOKUP(A9,'Gruber Tabelle'!$A$6:$V$354,14,0),0)","v":0},{"$f":"IFERROR(VLOOKUP(A9,'Gruber Tabelle'!$A$6:$V$354,15,0),0)","v":0},{"$f":"IFERROR(VLOOKUP(A9,'Gruber Tabelle'!$A$6:$V$354,16,0),0)","v":0},{"$f":"IFERROR(VLOOKUP(A9,'Gruber Tabelle'!$A$6:$V$354,17,0),0)","v":0},{"$f":"IFERROR(VLOOKUP(A9,'Gruber Tabelle'!$A$6:$V$354,18,0),0)","v":0},{"$f":"IFERROR(VLOOKUP(A9,'Gruber Tabelle'!$A$6:$V$354,19,0),0)","v":0},{"$f":"IFERROR(VLOOKUP(A9,'Gruber Tabelle'!$A$6:$V$354,20,0),0)","v":0},{"$f":"IFERROR(VLOOKUP(A9,'Gruber Tabelle'!$A$6:$V$354,21,0),0)","v":0},{"$f":"IFERROR(VLOOKUP(A9,'Gruber Tabelle'!$A$6:$V$354,22,0),0)","v":0},{"$f":"IFERROR(VLOOKUP(A9,'Gruber Tabelle'!$A$6:$AC$354,23,0),0)","v":0},{"$f":"IFERROR(VLOOKUP(A9,'Gruber Tabelle'!$A$6:$AC$354,24,0),0)","v":0},{"$f":"IFERROR(VLOOKUP(A9,'Gruber Tabelle'!$A$6:$AC$354,25,0),0)","v":0},{"$f":"IFERROR(VLOOKUP(A9,'Gruber Tabelle'!$A$6:$AC$354,26,0),0)","v":0},{"$f":"IFERROR(VLOOKUP(A9,'Gruber Tabelle'!$A$6:$AC$354,27,0),0)","v":0},{"$f":"IFERROR(VLOOKUP(A9,'Gruber Tabelle'!$A$6:$AC$354,28,0),0)","v":0},{"$f":"IFERROR(VLOOKUP(A9,'Gruber Tabelle'!$A$6:$AC$354,29,0),0)","v":0}]
[null,{"$f":"IFERROR(VLOOKUP(A10,'Gruber Tabelle'!$A$6:$V$354,2,0),0)","v":0},{"$f":"IFERROR(VLOOKUP(A10,'Gruber Tabelle'!$A$6:$V$354,3,0)/1000,0)","v":0},{"$f":"IFERROR(VLOOKUP(A10,'Gruber Tabelle'!$A$6:$V$354,3,0),0)","v":0},0,null,null,{"$f":"IFERROR(VLOOKUP(A10,'Gruber Tabelle'!$A$6:$V$354,5,0),0)","v":0},{"$f":"IFERROR(VLOOKUP(A10,'Gruber Tabelle'!$A$6:$V$354,7,0),0)","v":0},{"$f":"IFERROR(VLOOKUP(A10,'Gruber Tabelle'!$A$6:$V$354,8,0),0)","v":0},{"$f":"IFERROR(VLOOKUP(A10,'Gruber Tabelle'!$A$6:$V$354,12,0),0)","v":0},{"$f":"IFERROR(VLOOKUP(A10,'Gruber Tabelle'!$A$6:$V$354,13,0),0)","v":0},{"$f":"IFERROR(VLOOKUP(A10,'Gruber Tabelle'!$A$6:$V$354,14,0),0)","v":0},{"$f":"IFERROR(VLOOKUP(A10,'Gruber Tabelle'!$A$6:$V$354,15,0),0)","v":0},{"$f":"IFERROR(VLOOKUP(A10,'Gruber Tabelle'!$A$6:$V$354,16,0),0)","v":0},{"$f":"IFERROR(VLOOKUP(A10,'Gruber Tabelle'!$A$6:$V$354,17,0),0)","v":0},{"$f":"IFERROR(VLOOKUP(A10,'Gruber Tabelle'!$A$6:$V$354,18,0),0)","v":0},{"$f":"IFERROR(VLOOKUP(A10,'Gruber Tabelle'!$A$6:$V$354,19,0),0)","v":0},{"$f":"IFERROR(VLOOKUP(A10,'Gruber Tabelle'!$A$6:$V$354,20,0),0)","v":0},{"$f":"IFERROR(VLOOKUP(A10,'Gruber Tabelle'!$A$6:$V$354,21,0),0)","v":0},{"$f":"IFERROR(VLOOKUP(A10,'Gruber Tabelle'!$A$6:$V$354,22,0),0)","v":0},{"$f":"IFERROR(VLOOKUP(A10,'Gruber Tabelle'!$A$6:$AC$354,23,0),0)","v":0},{"$f":"IFERROR(VLOOKUP(A10,'Gruber Tabelle'!$A$6:$AC$354,24,0),0)","v":0},{"$f":"IFERROR(VLOOKUP(A10,'Gruber Tabelle'!$A$6:$AC$354,25,0),0)","v":0},{"$f":"IFERROR(VLOOKUP(A10,'Gruber Tabelle'!$A$6:$AC$354,26,0),0)","v":0},{"$f":"IFERROR(VLOOKUP(A10,'Gruber Tabelle'!$A$6:$AC$354,27,0),0)","v":0},{"$f":"IFERROR(VLOOKUP(A10,'Gruber Tabelle'!$A$6:$AC$354,28,0),0)","v":0},{"$f":"IFERROR(VLOOKUP(A10,'Gruber Tabelle'!$A$6:$AC$354,29,0),0)","v":0}]
[null,{"$f":"IFERROR(VLOOKUP(A11,'Gruber Tabelle'!$A$6:$V$354,2,0),0)","v":0},{"$f":"IFERROR(VLOOKUP(A11,'Gruber Tabelle'!$A$6:$V$354,3,0)/1000,0)","v":0},{"$f":"IFERROR(VLOOKUP(A11,'Gruber Tabelle'!$A$6:$V$354,3,0),0)","v":0},0,null,null,{"$f":"IFERROR(VLOOKUP(A11,'Gruber Tabelle'!$A$6:$V$354,5,0),0)","v":0},{"$f":"IFERROR(VLOOKUP(A11,'Gruber Tabelle'!$A$6:$V$354,7,0),0)","v":0},{"$f":"IFERROR(VLOOKUP(A11,'Gruber Tabelle'!$A$6:$V$354,8,0),0)","v":0},{"$f":"IFERROR(VLOOKUP(A11,'Gruber Tabelle'!$A$6:$V$354,12,0),0)","v":0},{"$f":"IFERROR(VLOOKUP(A11,'Gruber Tabelle'!$A$6:$V$354,13,0),0)","v":0},{"$f":"IFERROR(VLOOKUP(A11,'Gruber Tabelle'!$A$6:$V$354,14,0),0)","v":0},{"$f":"IFERROR(VLOOKUP(A11,'Gruber Tabelle'!$A$6:$V$354,15,0),0)","v":0},{"$f":"IFERROR(VLOOKUP(A11,'Gruber Tabelle'!$A$6:$V$354,16,0),0)","v":0},{"$f":"IFERROR(VLOOKUP(A11,'Gruber Tabelle'!$A$6:$V$354,17,0),0)","v":0},{"$f":"IFERROR(VLOOKUP(A11,'Gruber Tabelle'!$A$6:$V$354,18,0),0)","v":0},{"$f":"IFERROR(VLOOKUP(A11,'Gruber Tabelle'!$A$6:$V$354,19,0),0)","v":0},{"$f":"IFERROR(VLOOKUP(A11,'Gruber Tabelle'!$A$6:$V$354,20,0),0)","v":0},{"$f":"IFERROR(VLOOKUP(A11,'Gruber Tabelle'!$A$6:$V$354,21,0),0)","v":0},{"$f":"IFERROR(VLOOKUP(A11,'Gruber Tabelle'!$A$6:$V$354,22,0),0)","v":0},{"$f":"IFERROR(VLOOKUP(A11,'Gruber Tabelle'!$A$6:$AC$354,23,0),0)","v":0},{"$f":"IFERROR(VLOOKUP(A11,'Gruber Tabelle'!$A$6:$AC$354,24,0),0)","v":0},{"$f":"IFERROR(VLOOKUP(A11,'Gruber Tabelle'!$A$6:$AC$354,25,0),0)","v":0},{"$f":"IFERROR(VLOOKUP(A11,'Gruber Tabelle'!$A$6:$AC$354,26,0),0)","v":0},{"$f":"IFERROR(VLOOKUP(A11,'Gruber Tabelle'!$A$6:$AC$354,27,0),0)","v":0},{"$f":"IFERROR(VLOOKUP(A11,'Gruber Tabelle'!$A$6:$AC$354,28,0),0)","v":0},{"$f":"IFERROR(VLOOKUP(A11,'Gruber Tabelle'!$A$6:$AC$354,29,0),0)","v":0}]
[null,{"$f":"IFERROR(VLOOKUP(A12,'Gruber Tabelle'!$A$6:$V$354,2,0),0)","v":0},{"$f":"IFERROR(VLOOKUP(A12,'Gruber Tabelle'!$A$6:$V$354,3,0)/1000,0)","v":0},{"$f":"IFERROR(VLOOKUP(A12,'Gruber Tabelle'!$A$6:$V$354,3,0),0)","v":0},0,null,null,{"$f":"IFERROR(VLOOKUP(A12,'Gruber Tabelle'!$A$6:$V$354,5,0),0)","v":0},{"$f":"IFERROR(VLOOKUP(A12,'Gruber Tabelle'!$A$6:$V$354,7,0),0)","v":0},{"$f":"IFERROR(VLOOKUP(A12,'Gruber Tabelle'!$A$6:$V$354,8,0),0)","v":0},{"$f":"IFERROR(VLOOKUP(A12,'Gruber Tabelle'!$A$6:$V$354,12,0),0)","v":0},{"$f":"IFERROR(VLOOKUP(A12,'Gruber Tabelle'!$A$6:$V$354,13,0),0)","v":0},{"$f":"IFERROR(VLOOKUP(A12,'Gruber Tabelle'!$A$6:$V$354,14,0),0)","v":0},{"$f":"IFERROR(VLOOKUP(A12,'Gruber Tabelle'!$A$6:$V$354,15,0),0)","v":0},{"$f":"IFERROR(VLOOKUP(A12,'Gruber Tabelle'!$A$6:$V$354,16,0),0)","v":0},{"$f":"IFERROR(VLOOKUP(A12,'Gruber Tabelle'!$A$6:$V$354,17,0),0)","v":0},{"$f":"IFERROR(VLOOKUP(A12,'Gruber Tabelle'!$A$6:$V$354,18,0),0)","v":0},{"$f":"IFERROR(VLOOKUP(A12,'Gruber Tabelle'!$A$6:$V$354,19,0),0)","v":0},{"$f":"IFERROR(VLOOKUP(A12,'Gruber Tabelle'!$A$6:$V$354,20,0),0)","v":0},{"$f":"IFERROR(VLOOKUP(A12,'Gruber Tabelle'!$A$6:$V$354,21,0),0)","v":0},{"$f":"IFERROR(VLOOKUP(A12,'Gruber Tabelle'!$A$6:$V$354,22,0),0)","v":0},{"$f":"IFERROR(VLOOKUP(A12,'Gruber Tabelle'!$A$6:$AC$354,23,0),0)","v":0},{"$f":"IFERROR(VLOOKUP(A12,'Gruber Tabelle'!$A$6:$AC$354,24,0),0)","v":0},{"$f":"IFERROR(VLOOKUP(A12,'Gruber Tabelle'!$A$6:$AC$354,25,0),0)","v":0},{"$f":"IFERROR(VLOOKUP(A12,'Gruber Tabelle'!$A$6:$AC$354,26,0),0)","v":0},{"$f":"IFERROR(VLOOKUP(A12,'Gruber Tabelle'!$A$6:$AC$354,27,0),0)","v":0},{"$f":"IFERROR(VLOOKUP(A12,'Gruber Tabelle'!$A$6:$AC$354,28,0),0)","v":0},{"$f":"IFERROR(VLOOKUP(A12,'Gruber Tabelle'!$A$6:$AC$354,29,0),0)","v":0}]
[null,{"$f":"IFERROR(VLOOKUP(A13,'Gruber Tabelle'!$A$6:$V$354,2,0),0)","v":0},{"$f":"IFERROR(VLOOKUP(A13,'Gruber Tabelle'!$A$6:$V$354,3,0)/1000,0)","v":0},{"$f":"IFERROR(VLOOKUP(A13,'Gruber Tabelle'!$A$6:$V$354,3,0),0)","v":0},0,null,null,{"$f":"IFERROR(VLOOKUP(A13,'Gruber Tabelle'!$A$6:$V$354,5,0),0)","v":0},{"$f":"IFERROR(VLOOKUP(A13,'Gruber Tabelle'!$A$6:$V$354,7,0),0)","v":0},{"$f":"IFERROR(VLOOKUP(A13,'Gruber Tabelle'!$A$6:$V$354,8,0),0)","v":0},{"$f":"IFERROR(VLOOKUP(A13,'Gruber Tabelle'!$A$6:$V$354,12,0),0)","v":0},{"$f":"IFERROR(VLOOKUP(A13,'Gruber Tabelle'!$A$6:$V$354,13,0),0)","v":0},{"$f":"IFERROR(VLOOKUP(A13,'Gruber Tabelle'!$A$6:$V$354,14,0),0)","v":0},{"$f":"IFERROR(VLOOKUP(A13,'Gruber Tabelle'!$A$6:$V$354,15,0),0)","v":0},{"$f":"IFERROR(VLOOKUP(A13,'Gruber Tabelle'!$A$6:$V$354,16,0),0)","v":0},{"$f":"IFERROR(VLOOKUP(A13,'Gruber Tabelle'!$A$6:$V$354,17,0),0)","v":0},{"$f":"IFERROR(VLOOKUP(A13,'Gruber Tabelle'!$A$6:$V$354,18,0),0)","v":0},{"$f":"IFERROR(VLOOKUP(A13,'Gruber Tabelle'!$A$6:$V$354,19,0),0)","v":0},{"$f":"IFERROR(VLOOKUP(A13,'Gruber Tabelle'!$A$6:$V$354,20,0),0)","v":0},{"$f":"IFERROR(VLOOKUP(A13,'Gruber Tabelle'!$A$6:$V$354,21,0),0)","v":0},{"$f":"IFERROR(VLOOKUP(A13,'Gruber Tabelle'!$A$6:$V$354,22,0),0)","v":0},{"$f":"IFERROR(VLOOKUP(A13,'Gruber Tabelle'!$A$6:$AC$354,23,0),0)","v":0},{"$f":"IFERROR(VLOOKUP(A13,'Gruber Tabelle'!$A$6:$AC$354,24,0),0)","v":0},{"$f":"IFERROR(VLOOKUP(A13,'Gruber Tabelle'!$A$6:$AC$354,25,0),0)","v":0},{"$f":"IFERROR(VLOOKUP(A13,'Gruber Tabelle'!$A$6:$AC$354,26,0),0)","v":0},{"$f":"IFERROR(VLOOKUP(A13,'Gruber Tabelle'!$A$6:$AC$354,27,0),0)","v":0},{"$f":"IFERROR(VLOOKUP(A13,'Gruber Tabelle'!$A$6:$AC$354,28,0),0)","v":0},{"$f":"IFERROR(VLOOKUP(A13,'Gruber Tabelle'!$A$6:$AC$354,29,0),0)","v":0}]
["Nr ","Futterart","TM %","TM kg","FM kg","TM kg","TM KF+SF","aNDF om g","CP g","nXP g","ME MJ","ST+ZU g","bST g","CL g","Ca g","P g","Mg g","Na g","K g","Preis","NDFomGF","Fe","Cu","Zn","Mn","Co","J","Se"]
[{"$f":"A4","v":0},{"$f":"IFERROR(VLOOKUP(A15,'Gruber Tabelle'!$A$6:$V$354,2,0),0)","v":0},null,null,null,{"$f":"IF(A15=0,0,IF(AND(D15>0,E15=0),D15,IF(AND(E15>0,D15=0),E15*C15,IF(AND(D15>=0,E15>=0),\"TM o. FM?\"))))","v":0},{"$f":"_xlfn.IFS(U4=\"KF\",F15,U4=\"SF\",F15,1,\"\")","v":""},{"$f":"IFERROR(H4*F15,0)","v":0},{"$f":"IFERROR(I4*F15,0)","v":0},{"$f":"IFERROR(J4*F15,0)","v":0},{"$f":"IFERROR(K4*F15,0)","v":0},{"$f":"IFERROR(L4*F15,0)","v":0},{"$f":"IFERROR(M4*F15,0)","v":0},{"$f":"IFERROR(N4*F15,0)","v":0},{"$f":"IFERROR(O4*F15,0)","v":0},{"$f":"IFERROR(P4*F15,0)","v":0},{"$f":"IFERROR(Q4*F15,0)","v":0},{"$f":"IFERROR(R4*F15,0)","v":0},{"$f":"IFERROR(S4*F15,0)","v":0},{"$f":"IF(C15>0,T4*E4/100,0)","v":0},{"$f":"IFERROR(IF(U4=\"GF\",H4*F15,0),0)","v":0},{"$f":"IFERROR(V4*F15,0)","v":0},{"$f":"IFERROR(W4*F15,0)","v":0},{"$f":"IFERROR(X4*F15,0)","v":0},{"$f":"IFERROR(Y4*F15,0)","v":0},{"$f":"IFERROR(Z4*F15,0)","v":0},{"$f":"IFERROR(AA4*F15,0)","v":0},{"$f":"IFERROR(AB4*F15,0)","v":0}]
[0,{"$f":"IFERROR(VLOOKUP(A16,'Gruber Tabelle'!$A$6:$V$354,2,0),0)","v":0},null,null,null,0,{"$f":"_xlfn.IFS(U5=\"KF\",F16,U5=\"SF\",F16,1,\"\")","v":""},{"$f":"IFERROR(H5*F16,0)","v":0},0,{"$f":"IFERROR(J5*F16,0)","v":0},0,0,0,0,0,0,0,0,0,0,0,0,0,0,0,0,0,0]
[0,{"$f":"IFERROR(VLOOKUP(A17,'Gruber Tabelle'!$A$6:$V$354,2,0),0)","v":0},null,null,null,{"$f":"IF(A17=0,0,IF(AND(D17>0,E17=0),D17,IF(AND(E17>0,D17=0),E17*C17,IF(AND(D17>=0,E17>=0),\"TM o. FM?\"))))","v":0},"",0,0,0,0,0,0,0,0,0,0,0,0,0,0,0,0,0,0,0,0,0]
[0,{"$f":"IFERROR(VLOOKUP(A18,'Gruber Tabelle'!$A$6:$V$354,2,0),0)","v":0},null,null,null,0,"",0,0,0,0,0,0,0,0,0,0,0,0,0,0,0,0,0,0,0,0,0]
[0,{"$f":"IFERROR(VLOOKUP(A19,'Gruber Tabelle'!$A$6:$V$354,2,0),0)","v":0},null,null,null,0,"",0,0,0,0,0,0,0,0,0,0,0,0,0,0,0,0,0,0,0,0,0]
[0,{"$f":"IFERROR(VLOOKUP(A20,'Gruber Tabelle'!$A$6:$V$354,2,0),0)","v":0},null,null,null,0,"",0,0,0,0,0,0,0,0,0,0,0,0,0,0,0,0,0,0,0,0,0]
[0,{"$f":"IFERROR(VLOOKUP(A21,'Gruber Tabelle'!$A$6:$V$354,2,0),0)","v":0},null,null,null,0,"",0,0,0,0,0,0,0,0,0,0,0,0,0,0,0,0,0,0,0,0,0]
[0,{"$f":"IFERROR(VLOOKUP(A22,'Gruber Tabelle'!$A$6:$V$354,2,0),0)","v":0},null,null,null,0,"",0,0,0,0,0,0,0,0,0,0,0,0,0,0,0,0,0,0,0,0,0]
[0,{"$f":"IFERROR(VLOOKUP(A23,'Gruber Tabelle'!$A$6:$V$354,2,0),0)","v":0},null,null,null,0,"",0,0,0,0,0,0,0,0,0,0,0,0,0,0,0,0,0,0,0,0,0]
[0,{"$f":"IFERROR(VLOOKUP(A24,'Gruber Tabelle'!$A$6:$V$354,2,0),0)","v":0},null,null,null,0,"",0,0,0,0,0,0,0,0,0,0,0,0,0,0,0,0,0,0,0,0,0]
["Summen TM und Gehaltswerte:",null,null,{"$f":"SUM(F15:F24)","v":0},{"$f":"SUM(E4:E13)","v":0},null,{"$f":"SUM(G15:G24)","v":0},{"$f":"SUM(H15:H24)","v":0},{"$f":"SUM(I15:I24)","v":0},0,{"$f":"SUM(K15:K24)","v":0},{"$f":"SUM(L15:L24)","v":0},{"$f":"SUM(M15:M24)","v":0},{"$f":"SUM(N15:N24)","v":0},0,0,0,0,0,0,{"$f":"SUM(U15:U24)","v":0},{"$f":"SUM(V15:V24)","v":0},{"$f":"SUM(W15:W24)","v":0},0,0,0,0,0]
["Mischung 1 kg:",null,null,null,null,{"$f":"IF('Mischung 1'!E25>0,E26*'Mischung 1'!E25,0)","v":0},null,{"$f":"IF('Mischung 1'!G25>0,'Mischung 1'!G25*E26,0)","v":0},{"$f":"IF('Mischung 1'!H25>0,'Mischung 1'!H25*E26,0)","v":0},{"$f":"IF('Mischung 1'!I25>0,'Mischung 1'!I25*E26,0)","v":0},{"$f":"IF('Mischung 1'!J25>0,'Mischung 1'!J25*E26,0)","v":0},{"$f":"IF('Mischung 1'!K25>0,'Mischung 1'!K25*E26,0)","v":0},{"$f":"IF('Mischung 1'!L25>0,'Mischung 1'!L25*E26,0)","v":0},{"$f":"IF('Mischung 1'!M25>0,'Mischung 1'!M25*E26,0)","v":0},{"$f":"IF('Mischung 1'!N25>0,'Mischung 1'!N25*E26,0)","v":0},{"$f":"IF('Mischung 1'!O25>0,'Mischung 1'!O25*E26,0)","v":0},{"$f":"IF('Mischung 1'!P25>0,'Mischung 1'!P25*E26,0)","v":0},{"$f":"IF('Mischung 1'!Q25>0,'Mischung 1'!Q25*E26,0)","v":0},{"$f":"IF('Mischung 1'!R25>0,'Mischung 1'!R25*E26,0)","v":0},{"$f":"IF('Mischung 1'!S25>0,'Mischung 1'!S25*E26,0)","v":0},null,{"$f":"IF('Mischung 1'!T25>0,'Mischung 1'!T25*$E$26,\"\")","v":""},{"$f":"IF('Mischung 1'!U25>0,'Mischung 1'!U25*$E$26,\"\")","v":""},{"$f":"IF('Mischung 1'!V25>0,'Mischung 1'!V25*$E$26,\"\")","v":""},{"$f":"IF('Mischung 1'!W25>0,'Mischung 1'!W25*$E$26,\"\")","v":""},{"$f":"IF('Mischung 1'!X25>0,'Mischung 1'!X25*$E$26,\"\")","v":""},{"$f":"IF('Mischung 1'!Y25>0,'Mischung 1'!Y25*$E$26,\"\")","v":""},{"$f":"IF('Mischung 1'!Z25>0,'Mischung 1'!Z25*$E$26,\"\")","v":""}]
["Mischung 2 kg:",null,null,null,null,{"$f":"IF('Mischung 2'!E25>0,E27*'Mischung 2'!E25,0)","v":0},null,{"$f":"IF('Mischung 2'!G25>0,'Mischung 2'!G25*E27,0)","v":0},{"$f":"IF('Mischung 2'!H25>0,'Mischung 2'!H25*E27,0)","v":0},{"$f":"IF('Mischung 2'!I25>0,'Mischung 2'!I25*E27,0)","v":0},{"$f":"IF('Mischung 2'!J25>0,'Mischung 2'!J25*E27,0)","v":0},{"$f":"IF('Mischung 2'!K25>0,'Mischung 2'!K25*E27,0)","v":0},{"$f":"IF('Mischung 2'!L25>0,'Mischung 2'!L25*E27,0)","v":0},{"$f":"IF('Mischung 2'!M25>0,'Mischung 2'!M25*E27,0)","v":0},{"$f":"IF('Mischung 2'!N25>0,'Mischung 2'!N25*E27,0)","v":0},{"$f":"IF('Mischung 2'!O25>0,'Mischung 2'!O25*E27,0)","v":0},{"$f":"IF('Mischung 2'!P25>0,'Mischung 2'!P25*E27,0)","v":0},{"$f":"IF('Mischung 2'!Q25>0,'Mischung 2'!Q25*E27,0)","v":0},{"$f":"IF('Mischung 2'!R25>0,'Mischung 2'!R25*E27,0)","v":0},{"$f":"IF('Mischung 2'!S25>0,'Mischung 2'!S25*E27,0)","v":0},null,{"$f":"IF('Mischung 2'!T25>0,'Mischung 2'!T25*E27,\"\")","v":""},{"$f":"IF('Mischung 2'!U25>0,'Mischung 2'!U25*E27,\"\")","v":""},{"$f":"IF('Mischung 2'!V25>0,'Mischung 2'!V25*E27,\"\")","v":""},{"$f":"IF('Mischung 2'!W25>0,'Mischung 2'!W25*E27,\"\")","v":""},{"$f":"IF('Mischung 2'!X25>0,'Mischung 2'!X25*E27,\"\")","v":""},{"$f":"IF('Mischung 2'!Y25>0,'Mischung 2'!Y25*E27,\"\")","v":""},{"$f":"IF('Mischung 2'!Z25>0,'Mischung 2'!Z25*E27,\"\")","v":""}]
["Zugabe von Wasser in Liter oder kg:",null,null,null,null,{"$f":"IFERROR(SUM(D29-(G25+F26+F27))/(D29),0)","v":0},{"$f":"IFERROR(SUM(G25+F26+F27)/D29,0)","v":0},null,{"$f":"IFERROR(I29/$D$29,0)","v":0},{"$f":"IFERROR(J29/$D$29,0)","v":0},{"$f":"IFERROR(K29/$D$29,0)","v":0},{"$f":"IFERROR(L29/$D$29,0)","v":0},null,{"$f":"IF(N29>0,(N29/D29)/1000,0)","v":0},null,null,null,null,null,null,null,"Gehalt in mg / kg TM"]
["Gesamtfutter GF+ KF TM und Gehaltsw.:",null,null,{"$f":"SUM(D25+F26+F27)","v":0},{"$f":"SUM(E25:E28)","v":0},{"$f":"IF(D29>0,D29/E29,0)","v":0},null,{"$f":"SUM(H25+H26+H27)","v":0},{"$f":"SUM(I25+I26+I27)","v":0},0,{"$f":"SUM(K25+K26+K27)","v":0},0,0,0,0,0,0,0,0,0,null,{"$f":"IF(V25>0,SUM(V25:V27)/D29,0)","v":0},{"$f":"IF(W25>0,SUM(W25:W27)/D29,0)","v":0},{"$f":"IF(X25>0,SUM(X25:X27)/D29,0)","v":0},{"$f":"IF(Y25>0,SUM(Y25:Y27)/D29,0)","v":0},{"$f":"IF(Z25>0,SUM(Z25:Z27)/D29,0)","v":0},{"$f":"IF(AA25>0,SUM(AA25:AA27)/D29,0)","v":0},{"$f":"IF(AB25>0,SUM(AB25:AB27)/D29,0)","v":0}]
[]
[{"$f":"INDEX(Sollwerte!B5:B80,Ration!A2)","v":"    Bitte Sollwerte auswählen !"},null,null,{"$f":"IFERROR(VLOOKUP($A$31,Sollwerte!$B$6:$P$80,3,0)/1000,0)","v":0},null,null,null,{"$f":"IFERROR(VLOOKUP($A$31,Sollwerte!$B$6:$P$80,4,0)/100,0)","v":0},{"$f":"IFERROR(VLOOKUP($A$31,Sollwerte!$B$6:$P$80,5,0),0)","v":0},null,{"$f":"IFERROR(VLOOKUP($A$31,Sollwerte!$B$6:$P$80,7,0),0)","v":0},null,null,null,{"$f":"IFERROR(VLOOKUP($A$31,Sollwerte!$B$6:$P$80,9,0),0)","v":0},{"$f":"IFERROR(VLOOKUP($A$31,Sollwerte!$B$6:$P$80,10,0),0)","v":0},{"$f":"IFERROR(VLOOKUP($A$31,Sollwerte!$B$6:$P$80,11,0),0)","v":0},{"$f":"IFERROR(VLOOKUP($A$31,Sollwerte!$B$6:$P$80,12,0),0)","v":0},{"$f":"IFERROR(VLOOKUP($A$31,Sollwerte!$B$6:$P$80,13,0),0)","v":0},null,null,{"$f":"IFERROR(VLOOKUP($A$31,Sollwerte!$B$6:$W$80,16,0),0)","v":0},{"$f":"IFERROR(VLOOKUP($A$31,Sollwerte!$B$6:$W$80,17,0),0)","v":0},{"$f":"IFERROR(VLOOKUP($A$31,Sollwerte!$B$6:$W$80,18,0),0)","v":0},{"$f":"IFERROR(VLOOKUP($A$31,Sollwerte!$B$6:$W$80,19,0),0)","v":0},{"$f":"IFERROR(VLOOKUP($A$31,Sollwerte!$B$6:$W$80,20,0),0)","v":0},{"$f":"IFERROR(VLOOKUP($A$31,Sollwerte!$B$6:$W$80,21,0),0)","v":0},{"$f":"IFERROR(VLOOKUP($A$31,Sollwerte!$B$6:$W$80,22,0),0)","v":0}]
["Differenz zu Sollwert -  % Anteil aNDF GF an TM",null,null,{"$f":"IF(D31>0,D29-D31,0)","v":0},null,"Struktur-Index",null,"% aNDF om",{"$f":"IF(I31>0,I29-I31,0)","v":0},null,{"$f":"IF(K31>0,K29-K31,0)","v":0},"kg  pabKH",null,null,{"$f":"IF(O31>0,O29-O31,0)","v":0},0,0,0,0,null,null,{"$f":"IF(V31>0,V29-V31,0)","v":0},{"$f":"IF(W31>0,W29-W31,0)","v":0},0,0,0,0,0]
[null,null,null,{"$f":"IF(D32=0,0,D32/D31)","v":0},null,{"$f":"IF(O37>100,100,O37)","v":0},null,{"$f":"IF(D29>0,U25/D29/1000,0)","v":0},{"$f":"IF(I32=0,0,I32/I31)","v":0},null,{"$f":"IF(K32=0,0,K32/K31)","v":0},{"$f":"(L29-M29)/1000","v":0},null,null,{"$f":"IF(O32=0,0,O32/O31)","v":0},0,0,0,0,null,null,{"$f":"IF(V32=0,0,V32/V31)","v":0},0,0,0,0,0,0]
[null,null,null,null,null,{"$f":"IFERROR(VLOOKUP($A$31,Sollwerte!$B$6:$P$80,15,0),0)","v":0},null,{"$f":"U25/1000","v":0},null,null,null,{"$f":"L33","v":0}]
[null,null,null,null,null,null,null,{"$f":"H34*F34","v":0},null,null,null,{"$f":"L34*F34","v":0}]
[null,null,null,null,null,null,null,null,null,null,{"$f":"L35-1.32","v":-1.32},{"$f":"K36/0.5","v":-2.64}]
[null,null,null,null,null,null,null,{"$f":"H35","v":0},null,null,{"$f":"L36+H37","v":-2.64},null,{"$f":"H37/K37","v":0},null,{"$f":"M37*100","v":0}]

{"sheet":"Mischung 1","index":3,"n_rows":26,"n_cols":26,"rows_kept":26,"cut":false,"hidden":false,"merged":[[25,0,25,25],[0,19,0,25],[24,0,24,1],[0,0,0,18],[1,0,1,5],[1,6,1,18],[2,2,12,5]]}
[null,null,null,null,null,null,null,null,null,null,null,null,null,null,null,null,null,null,null,"Spurenelemente  mg / kg TS"]
[]
["Nr ","Futterart",null,null,null,null,"aNDFom g","CP g","nXP g","ME MJ","ST+ZU g","bST g","CL g","Ca g","P g","Mg g","Na g","K g","Preis / dt FM","Fe","Cu","Zn","Mn","Co","J","Se"]
[null,{"$f":"IFERROR(VLOOKUP(A4,'Gruber Tabelle'!$A$6:$V$354,2,0),0)","v":0},null,null,null,null,{"$f":"IFERROR(VLOOKUP(A4,'Gruber Tabelle'!$A$6:$V$354,5,0),0)","v":0},{"$f":"IFERROR(VLOOKUP(A4,'Gruber Tabelle'!$A$6:$V$354,7,0),0)","v":0},{"$f":"IFERROR(VLOOKUP(A4,'Gruber Tabelle'!$A$6:$V$354,8,0),0)","v":0},{"$f":"IFERROR(VLOOKUP(A4,'Gruber Tabelle'!$A$6:$V$354,12,0),0)","v":0},{"$f":"IFERROR(VLOOKUP(A4,'Gruber Tabelle'!$A$6:$V$354,13,0),0)","v":0},{"$f":"IFERROR(VLOOKUP(A4,'Gruber Tabelle'!$A$6:$V$354,14,0),0)","v":0},{"$f":"IFERROR(VLOOKUP(A4,'Gruber Tabelle'!$A$6:$V$354,15,0),0)","v":0},{"$f":"IFERROR(VLOOKUP(A4,'Gruber Tabelle'!$A$6:$V$354,16,0),0)","v":0},{"$f":"IFERROR(VLOOKUP(A4,'Gruber Tabelle'!$A$6:$V$354,17,0),0)","v":0},{"$f":"IFERROR(VLOOKUP(A4,'Gruber Tabelle'!$A$6:$V$354,18,0),0)","v":0},{"$f":"IFERROR(VLOOKUP(A4,'Gruber Tabelle'!$A$6:$V$354,19,0),0)","v":0},{"$f":"IFERROR(VLOOKUP(A4,'Gruber Tabelle'!$A$6:$V$354,20,0),0)","v":0},{"$f":"IFERROR(VLOOKUP(A4,'Gruber Tabelle'!$A$6:$V$354,21,0),0)","v":0},{"$f":"IFERROR(VLOOKUP(A4,'Gruber Tabelle'!$A$6:$AC$354,23,0),0)","v":0},{"$f":"IFERROR(VLOOKUP(A4,'Gruber Tabelle'!$A$6:$AC$354,24,0),0)","v":0},{"$f":"IFERROR(VLOOKUP(A4,'Gruber Tabelle'!$A$6:$AC$354,25,0),0)","v":0},{"$f":"IFERROR(VLOOKUP(A4,'Gruber Tabelle'!$A$6:$AC$354,26,0),0)","v":0},{"$f":"IFERROR(VLOOKUP(A4,'Gruber Tabelle'!$A$6:$AC$354,27,0),0)","v":0},{"$f":"IFERROR(VLOOKUP(A4,'Gruber Tabelle'!$A$6:$AC$354,28,0),0)","v":0},{"$f":"IFERROR(VLOOKUP(A4,'Gruber Tabelle'!$A$6:$AC$354,29,0),0)","v":0}]
[null,{"$f":"IFERROR(VLOOKUP(A5,'Gruber Tabelle'!$A$6:$V$354,2,0),0)","v":0},null,null,null,null,{"$f":"IFERROR(VLOOKUP(A5,'Gruber Tabelle'!$A$6:$V$354,5,0),0)","v":0},{"$f":"IFERROR(VLOOKUP(A5,'Gruber Tabelle'!$A$6:$V$354,7,0),0)","v":0},{"$f":"IFERROR(VLOOKUP(A5,'Gruber Tabelle'!$A$6:$V$354,8,0),0)","v":0},{"$f":"IFERROR(VLOOKUP(A5,'Gruber Tabelle'!$A$6:$V$354,12,0),0)","v":0},{"$f":"IFERROR(VLOOKUP(A5,'Gruber Tabelle'!$A$6:$V$354,13,0),0)","v":0},{"$f":"IFERROR(VLOOKUP(A5,'Gruber Tabelle'!$A$6:$V$354,14,0),0)","v":0},{"$f":"IFERROR(VLOOKUP(A5,'Gruber Tabelle'!$A$6:$V$354,15,0),0)","v":0},{"$f":"IFERROR(VLOOKUP(A5,'Gruber Tabelle'!$A$6:$V$354,16,0),0)","v":0},{"$f":"IFERROR(VLOOKUP(A5,'Gruber Tabelle'!$A$6:$V$354,17,0),0)","v":0},{"$f":"IFERROR(VLOOKUP(A5,'Gruber Tabelle'!$A$6:$V$354,18,0),0)","v":0},{"$f":"IFERROR(VLOOKUP(A5,'Gruber Tabelle'!$A$6:$V$354,19,0),0)","v":0},{"$f":"IFERROR(VLOOKUP(A5,'Gruber Tabelle'!$A$6:$V$354,20,0),0)","v":0},{"$f":"IFERROR(VLOOKUP(A5,'Gruber Tabelle'!$A$6:$V$354,21,0),0)","v":0},{"$f":"IFERROR(VLOOKUP(A5,'Gruber Tabelle'!$A$6:$AC$354,23,0),0)","v":0},{"$f":"IFERROR(VLOOKUP(A5,'Gruber Tabelle'!$A$6:$AC$354,24,0),0)","v":0},{"$f":"IFERROR(VLOOKUP(A5,'Gruber Tabelle'!$A$6:$AC$354,25,0),0)","v":0},{"$f":"IFERROR(VLOOKUP(A5,'Gruber Tabelle'!$A$6:$AC$354,26,0),0)","v":0},{"$f":"IFERROR(VLOOKUP(A5,'Gruber Tabelle'!$A$6:$AC$354,27,0),0)","v":0},{"$f":"IFERROR(VLOOKUP(A5,'Gruber Tabelle'!$A$6:$AC$354,28,0),0)","v":0},{"$f":"IFERROR(VLOOKUP(A5,'Gruber Tabelle'!$A$6:$AC$354,29,0),0)","v":0}]
[null,{"$f":"IFERROR(VLOOKUP(A6,'Gruber Tabelle'!$A$6:$V$354,2,0),0)","v":0},null,null,null,null,{"$f":"IFERROR(VLOOKUP(A6,'Gruber Tabelle'!$A$6:$V$354,5,0),0)","v":0},{"$f":"IFERROR(VLOOKUP(A6,'Gruber Tabelle'!$A$6:$V$354,7,0),0)","v":0},{"$f":"IFERROR(VLOOKUP(A6,'Gruber Tabelle'!$A$6:$V$354,8,0),0)","v":0},{"$f":"IFERROR(VLOOKUP(A6,'Gruber Tabelle'!$A$6:$V$354,12,0),0)","v":0},{"$f":"IFERROR(VLOOKUP(A6,'Gruber Tabelle'!$A$6:$V$354,13,0),0)","v":0},{"$f":"IFERROR(VLOOKUP(A6,'Gruber Tabelle'!$A$6:$V$354,14,0),0)","v":0},{"$f":"IFERROR(VLOOKUP(A6,'Gruber Tabelle'!$A$6:$V$354,15,0),0)","v":0},{"$f":"IFERROR(VLOOKUP(A6,'Gruber Tabelle'!$A$6:$V$354,16,0),0)","v":0},{"$f":"IFERROR(VLOOKUP(A6,'Gruber Tabelle'!$A$6:$V$354,17,0),0)","v":0},{"$f":"IFERROR(VLOOKUP(A6,'Gruber Tabelle'!$A$6:$V$354,18,0),0)","v":0},{"$f":"IFERROR(VLOOKUP(A6,'Gruber Tabelle'!$A$6:$V$354,19,0),0)","v":0},{"$f":"IFERROR(VLOOKUP(A6,'Gruber Tabelle'!$A$6:$V$354,20,0),0)","v":0},{"$f":"IFERROR(VLOOKUP(A6,'Gruber Tabelle'!$A$6:$V$354,21,0),0)","v":0},{"$f":"IFERROR(VLOOKUP(A6,'Gruber Tabelle'!$A$6:$AC$354,23,0),0)","v":0},{"$f":"IFERROR(VLOOKUP(A6,'Gruber Tabelle'!$A$6:$AC$354,24,0),0)","v":0},{"$f":"IFERROR(VLOOKUP(A6,'Gruber Tabelle'!$A$6:$AC$354,25,0),0)","v":0},{"$f":"IFERROR(VLOOKUP(A6,'Gruber Tabelle'!$A$6:$AC$354,26,0),0)","v":0},{"$f":"IFERROR(VLOOKUP(A6,'Gruber Tabelle'!$A$6:$AC$354,27,0),0)","v":0},{"$f":"IFERROR(VLOOKUP(A6,'Gruber Tabelle'!$A$6:$AC$354,28,0),0)","v":0},{"$f":"IFERROR(VLOOKUP(A6,'Gruber Tabelle'!$A$6:$AC$354,29,0),0)","v":0}]
[null,{"$f":"IFERROR(VLOOKUP(A7,'Gruber Tabelle'!$A$6:$V$354,2,0),0)","v":0},null,null,null,null,{"$f":"IFERROR(VLOOKUP(A7,'Gruber Tabelle'!$A$6:$V$354,5,0),0)","v":0},{"$f":"IFERROR(VLOOKUP(A7,'Gruber Tabelle'!$A$6:$V$354,7,0),0)","v":0},{"$f":"IFERROR(VLOOKUP(A7,'Gruber Tabelle'!$A$6:$V$354,8,0),0)","v":0},{"$f":"IFERROR(VLOOKUP(A7,'Gruber Tabelle'!$A$6:$V$354,12,0),0)","v":0},{"$f":"IFERROR(VLOOKUP(A7,'Gruber Tabelle'!$A$6:$V$354,13,0),0)","v":0},{"$f":"IFERROR(VLOOKUP(A7,'Gruber Tabelle'!$A$6:$V$354,14,0),0)","v":0},{"$f":"IFERROR(VLOOKUP(A7,'Gruber Tabelle'!$A$6:$V$354,15,0),0)","v":0},{"$f":"IFERROR(VLOOKUP(A7,'Gruber Tabelle'!$A$6:$V$354,16,0),0)","v":0},{"$f":"IFERROR(VLOOKUP(A7,'Gruber Tabelle'!$A$6:$V$354,17,0),0)","v":0},{"$f":"IFERROR(VLOOKUP(A7,'Gruber Tabelle'!$A$6:$V$354,18,0),0)","v":0},{"$f":"IFERROR(VLOOKUP(A7,'Gruber Tabelle'!$A$6:$V$354,19,0),0)","v":0},{"$f":"IFERROR(VLOOKUP(A7,'Gruber Tabelle'!$A$6:$V$354,20,0),0)","v":0},{"$f":"IFERROR(VLOOKUP(A7,'Gruber Tabelle'!$A$6:$V$354,21,0),0)","v":0},{"$f":"IFERROR(VLOOKUP(A7,'Gruber Tabelle'!$A$6:$AC$354,23,0),0)","v":0},{"$f":"IFERROR(VLOOKUP(A7,'Gruber Tabelle'!$A$6:$AC$354,24,0),0)","v":0},{"$f":"IFERROR(VLOOKUP(A7,'Gruber Tabelle'!$A$6:$AC$354,25,0),0)","v":0},{"$f":"IFERROR(VLOOKUP(A7,'Gruber Tabelle'!$A$6:$AC$354,26,0),0)","v":0},{"$f":"IFERROR(VLOOKUP(A7,'Gruber Tabelle'!$A$6:$AC$354,27,0),0)","v":0},{"$f":"IFERROR(VLOOKUP(A7,'Gruber Tabelle'!$A$6:$AC$354,28,0),0)","v":0},{"$f":"IFERROR(VLOOKUP(A7,'Gruber Tabelle'!$A$6:$AC$354,29,0),0)","v":0}]
[null,{"$f":"IFERROR(VLOOKUP(A8,'Gruber Tabelle'!$A$6:$V$354,2,0),0)","v":0},null,null,null,null,{"$f":"IFERROR(VLOOKUP(A8,'Gruber Tabelle'!$A$6:$V$354,5,0),0)","v":0},{"$f":"IFERROR(VLOOKUP(A8,'Gruber Tabelle'!$A$6:$V$354,7,0),0)","v":0},{"$f":"IFERROR(VLOOKUP(A8,'Gruber Tabelle'!$A$6:$V$354,8,0),0)","v":0},{"$f":"IFERROR(VLOOKUP(A8,'Gruber Tabelle'!$A$6:$V$354,12,0),0)","v":0},{"$f":"IFERROR(VLOOKUP(A8,'Gruber Tabelle'!$A$6:$V$354,13,0),0)","v":0},{"$f":"IFERROR(VLOOKUP(A8,'Gruber Tabelle'!$A$6:$V$354,14,0),0)","v":0},{"$f":"IFERROR(VLOOKUP(A8,'Gruber Tabelle'!$A$6:$V$354,15,0),0)","v":0},{"$f":"IFERROR(VLOOKUP(A8,'Gruber Tabelle'!$A$6:$V$354,16,0),0)","v":0},{"$f":"IFERROR(VLOOKUP(A8,'Gruber Tabelle'!$A$6:$V$354,17,0),0)","v":0},{"$f":"IFERROR(VLOOKUP(A8,'Gruber Tabelle'!$A$6:$V$354,18,0),0)","v":0},{"$f":"IFERROR(VLOOKUP(A8,'Gruber Tabelle'!$A$6:$V$354,19,0),0)","v":0},{"$f":"IFERROR(VLOOKUP(A8,'Gruber Tabelle'!$A$6:$V$354,20,0),0)","v":0},{"$f":"IFERROR(VLOOKUP(A8,'Gruber Tabelle'!$A$6:$V$354,21,0),0)","v":0},{"$f":"IFERROR(VLOOKUP(A8,'Gruber Tabelle'!$A$6:$AC$354,23,0),0)","v":0},{"$f":"IFERROR(VLOOKUP(A8,'Gruber Tabelle'!$A$6:$AC$354,24,0),0)","v":0},{"$f":"IFERROR(VLOOKUP(A8,'Gruber Tabelle'!$A$6:$AC$354,25,0),0)","v":0},{"$f":"IFERROR(VLOOKUP(A8,'Gruber Tabelle'!$A$6:$AC$354,26,0),0)","v":0},{"$f":"IFERROR(VLOOKUP(A8,'Gruber Tabelle'!$A$6:$AC$354,27,0),0)","v":0},{"$f":"IFERROR(VLOOKUP(A8,'Gruber Tabelle'!$A$6:$AC$354,28,0),0)","v":0},{"$f":"IFERROR(VLOOKUP(A8,'Gruber Tabelle'!$A$6:$AC$354,29,0),0)","v":0}]
[null,{"$f":"IFERROR(VLOOKUP(A9,'Gruber Tabelle'!$A$6:$V$354,2,0),0)","v":0},null,null,null,null,{"$f":"IFERROR(VLOOKUP(A9,'Gruber Tabelle'!$A$6:$V$354,5,0),0)","v":0},{"$f":"IFERROR(VLOOKUP(A9,'Gruber Tabelle'!$A$6:$V$354,7,0),0)","v":0},{"$f":"IFERROR(VLOOKUP(A9,'Gruber Tabelle'!$A$6:$V$354,8,0),0)","v":0},{"$f":"IFERROR(VLOOKUP(A9,'Gruber Tabelle'!$A$6:$V$354,12,0),0)","v":0},{"$f":"IFERROR(VLOOKUP(A9,'Gruber Tabelle'!$A$6:$V$354,13,0),0)","v":0},{"$f":"IFERROR(VLOOKUP(A9,'Gruber Tabelle'!$A$6:$V$354,14,0),0)","v":0},{"$f":"IFERROR(VLOOKUP(A9,'Gruber Tabelle'!$A$6:$V$354,15,0),0)","v":0},{"$f":"IFERROR(VLOOKUP(A9,'Gruber Tabelle'!$A$6:$V$354,16,0),0)","v":0},{"$f":"IFERROR(VLOOKUP(A9,'Gruber Tabelle'!$A$6:$V$354,17,0),0)","v":0},{"$f":"IFERROR(VLOOKUP(A9,'Gruber Tabelle'!$A$6:$V$354,18,0),0)","v":0},{"$f":"IFERROR(VLOOKUP(A9,'Gruber Tabelle'!$A$6:$V$354,19,0),0)","v":0},{"$f":"IFERROR(VLOOKUP(A9,'Gruber Tabelle'!$A$6:$V$354,20,0),0)","v":0},{"$f":"IFERROR(VLOOKUP(A9,'Gruber Tabelle'!$A$6:$V$354,21,0),0)","v":0},{"$f":"IFERROR(VLOOKUP(A9,'Gruber Tabelle'!$A$6:$AC$354,23,0),0)","v":0},{"$f":"IFERROR(VLOOKUP(A9,'Gruber Tabelle'!$A$6:$AC$354,24,0),0)","v":0},{"$f":"IFERROR(VLOOKUP(A9,'Gruber Tabelle'!$A$6:$AC$354,25,0),0)","v":0},{"$f":"IFERROR(VLOOKUP(A9,'Gruber Tabelle'!$A$6:$AC$354,26,0),0)","v":0},{"$f":"IFERROR(VLOOKUP(A9,'Gruber Tabelle'!$A$6:$AC$354,27,0),0)","v":0},{"$f":"IFERROR(VLOOKUP(A9,'Gruber Tabelle'!$A$6:$AC$354,28,0),0)","v":0},{"$f":"IFERROR(VLOOKUP(A9,'Gruber Tabelle'!$A$6:$AC$354,29,0),0)","v":0}]
[null,{"$f":"IFERROR(VLOOKUP(A10,'Gruber Tabelle'!$A$6:$V$354,2,0),0)","v":0},null,null,null,null,{"$f":"IFERROR(VLOOKUP(A10,'Gruber Tabelle'!$A$6:$V$354,5,0),0)","v":0},{"$f":"IFERROR(VLOOKUP(A10,'Gruber Tabelle'!$A$6:$V$354,7,0),0)","v":0},{"$f":"IFERROR(VLOOKUP(A10,'Gruber Tabelle'!$A$6:$V$354,8,0),0)","v":0},{"$f":"IFERROR(VLOOKUP(A10,'Gruber Tabelle'!$A$6:$V$354,12,0),0)","v":0},{"$f":"IFERROR(VLOOKUP(A10,'Gruber Tabelle'!$A$6:$V$354,13,0),0)","v":0},{"$f":"IFERROR(VLOOKUP(A10,'Gruber Tabelle'!$A$6:$V$354,14,0),0)","v":0},{"$f":"IFERROR(VLOOKUP(A10,'Gruber Tabelle'!$A$6:$V$354,15,0),0)","v":0},{"$f":"IFERROR(VLOOKUP(A10,'Gruber Tabelle'!$A$6:$V$354,16,0),0)","v":0},{"$f":"IFERROR(VLOOKUP(A10,'Gruber Tabelle'!$A$6:$V$354,17,0),0)","v":0},{"$f":"IFERROR(VLOOKUP(A10,'Gruber Tabelle'!$A$6:$V$354,18,0),0)","v":0},{"$f":"IFERROR(VLOOKUP(A10,'Gruber Tabelle'!$A$6:$V$354,19,0),0)","v":0},{"$f":"IFERROR(VLOOKUP(A10,'Gruber Tabelle'!$A$6:$V$354,20,0),0)","v":0},{"$f":"IFERROR(VLOOKUP(A10,'Gruber Tabelle'!$A$6:$V$354,21,0),0)","v":0},{"$f":"IFERROR(VLOOKUP(A10,'Gruber Tabelle'!$A$6:$AC$354,23,0),0)","v":0},{"$f":"IFERROR(VLOOKUP(A10,'Gruber Tabelle'!$A$6:$AC$354,24,0),0)","v":0},{"$f":"IFERROR(VLOOKUP(A10,'Gruber Tabelle'!$A$6:$AC$354,25,0),0)","v":0},{"$f":"IFERROR(VLOOKUP(A10,'Gruber Tabelle'!$A$6:$AC$354,26,0),0)","v":0},{"$f":"IFERROR(VLOOKUP(A10,'Gruber Tabelle'!$A$6:$AC$354,27,0),0)","v":0},{"$f":"IFERROR(VLOOKUP(A10,'Gruber Tabelle'!$A$6:$AC$354,28,0),0)","v":0},{"$f":"IFERROR(VLOOKUP(A10,'Gruber Tabelle'!$A$6:$AC$354,29,0),0)","v":0}]
[null,{"$f":"IFERROR(VLOOKUP(A11,'Gruber Tabelle'!$A$6:$V$354,2,0),0)","v":0},null,null,null,null,{"$f":"IFERROR(VLOOKUP(A11,'Gruber Tabelle'!$A$6:$V$354,5,0),0)","v":0},{"$f":"IFERROR(VLOOKUP(A11,'Gruber Tabelle'!$A$6:$V$354,7,0),0)","v":0},{"$f":"IFERROR(VLOOKUP(A11,'Gruber Tabelle'!$A$6:$V$354,8,0),0)","v":0},{"$f":"IFERROR(VLOOKUP(A11,'Gruber Tabelle'!$A$6:$V$354,12,0),0)","v":0},{"$f":"IFERROR(VLOOKUP(A11,'Gruber Tabelle'!$A$6:$V$354,13,0),0)","v":0},{"$f":"IFERROR(VLOOKUP(A11,'Gruber Tabelle'!$A$6:$V$354,14,0),0)","v":0},{"$f":"IFERROR(VLOOKUP(A11,'Gruber Tabelle'!$A$6:$V$354,15,0),0)","v":0},{"$f":"IFERROR(VLOOKUP(A11,'Gruber Tabelle'!$A$6:$V$354,16,0),0)","v":0},{"$f":"IFERROR(VLOOKUP(A11,'Gruber Tabelle'!$A$6:$V$354,17,0),0)","v":0},{"$f":"IFERROR(VLOOKUP(A11,'Gruber Tabelle'!$A$6:$V$354,18,0),0)","v":0},{"$f":"IFERROR(VLOOKUP(A11,'Gruber Tabelle'!$A$6:$V$354,19,0),0)","v":0},{"$f":"IFERROR(VLOOKUP(A11,'Gruber Tabelle'!$A$6:$V$354,20,0),0)","v":0},{"$f":"IFERROR(VLOOKUP(A11,'Gruber Tabelle'!$A$6:$V$354,21,0),0)","v":0},{"$f":"IFERROR(VLOOKUP(A11,'Gruber Tabelle'!$A$6:$AC$354,23,0),0)","v":0},{"$f":"IFERROR(VLOOKUP(A11,'Gruber Tabelle'!$A$6:$AC$354,24,0),0)","v":0},{"$f":"IFERROR(VLOOKUP(A11,'Gruber Tabelle'!$A$6:$AC$354,25,0),0)","v":0},{"$f":"IFERROR(VLOOKUP(A11,'Gruber Tabelle'!$A$6:$AC$354,26,0),0)","v":0},{"$f":"IFERROR(VLOOKUP(A11,'Gruber Tabelle'!$A$6:$AC$354,27,0),0)","v":0},{"$f":"IFERROR(VLOOKUP(A11,'Gruber Tabelle'!$A$6:$AC$354,28,0),0)","v":0},{"$f":"IFERROR(VLOOKUP(A11,'Gruber Tabelle'!$A$6:$AC$354,29,0),0)","v":0}]
[null,{"$f":"IFERROR(VLOOKUP(A12,'Gruber Tabelle'!$A$6:$V$354,2,0),0)","v":0},null,null,null,null,{"$f":"IFERROR(VLOOKUP(A12,'Gruber Tabelle'!$A$6:$V$354,5,0),0)","v":0},{"$f":"IFERROR(VLOOKUP(A12,'Gruber Tabelle'!$A$6:$V$354,7,0),0)","v":0},{"$f":"IFERROR(VLOOKUP(A12,'Gruber Tabelle'!$A$6:$V$354,8,0),0)","v":0},{"$f":"IFERROR(VLOOKUP(A12,'Gruber Tabelle'!$A$6:$V$354,12,0),0)","v":0},{"$f":"IFERROR(VLOOKUP(A12,'Gruber Tabelle'!$A$6:$V$354,13,0),0)","v":0},{"$f":"IFERROR(VLOOKUP(A12,'Gruber Tabelle'!$A$6:$V$354,14,0),0)","v":0},{"$f":"IFERROR(VLOOKUP(A12,'Gruber Tabelle'!$A$6:$V$354,15,0),0)","v":0},{"$f":"IFERROR(VLOOKUP(A12,'Gruber Tabelle'!$A$6:$V$354,16,0),0)","v":0},{"$f":"IFERROR(VLOOKUP(A12,'Gruber Tabelle'!$A$6:$V$354,17,0),0)","v":0},{"$f":"IFERROR(VLOOKUP(A12,'Gruber Tabelle'!$A$6:$V$354,18,0),0)","v":0},{"$f":"IFERROR(VLOOKUP(A12,'Gruber Tabelle'!$A$6:$V$354,19,0),0)","v":0},{"$f":"IFERROR(VLOOKUP(A12,'Gruber Tabelle'!$A$6:$V$354,20,0),0)","v":0},{"$f":"IFERROR(VLOOKUP(A12,'Gruber Tabelle'!$A$6:$V$354,21,0),0)","v":0},{"$f":"IFERROR(VLOOKUP(A12,'Gruber Tabelle'!$A$6:$AC$354,23,0),0)","v":0},{"$f":"IFERROR(VLOOKUP(A12,'Gruber Tabelle'!$A$6:$AC$354,24,0),0)","v":0},{"$f":"IFERROR(VLOOKUP(A12,'Gruber Tabelle'!$A$6:$AC$354,25,0),0)","v":0},{"$f":"IFERROR(VLOOKUP(A12,'Gruber Tabelle'!$A$6:$AC$354,26,0),0)","v":0},{"$f":"IFERROR(VLOOKUP(A12,'Gruber Tabelle'!$A$6:$AC$354,27,0),0)","v":0},{"$f":"IFERROR(VLOOKUP(A12,'Gruber Tabelle'!$A$6:$AC$354,28,0),0)","v":0},{"$f":"IFERROR(VLOOKUP(A12,'Gruber Tabelle'!$A$6:$AC$354,29,0),0)","v":0}]
[null,{"$f":"IFERROR(VLOOKUP(A13,'Gruber Tabelle'!$A$6:$V$354,2,0),0)","v":0},null,null,null,null,{"$f":"IFERROR(VLOOKUP(A13,'Gruber Tabelle'!$A$6:$V$354,5,0),0)","v":0},{"$f":"IFERROR(VLOOKUP(A13,'Gruber Tabelle'!$A$6:$V$354,7,0),0)","v":0},{"$f":"IFERROR(VLOOKUP(A13,'Gruber Tabelle'!$A$6:$V$354,8,0),0)","v":0},{"$f":"IFERROR(VLOOKUP(A13,'Gruber Tabelle'!$A$6:$V$354,12,0),0)","v":0},{"$f":"IFERROR(VLOOKUP(A13,'Gruber Tabelle'!$A$6:$V$354,13,0),0)","v":0},{"$f":"IFERROR(VLOOKUP(A13,'Gruber Tabelle'!$A$6:$V$354,14,0),0)","v":0},{"$f":"IFERROR(VLOOKUP(A13,'Gruber Tabelle'!$A$6:$V$354,15,0),0)","v":0},{"$f":"IFERROR(VLOOKUP(A13,'Gruber Tabelle'!$A$6:$V$354,16,0),0)","v":0},{"$f":"IFERROR(VLOOKUP(A13,'Gruber Tabelle'!$A$6:$V$354,17,0),0)","v":0},{"$f":"IFERROR(VLOOKUP(A13,'Gruber Tabelle'!$A$6:$V$354,18,0),0)","v":0},{"$f":"IFERROR(VLOOKUP(A13,'Gruber Tabelle'!$A$6:$V$354,19,0),0)","v":0},{"$f":"IFERROR(VLOOKUP(A13,'Gruber Tabelle'!$A$6:$V$354,20,0),0)","v":0},{"$f":"IFERROR(VLOOKUP(A13,'Gruber Tabelle'!$A$6:$V$354,21,0),0)","v":0},{"$f":"IFERROR(VLOOKUP(A13,'Gruber Tabelle'!$A$6:$AC$354,23,0),0)","v":0},{"$f":"IFERROR(VLOOKUP(A13,'Gruber Tabelle'!$A$6:$AC$354,24,0),0)","v":0},{"$f":"IFERROR(VLOOKUP(A13,'Gruber Tabelle'!$A$6:$AC$354,25,0),0)","v":0},{"$f":"IFERROR(VLOOKUP(A13,'Gruber Tabelle'!$A$6:$AC$354,26,0),0)","v":0},{"$f":"IFERROR(VLOOKUP(A13,'Gruber Tabelle'!$A$6:$AC$354,27,0),0)","v":0},{"$f":"IFERROR(VLOOKUP(A13,'Gruber Tabelle'!$A$6:$AC$354,28,0),0)","v":0},{"$f":"IFERROR(VLOOKUP(A13,'Gruber Tabelle'!$A$6:$AC$354,29,0),0)","v":0}]
["Nr ","Futterart","Mischungs- Anteil in %","TM %","TM kg","FM kg","aNDFom g","CP g","nXP g","ME MJ","ST+ZU g","bST g","CL g","Ca g","P g","Mg g","Na g","K g","Preis","Fe","Cu","Zn","Mn","Co","J","Se"]
[{"$f":"A4","v":0},{"$f":"IFERROR(VLOOKUP(A15,'Gruber Tabelle'!$A$6:$V$354,2,0),0)","v":0},null,{"$f":"IFERROR(VLOOKUP(A4,'Gruber Tabelle'!$A$6:$V$354,3,0),0)/1000","v":0},{"$f":"IF(C15>0,F15*D15,\"\")","v":""},{"$f":"IF(C15>0,(1*C15),\" \")","v":" "},{"$f":"IF(G4>0,(G4*C15)*D15,\"\")","v":""},{"$f":"IF(H4>0,(H4*C15)*D15,\"\")","v":""},{"$f":"IF(I4>0,(I4*C15)*D15,\"\")","v":""},{"$f":"IF(J4>0,(J4*C15)*D15,\"\")","v":""},{"$f":"IF(K4>0,(K4*C15)*D15,\"\")","v":""},{"$f":"IF(L4>0,(L4*C15)*D15,\"\")","v":""},{"$f":"IF(M4>0,(M4*C15)*D15,\"\")","v":""},{"$f":"IF(N4>0,(N4*C15)*D15,\"\")","v":""},{"$f":"IF(O4>0,(O4*C15)*D15,\"\")","v":""},{"$f":"IF(P4>0,(P4*C15)*D15,\"\")","v":""},{"$f":"IF(Q4>0,(Q4*C15)*D15,\"\")","v":""},{"$f":"IF(R4>0,(R4*C15)*D15,\"\")","v":""},{"$f":"IF(C15>0,S4*F15/100,0)","v":0},{"$f":"IF(T4>0,(T4*C15)*D15,0)","v":0},{"$f":"IF(U4>0,(U4*C15)*D15,0)","v":0},{"$f":"IF(V4>0,(V4*C15)*D15,0)","v":0},{"$f":"IF(W4>0,(W4*C15)*D15,0)","v":0},{"$f":"IF(X4>0,(X4*C15)*D15,0)","v":0},{"$f":"IF(Y4>0,(Y4*C15)*D15,0)","v":0},{"$f":"IF(Z4>0,(Z4*C15)*D15,0)","v":0}]
[0,{"$f":"IFERROR(VLOOKUP(A16,'Gruber Tabelle'!$A$6:$V$354,2,0),0)","v":0},null,{"$f":"IFERROR(VLOOKUP(A5,'Gruber Tabelle'!$A$6:$V$354,3,0),0)/1000","v":0},{"$f":"IF(C16>0,F16*D16,\"\")","v":""},{"$f":"IF(C16>0,(1*C16),\" \")","v":" "},{"$f":"IF(G5>0,(G5*C16)*D16,\"\")","v":""},{"$f":"IF(H5>0,(H5*C16)*D16,\"\")","v":""},{"$f":"IF(I5>0,(I5*C16)*D16,\"\")","v":""},"","","","","","","","","",0,0,0,0,0,0,0,0]
[0,{"$f":"IFERROR(VLOOKUP(A17,'Gruber Tabelle'!$A$6:$V$354,2,0),0)","v":0},null,{"$f":"IFERROR(VLOOKUP(A6,'Gruber Tabelle'!$A$6:$V$354,3,0),0)/1000","v":0},""," ","","","","","","","","","","","","",0,0,0,0,0,0,0,0]
[0,{"$f":"IFERROR(VLOOKUP(A18,'Gruber Tabelle'!$A$6:$V$354,2,0),0)","v":0},null,{"$f":"IFERROR(VLOOKUP(A7,'Gruber Tabelle'!$A$6:$V$354,3,0),0)/1000","v":0},""," ","","","","","","","","","","","","",0,0,0,0,0,0,0,0]
[0,{"$f":"IFERROR(VLOOKUP(A19,'Gruber Tabelle'!$A$6:$V$354,2,0),0)","v":0},null,{"$f":"IFERROR(VLOOKUP(A8,'Gruber Tabelle'!$A$6:$V$354,3,0),0)/1000","v":0},""," ","","","","","","","","","","","","",0,0,0,0,0,0,0,0]
[0,{"$f":"IFERROR(VLOOKUP(A20,'Gruber Tabelle'!$A$6:$V$354,2,0),0)","v":0},null,{"$f":"IFERROR(VLOOKUP(A9,'Gruber Tabelle'!$A$6:$V$354,3,0),0)/1000","v":0},""," ","","","","","","","","","","","","",0,0,0,0,0,0,0,0]
[0,{"$f":"IFERROR(VLOOKUP(A21,'Gruber Tabelle'!$A$6:$V$354,2,0),0)","v":0},null,{"$f":"IFERROR(VLOOKUP(A10,'Gruber Tabelle'!$A$6:$V$354,3,0),0)/1000","v":0},""," ","","","","","","","","","","","","",0,0,0,0,0,0,0,0]
[0,{"$f":"IFERROR(VLOOKUP(A22,'Gruber Tabelle'!$A$6:$V$354,2,0),0)","v":0},null,{"$f":"IFERROR(VLOOKUP(A11,'Gruber Tabelle'!$A$6:$V$354,3,0),0)/1000","v":0},""," ","","","","","","","","","","","","",0,0,0,0,0,0,0,0]
[0,{"$f":"IFERROR(VLOOKUP(A23,'Gruber Tabelle'!$A$6:$V$354,2,0),0)","v":0},null,{"$f":"IFERROR(VLOOKUP(A12,'Gruber Tabelle'!$A$6:$V$354,3,0),0)/1000","v":0},""," ","","","","","","","","","","","","",0,0,0,0,0,0,0,0]
[0,{"$f":"IFERROR(VLOOKUP(A24,'Gruber Tabelle'!$A$6:$V$354,2,0),0)","v":0},null,{"$f":"IFERROR(VLOOKUP(A13,'Gruber Tabelle'!$A$6:$V$354,3,0),0)/1000","v":0},""," ","","","","","","","","","","","","",0,0,0,0,0,0,0,0]
["Summe je kg Frischmasse ( FM )",null,{"$f":"SUM(C15:C24)","v":0},null,{"$f":"SUM(E15:E24)","v":0},{"$f":"SUM(F15:F24)","v":0},0,0,0,0,0,0,0,0,0,0,0,0,{"$f":"SUM(S15:S24)","v":0},{"$f":"SUM(T15:T24)","v":0},{"$f":"SUM(U15:U24)","v":0},0,0,0,0,0]
[{"$f":"SUM(F15:F24)*$D$25","v":0}]

{"sheet":"Mischung 2","index":4,"n_rows":26,"n_cols":26,"rows_kept":26,"cut":false,"hidden":false,"merged":[[25,0,25,25],[0,19,0,25],[24,0,24,1],[0,0,0,18],[1,0,1,4],[1,6,1,18],[2,2,12,5]]}
[null,null,null,null,null,null,null,null,null,null,null,null,null,null,null,null,null,null,null,"Spurenelemente  mg / kg TM"]
[]
["Nr ","Futterart",null,null,null,null,"aNDFom g","CP g","nXP g","ME Mj","ST+ZU","bST","CL g","Ca","P","Mg","Na","K","Preis / dt FM","Fe","Cu","Zn","Mn","Co","J","Se"]
[null,{"$f":"IFERROR(VLOOKUP(A4,'Gruber Tabelle'!$A$6:$V$354,2,0),0)","v":0},null,null,null,null,{"$f":"IFERROR(VLOOKUP(A4,'Gruber Tabelle'!$A$6:$V$354,5,0),0)","v":0},{"$f":"IFERROR(VLOOKUP(A4,'Gruber Tabelle'!$A$6:$V$354,7,0),0)","v":0},{"$f":"IFERROR(VLOOKUP(A4,'Gruber Tabelle'!$A$6:$V$354,8,0),0)","v":0},{"$f":"IFERROR(VLOOKUP(A4,'Gruber Tabelle'!$A$6:$V$354,12,0),0)","v":0},{"$f":"IFERROR(VLOOKUP(A4,'Gruber Tabelle'!$A$6:$V$354,13,0),0)","v":0},{"$f":"IFERROR(VLOOKUP(A4,'Gruber Tabelle'!$A$6:$V$354,14,0),0)","v":0},{"$f":"IFERROR(VLOOKUP(A4,'Gruber Tabelle'!$A$6:$V$354,15,0),0)","v":0},{"$f":"IFERROR(VLOOKUP(A4,'Gruber Tabelle'!$A$6:$V$354,16,0),0)","v":0},{"$f":"IFERROR(VLOOKUP(A4,'Gruber Tabelle'!$A$6:$V$354,17,0),0)","v":0},{"$f":"IFERROR(VLOOKUP(A4,'Gruber Tabelle'!$A$6:$V$354,18,0),0)","v":0},{"$f":"IFERROR(VLOOKUP(A4,'Gruber Tabelle'!$A$6:$V$354,19,0),0)","v":0},{"$f":"IFERROR(VLOOKUP(A4,'Gruber Tabelle'!$A$6:$V$354,20,0),0)","v":0},{"$f":"IFERROR(VLOOKUP(A4,'Gruber Tabelle'!$A$6:$V$354,21,0),0)","v":0},{"$f":"IFERROR(VLOOKUP(A4,'Gruber Tabelle'!$A$6:$AC$354,23,0),0)","v":0},{"$f":"IFERROR(VLOOKUP(A4,'Gruber Tabelle'!$A$6:$AC$354,24,0),0)","v":0},{"$f":"IFERROR(VLOOKUP(A4,'Gruber Tabelle'!$A$6:$AC$354,25,0),0)","v":0},{"$f":"IFERROR(VLOOKUP(A4,'Gruber Tabelle'!$A$6:$AC$354,26,0),0)","v":0},{"$f":"IFERROR(VLOOKUP(A4,'Gruber Tabelle'!$A$6:$AC$354,27,0),0)","v":0},{"$f":"IFERROR(VLOOKUP(A4,'Gruber Tabelle'!$A$6:$AC$354,28,0),0)","v":0},{"$f":"IFERROR(VLOOKUP(A4,'Gruber Tabelle'!$A$6:$AC$354,29,0),0)","v":0}]
[null,{"$f":"IFERROR(VLOOKUP(A5,'Gruber Tabelle'!$A$6:$V$354,2,0),0)","v":0},null,null,null,null,{"$f":"IFERROR(VLOOKUP(A5,'Gruber Tabelle'!$A$6:$V$354,5,0),0)","v":0},{"$f":"IFERROR(VLOOKUP(A5,'Gruber Tabelle'!$A$6:$V$354,7,0),0)","v":0},{"$f":"IFERROR(VLOOKUP(A5,'Gruber Tabelle'!$A$6:$V$354,8,0),0)","v":0},{"$f":"IFERROR(VLOOKUP(A5,'Gruber Tabelle'!$A$6:$V$354,12,0),0)","v":0},{"$f":"IFERROR(VLOOKUP(A5,'Gruber Tabelle'!$A$6:$V$354,13,0),0)","v":0},{"$f":"IFERROR(VLOOKUP(A5,'Gruber Tabelle'!$A$6:$V$354,14,0),0)","v":0},{"$f":"IFERROR(VLOOKUP(A5,'Gruber Tabelle'!$A$6:$V$354,15,0),0)","v":0},{"$f":"IFERROR(VLOOKUP(A5,'Gruber Tabelle'!$A$6:$V$354,16,0),0)","v":0},{"$f":"IFERROR(VLOOKUP(A5,'Gruber Tabelle'!$A$6:$V$354,17,0),0)","v":0},{"$f":"IFERROR(VLOOKUP(A5,'Gruber Tabelle'!$A$6:$V$354,18,0),0)","v":0},{"$f":"IFERROR(VLOOKUP(A5,'Gruber Tabelle'!$A$6:$V$354,19,0),0)","v":0},{"$f":"IFERROR(VLOOKUP(A5,'Gruber Tabelle'!$A$6:$V$354,20,0),0)","v":0},{"$f":"IFERROR(VLOOKUP(A5,'Gruber Tabelle'!$A$6:$V$354,21,0),0)","v":0},{"$f":"IFERROR(VLOOKUP(A5,'Gruber Tabelle'!$A$6:$AC$354,23,0),0)","v":0},{"$f":"IFERROR(VLOOKUP(A5,'Gruber Tabelle'!$A$6:$AC$354,24,0),0)","v":0},{"$f":"IFERROR(VLOOKUP(A5,'Gruber Tabelle'!$A$6:$AC$354,25,0),0)","v":0},{"$f":"IFERROR(VLOOKUP(A5,'Gruber Tabelle'!$A$6:$AC$354,26,0),0)","v":0},{"$f":"IFERROR(VLOOKUP(A5,'Gruber Tabelle'!$A$6:$AC$354,27,0),0)","v":0},{"$f":"IFERROR(VLOOKUP(A5,'Gruber Tabelle'!$A$6:$AC$354,28,0),0)","v":0},{"$f":"IFERROR(VLOOKUP(A5,'Gruber Tabelle'!$A$6:$AC$354,29,0),0)","v":0}]
[null,{"$f":"IFERROR(VLOOKUP(A6,'Gruber Tabelle'!$A$6:$V$354,2,0),0)","v":0},null,null,null,null,{"$f":"IFERROR(VLOOKUP(A6,'Gruber Tabelle'!$A$6:$V$354,5,0),0)","v":0},{"$f":"IFERROR(VLOOKUP(A6,'Gruber Tabelle'!$A$6:$V$354,7,0),0)","v":0},{"$f":"IFERROR(VLOOKUP(A6,'Gruber Tabelle'!$A$6:$V$354,8,0),0)","v":0},{"$f":"IFERROR(VLOOKUP(A6,'Gruber Tabelle'!$A$6:$V$354,12,0),0)","v":0},{"$f":"IFERROR(VLOOKUP(A6,'Gruber Tabelle'!$A$6:$V$354,13,0),0)","v":0},{"$f":"IFERROR(VLOOKUP(A6,'Gruber Tabelle'!$A$6:$V$354,14,0),0)","v":0},{"$f":"IFERROR(VLOOKUP(A6,'Gruber Tabelle'!$A$6:$V$354,15,0),0)","v":0},{"$f":"IFERROR(VLOOKUP(A6,'Gruber Tabelle'!$A$6:$V$354,16,0),0)","v":0},{"$f":"IFERROR(VLOOKUP(A6,'Gruber Tabelle'!$A$6:$V$354,17,0),0)","v":0},{"$f":"IFERROR(VLOOKUP(A6,'Gruber Tabelle'!$A$6:$V$354,18,0),0)","v":0},{"$f":"IFERROR(VLOOKUP(A6,'Gruber Tabelle'!$A$6:$V$354,19,0),0)","v":0},{"$f":"IFERROR(VLOOKUP(A6,'Gruber Tabelle'!$A$6:$V$354,20,0),0)","v":0},{"$f":"IFERROR(VLOOKUP(A6,'Gruber Tabelle'!$A$6:$V$354,21,0),0)","v":0},{"$f":"IFERROR(VLOOKUP(A6,'Gruber Tabelle'!$A$6:$AC$354,23,0),0)","v":0},{"$f":"IFERROR(VLOOKUP(A6,'Gruber Tabelle'!$A$6:$AC$354,24,0),0)","v":0},{"$f":"IFERROR(VLOOKUP(A6,'Gruber Tabelle'!$A$6:$AC$354,25,0),0)","v":0},{"$f":"IFERROR(VLOOKUP(A6,'Gruber Tabelle'!$A$6:$AC$354,26,0),0)","v":0},{"$f":"IFERROR(VLOOKUP(A6,'Gruber Tabelle'!$A$6:$AC$354,27,0),0)","v":0},{"$f":"IFERROR(VLOOKUP(A6,'Gruber Tabelle'!$A$6:$AC$354,28,0),0)","v":0},{"$f":"IFERROR(VLOOKUP(A6,'Gruber Tabelle'!$A$6:$AC$354,29,0),0)","v":0}]
[null,{"$f":"IFERROR(VLOOKUP(A7,'Gruber Tabelle'!$A$6:$V$354,2,0),0)","v":0},null,null,null,null,{"$f":"IFERROR(VLOOKUP(A7,'Gruber Tabelle'!$A$6:$V$354,5,0),0)","v":0},{"$f":"IFERROR(VLOOKUP(A7,'Gruber Tabelle'!$A$6:$V$354,7,0),0)","v":0},{"$f":"IFERROR(VLOOKUP(A7,'Gruber Tabelle'!$A$6:$V$354,8,0),0)","v":0},{"$f":"IFERROR(VLOOKUP(A7,'Gruber Tabelle'!$A$6:$V$354,12,0),0)","v":0},{"$f":"IFERROR(VLOOKUP(A7,'Gruber Tabelle'!$A$6:$V$354,13,0),0)","v":0},{"$f":"IFERROR(VLOOKUP(A7,'Gruber Tabelle'!$A$6:$V$354,14,0),0)","v":0},{"$f":"IFERROR(VLOOKUP(A7,'Gruber Tabelle'!$A$6:$V$354,15,0),0)","v":0},{"$f":"IFERROR(VLOOKUP(A7,'Gruber Tabelle'!$A$6:$V$354,16,0),0)","v":0},{"$f":"IFERROR(VLOOKUP(A7,'Gruber Tabelle'!$A$6:$V$354,17,0),0)","v":0},{"$f":"IFERROR(VLOOKUP(A7,'Gruber Tabelle'!$A$6:$V$354,18,0),0)","v":0},{"$f":"IFERROR(VLOOKUP(A7,'Gruber Tabelle'!$A$6:$V$354,19,0),0)","v":0},{"$f":"IFERROR(VLOOKUP(A7,'Gruber Tabelle'!$A$6:$V$354,20,0),0)","v":0},{"$f":"IFERROR(VLOOKUP(A7,'Gruber Tabelle'!$A$6:$V$354,21,0),0)","v":0},{"$f":"IFERROR(VLOOKUP(A7,'Gruber Tabelle'!$A$6:$AC$354,23,0),0)","v":0},{"$f":"IFERROR(VLOOKUP(A7,'Gruber Tabelle'!$A$6:$AC$354,24,0),0)","v":0},{"$f":"IFERROR(VLOOKUP(A7,'Gruber Tabelle'!$A$6:$AC$354,25,0),0)","v":0},{"$f":"IFERROR(VLOOKUP(A7,'Gruber Tabelle'!$A$6:$AC$354,26,0),0)","v":0},{"$f":"IFERROR(VLOOKUP(A7,'Gruber Tabelle'!$A$6:$AC$354,27,0),0)","v":0},{"$f":"IFERROR(VLOOKUP(A7,'Gruber Tabelle'!$A$6:$AC$354,28,0),0)","v":0},{"$f":"IFERROR(VLOOKUP(A7,'Gruber Tabelle'!$A$6:$AC$354,29,0),0)","v":0}]
[null,{"$f":"IFERROR(VLOOKUP(A8,'Gruber Tabelle'!$A$6:$V$354,2,0),0)","v":0},null,null,null,null,{"$f":"IFERROR(VLOOKUP(A8,'Gruber Tabelle'!$A$6:$V$354,5,0),0)","v":0},{"$f":"IFERROR(VLOOKUP(A8,'Gruber Tabelle'!$A$6:$V$354,7,0),0)","v":0},{"$f":"IFERROR(VLOOKUP(A8,'Gruber Tabelle'!$A$6:$V$354,8,0),0)","v":0},{"$f":"IFERROR(VLOOKUP(A8,'Gruber Tabelle'!$A$6:$V$354,12,0),0)","v":0},{"$f":"IFERROR(VLOOKUP(A8,'Gruber Tabelle'!$A$6:$V$354,13,0),0)","v":0},{"$f":"IFERROR(VLOOKUP(A8,'Gruber Tabelle'!$A$6:$V$354,14,0),0)","v":0},{"$f":"IFERROR(VLOOKUP(A8,'Gruber Tabelle'!$A$6:$V$354,15,0),0)","v":0},{"$f":"IFERROR(VLOOKUP(A8,'Gruber Tabelle'!$A$6:$V$354,16,0),0)","v":0},{"$f":"IFERROR(VLOOKUP(A8,'Gruber Tabelle'!$A$6:$V$354,17,0),0)","v":0},{"$f":"IFERROR(VLOOKUP(A8,'Gruber Tabelle'!$A$6:$V$354,18,0),0)","v":0},{"$f":"IFERROR(VLOOKUP(A8,'Gruber Tabelle'!$A$6:$V$354,19,0),0)","v":0},{"$f":"IFERROR(VLOOKUP(A8,'Gruber Tabelle'!$A$6:$V$354,20,0),0)","v":0},{"$f":"IFERROR(VLOOKUP(A8,'Gruber Tabelle'!$A$6:$V$354,21,0),0)","v":0},{"$f":"IFERROR(VLOOKUP(A8,'Gruber Tabelle'!$A$6:$AC$354,23,0),0)","v":0},{"$f":"IFERROR(VLOOKUP(A8,'Gruber Tabelle'!$A$6:$AC$354,24,0),0)","v":0},{"$f":"IFERROR(VLOOKUP(A8,'Gruber Tabelle'!$A$6:$AC$354,25,0),0)","v":0},{"$f":"IFERROR(VLOOKUP(A8,'Gruber Tabelle'!$A$6:$AC$354,26,0),0)","v":0},{"$f":"IFERROR(VLOOKUP(A8,'Gruber Tabelle'!$A$6:$AC$354,27,0),0)","v":0},{"$f":"IFERROR(VLOOKUP(A8,'Gruber Tabelle'!$A$6:$AC$354,28,0),0)","v":0},{"$f":"IFERROR(VLOOKUP(A8,'Gruber Tabelle'!$A$6:$AC$354,29,0),0)","v":0}]
[null,{"$f":"IFERROR(VLOOKUP(A9,'Gruber Tabelle'!$A$6:$V$354,2,0),0)","v":0},null,null,null,null,{"$f":"IFERROR(VLOOKUP(A9,'Gruber Tabelle'!$A$6:$V$354,5,0),0)","v":0},{"$f":"IFERROR(VLOOKUP(A9,'Gruber Tabelle'!$A$6:$V$354,7,0),0)","v":0},{"$f":"IFERROR(VLOOKUP(A9,'Gruber Tabelle'!$A$6:$V$354,8,0),0)","v":0},{"$f":"IFERROR(VLOOKUP(A9,'Gruber Tabelle'!$A$6:$V$354,12,0),0)","v":0},{"$f":"IFERROR(VLOOKUP(A9,'Gruber Tabelle'!$A$6:$V$354,13,0),0)","v":0},{"$f":"IFERROR(VLOOKUP(A9,'Gruber Tabelle'!$A$6:$V$354,14,0),0)","v":0},{"$f":"IFERROR(VLOOKUP(A9,'Gruber Tabelle'!$A$6:$V$354,15,0),0)","v":0},{"$f":"IFERROR(VLOOKUP(A9,'Gruber Tabelle'!$A$6:$V$354,16,0),0)","v":0},{"$f":"IFERROR(VLOOKUP(A9,'Gruber Tabelle'!$A$6:$V$354,17,0),0)","v":0},{"$f":"IFERROR(VLOOKUP(A9,'Gruber Tabelle'!$A$6:$V$354,18,0),0)","v":0},{"$f":"IFERROR(VLOOKUP(A9,'Gruber Tabelle'!$A$6:$V$354,19,0),0)","v":0},{"$f":"IFERROR(VLOOKUP(A9,'Gruber Tabelle'!$A$6:$V$354,20,0),0)","v":0},{"$f":"IFERROR(VLOOKUP(A9,'Gruber Tabelle'!$A$6:$V$354,21,0),0)","v":0},{"$f":"IFERROR(VLOOKUP(A9,'Gruber Tabelle'!$A$6:$AC$354,23,0),0)","v":0},{"$f":"IFERROR(VLOOKUP(A9,'Gruber Tabelle'!$A$6:$AC$354,24,0),0)","v":0},{"$f":"IFERROR(VLOOKUP(A9,'Gruber Tabelle'!$A$6:$AC$354,25,0),0)","v":0},{"$f":"IFERROR(VLOOKUP(A9,'Gruber Tabelle'!$A$6:$AC$354,26,0),0)","v":0},{"$f":"IFERROR(VLOOKUP(A9,'Gruber Tabelle'!$A$6:$AC$354,27,0),0)","v":0},{"$f":"IFERROR(VLOOKUP(A9,'Gruber Tabelle'!$A$6:$AC$354,28,0),0)","v":0},{"$f":"IFERROR(VLOOKUP(A9,'Gruber Tabelle'!$A$6:$AC$354,29,0),0)","v":0}]
[null,{"$f":"IFERROR(VLOOKUP(A10,'Gruber Tabelle'!$A$6:$V$354,2,0),0)","v":0},null,null,null,null,{"$f":"IFERROR(VLOOKUP(A10,'Gruber Tabelle'!$A$6:$V$354,5,0),0)","v":0},{"$f":"IFERROR(VLOOKUP(A10,'Gruber Tabelle'!$A$6:$V$354,7,0),0)","v":0},{"$f":"IFERROR(VLOOKUP(A10,'Gruber Tabelle'!$A$6:$V$354,8,0),0)","v":0},{"$f":"IFERROR(VLOOKUP(A10,'Gruber Tabelle'!$A$6:$V$354,12,0),0)","v":0},{"$f":"IFERROR(VLOOKUP(A10,'Gruber Tabelle'!$A$6:$V$354,13,0),0)","v":0},{"$f":"IFERROR(VLOOKUP(A10,'Gruber Tabelle'!$A$6:$V$354,14,0),0)","v":0},{"$f":"IFERROR(VLOOKUP(A10,'Gruber Tabelle'!$A$6:$V$354,15,0),0)","v":0},{"$f":"IFERROR(VLOOKUP(A10,'Gruber Tabelle'!$A$6:$V$354,16,0),0)","v":0},{"$f":"IFERROR(VLOOKUP(A10,'Gruber Tabelle'!$A$6:$V$354,17,0),0)","v":0},{"$f":"IFERROR(VLOOKUP(A10,'Gruber Tabelle'!$A$6:$V$354,18,0),0)","v":0},{"$f":"IFERROR(VLOOKUP(A10,'Gruber Tabelle'!$A$6:$V$354,19,0),0)","v":0},{"$f":"IFERROR(VLOOKUP(A10,'Gruber Tabelle'!$A$6:$V$354,20,0),0)","v":0},{"$f":"IFERROR(VLOOKUP(A10,'Gruber Tabelle'!$A$6:$V$354,21,0),0)","v":0},{"$f":"IFERROR(VLOOKUP(A10,'Gruber Tabelle'!$A$6:$AC$354,23,0),0)","v":0},{"$f":"IFERROR(VLOOKUP(A10,'Gruber Tabelle'!$A$6:$AC$354,24,0),0)","v":0},{"$f":"IFERROR(VLOOKUP(A10,'Gruber Tabelle'!$A$6:$AC$354,25,0),0)","v":0},{"$f":"IFERROR(VLOOKUP(A10,'Gruber Tabelle'!$A$6:$AC$354,26,0),0)","v":0},{"$f":"IFERROR(VLOOKUP(A10,'Gruber Tabelle'!$A$6:$AC$354,27,0),0)","v":0},{"$f":"IFERROR(VLOOKUP(A10,'Gruber Tabelle'!$A$6:$AC$354,28,0),0)","v":0},{"$f":"IFERROR(VLOOKUP(A10,'Gruber Tabelle'!$A$6:$AC$354,29,0),0)","v":0}]
[null,{"$f":"IFERROR(VLOOKUP(A11,'Gruber Tabelle'!$A$6:$V$354,2,0),0)","v":0},null,null,null,null,{"$f":"IFERROR(VLOOKUP(A11,'Gruber Tabelle'!$A$6:$V$354,5,0),0)","v":0},{"$f":"IFERROR(VLOOKUP(A11,'Gruber Tabelle'!$A$6:$V$354,7,0),0)","v":0},{"$f":"IFERROR(VLOOKUP(A11,'Gruber Tabelle'!$A$6:$V$354,8,0),0)","v":0},{"$f":"IFERROR(VLOOKUP(A11,'Gruber Tabelle'!$A$6:$V$354,12,0),0)","v":0},{"$f":"IFERROR(VLOOKUP(A11,'Gruber Tabelle'!$A$6:$V$354,13,0),0)","v":0},{"$f":"IFERROR(VLOOKUP(A11,'Gruber Tabelle'!$A$6:$V$354,14,0),0)","v":0},{"$f":"IFERROR(VLOOKUP(A11,'Gruber Tabelle'!$A$6:$V$354,15,0),0)","v":0},{"$f":"IFERROR(VLOOKUP(A11,'Gruber Tabelle'!$A$6:$V$354,16,0),0)","v":0},{"$f":"IFERROR(VLOOKUP(A11,'Gruber Tabelle'!$A$6:$V$354,17,0),0)","v":0},{"$f":"IFERROR(VLOOKUP(A11,'Gruber Tabelle'!$A$6:$V$354,18,0),0)","v":0},{"$f":"IFERROR(VLOOKUP(A11,'Gruber Tabelle'!$A$6:$V$354,19,0),0)","v":0},{"$f":"IFERROR(VLOOKUP(A11,'Gruber Tabelle'!$A$6:$V$354,20,0),0)","v":0},{"$f":"IFERROR(VLOOKUP(A11,'Gruber Tabelle'!$A$6:$V$354,21,0),0)","v":0},{"$f":"IFERROR(VLOOKUP(A11,'Gruber Tabelle'!$A$6:$AC$354,23,0),0)","v":0},{"$f":"IFERROR(VLOOKUP(A11,'Gruber Tabelle'!$A$6:$AC$354,24,0),0)","v":0},{"$f":"IFERROR(VLOOKUP(A11,'Gruber Tabelle'!$A$6:$AC$354,25,0),0)","v":0},{"$f":"IFERROR(VLOOKUP(A11,'Gruber Tabelle'!$A$6:$AC$354,26,0),0)","v":0},{"$f":"IFERROR(VLOOKUP(A11,'Gruber Tabelle'!$A$6:$AC$354,27,0),0)","v":0},{"$f":"IFERROR(VLOOKUP(A11,'Gruber Tabelle'!$A$6:$AC$354,28,0),0)","v":0},{"$f":"IFERROR(VLOOKUP(A11,'Gruber Tabelle'!$A$6:$AC$354,29,0),0)","v":0}]
[null,{"$f":"IFERROR(VLOOKUP(A12,'Gruber Tabelle'!$A$6:$V$354,2,0),0)","v":0},null,null,null,null,{"$f":"IFERROR(VLOOKUP(A12,'Gruber Tabelle'!$A$6:$V$354,5,0),0)","v":0},{"$f":"IFERROR(VLOOKUP(A12,'Gruber Tabelle'!$A$6:$V$354,7,0),0)","v":0},{"$f":"IFERROR(VLOOKUP(A12,'Gruber Tabelle'!$A$6:$V$354,8,0),0)","v":0},{"$f":"IFERROR(VLOOKUP(A12,'Gruber Tabelle'!$A$6:$V$354,12,0),0)","v":0},{"$f":"IFERROR(VLOOKUP(A12,'Gruber Tabelle'!$A$6:$V$354,13,0),0)","v":0},{"$f":"IFERROR(VLOOKUP(A12,'Gruber Tabelle'!$A$6:$V$354,14,0),0)","v":0},{"$f":"IFERROR(VLOOKUP(A12,'Gruber Tabelle'!$A$6:$V$354,15,0),0)","v":0},{"$f":"IFERROR(VLOOKUP(A12,'Gruber Tabelle'!$A$6:$V$354,16,0),0)","v":0},{"$f":"IFERROR(VLOOKUP(A12,'Gruber Tabelle'!$A$6:$V$354,17,0),0)","v":0},{"$f":"IFERROR(VLOOKUP(A12,'Gruber Tabelle'!$A$6:$V$354,18,0),0)","v":0},{"$f":"IFERROR(VLOOKUP(A12,'Gruber Tabelle'!$A$6:$V$354,19,0),0)","v":0},{"$f":"IFERROR(VLOOKUP(A12,'Gruber Tabelle'!$A$6:$V$354,20,0),0)","v":0},{"$f":"IFERROR(VLOOKUP(A12,'Gruber Tabelle'!$A$6:$V$354,21,0),0)","v":0},{"$f":"IFERROR(VLOOKUP(A12,'Gruber Tabelle'!$A$6:$AC$354,23,0),0)","v":0},{"$f":"IFERROR(VLOOKUP(A12,'Gruber Tabelle'!$A$6:$AC$354,24,0),0)","v":0},{"$f":"IFERROR(VLOOKUP(A12,'Gruber Tabelle'!$A$6:$AC$354,25,0),0)","v":0},{"$f":"IFERROR(VLOOKUP(A12,'Gruber Tabelle'!$A$6:$AC$354,26,0),0)","v":0},{"$f":"IFERROR(VLOOKUP(A12,'Gruber Tabelle'!$A$6:$AC$354,27,0),0)","v":0},{"$f":"IFERROR(VLOOKUP(A12,'Gruber Tabelle'!$A$6:$AC$354,28,0),0)","v":0},{"$f":"IFERROR(VLOOKUP(A12,'Gruber Tabelle'!$A$6:$AC$354,29,0),0)","v":0}]
[null,{"$f":"IFERROR(VLOOKUP(A13,'Gruber Tabelle'!$A$6:$V$354,2,0),0)","v":0},null,null,null,null,{"$f":"IFERROR(VLOOKUP(A13,'Gruber Tabelle'!$A$6:$V$354,5,0),0)","v":0},{"$f":"IFERROR(VLOOKUP(A13,'Gruber Tabelle'!$A$6:$V$354,7,0),0)","v":0},{"$f":"IFERROR(VLOOKUP(A13,'Gruber Tabelle'!$A$6:$V$354,8,0),0)","v":0},{"$f":"IFERROR(VLOOKUP(A13,'Gruber Tabelle'!$A$6:$V$354,12,0),0)","v":0},{"$f":"IFERROR(VLOOKUP(A13,'Gruber Tabelle'!$A$6:$V$354,13,0),0)","v":0},{"$f":"IFERROR(VLOOKUP(A13,'Gruber Tabelle'!$A$6:$V$354,14,0),0)","v":0},{"$f":"IFERROR(VLOOKUP(A13,'Gruber Tabelle'!$A$6:$V$354,15,0),0)","v":0},{"$f":"IFERROR(VLOOKUP(A13,'Gruber Tabelle'!$A$6:$V$354,16,0),0)","v":0},{"$f":"IFERROR(VLOOKUP(A13,'Gruber Tabelle'!$A$6:$V$354,17,0),0)","v":0},{"$f":"IFERROR(VLOOKUP(A13,'Gruber Tabelle'!$A$6:$V$354,18,0),0)","v":0},{"$f":"IFERROR(VLOOKUP(A13,'Gruber Tabelle'!$A$6:$V$354,19,0),0)","v":0},{"$f":"IFERROR(VLOOKUP(A13,'Gruber Tabelle'!$A$6:$V$354,20,0),0)","v":0},{"$f":"IFERROR(VLOOKUP(A13,'Gruber Tabelle'!$A$6:$V$354,21,0),0)","v":0},{"$f":"IFERROR(VLOOKUP(A13,'Gruber Tabelle'!$A$6:$AC$354,23,0),0)","v":0},{"$f":"IFERROR(VLOOKUP(A13,'Gruber Tabelle'!$A$6:$AC$354,24,0),0)","v":0},{"$f":"IFERROR(VLOOKUP(A13,'Gruber Tabelle'!$A$6:$AC$354,25,0),0)","v":0},{"$f":"IFERROR(VLOOKUP(A13,'Gruber Tabelle'!$A$6:$AC$354,26,0),0)","v":0},{"$f":"IFERROR(VLOOKUP(A13,'Gruber Tabelle'!$A$6:$AC$354,27,0),0)","v":0},{"$f":"IFERROR(VLOOKUP(A13,'Gruber Tabelle'!$A$6:$AC$354,28,0),0)","v":0},{"$f":"IFERROR(VLOOKUP(A13,'Gruber Tabelle'!$A$6:$AC$354,29,0),0)","v":0}]
["Nr ","Futterart","Mischungs- Anteil in %","TM %","TM kg","FM kg","aNDFom g","CP g","nXP g","ME Mj","ST+ZU","bST","CL g","Ca","P","Mg","Na","K","Preis","Fe","Cu","Zn","Mn","Co","J","Se"]
[{"$f":"A4","v":0},{"$f":"IFERROR(VLOOKUP(A15,'Gruber Tabelle'!$A$6:$V$354,2,0),0)","v":0},null,{"$f":"IFERROR(VLOOKUP(A4,'Gruber Tabelle'!$A$6:$V$354,3,0)/1000,0)","v":0},{"$f":"IF(C15>0,F15*D15,\"\")","v":""},{"$f":"IF(C15>0,(1*C15),0)","v":0},{"$f":"IF(G4>0,(G4*C15)*D15,\" \")","v":" "},{"$f":"IF(H4>0,(H4*C15)*D15,\" \")","v":" "},{"$f":"IF(14>0,(I4*C15)*D15,\" \")","v":0},{"$f":"IF(J4>0,(J4*C15)*D15,\" \")","v":" "},{"$f":"IF(K4>0,(K4*C15)*D15,\" \")","v":" "},{"$f":"IF(L4>0,(L4*C15)*D15,\" \")","v":" "},{"$f":"IF(M4>0,(M4*C15)*D15,\" \")","v":" "},{"$f":"IF(N4>0,(N4*C15)*D15,\" \")","v":" "},{"$f":"IF(O4>0,(O4*C15)*D15,\" \")","v":" "},{"$f":"IF(P4>0,(P4*C15)*D15,\" \")","v":" "},{"$f":"IF(Q4>0,(Q4*C15)*D15,\" \")","v":" "},{"$f":"IF(R4>0,(R4*C15)*D15,\" \")","v":" "},{"$f":"IF(S4>0,(S4*C15)/100,0)","v":0},{"$f":"IF(T4>0,(T4*C15)*D15,\"\")","v":""},{"$f":"IF(U4>0,(U4*C15)*D15,\"\")","v":""},{"$f":"IF(V4>0,(V4*C15)*D15,\"\")","v":""},{"$f":"IF(W4>0,(W4*C15)*D15,\"\")","v":""},{"$f":"IF(X4>0,(X4*C15)*D15,\"\")","v":""},{"$f":"IF(Y4>0,(Y4*C15)*D15,\"\")","v":""},{"$f":"IF(Z4>0,(Z4*C15)*D15,\"\")","v":""}]
[0,{"$f":"IFERROR(VLOOKUP(A16,'Gruber Tabelle'!$A$6:$V$354,2,0),0)","v":0},null,{"$f":"IFERROR(VLOOKUP(A5,'Gruber Tabelle'!$A$6:$V$354,3,0)/1000,0)","v":0},{"$f":"IF(C16>0,F16*D16,\"\")","v":""},{"$f":"IF(C16>0,(1*C16),0)","v":0},{"$f":"IF(G5>0,(G5*C16)*D16,\" \")","v":" "}," ",{"$f":"IF(14>0,(I5*C16)*D16,\" \")","v":0}," "," "," "," "," "," "," "," "," ",0,"","","","","","",""]
[0,{"$f":"IFERROR(VLOOKUP(A17,'Gruber Tabelle'!$A$6:$V$354,2,0),0)","v":0},null,{"$f":"IFERROR(VLOOKUP(A6,'Gruber Tabelle'!$A$6:$V$354,3,0)/1000,0)","v":0},"",0," "," ",0," "," "," "," "," "," "," "," "," ",0,"","","","","","",""]
[0,{"$f":"IFERROR(VLOOKUP(A18,'Gruber Tabelle'!$A$6:$V$354,2,0),0)","v":0},null,{"$f":"IFERROR(VLOOKUP(A7,'Gruber Tabelle'!$A$6:$V$354,3,0)/1000,0)","v":0},"",0," "," ",0," "," "," "," "," "," "," "," "," ",0,"","","","","","",""]
[0,{"$f":"IFERROR(VLOOKUP(A19,'Gruber Tabelle'!$A$6:$V$354,2,0),0)","v":0},null,{"$f":"IFERROR(VLOOKUP(A8,'Gruber Tabelle'!$A$6:$V$354,3,0)/1000,0)","v":0},"",0," "," ",0," "," "," "," "," "," "," "," "," ",0,"","","","","","",""]
[0,{"$f":"IFERROR(VLOOKUP(A20,'Gruber Tabelle'!$A$6:$V$354,2,0),0)","v":0},null,{"$f":"IFERROR(VLOOKUP(A9,'Gruber Tabelle'!$A$6:$V$354,3,0)/1000,0)","v":0},"",0," "," ",0," "," "," "," "," "," "," "," "," ",0,"","","","","","",""]
[0,{"$f":"IFERROR(VLOOKUP(A21,'Gruber Tabelle'!$A$6:$V$354,2,0),0)","v":0},null,{"$f":"IFERROR(VLOOKUP(A10,'Gruber Tabelle'!$A$6:$V$354,3,0)/1000,0)","v":0},"",0," "," ",0," "," "," "," "," "," "," "," "," ",0,"","","","","","",""]
[0,{"$f":"IFERROR(VLOOKUP(A22,'Gruber Tabelle'!$A$6:$V$354,2,0),0)","v":0},null,{"$f":"IFERROR(VLOOKUP(A11,'Gruber Tabelle'!$A$6:$V$354,3,0)/1000,0)","v":0},"",0," "," ",0," "," "," "," "," "," "," "," "," ",0,"","","","","","",""]
[0,{"$f":"IFERROR(VLOOKUP(A23,'Gruber Tabelle'!$A$6:$V$354,2,0),0)","v":0},null,{"$f":"IFERROR(VLOOKUP(A12,'Gruber Tabelle'!$A$6:$V$354,3,0)/1000,0)","v":0},"",0," "," ",0," "," "," "," "," "," "," "," "," ",0,"","","","","","",""]
[0,{"$f":"IFERROR(VLOOKUP(A24,'Gruber Tabelle'!$A$6:$V$354,2,0),0)","v":0},null,{"$f":"IFERROR(VLOOKUP(A13,'Gruber Tabelle'!$A$6:$V$354,3,0)/1000,0)","v":0},"",0," "," ",0," "," "," "," "," "," "," "," "," ",0,"","","","","","",""]
["Summe je kg Frischmasse ( FM )",null,{"$f":"SUM(C15:C24)","v":0},null,{"$f":"SUM(E15:E24)","v":0},{"$f":"SUM(F15:F24)","v":0},{"$f":"SUM(G15:G24)","v":0},0,0,0,0,0,{"$f":"SUM(M15:M24)","v":0},0,0,0,0,0,0,{"$f":"SUM(T15:T24)","v":0},{"$f":"SUM(U15:U24)","v":0},0,0,0,0,0]
[{"$f":"E25*D25","v":0}]

{"sheet":"Gruber Tabelle","index":5,"n_rows":353,"n_cols":29,"rows_kept":353,"cut":false,"hidden":false,"merged":[[1,22,1,28],[2,22,2,28],[0,0,0,1],[3,21,4,21],[1,2,1,21],[2,2,2,19]]}
["Ration"]
[null,null,"www.LfL.bayern.de         Gruber Tabelle zur Fütterung in der Rindermast      - Fresser - Mastfärsen - Bullen - Mastkühe - Ochsen"]
[null,null,"in 1000 g Trockenmasse TM",null,null,null,null,null,null,null,null,null,null,null,null,null,null,null,null,null,"Preis","Typ","Spurenelemente mg / kg TM"]
[null,null,"TM","XF","aNDFom","ADFom","CP","nXP","UDP","RNB","NEL","ME","ST+ZU","bST","CL","Ca","P","Mg","Na","K","FM",null,"Fe","Cu","Zn","Mn","Co","J","Se"]
[null,null,"g","g","  g","g","g","g","%","g","MJ","MJ","g","g","g","g","g","g","g","g","€ / dt",null,"mg","mg","mg","mg","mg","mg","mg"]
[null,"10.1 Grünfutter",null,null,null,null,null,null,null,{"$f":"(G6-H6)/6.25","v":0}]
[null,"Wiesengras 1. Schnitt",null,null,null,null,null,null,null,0]
[1013,"Wiesengras, 1.Schnitt, im Blattstadium",175,170,433,209,228,152,10,12.16,7.06,12.87,100,null,33,6.9,3.8,2.4,0.9,31.5,null,"GF"]
[1014,"Wiesengras, 1.Schnitt, im Schossen",180,205,439,222,192,144,10,7.68,6.7,12.13,100,null,32,6.7,3.6,2.4,0.84,31.1,null,"GF",200,8.5,40,70,0.1,0.4,0.02]
[1015,"Wiesengras, 1.Schnitt",185,240,457,241,167,142,15,4,6.33,11.48,100,null,30,6.5,3.4,2.2000000000000002,0.66,29.6,null,"GF"]
[1016,"Wiesengras, 1.Schnitt, Beginn Blüte",190,278,486,260,146,133,15,2.08,5.93,10.8,70,null,28,6.4,3.3,2.1,0.54,28.8,null,"GF",200,7,35,75,0.1,0.4,0.02]
[1017,"Wiesengras, 1.Schnitt, Ende Blüte",200,312,515,281,120,127,15,-1.1200000000000001,5.67,9.9700000000000006,60,null,25,6,3.1,2,0.46,27.6,null,"GF",200,6.5,23,85,0.1,0.4,0.01]
[1018,null,null,null,null,null,null,null,null,0,null,null,null,null,null,null,null,null,null,null,null,"GF"]
[null,"Wiesengras 2. u. folg. Schnitte",null,null,null,null,null,null,null,0]
[1023,"Wiesengras, 2.und FolgeSchn., im Blattst.",200,165,488,270,179,149,10,4.8,6.74,11.68,100,null,40,7.6,3.7,2.8,0.89,29,null,"GF",200,9,40,80,0.1,0.4,0.04]
[1024,"Wiesengras, 2.und FolgeSchn., im Scho.",200,205,491,275,159,136,10,3.68,6.28,11.18,100,null,37,7.6,3.5,2.8,0.79,28,null,"GF",200,10,40,80,0.1,0.4,0.04]
[1025,"Wiesengras. 2.Schnitt",200,240,510,285,144,137,15,1.1200000000000001,6.02,10.56,100,null,35,7.3,3.4,2.6,0.62,27.4,null,"GF",200,7.5,40,75,0.1,0.4,0.03]
[1026,"Wiesengras, 2.und FolgeSchn. Beg. Blüte",200,275,537,304,124,130,15,-0.96,5.78,9.9499999999999993,100,null,31,6.9,3.2,2.4,0.55000000000000004,25.6,null,"GF",200,7,40,70,0.1,0.4,0.02]
[1027,null,null,null,null,null,null,null,null,0,null,null,null,null,null,null,null,null,null,null,null,"GF"]
[null,"Rotklee 1. Schnitt",null,null,null,null,null,null,null,0]
[1614,"Rotklee, 1.Schnitt, vor der Knospe",140,192,355,275,261,155,20,16.96,6.37,10.36,70,null,34,10,3.7,2.5,0.5,32,null,"GF",150,11,40,42,0.1,0.4,0.1]
[1615,"Rotklee, 1.Schnitt",155,240,385,305,219,142,20,12.32,5.89,10.01,80,null,28,10,3.7,2.5,0.5,32,null,"GF",150,11,44,40,0.1,0.4,0.1]
[1616,"Rotklee, 1.Schnitt, Beginn Blüte",160,282,425,345,166,131,20,5.6,5.47,9.56,80,null,24,10,3.7,2.5,0.5,32,null,"GF",150,10,44,40,0.4,0.1,0.1]
[1617,null,null,null,null,null,null,null,null,0,null,null,null,null,null,null,null,null,null,null,null,"GF"]
[null,"Rotklee 2. u. folg. Schnitte",null,null,null,null,null,null,null,0]
[1624,"Rotklee, 2.und FolgeSchn., v. der Knospe",170,201,370,290,235,152,20,13.28,6.03,9.65,80,null,29,14,3.9,3,0.5,35,null,"GF",150,10,47,45,0.1,0.4,0.1]
[1625,"Rotklee, ab 2.Schnitt",190,238,410,330,211,140,20,11.36,5.65,9.14,70,null,27,14,3.9,3,0.5,35,null,"GF",150,12,44,42,0.1,0.4,0.1]
[1626,"Rotklee, 2.und FolgeSchnitte, Beginn Blüte",210,274,450,370,164,130,20,5.44,5.31,8.57,80,null,25,14,3.9,3,0.5,35,null,"GF",150,10,44,40,0.1,0.4,0.1]
[1627,null,null,null,null,null,null,null,null,0,null,null,null,null,null,null,null,null,null,null,null,"GF"]
[null,"Kleegras  1. Schnitt",null,null,null,null,null,null,null,0]
[1633,"KleeGras, 1.Schnitt, vor der Knospe",150,185,380,220,200,156,15,7.04,6.73,11.52,80,null,29,8.3000000000000007,3.9,2.7,0.6,35.1,null,"GF",200,9,50,60,0.1,0.4,0.02]
[1634,"KleeGras, 1.Schnitt, in der Knospe",160,222,410,250,180,149,15,4.96,6.37,11.07,80,null,28,8.3000000000000007,3.8,2.2000000000000002,0.6,33,null,"GF",200,9,50,60,0.1,0.4,0.02]
[1636,"KleeGras, 1.Schnitt, in der Blüte",200,295,470,310,140,136,20,0.64,5.63,10.18,80,null,23,8.3000000000000007,3.3,1.9,0.6,29,null,"GF",200,8,50,70,0.1,0.4,0.02]
[1637,null,null,null,null,null,null,null,null,0,null,null,null,null,null,null,null,null,null,null,null,"GF"]
[null,"Kleegras 2. u. folg. Schnitte",null,null,null,null,null,null,null,0]
[1644,"KleeGras, 2.und FolgeSchn. v. der Knospe",150,205,430,283,220,146,15,11.84,6.18,9.86,70,null,29,9.4,3.9,2.8,0.39,36.4,null,"GF",200,9,55,60,0.1,0.4,0.02]
[1645,"KleeGras, 2. Schnitt",175,240,466,306,180,140,15,6.4,5.9,9.7200000000000006,70,null,28,9.4,3.9,2.7,0.38,32.4,null,"GF",200,9,55,55,0.1,0.4,0.02]
[1646,"KleeGras, 2.und FolgeSchn. Beg. Blüte",190,280,509,328,150,134,20,2.56,5.47,9.68,70,null,25,9.4,3.9,2.2999999999999998,0.43,31,null,"GF",200,8,55,50,0.1,0.4,0.02]
[1647,null,null,null,null,null,null,null,null,0,null,null,null,null,null,null,null,null,null,null,null,"GF"]
[1655,"Juraklee- Gras",170,245,500,290,185,139,15,7.36,6.03,10.41,50,null,30,10,3.7,1.9,0.8,35,null,"GF",200,9,50,60,0.1,0.4,0.1]
[1656,null,null,null,null,null,null,null,null,0,null,null,null,null,null,null,null,null,null,null,null,"GF"]
[null,"Luzerne 1.Schnitt",null,null,null,null,null,null,null,0]
[1714,"Luzerne, 1.Schnitt, in der Knospe",150,228,368,310,236,139,15,15.52,5.74,9.91,15,null,26,16,3.8,3.1,0.5,32,null,"GF",150,10,33,34,0.2,0.3,0.1]
[1715,"Luzerne, 1.Schnitt",180,276,400,320,203,137,20,10.56,5.45,9.8699999999999992,25,null,23,14.5,3.5,2.8,0.5,31,null,"GF",150,11,24,37,0.2,0.3,0.1]
[1716,"Luzerne, 1.Schnitt, Ende Blüte",210,325,465,350,160,132,25,4.4800000000000004,5,9.5299999999999994,54,null,22,13,3,2.5,0.5,30,null,"GF",150,10,30,35,0.2,0.3,0.1]
[1717,null,null,null,null,null,null,null,null,0,null,null,null,null,null,null,null,null,null,null,null,"GF"]
[null,"Luzerne 2. u. folg. Schnitte",null,null,null,null,null,null,null,0]
[1724,"Luzerne, 2.und FolgeSchn. in der Knospe",180,231,357,264,244,141,15,16.48,5.79,10.02,40,null,27,16,4.0999999999999996,3.2,0.5,31,null,"GF",150,12,20,36,0.2,0.3,0.1]
[1725,"Luzerne ab 2.Schnitt",195,277,421,331,208,139,20,11.04,5.44,8.98,35,null,24,15,3.7,2.8,0.5,30,null,"GF",150,12,24,45,0.2,0.3,0.1]
[1726,"Luzerne 2.und FolgeSchnitte, Ende Blüte",210,331,473,379,177,130,20,7.52,4.97,8.35,35,null,22,14,3.4,2.2000000000000002,0.5,29,null,"GF",150,10,30,40,0.2,0.3,0.1]
[1727,null,null,null,null,null,null,null,null,0,null,null,null,null,null,null,null,null,null,null,null,"GF"]
[null,"Luzernegras 1. Schnitt",null,null,null,null,null,null,null,0]
[1734,"LuzerneGras, 1.Schnitt, vor der Knospe",160,225,385,238,195,144,15,8.16,6.17,11.29,9,null,25,10.4,3.9,2.2000000000000002,0.57999999999999996,32.9,null,"GF",200,8,40,60,0.1,0.4,0.05]
[1735,"LuzerneGras, 1.Schnitt",170,265,432,288,183,135,15,7.68,5.83,10.52,29,null,25,8.9,3.6,2.2000000000000002,0.26,32,null,"GF",200,8,40,60,0.1,0.4,0.05]
[1736,"LuzerneGras, 1.Schnitt, in der Blüte",180,305,503,346,161,125,15,5.76,5.39,9.58,70,null,24,8.6999999999999993,3.5,2.2000000000000002,0.13,28.3,null,"GF",200,8,40,60,0.1,0.4,0.05]
[1737,null,null,null,null,null,null,null,null,0,null,null,null,null,null,null,null,null,null,null,null,"GF"]
[null,"Luzernegras 2. u. folg. Schnitte",null,null,null,null,null,null,null,0]
[1744,"LuzerneGras, 2.u. FolgeSchn. in d. Knospe",190,225,381,256,229,142,15,13.92,5.92,10.26,9,null,29,14.5,4.2,3.1,0.43,33.1,null,"GF",200,9,40,50,0.1,0.4,0.08]
[1745,"LuzerneGras, ab 2.Schnitt",195,260,431,307,196,136,15,9.6,5.7,9.58,29,null,27,14.5,3.6,2.8,0.4,31.1,null,"GF",200,8,40,50,0.1,0.4,0.08]
[1746,"LuzerneGras, 2.u. FolgeSchn. in d. Blüte",200,300,485,367,177,128,15,7.84,5.39,8.61,70,null,24,14.5,3.3,2.6,0.4,29,null,"GF",200,7,40,50,0.1,0.4,0.08]
[1747,null,null,null,null,null,null,null,null,0,null,null,null,null,null,null,null,null,null,null,null,"GF"]
[1665,"Alexandrinerklee",125,237,485,285,200,149,25,8.16,5.65,10.08,80,null,43,16,3.9,3.2,1.3,33,null,"GF",150,9,55,60,0.1,0.4,0.1]
[1685,"Perserklee",118,218,455,265,203,143,20,9.6,5.71,10.1,80,null,24,16,3.5,2,1.35,28,null,"GF",150,9,50,60,0.1,0.4,0.1]
[null,"Weidelgras 1. Schnitt",null,null,null,null,null,null,null,0]
[1814,"Weidelgras, 1.Schnitt, im Schossen",170,200,420,200,171,151,15,3.2,6.77,12.17,150,null,31,5.5,3.8,1.8,0.4,36.700000000000003,null,"GF",150,9,40,80,0.1,0.4,0.1]
[1815,"Weidelgras, 1.Schnitt",180,235,480,260,145,140,15,0.8,6.33,11.01,150,null,27,5.5,3.3,1.8,0.39,33,null,"GF",150,80,40,60,0.1,0.4,0.1]
[1816,"Weidelgras, 1.Schnitt, Beginn Blüte",190,290,530,310,110,123,15,-2.08,5.63,9.75,150,null,24,5.5,3.2,1.8,0.37,32.200000000000003,null,"GF",150,80,40,60,0.1,0.4,0.1]
[1817,null,null,null,null,null,null,null,null,0,null,null,null,null,null,null,null,null,null,null,null,"GF"]
[null,"Weidelgras 2. u. folg. Schnitte",null,null,null,null,null,null,null,0]
[1824,"Weidelgras, 2.u. FolgeSchn. im Schossen",180,200,447,218,195,141,15,{"$f":"(G70-H70)/6.25","v":8.64},6.09,12.56,150,null,43,5.5,3.8,1.8,0.4,36.700000000000003,null,"GF",150,9,60,70,0.1,0.4,0.1]
[1825,"Weidelgras, ab 2.Schnitt",190,240,496,251,175,135,15,6.4,5.88,11.35,150,null,38,5.5,3.3,1.8,0.4,33,null,"GF",150,8,50,60,0.1,0.4,0.1]
[1826,"Weidelgras, 2.und FolgeSchn. Beg. Blüte",200,285,538,311,160,125,15,5.6,5.56,10.3,150,null,32,5.5,3.2,1.8,0.4,32.200000000000003,null,"GF",150,8,50,60,0.1,0.4,0.1]
[1827,null,null,null,null,null,null,null,null,0,null,null,null,null,null,null,null,null,null,null,null,"GF"]
[1865,"Landsberger Gemenge",190,220,442,254,190,140,15,8,6.01,10.98,80,null,26,7.3,3,1.7,0.45,26,null,"GF",150,8,50,80,0.1,0.4,0.1]
[1866,"LandsbergerGemenge, Beginn Blüte",190,271,535,315,161,127,15,5.44,5.52,10.09,80,null,28,6,3,1.6,0.45,25,null,"GF",150,8,40,60,0.1,0.4,0.1]
[1867,null,null,null,null,null,null,null,null,0,null,null,null,null,null,null,null,null,null,null,null,"GF"]
[1125,"GrünGerste",290,260,580,320,108,146,20,-6.08,6.65,10.3,197,10,25,4.8,2.6,1.5,0.28999999999999998,23.8,null,"GF",200,8,40,50,0.1,0.4,0.02]
[null,"Grünhafer",null,null,null,null,null,null,null,0]
[1144,null,null,null,null,null,null,null,null,0,null,null,null,null,null,null,null,null,null,null,null,"GF"]
[1145,"GrünHafer",290,260,530,340,111,135,15,-3.84,6.26,10.17,150,null,32,5.7,3.4,2.2000000000000002,0.71,27,null,"GF",200,8,40,50,0.1,0.4,0.02]
[1146,null,null,null,null,null,null,null,null,0,null,null,null,null,null,null,null,null,null,null,null,"GF"]
[1164,"Grünroggen im Schossen",220,230,460,270,185,152,15,5.28,6.94,11.33,120,null,41,7.5,6.6,1.6,1,28,null,"GF"]
[1165,"GrünRoggen",260,285,520,330,115,138,15,-3.68,6.34,10.17,120,null,32,4.3,3.7,1.6,0.33,30.2,null,"GF",200,8,40,50,0.1,0.4,0.02]
[1166,null,null,null,null,null,null,null,null,0,null,null,null,null,null,null,null,null,null,null,null,"GF"]
[1305,"Ackerbohnen, grün",200,306,506,386,150,121,10,4.6399999999999997,5.34,10.82,40,null,20,15.5,3.5,3.3,2,23,null,"GF",200,9,50,60,0.1,0.4,0.1]
[null,"Hülsenfruchtgemenge",null,null,null,null,null,null,null,0]
[1314,"Knospe",120,217,455,265,204,141,15,10.08,6,10.029999999999999,40,null,40,7,4,1.8,0.4,30,null,"GF",200,9,50,60,0.1,0.4,0.1]
[1315,"Hülsenfrucht Gemenge",200,260,607,330,120,133,15,-2.08,5.72,11.13,40,null,22,7,4,1.8,0.4,30,null,"GF",200,9,50,60,0.1,0.4,0.1]
[1316,"Ende der Blüte",200,300,610,355,160,124,15,5.76,5.28,9.06,40,null,30,7,4,2,0.3,28,null,"GF",200,9,50,60,0.1,0.4,0.1]
[1317,null,null,null,null,null,null,null,null,0,null,null,null,null,null,null,null,null,null,null,null,"GF"]
[null,"Erbs-Wick-Gemenge ",null,null,null,null,null,null,null,0]
[1334,"Knospe",120,205,425,250,200,146,15,8.64,6.36,10.54,40,null,40,9.5,5,2.2999999999999998,0.3,30,null,"GF",200,9,50,60,0.1,0.4,0.1]
[1335,"Erbs- Wick- Gemenge",180,245,571,342,169,138,15,4.96,6.06,11.54,40,null,28,7.7,4.8,2,0.28999999999999998,28.5,null,"GF",200,9,50,60,0.1,0.4,0.1]
[1336,"Ende der Blüte",180,280,550,320,165,130,15,5.6,5.64,9.57,40,null,30,8,4,1.4,0.3,30,null,"GF",200,9,50,60,0.1,0.4,0.1]
[1337,null,null,null,null,null,null,null,null,0,null,null,null,null,null,null,null,null,null,null,null,"GF"]
[1355,"Hülsenfrüchte- Sonnenblumen- Gemenge",240,250,575,461,130,133,15,-0.48,5.89,10.54,30,null,22,0,0,0,0,0,null,"GF",200,9,35,60,0.1,0.4,0.1]
[1455,"Sonnenblumen, grün",190,220,430,290,120,122,15,-0.32,5.45,10.25,126,null,50,0,0,0,0,0,null,"GF",200,8,50,60,0.1,0.4,0.1]
[1424,"Raps, grün, jung, blattreich",120,130,367,209,180,153,15,4.32,6.76,11.41,110,null,41,17,4.5,2.6,1.3,32,null,"GF",200,7,22,95,0.1,0.4,0.1]
[1425,"Raps, grün",180,160,435,283,150,143,15,1.1200000000000001,6.31,11.27,80,null,37,19,5,2.6,1.4,32,null,"GF",200,0.7,22,95,0.1,0.4,0.1]
[1435,"Perko, grün",100,127,320,190,216,145,15,11.36,6.27,10.58,110,null,38,13,6,1.2,1.1000000000000001,30,null,"GF",200,8,50,60,0.1,0.4,0.1]
[1436,null,null,null,null,null,null,null,null,0,null,null,null,null,null,null,null,null,null,null,null,"GF"]
[1444,"Rübsen, jung, blattreich",110,107,290,170,180,148,15,5.12,6.84,11.02,90,null,42,16,3.6,2.4,0.9,30,null,"GF",200,8,50,60,0.1,0.4,0.1]
[1445,"Rübsen, grün",120,146,350,205,189,146,15,6.88,6.62,11.04,70,null,37,16,4.5999999999999996,2.7,1.4,30,null,"GF",200,8,50,60,0.1,0.4,0.1]
[1465,"Senf, grün",140,210,430,250,215,138,15,12.32,5.74,10.96,110,null,26,15.5,4,3.4,0,25,null,"GF",200,8,50,60,0.1,0.4,0.1]
[1505,"Zuckerrübenblatt, sauber",160,109,295,175,160,139,15,3.36,6.44,10.72,220,null,21,12.4,2.5,4.8,9.5,35,null,"GF",250,11.5,72,179,0.4,0.8,0.1]
[1555,"Futterrübenblatt, sauber",120,114,300,180,138,126,15,1.92,5.86,9.83,100,null,22,20,2.5,6.1,6.1,45,null,"GF",250,8.3000000000000007,50,130,0.3,0.8,0.1]
[1885,"SudanGras",230,280,681,408,81,116,15,-5.6,5.36,11.32,60,null,18,5.2,2.2999999999999998,2,0.21,16.100000000000001,null,"GF",200,6.5,25,85,0.1,0.4,0.01]
[null,"Grünmais",null,null,null,null,null,null,null,0]
[1203,"GrünMais, in der Kolbenbildung",200,265,501,284,82,130,25,-7.68,6.35,10.31,210,9,17,3,2.2000000000000002,1.7,0.2,12.1,null,"GF"]
[1204,"GrünMais, in der Milchreife",225,230,475,266,76,132,25,-8.9600000000000009,6.54,10.61,260,28,20,2.9,2.2000000000000002,1.7,0.2,12.1,null,"GF",150,4.5,30,22,0.1,0.3,0.02]
[1205,"GrünMais",240,205,430,245,74,135,25,-9.76,6.77,10.94,320,46,24,2.8,2.2000000000000002,1.7,0.2,12.1,null,"GF",100,4,35,30,0.1,0.3,0.02]
[1206,"GrünMais, in der Wachsreife",340,180,390,235,80,135,25,-8.8000000000000007,6.83,11.22,390,69,28,1.9,2.6,1.27,0.4,12,null,"GF",100,4,22,30,0.1,0.3,0.02]
[null,"10.2  Silagen",null,null,null,null,null,null,null,0]
[null,"Grassilage angewelkt 1. Schnitt",null,null,null,null,null,null,null,0]
[2013,"GrasSilage, angew., 1.Schn. im Scho.",350,192,488,270,179,149,15,4.8,6.65,11.68,40,null,40,6.8,3.7,2.4,0.89,31.1,null,"GF"]
[2014,"GrasSilage, angew., 1.Schn. RispenSch.",350,224,491,275,159,143,15,2.56,6.36,11.18,25,null,37,6.7,3.5,2.2999999999999998,0.71,29.6,null,"GF",200,9,45,80,0.1,0.4,0.03]
[2015,"GrasSilage, angewelkt, 1.Schnitt",350,256,510,285,144,136,15,1.28,6.04,10.56,15,null,35,6.5,3.4,2.2000000000000002,0.59,28.8,null,"GF",200,8.5,50,85,0.1,0.4,0.03]
[2016,"GrasSilage, angew., 1.Schnitt, Mitte Blüte",350,295,537,304,124,128,15,-0.64,5.71,9.9499999999999993,10,null,31,6.1,3.2,2,0.51,27.6,null,"GF",200,8,50,90,0.1,0.4,0.03]
[2017,null,null,null,null,null,null,null,null,0,null,null,null,null,null,null,null,null,null,null,null,"GF"]
[2018,null,null,null,null,null,null,null,null,0,null,null,null,null,null,null,null,null,null,null,null,"GF"]
[null,"Grassilage angew. 2. u. f. Schnitte",null,null,null,null,null,null,null,0]
[2024,"GrasSilage, angew., 2.u. FolgeSchn. Sch.",350,190,495,270,169,141,15,4.4800000000000004,6.2,10.94,20,null,40,7.6,3.6,2.7,0.85,28.7,null,"GF",200,9,50,100,0.1,0.4,0.04]
[2025,"GrasSilage, angewelkt, 2.Schnitt",350,225,510,285,148,136,15,1.92,5.96,10.23,20,null,37,7.4,3.5,2.6,0.75,27.4,null,"GF",200,9,50,100,0.1,0.4,0.04]
[2026,"GrasSil, angew., 2.u. FolgeSch. RispenSp",350,258,535,305,128,129,15,-0.16,5.66,9.64,15,null,33,7,3.3,2.5,0.6,25.6,null,"GF",200,8.5,50,100,0.1,0.4,0.04]
[2027,null,null,null,null,null,null,null,null,0,null,null,null,null,null,null,null,null,null,null,null,"GF"]
[null,"Kleegrassilage 1. Schnitt",null,null,null,null,null,null,null,0]
[2634,"KleeGrasSilage, 1. Schnitt, in der Knospe",330,225,401,270,184,144,15,6.4,6.3,11.09,25,null,41,8.1,3.7,2.6,0.6,33.9,null,"GF",200,8,45,75,0.1,0.4,0.03]
[2635,"KleeGrasSilage, 1.Schnitt",330,260,422,283,161,135,15,4.16,5.91,10.79,20,null,37,8.1,3.6,2.5,0.6,31.4,null,"GF",200,8,40,80,0.1,0.4,0]
[2636,"KleeGrasSilage, 1.Schnitt, in der Blüte",330,300,449,295,143,132,20,1.76,5.59,10.55,10,null,35,8.1,3,2,1,31,null,"GF",200,8,45,90,0.1,0.4,0.03]
[2637,null,null,null,null,null,null,null,null,0,null,null,null,null,null,null,null,null,null,null,null,"GF"]
[null,"Kleegrassilage 2.u.folg. Schnitt",null,null,null,null,null,null,null,0]
[2644,"KleeGrasSilage, 2.u. FolgeSchn. v. d. Kno.",340,210,422,298,178,138,15,6.4,5.98,9.86,20,null,37,10.7,3.6,2.7,0.59,32.200000000000003,null,"GF",200,10,40,80,0.1,0.4,0.03]
[2645,"KleeGrasSilage, 2.Schnitt",340,245,457,316,155,133,15,3.52,5.68,9.6300000000000008,20,null,35,9.4,3.5,2.6,0.57999999999999996,30.6,null,"GF",200,10,40,80,0.1,0.4,0.03]
[2646,"KleeGrasSilage, 2.u. FolgeSchn. Beg. Bl.",340,282,483,327,130,124,15,{"$f":"(G134-H134)/6.25","v":0.96},5.28,9.4499999999999993,15,null,32,8.9,3.3,2.4,0.62,28.2,null,"GF",200,8,40,75,0.1,0.4,0.03]
[2647,null,null,null,null,null,null,null,null,0,null,null,null,null,null,null,null,null,null,null,null,"GF"]
[null,"Luzernesilage",null,null,null,null,null,null,null,0]
[2714,"LuzerneSilage, in der Knospe 1.Schnitt",350,240,374,319,190,130,15,9.6,5.45,9.94,20,null,32,16,3.5,2.9,0.5,31,null,"GF",150,8,40,80,0.2,0.3,0.03]
[2715,"LuzerneSilage, 1.Schnitt",350,280,406,330,175,130,20,7.2,5.15,9.7100000000000009,15,null,29,14.5,3.3,2.7,0.5,30,null,"GF",150,8,40,70,0.2,0.3,0.03]
[2716,"LuzerneSilage, Ende Blüte, 1.Schnitt",350,325,456,344,150,128,25,3.52,4.8099999999999996,9.4700000000000006,15,null,28,13,3.2,2.5,0.5,29,null,"GF",150,8,40,70,0.2,0.3,0.03]
[2725,"LuzerneSilage, ab 2. Schnitt",350,300,420,352,176,130,20,7.36,5.0999999999999996,8.81,15,null,29,14.7,3.2,2.5,0.5,29,null,"GF",150,8,40,80,0.2,0.3,0.03]
[null,"Luzernegrassilage",null,null,null,null,null,null,null,0]
[2734,"LuzerneGrasSilage, i. d. Knospe, 1.Schn.",350,220,408,302,186,138,15,7.68,5.95,10.3,20,null,35,13,3.4,2.6,0.5,30.9,null,"GF",200,8,50,80,0.1,0.4,0.03]
[2735,"LuzerneGras- Silage, 1.Schnitt",350,265,454,329,162,129,15,5.28,5.54,9.83,15,null,31,12,3.2,2.2999999999999998,0.4,29.2,null,"GF",200,8,50,80,0.1,0.4,0.03]
[2736,"LuzerneGrasSilage, in der Blüte, 1.Schn.",350,300,484,344,138,124,15,2.2400000000000002,5.3,9.67,10,null,29,10,2.9,2.2999999999999998,0.4,27.2,null,"GF",200,8,40,70,0.1,0.4,0.03]
[2745,"LuzerneGras- Silage, ab 2. Schnitt",350,290,447,334,172,125,15,7.52,5.28,9.02,15,null,33,12.3,3.2,2.7,0.6,28.1,null,"GF",200,7,30,70,0.1,0.4,0.03]
[null,"Weidelgrassilage",null,null,null,null,null,null,null,0]
[2814,"WeidelGrasSilage, im Schossen",350,200,384,223,170,143,15,4.32,6.48,12.57,40,null,38,5.8,3.8,1.8,0.49,36.700000000000003,null,"GF",150,9,45,80,0.1,0.4,0.03]
[2815,"Weidelgras- Silage",350,250,431,262,150,136,15,2.2400000000000002,6.13,11.45,35,null,36,5.8,3.3,1.8,0.53,33.6,null,"GF",150,9,45,80,0.1,0.4,0.03]
[2816,"WeidelGras- Silage, in der Blüte",350,300,482,304,125,125,15,0,5.62,10.1,30,null,34,5.8,3.2,1.8,0.5,32.9,null,"GF",150,9,45,80,0.1,0.4,0.03]
[2865,"Landsberger Gemenge- Silage",320,260,427,278,143,130,15,2.08,5.7,10.75,30,null,34,6.2,3.9,1.9,0.42,32.9,null,"GF",150,8,50,80,0.1,0.4,0.1]
[2866,"LandsbergerGemengeSilage, in der Blüte",350,305,585,340,135,126,15,1.44,5.68,11.07,25,null,45,6,3,1.6,0.45,28,null,"GF",150,8,40,60,0.1,0.4,0.1]
[2424,"RapsSilage, jung, blattreich,",170,142,283,239,165,148,15,2.72,6.69,10.82,5,null,38,18,3.5,2.7,0.4,25,null,"GF",200,7,22,95,0.1,0.4,0.1]
[2425,"RapsSilage",200,180,373,284,150,147,15,0.48,6.69,9.11,5,null,22,18,3.5,2.7,0.4,25,null,"GF",200,7,22,95,0.1,0.4,0.1]
[2445,"RübsenSilage",170,140,334,318,114,143,15,-4.6399999999999997,7.01,9.77,5,null,30,0,0,0,0,0,null,"GF",200,8,50,60,0.1,0.4,0.1]
[2446,null,null,null,null,null,null,null,null,0,null,null,null,null,null,null,null,null,null,null,null,"GF"]
[null,"Grünhafersilage ",null,null,null,null,null,null,null,0]
[2144,"Grnhafersilage Rispenschieben",325,260,485,302,118,132,15,-2.2400000000000002,6.34,11.12,2,null,36,5.7,3.4,2.2000000000000002,0.71,27,null,"GF",200,8,45,90,0.1,0.4,0.06]
[2145,"GrünHafer- Silage",325,295,529,338,105,124,15,-3.04,5.84,11.93,2,null,32,5.7,3.4,2.2000000000000002,0.71,27,null,"GF",200,8,45,90,0.1,0.4,0.06]
[2146,"Grünhafersilage abgeblht",325,340,583,370,101,117,20,-2.56,5.3,9.3699999999999992,2,null,29,5.7,3.4,2.2000000000000002,0.71,27,null,"GF",200,8,45,90,0.1,0.4,0.06]
[null,"Grünroggensilage",null,null,null,null,null,null,null,0]
[2164,"Grnroggensilage hrenschieben",270,260,481,295,130,139,15,-1.44,6.42,10.25,2,null,35,4.3,3.7,1.6,0.33,30.2,null,"GF",200,8,50,60,0.1,0.4,0.03]
[2165,"GrünRoggen- Silage",270,298,541,337,110,133,15,-3.68,6.11,11.24,2,null,33,4.3,3.7,1.6,0.33,30.2,null,"GF",200,8,50,60,0.1,0.4,0.03]
[2166,"Grnroggensilage abgeblht",270,340,596,378,98,125,15,-4.32,5.8,9.41,2,null,30,4.3,3.7,1.6,0.33,30.2,null,"GF",200,8,50,60,0.1,0.4,0.03]
[2167,null,null,null,null,null,null,null,null,0,null,null,null,null,null,null,null,null,null,null,null,"GF"]
[null,"GPS Gerste/Weizen",null,null,null,null,null,null,null,0]
[2134,"GPS Gerste KornArm",340,283,630,347,91,113,15,-3.52,5.16,9.5500000000000007,170,15,22,4.5,2.6,1.3,0.3,17.7,null,"GF",100,5,45,35,0.1,0.4,0.01]
[2135,"GPS Gerste",360,245,590,315,87,117,15,-4.8,5.46,9.65,220,20,23,4.3,2.6,1.3,0.3,17.7,null,"GF",100,6,50,35,0.1,0.4,0.01]
[2136,"GPS Gerste KornReich",380,215,550,294,81,121,15,-6.4,5.71,9.6999999999999993,270,25,24,4.0999999999999996,2.6,1.3,0.3,17.7,null,"GF",100,5,40,40,0.1,0.4,0.01]
[2305,"GPS Ackerbohne",310,280,373,315,163,133,15,4.8,5.69,9.5,150,24,28,15.8,3.9,4.3,0.41,27.1,null,"GF",200,11,70,40,0.1,0.4,0.02]
[2885,"SudanGras- Silage",300,310,614,380,73,113,15,-6.4,5.16,9.49,10,null,20,5.2,2.2999999999999998,2,0.23,16.100000000000001,null,"GF",200,6.5,25,85,0.1,0.4,0.01]
[null,"Maissilage",null,null,null,null,null,null,null,0]
[2203,"MaisSilage, in Kolbenbildung, 19% TM",190,292,590,315,100,132,25,-5.12,6.22,10.67,62,5,34,2.5,3,1.73,0.2,13.5,null,"GF",150,5,40,30,0.1,0.3,0.01]
[2204,"MaisSilage, in Milchreife, 24% TM",240,235,540,280,90,131,25,-6.56,6.34,10.9,190,18,30,2.2999999999999998,2.2000000000000002,1.3,0.25,12,null,"GF",100,5,40,30,0.1,0.3,0.01]
[2205,"MaisSilage, Körner mittel",300,205,465,260,84,133,25,-7.84,6.55,11.13,280,41,28,2.1,2.15,1.3,0.25,11,null,"GF",100,5,40,30,0.1,0.3,0.01]
[2206,"MaisSilage, in Wachsreife, 35% TM",350,195,398,234,76,134,25,-9.2799999999999994,6.69,11.25,305,44,30,2.7,2.2999999999999998,1.5,0.23,12,null,"GF",100,5,40,30,0.1,0.3,0.01]
[2215,"MaisSilage, körnerarm",280,230,520,280,84,130,25,-7.36,6.36,10.9,230,33,28,2.2999999999999998,2.2000000000000002,1.4,0.25,12,null,"GF",100,5,40,30,0.1,0.3,0.01]
[2216,"MaisSilage,  Wachsr. körnerarm 34% TM",350,220,430,253,77,132,25,-8.8000000000000007,6.5,10.98,250,36,27,2.8,2.2000000000000002,1.6,0.23,13.2,null,"GF",100,5,40,30,0.1,0.3,0.01]
[2225,"MaisSilage, körnerreich",330,185,458,245,82,136,25,-8.64,6.81,11.36,325,47,35,2,2.2000000000000002,1.3,0.25,10,null,"GF",100,5,40,25,0.1,0.3,0.01]
[2226,"MaisSilage, in Wachsr. körnerr. 36% TM",350,172,369,216,75,137,25,-9.92,6.94,11.47,345,50,31,2.7,2.2000000000000002,1.5,0.23,11.2,null,"GF",100,4.5,40,25,0.1,0.3,0.01]
[2227,null,null,null,null,null,null,null,null,0,null,null,null,null,null,null,null,null,null,null,null,"GF"]
[2245,"MaisSilage, Pflückhäcksel 24",400,170,365,215,80,140,25,-9.6,7.07,11.49,345,50,33,2.7,2.4,1.4,0.2,9.6999999999999993,null,"SF",100,4.5,40,20,0.1,0.3,0.01]
[2246,"MaisSilage, Pflückhäcksel 22",410,155,313,175,78,142,25,-10.24,7.25,11.97,395,57,34,2.6,2.4,1.3,0.2,8.5,null,"SF",100,4.5,40,20,0.1,0.3,0.01]
[2235,"LKS Rohfaserreich, 14% RFas",480,140,321,215,95,149,35,-8.64,7.44,11.9,455,68,36,1,2.5,1.2,0.25,6,null,"SF",100,4,40,15,0.1,0.3,0.01]
[5206,"Maiskornsilage Schrot",650,25,170,100,100,166,40,-10.56,8.65,13.6,655,162,42,0.4,3.5,1.3,0.2,4,null,"SF",32,4,30,9,0.1,0.2,0]
[5225,"CCM Kornspind.gem.",600,53,210,125,100,158,35,-9.2799999999999994,7.99,12.78,631,156,43,0.4,3.5,1.3,0.2,4,null,"SF",50,4,30,9,0.1,0.2,0]
[2505,"Zuckerrübenblatt- Silage, sauber",180,145,350,205,150,130,15,3.2,5.98,10.64,16,null,32,10,2.4,4,7,27,null,"GF",250,15,59,157,0.4,0.8,0.1]
[2555,"Futterrübenblatt- Silage",180,145,335,195,145,123,15,3.52,5.57,10.14,20,null,29,20,2.4,5,3.5,33,null,"GF",250,9,50,130,0.3,0.8,0.1]
[null,"10.3 Heu, Cobs, Grünmehl, Stroh",null,null,null,null,null,null,null,0]
[null,"Wiesenheu 1.Schnitt",null,null,null,null,null,null,null,0]
[3014,"Heu Wiese, 1.Schnitt, RispenSchieben",860,245,537,304,127,135,20,-1.28,6.08,9.99,120,null,25,6.1,3,2,0.4,26.6,null,"GF"]
[3015,"Heu Wiese, 1.Schnitt",860,282,594,346,97,125,20,-4.4800000000000004,5.65,8.5500000000000007,110,null,18,5.8,2.7,2,0.4,22.5,null,"GF",200,6,40,80,0.1,0.4,0.02]
[3016,"Heu Wiese, 1.Schnitt, in der Blüte",860,315,624,380,82,118,25,-5.76,5.27,7.75,105,null,16,5.5,2.2000000000000002,2,0.4,20.7,null,"GF",200,6,40,80,0.1,0.4,0.02]
[3017,"Heu Wiese, 1.Schnitt, abgeblüht",860,350,636,391,64,107,25,-6.88,4.84,7.32,100,null,14,5.2,2.2000000000000002,2,0.4,18.399999999999999,null,"GF",200,5,40,80,0.1,0.4,0.02]
[3018,null,null,null,null,null,null,null,null,0,null,null,null,null,null,null,null,null,null,null,null,"GF"]
[null,"Wiesenheu  2. u. folg. Schnitte",null,null,null,null,null,null,null,0]
[3024,"Heu Wiese, 2.und FolgeSchn. i. Scho.",860,225,485,272,145,137,20,1.28,5.92,10.66,120,null,30,8,3.4,2.9,0.5,26.4,null,"GF",200,5,40,80,0.1,0.4,0.02]
[3025,"Heu Wiese, 2.Schnitt",860,260,527,304,131,129,20,0.32,5.61,9.86,110,null,26,7.8,3.3,2.8,0.5,24.6,null,"GF",200,5,40,80,0.1,0.4,0.02]
[3026,"Heu Wiese, 2.u. FolgeSchn. Beginn Bl.",860,295,581,340,113,121,20,{"$f":"(G198-H198)/6.25","v":-1.28},5.31,8.92,100,null,22,6.4,3.1,2.4,0.5,23,null,"GF",200,6,35,80,0.1,0.4,0.01]
[null,"Heu U-Dachtr. 1. Schnitt",null,null,null,null,null,null,null,0]
[3034,"Heu Unter DachTr. 1.Schn. RispenSch.",870,235,498,281,142,136,20,0.96,6.17,10.72,120,null,27,6.6,3.2,2.1,0.5,28.2,null,"GF",200,7,40,80,0.1,0.4,0.02]
[3035,"Heu Unter Dach Trocknung, 1.Schnitt",870,275,541,307,111,126,20,-2.4,5.69,9.85,110,null,24,6.2,2.9,2.1,0.5,23.9,null,"GF",200,6,40,80,0.1,0.4,0.02]
[3036,"Heu Unter Dach Tr. 1.Schn. i. d. Bl.",870,310,582,350,91,119,25,-4.4800000000000004,5.34,8.81,105,null,19,5.8,2.4,2.1,0.5,23.1,null,"GF",200,6,40,80,0.1,0.4,0.02]
[3037,null,null,null,null,null,null,null,null,0,null,null,null,null,null,null,null,null,null,null,null,"GF"]
[null,"Heu U-Dachtr. 2.u.f. Schnitte",null,null,null,null,null,null,null,0]
[3044,"Heu UnterDach Tr. 2.u. FolgeSchn. Scho.",870,205,461,260,172,142,20,4.8,6.17,11.24,120,null,28,8.4,3.8,3,0.6,29.5,null,"GF",200,8,40,80,0.1,0.4,0.02]
[3045,"Heu Unter Dach Trocknung, ab 2.Schnitt",870,235,514,287,148,135,20,2.08,5.87,10.28,110,null,27,7.4,3.7,2.8,0.6,28.5,null,"GF",200,8,40,80,0.1,0.4,0.02]
[3046,"Heu Unt. DachTr. 2.u. FolgSch, Beg. Bl.",870,270,553,312,137,130,20,1.1200000000000001,5.55,9.61,100,null,25,7.4,3.6,2.6,0.6,26.3,null,"GF",200,6,35,80,0.1,0.4,0.01]
[null,"Luzerneheu 1. Schnitt",null,null,null,null,null,null,null,0]
[3714,"LuzerneHeu, 1.Schnitt, Beginn Blüte",860,305,461,332,174,135,25,6.24,4.9000000000000004,9.65,60,null,20,15,2.8,3,0.8,28,null,"GF",150,9,30,40,0.2,0.3,0.1]
[3715,"LuzerneHeu, 1.Schnitt",860,345,515,379,166,129,30,5.92,4.67,8.98,50,null,19,15,2.8,2.7,0.6,27,null,"GF",150,8,30,40,0.2,0.3,0.1]
[3716,"LuzerneHeu, 1.Schnitt, abgeblüht",860,370,536,406,148,126,30,3.52,4.5599999999999996,8.5299999999999994,40,null,15,15,2.8,2.2999999999999998,0.5,26,null,"GF",150,8,30,40,0.2,0.3,0.1]
[3717,null,null,null,null,null,null,null,null,0,null,null,null,null,null,null,null,null,null,null,null,"GF"]
[null,"Luzerneheu 2. u. folg. Schnitte",null,null,null,null,null,null,null,0]
[3724,"LuzerneHeu, 2.und FolgeSchn. Beg. Bl.",860,300,456,318,185,129,25,8.9600000000000009,4.63,9.34,50,null,21,15,3.1,2.6,0.5,30,null,"GF",150,7,30,40,0.2,0.3,0.1]
[3725,"LuzerneHeu, ab 2.Schnitt",860,350,488,362,173,113,25,9.6,4.21,8.68,50,null,19,15,3.1,2.4,0.5,29,null,"GF",150,7,30,40,0.2,0.3,0.1]
[3726,"LuzerneHeu, 2.und FolgeSchn. abgebl.",860,385,522,398,149,111,30,6.08,4.0199999999999996,8.1999999999999993,40,null,16,15,3.1,2.2000000000000002,0.4,28,null,"GF",150,7,30,40,0.2,0.3,0.1]
[3815,"Heu WeidelGras",860,290,471,238,144,129,20,2.4,5.64,10.74,100,null,28,5.5,3.3,1.8,0.4,33,null,"GF",150,9,45,80,0.1,0.4,0.03]
[3816,null,null,null,null,null,null,null,null,0,null,null,null,null,null,null,null,null,null,null,null,"GF"]
[null,"Graskobs 1. Schnitt",null,null,null,null,null,null,null,0]
[3074,"GrasCobs, 1.Schnitt, im Blattstadium",900,166,425,208,174,183,40,-1.44,6.9,12.03,100,null,30,6.9,3.9,2.9,1.1000000000000001,26,null,"KF",200,8,40,100,0.2,0.4,0.04]
[3075,"GrasCobs, 1.Schnitt",900,200,464,253,152,176,40,-3.84,6.58,11.16,100,null,30,6.9,3.9,2.9,1.1000000000000001,26,null,"KF",200,8,40,100,0.2,0.4,0.04]
[3076,"GrasCobs, 1.Schnitt, RispenSchieben",900,240,499,274,131,161,40,-4.8,6.18,10.34,100,null,30,6.7,3.6,2.9,1.1000000000000001,26,null,"KF",200,8,40,100,0.2,0.4,0.04]
[3077,null,null,null,null,null,null,null,null,0,null,null,null,null,null,null,null,null,null,null,null,"KF"]
[null,"Graskobs 2. u. folg. Schnitte",null,null,null,null,null,null,null,0]
[3084,"GrasCobs, 2.und FolgeSchn. im Blattst.",900,165,393,220,183,172,40,1.76,6.13,12.28,100,null,37,9.8000000000000007,3.7,3.4,1,24,null,"KF",200,11,45,110,0.2,0.4,0.04]
[3085,"GrasCobs, ab 2.Schnitt",900,200,448,252,173,166,40,1.1200000000000001,6.11,11.49,100,null,34,9.8000000000000007,3.7,3.4,1,24,null,"KF",200,10,40,110,0.2,0.4,0.04]
[3086,"GrasCobs, 2.und FolgeSchn. RispenSch.",900,235,479,271,162,160,40,0.32,5.94,10.9,100,null,32,9.8000000000000007,3.7,3.4,1,24,null,"KF",200,9,35,110,0.2,0.4,0.04]
[3205,"MaisCobs, Ganzpflanze",890,190,432,219,75,133,30,-9.2799999999999994,6.55,11.31,417,126,28,3.1,2.5,2.1,0.23,10.7,null,"KF",200,5,40,30,0.1,0.3,0.01]
[null,"Luzernekobs, -Grünmehl",null,null,null,null,null,null,null,0]
[3774,"LuzerneCobs,-Grünmehl, vor der Knose",900,185,427,301,209,177,40,5.12,5.88,10,50,null,31,15,3.7,2.9,0.6,28,null,"KF",150,10,35,40,0.2,0.3,0.1]
[3775,"LuzerneCobs, -Grünmehl",900,225,449,310,184,162,40,3.52,5.46,9.9,50,null,29,15,3.7,2.9,0.6,28,null,"KF",150,10,35,40,0.2,0.3,0.1]
[3776,"LuzerneCobs,-Grünmehl, Beginn Blüte",900,255,480,338,153,154,40,-0.16,5.16,9.49,40,null,25,15,3.7,2.9,0.6,28,null,"KF",150,9,30,40,0.2,0.3,0.1]
[3777,null,null,null,null,null,null,null,null,0,null,null,null,null,null,null,null,null,null,null,null,"KF"]
[3778,null,null,null,null,null,null,null,null,0,null,null,null,null,null,null,null,null,null,null,null,"KF"]
[3125,"Stroh Gerste",880,435,847,542,30,80,45,-8,3.65,7.09,7,null,15,4.4000000000000004,1,1.1000000000000001,0.37,15.2,null,"GF",200,6,40,80,0.1,0.4,0.1]
[3145,"Stroh Hafer",880,440,790,516,36,76,40,-6.4,3.66,7.01,14,null,19,4,1.4,1,2,21,null,"GF",200,7,40,80,0.1,0.4,0.1]
[3165,"Stroh Roggen",880,470,850,550,37,71,45,-5.44,3.28,7.05,8,null,13,3,1,1,0.4,10,null,"GF",200,4,30,80,0,0.4,0.1]
[3185,"Stroh Weizen",880,430,835,527,40,74,45,-5.44,3.42,7.05,8,null,13,3.6,1.1000000000000001,0.9,0.25,10,null,"GF",200,4,30,80,0.1,0.4,0.1]
[3186,null,null,null,null,null,null,null,null,0,null,null,null,null,null,null,null,null,null,null,null,"GF"]
[null,"10.4 Rüben und -Nebenprodukte",null,null,null,null,null,null,null,0]
[5505,"Zuckerrübe",230,85,210,125,80,142,20,-9.92,7.46,11.93,647,null,6,2.2999999999999998,1.5,1.6,0.95,8,null,"GF",215,5.0999999999999996,36,61,0.1,0.4,0.1]
[5555,"Futterrübe",146,70,230,135,80,141,20,-9.76,7.47,11.63,545,null,8,2.7,2.4,1.8,4.08,30,null,"GF",131,7.2,32,83,0.2,0.4,0]
[5565,null,null,null,null,null,null,null,null,0,null,null,null,null,null,null,null,null,null,null,null,"GF"]
[6505,"TrockenSchnitzel",890,157,366,191,84,143,45,-9.44,7.39,11.52,86,null,7.6,9.1999999999999993,1.1000000000000001,1.8,1.05,8.77,null,"KF",623,6.1,26.3,84,0.6,1,0.57999999999999996]
[6514,"MelasseSchnitzel, 14% Zucker",910,160,330,220,90,145,30,-8.8000000000000007,7.45,13.15,150,null,9,11,0.8,1.8,1,12,null,"KF",800,11.4,36,184,0.2,11.4,0.2]
[6515,"MelasseSchnitzel, 18% Zucker",896,146,315,184,97,151,30,-8.64,7.75,12.96,200,null,8,10.6,0.77,1.8,1.7,14.4,null,"KF",800,11.4,36,184,0.2,11.4,0.2]
[6516,"MelasseSchnitzel, 23% Zucker",907,134,300,170,110,153,30,-6.88,7.58,12.71,250,null,8,10,0.8,1.8,2,15,null,"KF",800,11.4,36,184,0.2,11.4,0.2]
[4535,"Futterzucker",990,0,0,0,1.01,159,10,-25.278400000000001,9.25,12.49,994,0,0,0,0,0,0,0,null,"KF",0,0,0,0,0,0,0]
[7505,"Rübenkleinteile",170,102,282,136,75,137,25,-9.92,7.25,11.4,360,null,3,3.3,2.0699999999999998,2.2999999999999998,1.4,11.5,null,"SF",500,11.1,14,73.3,0.1,0.4,0.1]
[7525,"PreßSchnitzel siliert",270,200,0,0,94,148,30,-8.64,7.52,13.26,35,null,6,12.7,1,2.4,0.45,4.4000000000000004,null,"SF",45,5,9.8000000000000007,6.6,0,0.4,0.1]
[7545,"Melasse (Zuckerrübe)",780,0,0,0,135,157,20,-3.52,7.84,11.09,652,null,0.3,2.5,0.51,0.2,7.6,54,null,"SF",870,5,9.9,6.6,0.1,0.4,0.1]
[null,"10.5 Nebenprod. a. Lebensmittel-",null,null,null,null,null,null,null,0]
[null,"verarb. und Energiegewinnung",null,null,null,null,null,null,null,0]
[5585,"Möhren, Gelbe Rüben",150,150,265,160,90,148,20,-9.2799999999999994,7.75,12.75,256,null,15,4.4000000000000004,3,1.9,2.77,28,null,"SF",60,6.3,33,23,0.2,0.3,0.03]
[5605,"Kartoffel (roh)",220,27,170,105,97,157,20,-9.6,8.39,12.58,741,178,4,0.4,2.5,1.4,0.55000000000000004,22,null,"SF",45,5.4,24,7,0.1,0.2,0.1]
[6625,null,0,0,0,0,0,0,0,0,0,0,0,0,0,0,0,0,0,0,null,"SF"]
[7635,"KartoffelpreßPülpe, siliert",180,208,440,260,49,130,25,-12.96,7.08,14.14,393,97,5,0.7,2.7,0.7,0.06,22,null,"SF",79.7,5,19.399999999999999,6.6,0.1,0.4,0.1]
[7645,"KartoffelSchlempe, frisch",60,72,240,140,307,213,30,15.04,7.5,8.49,27,4,17,2.8,7.3,0.5,0.56999999999999995,55,null,"SF",870,5,9.9,6.6,0.1,0.4,0.1]
[7145,"WeizenSchlempe, flüssig",60,102,285,170,360,240,35,19.2,7.91,12.36,199,17,71,3.5,10.8,3.6,3.1,13,null,"SF",200,14.5,75,90,0.2,0.3,0.2]
[7205,"MaisSchlempe, flüssig",70,85,260,155,287,220,40,10.72,8.5,13.29,110,12,117,2.5,8.6,4.7,1.25,9.0299999999999994,null,"SF",120,10,70,80,0.1,0.2,0.4]
[6144,"WeizenSchlempe, trocken",900,76,null,null,382.22,269,40,18.115200000000005,7.29,12.45,44,3,61.11,3.5,10.8,3.6,3.1,13.4,null,"KF",200,14.5,75,90,0.2,0.3,0.2]
[6204,"MaisSchlempe, trocken",900,102,null,null,360,251,40,{"$f":"(G262-H262)/6.25","v":17.440000000000001},7.62,11.12,108,14,71.11,3.5,8.6,2.4,3.1,8,null,"KF",200,10,70,80,0.2,0.3,0.2]
[7685,"ObstTrester ApfelTrester",220,216,455,265,66,116,35,-8,5.67,7.77,111,null,42,2,1,2,0.82,7,null,"SF",640,5,14,6,0,0.2,0.1]
[7688,null,null,null,null,null,null,null,null,0,null,null,null,null,null,null,null,null,null,null,null,"SF"]
[7689,null,null,null,null,null,null,null,null,0,null,null,null,null,null,null,null,null,null,null,null,"SF"]
[null,"weitere Nebenprodukte",null,null,null,null,null,null,null,0]
[7026,"BierTreber, siliert",247,160,370,220,249,188,40,9.76,6.69,11.08,23,2,84,3.6,6,2,0.4,0.8,null,"SF",277,26,130,50,0.2,0.1,0]
[7015,"BierHefe, frisch",100,17,155,95,525,272,25,40.479999999999997,8.36,null,10,null,31,2,11.4,1.8,0.33,14.7,null,"SF",260,64,92,59,0.4,0.4,0.1]
[6015,"BierHefe, trocken",900,24,165,100,521.11,329,40,30.7376,7.59,null,19,null,22.22,2,11.4,1.8,0.33,14.7,null,"KF",560,64,92,59,0.4,0.4,0.4]
[6035,"MalzKeime",930,145,400,150,220,182,25,6.08,6.18,11.49,190,11,16,2.5,7,1.6,0.48,16.899999999999999,null,"KF",130,12.8,79,41,0.1,0.2,0.7]
[null,"Nebenprod. u. Müllereierzeugn.",null,null,null,null,null,null,null,0]
[6145,"Weizennachmehl",880,23,180,110,182,181,20,0.16,8.58,13.56,606,55,45,0.9,7.4,2.9,0.2,9,null,"KF",115,6.6,99,108,0.2,0.2,0.26]
[6155,"WeizenfutterMehl",880,45,210,125,181.82,175,20,1.0911999999999988,8.1999999999999993,12.76,483,42,45.45,1.2,8.1,2.9,0.35,13,null,"KF",98,5.7,88,124,0,0.2,0.2]
[6165,"WeizengrießKleie",880,91,275,160,181.82,155,20,4.291199999999999,6.75,12.24,311,24,45.45,1.4,10.3,4.3099999999999996,0.54,12,null,"KF",63,15.2,95,122,0.1,0.2,0.1]
[6175,"WeizenKleie",880,114,495,160,184,151,25,5.28,6.03,11.82,212,15,48,1.2,11.1,5,0.2,13.4,null,"KF",168,15,87,134,0.1,0.3,0.09]
[6135,"RoggenKleie",880,83,255,150,162.5,142,15,3.28,6.42,10.52,233,13,36.36,1.7,11.3,3.6,0.79,14,null,"KF",180,12.5,90,100,0.1,0.1,0.1]
[6215,"MaisfutterMehl",880,59,220,130,118.18,164,50,-7.3311999999999991,8.39,14.12,449,101,71.59,0.8,5,3,0.51,2,null,"KF",74,15.6,60,16.7,0.1,0.3,0.1]
[6216,null,null,null,null,null,null,null,null,0,null,null,null,null,null,null,null,null,null,null,null,"KF"]
[6246,"MaisKleberfutter, 23-30% Rohprotein",880,90,265,155,257.95,194,25,10.231999999999998,7.69,12.97,224,42,40.909999999999997,1.5,9.5,4.8,2.76,14,null,"KF",307,19.399999999999999,65,28,0.2,0.8,3.2]
[null,"10.6 Molkereiprodukte",null,null,null,null,null,null,null,0]
[5705,"Vollmilch, Kuh",135,null,0,0,262,133,5,20.64,12.53,null,345,null,311.11,8.59,7.19,0.89,3.19,10.96,null,"SF",6.7,1.9,34.4,0.6,0,0.4,0.3]
[6725,"MagermilchPulver",941,null,0,0,364.51,180,5,29.521599999999999,8.94,null,481,null,5.31,14,10.8,1.6,5.41,14,null,"KF",9,1,48,1,0,0.4,0.1]
[7725,"Magermilch",86,null,0,0,361,180,5,28.96,8.9700000000000006,null,481,null,11,13.6,10.9,1.6,3.63,12,null,"SF",9,1.4,54,1,0,0.4,0.1]
[7735,"Labmolke",50,null,0,0,137,163,5,-4.16,8.7200000000000006,null,727,null,13,8.2100000000000009,8.57,1.43,6.43,25,null,"SF",5,0.1,7,2,0,0.4,0.1]
[7736,null,null,null,null,null,null,null,null,0,null,null,null,null,null,null,null,null,null,null,null,"SF"]
[null,"10.7 Getreide und Leguminosen",null,null,null,null,null,null,null,0]
[4025,"Gerste, 2-zeilig",880,50,162,63,117,165,25,-7.68,8.2100000000000009,13.1,627,60,20,0.6,3.8,1.3,0.08,5.5,null,"KF",44,4.5,25,18,0.1,0.3,0.03]
[4026,"Gerste, mehrzeilig",880,52,169,79,116,164,25,-7.68,8.14,13.12,626,60,20,0.5,4.2,1.5,0.11,6.3,null,"KF",44,4.5,25,18,0.1,0.3,0.03]
[4065,"Hafer",880,112,300,155,110,145,15,-5.6,7,11.84,462,45,40,1.2,3.7,1.3,0.17,4.8,null,"KF",65,4.5,30,45,0.1,0.3,0.03]
[4075,"HaferFlocken",910,23,155,95,128.57,161,15,-5.1888000000000014,8.49,11.95,708,65,54.95,1,4.45,1.46,0.33,4.22,null,"KF",52,5.6,34,50,0,0.2,0.03]
[4105,"Roggen",880,25,139,42,100,162,15,-9.92,8.3699999999999992,12.98,707,67,14,0.5,3,1.1000000000000001,0.06,5.6,null,"KF",50,7,35,40,0.1,0.2,0.03]
[4125,"Triticale",880,30,12,50,118,170,20,-8.32,8.5299999999999994,13.32,707,68,13,0.5,3.5,1.3,0.05,5.2,null,"KF",45,7,65,35,0.1,0.4,0.03]
[4145,"Weizen",880,26,123,44,132,166,50,-5.44,8.3800000000000008,13,715,292,16,0.5,3.6,1.3,0.06,5.0999999999999996,null,"KF",32,4,30,9,0.1,0.4,0.01]
[4205,"Mais",880,26,170,100,102,166,50,-10.24,8.3800000000000008,13.28,715,292,45,0.4,3.5,1.3,0.2,4,null,"KF",32,4,30,9,0.1,0.4,0.01]
[4305,"Ackerbohnen",880,90,165,128,299,194,15,16.8,8.58,13.77,451,103,12,1.6,6,1.7,0.19,13.4,null,"KF",86,12.3,46,33,0,0.2,0.2]
[4345,"Erbsen",880,65,140,73,234,183,15,8.16,8.52,13.41,539,119,13,1.3,5,1.6,0.2,12,null,"KF",64,7.5,24,17,0.2,0.2,0.2]
[4365,"Süßlupine",880,136,207,167,350,217,20,21.28,9.24,16.13,147,18,101,2.8,5.9,2,0.1,13,null,"KF",75,8,58.6,50,0,0.2,0.1]
[null,"10.8 Ölsaaten und Nebenprodukte",null,null,null,null,null,null,null,0]
[4405,"Leinsamen",910,73,240,140,248.35,127,15,19.416,10.72,13.99,37,null,364.84,2.8,5.4,5.6,0.93,8,null,"KF",133,17.8,83,26,0.2,0.4,0.1]
[4425,"Rapssamen",900,82,194.44,116.67,225.56,98,15,20.409600000000001,10.73,17.5,46,null,444.44,5,7.78,3.33,0.28000000000000003,8.89,null,"KF",238.9,3.9,44.4,44.4,0.2,0.4,0.1]
[4426,null,null,null,null,null,null,null,null,0,null,null,null,null,null,null,null,null,null,null,null,"KF"]
[4435,"Sojabohnen, getoastet",890,62,168,138,410,198,20,33.92,9.9,18.53,137,11,226,2.9,7.3,3,0.2,22,null,"KF",90,13.6,45.3,37.4,0.2,0.1,0.1]
[6405,"LeinExtraktionsSchrot",880,103,285,170,385.23,238,30,23.556800000000003,7.33,10.84,45,null,27.27,4.5,9.5,5.7,1.0900000000000001,12,null,"KF",328,20.2,66,47,0.3,1.1000000000000001,0.3]
[6406,"LeinKuchen,-Expeller",880,107,295,175,372.73,253,35,19.156800000000004,7.54,11.19,43,null,62.5,4.2,8.1999999999999993,5.3,1.05,12,null,"KF",243,20.3,78,44,0.4,1,1]
[6424,"Rapsextr.schrot pansenstabil",890,133,300.60000000000002,227.7,386.6,348,65,6.1760000000000037,7.17,11.85,80,null,34.5,8.67,11.9,6,0.5,14.2,null,"KF",414.4,7.9,75.400000000000006,78.099999999999994,0.3,0.7,0.19]
[6425,"RapsExtraktionsSchrot",890,133,306,229,385,252,35,21.28,7.16,11.86,80,null,40,9.8000000000000007,12,5.2,0.63,14.9,null,"KF",414.4,7.9,75.400000000000006,78.099999999999994,0.3,0.7,0.19]
[6426,"RapsKuchen, 8% Rohfett",910,135,319.77999999999997,191.21,370.33,180,15,30.452799999999996,7.89,13.2,75,null,87.91,8.24,11.9,5.49,0.46,14.62,null,"KF",392.3,6.4,72.5,72.5,0.3,0.6,0.19]
[6427,"RapsKuchen, 15% Rohfett",910,123,292.31,175.82,339.56,165,15,27.929600000000001,8.7200000000000006,14.56,68,null,164.84,7.47,11.6,5.05,0.42,13.41,null,"KF",359,5.8,67,67,0.3,0.6,0.16]
[6434,"Sojaextraktionsschrot 42% XP",880,91,260,155,477,281,30,31.36,8.44,13.49,174,14,17,3.6,7.4,3.7,0.4,25,null,"KF",160,19.100000000000001,70,33,0.3,0.6,0.25]
[6435,"SojaExtraktionsSchrot, 43% Rohprotein",880,68,143,93,496,291,30,34,8.64,14.02,178,14,29,4.2,7.3,4,0.3,25,null,"KF",160,19.100000000000001,70,33,0.3,0.6,0.25]
[6436,"SojaExtraktionsSchrot, 47% Rohprotein",880,40,109,68,532,306,30,{"$f":"(G311-H311)/6.25","v":36.159999999999997},8.7799999999999994,13.99,184,14,29,4,7.7,4.2,0.36,26,null,"KF",151,17.3,59,31,0.1,0.2,0.3]
[6438,"SojaExtraktionsSchrot, 43% Rohpr. stabil",880,68,143,93,496,438,65,9.2799999999999994,8.64,13.72,178,14,29,4.2,7.3,4,0.3,25,null,"KF",160,19.100000000000001,70,33,0.3,0.6,0.25]
[6439,"SojaKuchen, 8% Rohfett",890,65,240,145,449.44,223,20,36.230400000000003,8.74,15.48,120,10,92.14,3,7,3,0.1,20,null,"KF",160,20,60,33,0.3,0.6,0.3]
[6445,"SonnenblumenExtraktionsSchr. 20% Rohf.",880,222,465,270,382.95,203,25,28.791999999999998,6.01,8.48,80,null,25,4,10.7,5.2,0.5,13,null,"KF",525,29.1,46,56,0.2,0.8,0.49]
[6446,null,null,null,null,null,null,null,null,0,null,null,null,null,null,null,null,null,null,null,null,"KF"]
[5435,"Sojaöl",999,null,0,0,0,null,null,0,19.78,30.6,null,null,999,0,0,0,0,0,null,"KF",null,0,2,0,0,0,0]
[null,"10.9 Kälberaufzuchtfutter, Milchaust.",null,null,null,null,null,null,null,0]
[8035,"KälberaufzuchtFutter, 18% Rohprotein",880,102,285,136.36000000000001,204.55,179,25,4.0880000000000019,7.67,null,505,68,45.45,9.09,5.68,2.0499999999999998,2.27,10.23,null,"KF",136.4,13.6,73.900000000000006,68.2,0.1,0.2,0.5]
[8036,"KälberaufzuchtFutter, 24% Rohprotein",880,91,285,153.41,272.73,197,25,12.116800000000003,7.73,null,448,60,39.770000000000003,9.09,5.68,2.0499999999999998,2.27,10.23,null,"KF",136.4,13.6,73.900000000000006,68.2,0.1,0.2,0.5]
[8015,"Milchaustauscher(MAT) Aufz. 15% Rohf.",940,1,1.06,0,223.4,161,10,9.9840000000000018,10.23,null,495,2,159.57,9.57,6.38,2,5.32,20,null,"KF",106.4,8.5,53.2,53.2,0.1,0.2,0.4]
[8025,"Milchaustauscher(MAT) Mast 20% Rohf.",940,1,1.06,0,234.04,154,10,12.806399999999998,10.92,null,444,7,212.77,9.57,6.38,2,5,20,null,"KF",106,8.5,53.2,53.2,0.1,0.2,0.4]
[8027,null,null,null,null,null,null,null,null,0,null,null,null,null,null,null,null,null,null,null,null,"KF"]
[null,"10.10 Milchleistungsfutter",null,null,null,null,null,null,null,0]
[8104,"MLF 12% Rohprotein, EnergieStufe >3",880,68,250,90.91,136.36000000000001,168,25,-5.0623999999999976,8.18,null,584,107,50,6.82,4.55,2.27,1.36,7.95,null,"KF",68.2,9.1,56.8,56.8,0.1,0.1,0.1]
[8105,"MLF 14% Rohprotein, EnergieStufe 3",880,85,285,118.18,159.09,166,25,-1.1055999999999995,7.61,null,497,68,45.45,7.95,4.55,1.7,1.7,10.23,null,"KF",68.2,13.6,73.900000000000006,68.2,0.2,0.2,0.3]
[8116,"MLF 16% Rohprotein, EnergieStufe 3",880,91,285,125,181.82,172,25,1.5711999999999988,7.62,null,483,67,43.18,7.95,4.55,1.7,1.7,10.23,null,"KF",68.2,13.6,73.900000000000006,68.2,0.2,0.2,0.3]
[8126,"MLF 18% Rohprotein, EnergieStufe 3",880,105,300,140.91,204.55,184,30,3.288000000000002,7.61,null,478,66,43.18,7.95,4.55,1.7,1.7,10.23,null,"KF",68.2,13.6,73.900000000000006,68.2,0.2,0.2,0.3]
[8127,"MLF 18% Rohprotein, EnergieStufe >3",880,85,265,102.27,204.55,192,30,2.0080000000000018,8.18,null,565,105,43.18,7.95,4.55,2.27,2.27,11.36,null,"KF",68.2,13.6,73.900000000000006,68.2,0.2,0.2,0.3]
[8135,"MLF 25% Rohprotein, EnergieStufe 2",880,136,335,193.18,284.08999999999997,191,25,14.894399999999996,7.05,null,228,28,34.090000000000003,17.05,6.82,2.0499999999999998,3.41,10.23,null,"KF",68.2,13.6,73.900000000000006,68.2,0.2,0.2,0.3]
[8147,"MLF 40% Rohprotein, EnergieStufe 3",880,136,315,164.77,454.55,283,35,27.448,7.61,null,114,15,34.090000000000003,6.82,9.09,3.98,0.8,18.18,null,"KF",56.8,11.4,56.8,56.8,0.2,0.2,0.3]
[8148,null,null,null,null,null,null,null,null,0,null,null,null,null,null,null,null,null,null,null,null,"KF"]
[8045,null,null,null,null,null,null,null,null,0,null,null,null,null,null,null,null,null,null,null,null,"KF"]
[8055,null,null,null,null,null,null,null,null,0,null,null,null,null,null,null,null,null,null,null,null,"KF"]
[8056,null,null,null,null,null,null,null,null,0,null,null,null,null,null,null,null,null,null,null,null,"KF"]
[8057,null,null,null,null,null,null,null,null,0,null,null,null,null,null,null,null,null,null,null,null,"KF"]
[8058,null,null,null,null,null,null,null,null,0,null,null,null,null,null,null,null,null,null,null,null,"KF"]
[null,"10.11 Mineral- u. Ergänzungsfutter",null,null,null,null,null,null,null,0]
[8185,"Mineralfutter Milchkuh laktierend",950,null,0,0,0,null,null,0,null,0.35,null,null,0,263.16000000000003,0,31.58,131.58000000000001,0,null,"KF",0,736.8,1052.5999999999999,1052.5999999999999,10.5,21.1,36.840000000000003]
[8183,"Mineralfutter Milchkuh trocken",950,null,0,0,0,null,null,0,null,0.35,null,null,0,31.58,0,31.58,52.63,0,null,"KF",0,736.8,1052.5999999999999,1052.5999999999999,10.5,21.1,31.58]
[8184,"Mineralfutter Jungvieh",950,null,0,0,0,null,null,0,null,0.35,null,null,0,210.53,0,21.05,84.21,0,null,"KF",0,736.8,1052.5999999999999,1052.5999999999999,10.5,10.5,31.58]
[8188,"Mineralfutter 20 % Ca, 5 % P",950,null,null,null,null,null,null,null,null,null,null,null,null,210.5,52.6,21.1,94.7,0,null,"KF"]
[8189,"Mineralfutter 22 % Ca, 2 % P",950,null,null,null,null,null,null,{"$f":"(G342-H342)/6.25","v":0},null,null,null,null,null,231.6,21.1,21.1,84.2,0,null,"KF"]
[8085,"Mineralfutter, Rindermast",950,null,0,0,0,null,null,0,null,0.35,null,null,0,231.58,0,21.05,84.21,0,null,"KF",null,586.29999999999995,1052.5999999999999,1052.5999999999999,21.1,10.5,31.58]
[8191,null,null,null,null,null,null,null,null,0,null,null,null,null,null,null,null,null,null,null,null,"KF"]
[4925,"Kohlensaurer Kalk",997,null,0,0,0,null,null,0,null,0,null,null,0,381.4,0.4,1.6,0,0,null,"KF",0,0.2,1,1,0,0,0.1]
[4945,"Viehsalz",990,null,0,0,0,null,null,0,null,0,null,null,0,0,0,0,365,0,null,"KF",10,0.2,1,1,0,0.2,0.04]
[4965,"Natriumhydrogenkarbonat",990,null,0,0,0,null,null,0,null,0,null,null,0,0,0,0,274,0,null,"KF",0,0,0,0,0,0,0]
[5965,"Rohglyzerin",880,null,0,0,0,null,null,0,7.4,13.97,null,null,55,0,0,0,18,0,null,"KF",0,0,0,0,0,0,0]
[5825,"Futterfett",999,null,null,null,null,null,null,0,18.2,28.7,null,null,998,null,null,null,null,null,null,"KF",0,0,0,0,0,0.1,0]
[5975,"Propylenglykol",990,null,0,0,0,null,null,0,9.6999999999999993,12.22,null,null,1,0,0,0,0,0,null,"KF",0,0,0,0,0,0,0]
[6985,"Futterharnstoff",990,null,0,0,2915.15,null,0,466.42400000000004,null,18.64,null,null,0,0,0,0,0,0,null,"KF",0,0,0,0,0,0,0]
[null,null,null,null,null,null,null,null,null,0]
[0,null,null,null,null,null,null,null,null,0]

{"sheet":"Mengenberechnung","index":6,"n_rows":42,"n_cols":8,"rows_kept":42,"cut":false,"hidden":false,"merged":[[0,1,0,7],[1,1,1,5],[2,2,2,4],[2,6,2,7],[3,2,3,4],[3,6,9,7],[4,2,4,4],[5,2,5,4],[6,2,6,4],[7,2,7,4],[8,2,8,4],[9,2,9,4],[10,2,10,4],[10,6,15,7],[11,2,11,4],[12,2,12,4],[13,2,13,4],[15,2,15,4],[17,1,17,5],[18,2,18,4],[18,6,18,7],[19,2,19,4],[20,2,20,4],[21,2,21,4],[21,6,24,7],[22,2,22,4],[23,2,23,4],[24,2,24,4],[34,6,37,7],[35,2,35,4],[36,2,36,4],[37,2,37,4],[25,2,25,4],[25,6,28,7],[26,2,26,4],[27,2,27,4],[28,2,28,4],[30,1,30,5],[31,2,31,4],[31,6,31,7],[32,2,32,4],[33,2,33,4],[34,2,34,4],[38,2,38,4],[38,6,41,7],[39,2,39,4],[40,2,40,4],[41,2,41,4]]}
[]
[null,"Basis – Ration für :",null,null,null,null,10,"Tiere"]
[null,"Kenn Nr.","Futtermittel",null,null,"kg."]
[null,{"$f":"Ration!A15","v":0},{"$f":"Ration!B15","v":0},null,null,{"$f":"IF(Ration!F15>0,$G$2*Ration!E4,0)","v":0},"Gesamtgewicht Grundfutter und Kraftfutter pro Mischung in kg:"]
[null,{"$f":"Ration!A16","v":0},{"$f":"Ration!B16","v":0},null,null,{"$f":"IF(Ration!F16>0,$G$2*Ration!E5,0)","v":0}]
[null,{"$f":"Ration!A17","v":0},{"$f":"Ration!B17","v":0},null,null,{"$f":"IF(Ration!F17>0,$G$2*Ration!E6,0)","v":0}]
[null,{"$f":"Ration!A18","v":0},{"$f":"Ration!B18","v":0},null,null,{"$f":"IF(Ration!F18>0,$G$2*Ration!E7,0)","v":0}]
[null,{"$f":"Ration!A19","v":0},{"$f":"Ration!B19","v":0},null,null,{"$f":"IF(Ration!F19>0,$G$2*Ration!E8,0)","v":0}]
[null,{"$f":"Ration!A20","v":0},{"$f":"Ration!B20","v":0},null,null,{"$f":"IF(Ration!F20>0,$G$2*Ration!E9,0)","v":0}]
[null,{"$f":"Ration!A21","v":0},{"$f":"Ration!B21","v":0},null,null,{"$f":"IF(Ration!F21>0,$G$2*Ration!E10,0)","v":0}]
[null,{"$f":"Ration!A22","v":0},{"$f":"Ration!B22","v":0},null,null,{"$f":"IF(Ration!F22>0,$G$2*Ration!E11,0)","v":0},{"$f":"SUM(F4:F16)","v":0}]
[null,{"$f":"Ration!A23","v":0},{"$f":"Ration!B23","v":0},null,null,{"$f":"IF(Ration!F23>0,$G$2*Ration!E12,0)","v":0}]
[null,{"$f":"Ration!A24","v":0},{"$f":"Ration!B24","v":0},null,null,{"$f":"IF(Ration!F24>0,$G$2*Ration!E13,0)","v":0}]
[null,"KF 1","Mischung 1",null,null,{"$f":"Ration!E26*$G$2","v":0}]
[null,"KF 2","Mischung 2",null,null,{"$f":"Ration!E27*$G$2","v":0}]
[null,"Wasser",null,null,null,{"$f":"Ration!E28*$G$2","v":0}]
[]
[null,"Konzentratfutter – Mischung 1          Mischergröße:",null,null,null,null,1000,"kg"]
[null,"Kenn Nr.","Futtermittel",null,null,"kg."]
[null,{"$f":"'Mischung 1'!A15","v":0},{"$f":"'Mischung 1'!B15","v":0},null,null,{"$f":"$G$18*'Mischung 1'!C15","v":0},"Tiere gesamt:",0]
[null,{"$f":"'Mischung 1'!A16","v":0},{"$f":"'Mischung 1'!B16","v":0},null,null,{"$f":"$G$18*'Mischung 1'!C16","v":0},"kg je Tier/Tag:",0]
[null,{"$f":"'Mischung 1'!A17","v":0},{"$f":"'Mischung 1'!B17","v":0},null,null,{"$f":"$G$18*'Mischung 1'!C17","v":0},"Die Mischung reicht für Tage :"]
[null,{"$f":"'Mischung 1'!A18","v":0},{"$f":"'Mischung 1'!B18","v":0},null,null,{"$f":"$G$18*'Mischung 1'!C18","v":0}]
[null,{"$f":"'Mischung 1'!A19","v":0},{"$f":"'Mischung 1'!B19","v":0},null,null,{"$f":"$G$18*'Mischung 1'!C19","v":0}]
[null,{"$f":"'Mischung 1'!A20","v":0},{"$f":"'Mischung 1'!B20","v":0},null,null,{"$f":"$G$18*'Mischung 1'!C20","v":0}]
[null,{"$f":"'Mischung 1'!A21","v":0},{"$f":"'Mischung 1'!B21","v":0},null,null,{"$f":"$G$18*'Mischung 1'!C21","v":0},{"$f":"IF(H21>0,G18/(H20*H21),\" \")","v":" "}]
[null,{"$f":"'Mischung 1'!A22","v":0},{"$f":"'Mischung 1'!B22","v":0},null,null,{"$f":"$G$18*'Mischung 1'!C22","v":0}]
[null,{"$f":"'Mischung 1'!A23","v":0},{"$f":"'Mischung 1'!B23","v":0},null,null,{"$f":"$G$18*'Mischung 1'!C23","v":0}]
[null,{"$f":"'Mischung 1'!A24","v":0},{"$f":"'Mischung 1'!B24","v":0},null,null,{"$f":"$G$18*'Mischung 1'!C24","v":0}]
[]
[null,"Konzentratfutter – Mischung 2          Mischergröße:",null,null,null,null,1000,"kg"]
[null,"Kenn Nr.","Futtermittel",null,null,"kg."]
[null,{"$f":"'Mischung 2'!A15","v":0},{"$f":"'Mischung 2'!B15","v":0},null,null,{"$f":"$G$31*'Mischung 2'!C15","v":0},"Tiere gesamt:",0]
[null,{"$f":"'Mischung 2'!A16","v":0},{"$f":"'Mischung 2'!B16","v":0},null,null,{"$f":"$G$31*'Mischung 2'!C16","v":0},"kg je Tier/Tag:",0]
[null,{"$f":"'Mischung 2'!A17","v":0},{"$f":"'Mischung 2'!B17","v":0},null,null,{"$f":"$G$31*'Mischung 2'!C17","v":0},"Die Mischung reicht für Tage :"]
[null,{"$f":"'Mischung 2'!A18","v":0},{"$f":"'Mischung 2'!B18","v":0},null,null,{"$f":"$G$31*'Mischung 2'!C18","v":0}]
[null,{"$f":"'Mischung 2'!A19","v":0},{"$f":"'Mischung 2'!B19","v":0},null,null,{"$f":"$G$31*'Mischung 2'!C19","v":0}]
[null,{"$f":"'Mischung 2'!A20","v":0},{"$f":"'Mischung 2'!B20","v":0},null,null,{"$f":"$G$31*'Mischung 2'!C20","v":0}]
[null,{"$f":"'Mischung 2'!A21","v":0},{"$f":"'Mischung 2'!B21","v":0},null,null,{"$f":"$G$31*'Mischung 2'!C21","v":0},{"$f":"IF(H34>0,G31/(H33*H34),\" \")","v":" "}]
[null,{"$f":"'Mischung 2'!A22","v":0},{"$f":"'Mischung 2'!B22","v":0},null,null,{"$f":"$G$31*'Mischung 2'!C22","v":0}]
[null,{"$f":"'Mischung 2'!A23","v":0},{"$f":"'Mischung 2'!B23","v":0},null,null,{"$f":"$G$31*'Mischung 2'!C23","v":0}]
[null,{"$f":"'Mischung 2'!A24","v":0},{"$f":"'Mischung 2'!B24","v":0},null,null,{"$f":"$G$31*'Mischung 2'!C24","v":0}]

{"sheet":"Ausdruck","index":7,"n_rows":59,"n_cols":18,"rows_kept":59,"cut":false,"hidden":false,"merged":[[58,7,58,14],[58,0,58,2],[45,0,45,2],[45,3,45,5],[51,15,51,17],[50,15,50,17],[49,15,49,17],[48,15,48,17],[58,15,58,17],[54,15,54,17],[54,9,54,14],[53,15,53,17],[52,15,52,17],[56,7,56,8],[57,7,57,8],[47,9,47,14],[57,15,57,17],[56,15,56,17],[55,15,55,17],[51,7,51,8],[52,7,52,8],[53,7,53,8],[54,7,54,8],[55,7,55,8],[47,15,47,17],[47,7,47,8],[48,7,48,8],[49,7,49,8],[50,7,50,8],[48,9,48,14],[49,9,49,14],[50,9,50,14],[51,9,51,14],[52,9,52,14],[53,9,53,14],[55,9,55,14],[56,9,56,14],[57,9,57,14],[58,3,58,5],[42,0,42,1],[43,0,43,1],[18,0,18,1],[19,0,19,1],[24,0,24,17],[29,5,30,17],[40,0,40,1],[40,2,40,3],[31,2,31,3],[32,2,32,3],[33,2,33,3],[34,2,34,3],[49,3,49,5],[50,3,50,5],[51,3,51,5],[52,3,52,5],[53,3,53,5],[54,3,54,5],[55,3,55,5],[56,3,56,5],[57,3,57,5],[47,1,47,2],[48,1,48,2],[49,1,49,2],[50,1,50,2],[51,1,51,2],[52,1,52,2],[53,1,53,2],[54,1,54,2],[55,1,55,2],[56,1,56,2],[57,1,57,2],[42,13,42,17],[1,2,1,4],[0,0,0,17],[1,8,1,10],[1,5,1,7],[1,11,1,17],[21,9,21,10],[21,0,21,1],[21,2,21,3],[21,4,21,5],[21,7,21,8],[38,2,38,3],[45,15,45,17],[37,2,37,3],[39,2,39,3],[37,5,39,17],[48,3,48,5],[47,3,47,5],[35,2,35,3],[27,2,27,3],[28,2,28,3],[29,2,29,3],[30,2,30,3],[26,5,27,9],[26,10,27,11],[43,2,43,5],[43,6,43,17],[45,7,45,14],[26,2,26,3],[31,5,32,17],[33,5,34,17],[35,5,36,17],[36,2,36,3],[42,2,42,5],[42,6,42,10],[42,11,42,12]]}
[]
[null,{"$f":"Einstellung!B5","v":"Tierhaltungsschule"},{"$f":"Einstellung!D5","v":"Triesdorf"},null,null,"Betriebs Nr.",null,null,{"$f":"Einstellung!B8","v":"09 111 111 1111"},null,null,{"$f":"Ration!A31","v":"    Bitte Sollwerte auswählen !"}]
[]
["FM kg","Futterart","TM kg","aNDFom","CP g","ME MJ","Ca g","P g","Mg g","Na g","Kosten","Fe","Cu","Zn","Mn","Co","J","Se"]
[{"$f":"Ration!E4","v":0},{"$f":"Ration!B15","v":0},{"$f":"IF(Ration!F15=\"TM o. FM?\",\" \",Ration!F15)","v":0},{"$f":"Ration!H15","v":0},{"$f":"Ration!I15","v":0},{"$f":"Ration!K15","v":0},{"$f":"Ration!O15","v":0},{"$f":"Ration!P15","v":0},{"$f":"Ration!Q15","v":0},{"$f":"Ration!S15","v":0},{"$f":"Ration!T15","v":0},{"$f":"Ration!V15","v":0},{"$f":"Ration!W15","v":0},{"$f":"Ration!X15","v":0},{"$f":"Ration!Y15","v":0},{"$f":"Ration!Z15","v":0},{"$f":"Ration!AA15","v":0},{"$f":"Ration!AB15","v":0}]
[{"$f":"Ration!E5","v":0},{"$f":"Ration!B16","v":0},{"$f":"IF(Ration!F16=\"TM o. FM?\",\" \",Ration!F16)","v":0},{"$f":"Ration!H16","v":0},{"$f":"Ration!I16","v":0},{"$f":"Ration!K16","v":0},{"$f":"Ration!O16","v":0},{"$f":"Ration!P16","v":0},{"$f":"Ration!Q16","v":0},{"$f":"Ration!S16","v":0},{"$f":"Ration!T16","v":0},{"$f":"Ration!V16","v":0},{"$f":"Ration!W16","v":0},{"$f":"Ration!X16","v":0},{"$f":"Ration!Y16","v":0},{"$f":"Ration!Z16","v":0},{"$f":"Ration!AA16","v":0},{"$f":"Ration!AB16","v":0}]
[{"$f":"Ration!E6","v":0},{"$f":"Ration!B17","v":0},{"$f":"IF(Ration!F17=\"TM o. FM?\",\" \",Ration!F17)","v":0},{"$f":"Ration!H17","v":0},{"$f":"Ration!I17","v":0},{"$f":"Ration!K17","v":0},{"$f":"Ration!O17","v":0},{"$f":"Ration!P17","v":0},{"$f":"Ration!Q17","v":0},{"$f":"Ration!S17","v":0},{"$f":"Ration!T17","v":0},{"$f":"Ration!V17","v":0},{"$f":"Ration!W17","v":0},{"$f":"Ration!X17","v":0},{"$f":"Ration!Y17","v":0},{"$f":"Ration!Z17","v":0},{"$f":"Ration!AA17","v":0},{"$f":"Ration!AB17","v":0}]
[{"$f":"Ration!E7","v":0},{"$f":"Ration!B18","v":0},{"$f":"IF(Ration!F18=\"TM o. FM?\",\" \",Ration!F18)","v":0},{"$f":"Ration!H18","v":0},{"$f":"Ration!I18","v":0},{"$f":"Ration!K18","v":0},{"$f":"Ration!O18","v":0},{"$f":"Ration!P18","v":0},{"$f":"Ration!Q18","v":0},{"$f":"Ration!S18","v":0},{"$f":"Ration!T18","v":0},{"$f":"Ration!V18","v":0},{"$f":"Ration!W18","v":0},{"$f":"Ration!X18","v":0},{"$f":"Ration!Y18","v":0},{"$f":"Ration!Z18","v":0},{"$f":"Ration!AA18","v":0},{"$f":"Ration!AB18","v":0}]
[{"$f":"Ration!E8","v":0},{"$f":"Ration!B19","v":0},{"$f":"IF(Ration!F19=\"TM o. FM?\",\" \",Ration!F19)","v":0},{"$f":"Ration!H19","v":0},{"$f":"Ration!I19","v":0},{"$f":"Ration!K19","v":0},{"$f":"Ration!O19","v":0},{"$f":"Ration!P19","v":0},{"$f":"Ration!Q19","v":0},{"$f":"Ration!S19","v":0},{"$f":"Ration!T19","v":0},{"$f":"Ration!V19","v":0},{"$f":"Ration!W19","v":0},{"$f":"Ration!X19","v":0},{"$f":"Ration!Y19","v":0},{"$f":"Ration!Z19","v":0},{"$f":"Ration!AA19","v":0},{"$f":"Ration!AB19","v":0}]
[{"$f":"Ration!E9","v":0},{"$f":"Ration!B20","v":0},{"$f":"IF(Ration!F20=\"TM o. FM?\",\" \",Ration!F20)","v":0},{"$f":"Ration!H20","v":0},{"$f":"Ration!I20","v":0},{"$f":"Ration!K20","v":0},{"$f":"Ration!O20","v":0},{"$f":"Ration!P20","v":0},{"$f":"Ration!Q20","v":0},{"$f":"Ration!S20","v":0},{"$f":"Ration!T20","v":0},{"$f":"Ration!V20","v":0},{"$f":"Ration!W20","v":0},{"$f":"Ration!X20","v":0},{"$f":"Ration!Y20","v":0},{"$f":"Ration!Z20","v":0},{"$f":"Ration!AA20","v":0},{"$f":"Ration!AB20","v":0}]
[{"$f":"Ration!E10","v":0},{"$f":"Ration!B21","v":0},{"$f":"IF(Ration!F21=\"TM o. FM?\",\" \",Ration!F21)","v":0},{"$f":"Ration!H21","v":0},{"$f":"Ration!I21","v":0},{"$f":"Ration!K21","v":0},{"$f":"Ration!O21","v":0},{"$f":"Ration!P21","v":0},{"$f":"Ration!Q21","v":0},{"$f":"Ration!S21","v":0},{"$f":"Ration!T21","v":0},{"$f":"Ration!V21","v":0},{"$f":"Ration!W21","v":0},{"$f":"Ration!X21","v":0},{"$f":"Ration!Y21","v":0},{"$f":"Ration!Z21","v":0},{"$f":"Ration!AA21","v":0},{"$f":"Ration!AB21","v":0}]
[{"$f":"Ration!E11","v":0},{"$f":"Ration!B22","v":0},{"$f":"IF(Ration!F22=\"TM o. FM?\",\" \",Ration!F22)","v":0},{"$f":"Ration!H22","v":0},{"$f":"Ration!I22","v":0},{"$f":"Ration!K22","v":0},{"$f":"Ration!O22","v":0},{"$f":"Ration!P22","v":0},{"$f":"Ration!Q22","v":0},{"$f":"Ration!S22","v":0},{"$f":"Ration!T22","v":0},{"$f":"Ration!V22","v":0},{"$f":"Ration!W22","v":0},{"$f":"Ration!X22","v":0},{"$f":"Ration!Y22","v":0},{"$f":"Ration!Z22","v":0},{"$f":"Ration!AA22","v":0},{"$f":"Ration!AB22","v":0}]
[{"$f":"Ration!E12","v":0},{"$f":"Ration!B23","v":0},{"$f":"IF(Ration!F23=\"TM o. FM?\",\" \",Ration!F23)","v":0},{"$f":"Ration!H23","v":0},{"$f":"Ration!I23","v":0},{"$f":"Ration!K23","v":0},{"$f":"Ration!O23","v":0},{"$f":"Ration!P23","v":0},{"$f":"Ration!Q23","v":0},{"$f":"Ration!S23","v":0},{"$f":"Ration!T23","v":0},{"$f":"Ration!V23","v":0},{"$f":"Ration!W23","v":0},{"$f":"Ration!X23","v":0},{"$f":"Ration!Y23","v":0},{"$f":"Ration!Z23","v":0},{"$f":"Ration!AA23","v":0},{"$f":"Ration!AB23","v":0}]
[{"$f":"Ration!E13","v":0},{"$f":"Ration!B24","v":0},{"$f":"IF(Ration!F24=\"TM o. FM?\",\" \",Ration!F24)","v":0},{"$f":"Ration!H24","v":0},{"$f":"Ration!I24","v":0},{"$f":"Ration!K24","v":0},{"$f":"Ration!O24","v":0},{"$f":"Ration!P24","v":0},{"$f":"Ration!Q24","v":0},{"$f":"Ration!S24","v":0},{"$f":"Ration!T24","v":0},{"$f":"Ration!V24","v":0},{"$f":"Ration!W24","v":0},{"$f":"Ration!X24","v":0},{"$f":"Ration!Y24","v":0},{"$f":"Ration!Z24","v":0},{"$f":"Ration!AA24","v":0},{"$f":"Ration!AB24","v":0}]
[{"$f":"Ration!E26","v":0},"Konzentratfutter-Mischung 1",{"$f":"Ration!F26","v":0},{"$f":"Ration!H26","v":0},{"$f":"Ration!I26","v":0},{"$f":"Ration!K26","v":0},{"$f":"Ration!O26","v":0},{"$f":"Ration!P26","v":0},{"$f":"Ration!Q26","v":0},{"$f":"Ration!S26","v":0},{"$f":"Ration!T26","v":0},{"$f":"Ration!V26","v":""},{"$f":"Ration!W26","v":""},{"$f":"Ration!X26","v":""},{"$f":"Ration!Y26","v":""},{"$f":"Ration!Z26","v":""},{"$f":"Ration!AA26","v":""},{"$f":"Ration!AB26","v":""}]
[{"$f":"Ration!E27","v":0},"Konzentratfutter-Mischung 2",{"$f":"Ration!F27","v":0},{"$f":"Ration!H27","v":0},{"$f":"Ration!I27","v":0},{"$f":"Ration!K27","v":0},{"$f":"Ration!O27","v":0},{"$f":"Ration!P27","v":0},{"$f":"Ration!Q27","v":0},{"$f":"Ration!S27","v":0},{"$f":"Ration!T27","v":0},{"$f":"Ration!V27","v":""},{"$f":"Ration!W27","v":""},{"$f":"Ration!X27","v":""},{"$f":"Ration!Y27","v":""},{"$f":"Ration!Z27","v":""},{"$f":"Ration!AA27","v":""},{"$f":"Ration!AB27","v":""}]
[{"$f":"Ration!E29","v":0},"Summe Grob- und Konzentratfutter",{"$f":"Ration!D29","v":0},{"$f":"Ration!H29","v":0},{"$f":"Ration!I29","v":0},{"$f":"Ration!K29","v":0},{"$f":"Ration!O29","v":0},{"$f":"Ration!P29","v":0},{"$f":"Ration!Q29","v":0},{"$f":"Ration!S29","v":0},{"$f":"Ration!T29","v":0},{"$f":"Ration!V29","v":0},{"$f":"Ration!W29","v":0},{"$f":"Ration!X29","v":0},{"$f":"Ration!Y29","v":0},{"$f":"Ration!Z29","v":0},{"$f":"Ration!AA29","v":0},{"$f":"Ration!AB29","v":0}]
[]
["Sollwerte  Nähr- u. Mineralstoffv.",null,{"$f":"Ration!D31","v":0},null,{"$f":"Ration!I31","v":0},{"$f":"Ration!K31","v":0},{"$f":"Ration!O31","v":0},{"$f":"Ration!P31","v":0},{"$f":"Ration!Q31","v":0},{"$f":"Ration!S31","v":0},null,{"$f":"Ration!V31","v":0},{"$f":"Ration!W31","v":0},{"$f":"Ration!X31","v":0},{"$f":"Ration!Y31","v":0},{"$f":"Ration!Z31","v":0},{"$f":"Ration!AA31","v":0},{"$f":"Ration!AB31","v":0}]
["Differenz zu den Sollwerten",null,{"$f":"Ration!D32","v":0},null,{"$f":"Ration!I32","v":0},{"$f":"Ration!K32","v":0},{"$f":"Ration!O32","v":0},{"$f":"Ration!P32","v":0},{"$f":"Ration!Q32","v":0},{"$f":"Ration!S32","v":0},null,{"$f":"Ration!V32","v":0},{"$f":"Ration!W32","v":0},{"$f":"Ration!X32","v":0},{"$f":"Ration!Y32","v":0},{"$f":"Ration!Z32","v":0},{"$f":"Ration!AA32","v":0},{"$f":"Ration!AB32","v":0}]
[]
["Berechnung - Strukturbewertung d. Ration",null,"aNDFom %:",null,{"$f":"Ration!H33","v":0},null,null,"Strukturindex:",null,{"$f":"Ration!F33","v":0}]
[]
[]
["Futtermischung - Beladung Mischwagen"]
[]
[null,"Futterart","kg",null,null,"Anzahl der Tiere, Rationen :",null,null,null,null,{"$f":"Mengenberechnung!G2","v":10}]
[1,{"$f":"Mengenberechnung!C4","v":0},{"$f":"Mengenberechnung!F4","v":0}]
[2,{"$f":"Mengenberechnung!C5","v":0},{"$f":"Mengenberechnung!F5","v":0}]
[3,{"$f":"Mengenberechnung!C6","v":0},{"$f":"Mengenberechnung!F6","v":0},null,null,"Notiz :"]
[4,{"$f":"Mengenberechnung!C7","v":0},{"$f":"Mengenberechnung!F7","v":0}]
[5,{"$f":"Mengenberechnung!C8","v":0},{"$f":"Mengenberechnung!F8","v":0}]
[6,{"$f":"Mengenberechnung!C9","v":0},{"$f":"Mengenberechnung!F9","v":0}]
[7,{"$f":"Mengenberechnung!C10","v":0},{"$f":"Mengenberechnung!F10","v":0}]
[8,{"$f":"Mengenberechnung!C11","v":0},{"$f":"Mengenberechnung!F11","v":0}]
[9,{"$f":"Mengenberechnung!C12","v":0},{"$f":"Mengenberechnung!F12","v":0}]
[10,{"$f":"Mengenberechnung!C13","v":0},{"$f":"Mengenberechnung!F13","v":0}]
[0,{"$f":"Mengenberechnung!C14","v":"Mischung 1"},{"$f":"Mengenberechnung!F14","v":0}]
[null,"Mischung 2",{"$f":"Mengenberechnung!F15","v":0}]
[0,"Wasser",{"$f":"Mengenberechnung!F16","v":0}]
["Gesamtgewicht d. Ladung in kg ",null,{"$f":"Mengenberechnung!G11","v":0}]
[]
[{"$f":"Einstellung!$B$5","v":"Tierhaltungsschule"},null,{"$f":"Einstellung!$D$5","v":"Triesdorf"},null,null,null,{"$f":"Einstellung!B6","v":"Markgrafenstraße 12"},null,null,null,null,{"$f":"Einstellung!B7","v":91746},null,{"$f":"Einstellung!C7","v":"Weidenbach"}]
["Betriebsnummer",null,{"$f":"Einstellung!$B$8","v":"09 111 111 1111"},null,null,null,"www.triesdorf.de      -     ths@triesdorf.de"]
[]
["Konzentratfutter - Mischung 1                 Mischung kg :",null,null,{"$f":"Mengenberechnung!G18","v":1000},null,null,null,"Konzentratfutter - Mischung 2                        Mischung kg :",null,null,null,null,null,null,null,{"$f":"Mengenberechnung!G31","v":1000}]
[]
["Ant. %","Futterart",null,"Anteil kg",null,null,null,"Anteil %",null,"Futterart",null,null,null,null,null,"Anteil kg"]
[{"$f":"'Mischung 1'!C15","v":0},{"$f":"'Mischung 1'!B15","v":0},null,{"$f":"Mengenberechnung!F20","v":0},null,null,null,{"$f":"'Mischung 2'!C15","v":0},null,{"$f":"'Mischung 2'!B15","v":0},null,null,null,null,null,{"$f":"Mengenberechnung!F33","v":0}]
[{"$f":"'Mischung 1'!C16","v":0},{"$f":"'Mischung 1'!B16","v":0},null,{"$f":"Mengenberechnung!F21","v":0},null,null,null,{"$f":"'Mischung 2'!C16","v":0},null,{"$f":"'Mischung 2'!B16","v":0},null,null,null,null,null,{"$f":"Mengenberechnung!F34","v":0}]
[{"$f":"'Mischung 1'!C17","v":0},{"$f":"'Mischung 1'!B17","v":0},null,{"$f":"Mengenberechnung!F22","v":0},null,null,null,{"$f":"'Mischung 2'!C17","v":0},null,{"$f":"'Mischung 2'!B17","v":0},null,null,null,null,null,{"$f":"Mengenberechnung!F35","v":0}]
[{"$f":"'Mischung 1'!C18","v":0},{"$f":"'Mischung 1'!B18","v":0},null,{"$f":"Mengenberechnung!F23","v":0},null,null,null,{"$f":"'Mischung 2'!C18","v":0},null,{"$f":"'Mischung 2'!B18","v":0},null,null,null,null,null,{"$f":"Mengenberechnung!F36","v":0}]
[{"$f":"'Mischung 1'!C19","v":0},{"$f":"'Mischung 1'!B19","v":0},null,{"$f":"Mengenberechnung!F24","v":0},null,null,null,{"$f":"'Mischung 2'!C19","v":0},null,{"$f":"'Mischung 2'!B19","v":0},null,null,null,null,null,{"$f":"Mengenberechnung!F37","v":0}]
[{"$f":"'Mischung 1'!C20","v":0},{"$f":"'Mischung 1'!B20","v":0},null,{"$f":"Mengenberechnung!F25","v":0},null,null,null,{"$f":"'Mischung 2'!C20","v":0},null,{"$f":"'Mischung 2'!B20","v":0},null,null,null,null,null,{"$f":"Mengenberechnung!F38","v":0}]
[{"$f":"'Mischung 1'!C21","v":0},{"$f":"'Mischung 1'!B21","v":0},null,{"$f":"Mengenberechnung!F26","v":0},null,null,null,{"$f":"'Mischung 2'!C21","v":0},null,{"$f":"'Mischung 2'!B21","v":0},null,null,null,null,null,{"$f":"Mengenberechnung!F39","v":0}]
[{"$f":"'Mischung 1'!C22","v":0},{"$f":"'Mischung 1'!B22","v":0},null,{"$f":"Mengenberechnung!F27","v":0},null,null,null,{"$f":"'Mischung 2'!C22","v":0},null,{"$f":"'Mischung 2'!B22","v":0},null,null,null,null,null,{"$f":"Mengenberechnung!F40","v":0}]
[{"$f":"'Mischung 1'!C23","v":0},{"$f":"'Mischung 1'!B23","v":0},null,{"$f":"Mengenberechnung!F28","v":0},null,null,null,{"$f":"'Mischung 2'!C23","v":0},null,{"$f":"'Mischung 2'!B23","v":0},null,null,null,null,null,{"$f":"Mengenberechnung!F41","v":0}]
[{"$f":"'Mischung 1'!C24","v":0},{"$f":"'Mischung 1'!B24","v":0},null,{"$f":"Mengenberechnung!F29","v":0},null,null,null,{"$f":"'Mischung 2'!C24","v":0},null,{"$f":"'Mischung 2'!B24","v":0},null,null,null,null,null,{"$f":"Mengenberechnung!F42","v":0}]
[null,null,null,{"$f":"Mengenberechnung!G18","v":1000},null,null,null,null,null,null,null,null,null,null,null,{"$f":"Mengenberechnung!G31","v":1000}]