{"text_format":"1","workbook":"xlsx","n_sheets":7,"sheets":["Einstellung","Sollwerte","Ration","Mischung 1","Gruber Tabelle","Mengenberechnung","Ausdruck"],"not_rendered":{"charts":0,"images":14,"macros":1,"external_links":0,"defined_names":4,"comments":1,"pivot_tables":0},"unopened":[],"bounds":{"document_bytes":16777216,"sheet_cells":100000,"rows_first":2000,"rows_last":500,"rows_between":2000,"halvings":0,"cell_chars":16384,"cell_head_chars":4096},"cells_cut":0,"cells_raw":0,"read":"whole","date_system":"1900"}

{"sheet":"Einstellung","index":0,"n_rows":17,"n_cols":5,"rows_kept":17,"cut":false,"hidden":false,"merged":[[14,2,14,5],[24,1,24,12],[1,1,1,16],[2,1,2,16],[3,1,3,16],[15,2,15,5],[4,6,23,16],[13,2,13,5],[16,2,16,5],[17,2,23,5],[4,1,23,1],[4,2,4,5],[9,2,9,5],[5,2,5,3],[5,4,5,5],[6,2,6,5],[7,3,7,5],[8,2,8,5],[10,2,10,5],[11,2,11,5],[12,2,12,5]]}
[]
[]
[null,"Futterberechnung zur Fütterung von Geflügel"]
[null,"Gruber Tabelle, 27. Auflage / August 2022        www.LfL.bayern.de"]
[]
[null,null,"Tierhaltungsschule",null,"Triesdorf"]
[null,null,"Markgrafenstraße 1"]
[null,null,91746,"Weidenbach"]
[null,null,"09 111 222 1234"]
[null,null,"Freie Software  -  Keinerlei Gewährleistung !"]
[]
[null,null,"Update 04.04.2024"]
[null,null,"Tierhaltungsschule Triesdorf"]
[null,null,"ths@triesdorf.de"]
[]
[]
[null,null,"www.triesdorf.de"]

{"sheet":"Sollwerte","index":1,"n_rows":35,"n_cols":27,"rows_kept":35,"cut":false,"hidden":false,"merged":[[1,21,2,26],[2,2,2,20]]}
[]
[null,null,null,null,null,null,null,null,null,null,null,null,null,null,null,null,null,null,null,null,null,"Relation der Aminosäuren  -  Lysin : xx"]
[null,null,"Sollwerte für die Futterberechnung - Alle Felder können geändert werden. "]
["Tier","K. - Nr.","FM g","ME","XP g","Lys g","Met g","M+C g","Thr","Trp","Val","XF g","XS g","XZ g","XA g","Ca","P","vP g","vPph","Na","Mg","Lys","Met","M+C","Thr","Trp","Val"]
["Bitte Sollwerte auswählen  >>>",0,0,0,0,0,0,0,0,0,0,0,0,0,0,0,0,0,0,0,0,0,0,0,0,0,0]
["Kükenstarter 1. - 4. Lebenswoche",1,null,11.5,185,9.1999999999999993,4.2,7.5,null,null,null,40,500,50,60,10,7,null,null,1.6,null,1,0.46,0.82]
["Küken 4.- 8. Lebenswoche",2,null,11.2,163,7.75,3.56,6.34,null,null,null,40,500,50,60,9,6.5,null,null,1.6,null,1,0.46,0.82]
["Junghennen 10. Lebenswoche",3,null,11.05,194,7.46,3.36,6.09,null,null,null,40,500,50,50,7.4,7.1,null,null,1.6,null,1,0.45,0.82]
["Vorlegefutter 17. Lebenswoche",4,null,11.09,179,7.3,3.29,5.96,null,null,null,40,500,50,50,11.5,6.9,null,null,1.6,null,1,0.45,0.82]
[5,5]
["Legehennen Phase 1 bis ca. 30. Lebenswoche",6,null,11.6,180,9,4.2,6.3,5.2,1.7,null,45,500,50,120,38,5,null,null,1.5,0.45,1,0.45,0.82]
["Legehennen Phase 2 ab ca. 30. - 65. Lebensw.",7,null,11.4,175,7.6,3.8,6.6,5.4,1.8,null,50,500,50,120,37,5.5,null,null,1.5,0.4,1,0.45,0.82]
["Legehennen Phase 3 ab 65. Lebenswoche",8,null,11.2,155,7.5,3.5,6,4.9000000000000004,1.6,null,50,500,50,120,40,5,null,null,1.7,0.4,1,0.45,0.82]
[9,9]
["Putenmast män., 1. und 2. Woche",10,null,11.5,268,17.95,6,8,9.9,2.9,null,35,null,null,null,13,10,null,null,1.3,0.6]
["Putenmast män.,  3. und 4. Woche",11,null,11.8,254,16,5.6,8.4,9.1,2.7,null,36,null,null,null,13,10,null,null,1.3,0.6]
["Putenmast män.,  5. - 8. Woche",12,null,12.1,247,14.7,5.0999999999999996,8,8.6,2.5,null,40,null,null,null,12,9,null,null,1.2,0.55000000000000004]
["Putenmast män., 9. - 12. Woche",13,null,12.6,219,13.4,4.7,7.6,8,2.1,null,42,null,null,null,10,7.5,null,null,1.1000000000000001,0.5]
["Putenmast män.,  13. - 16. Woche",14,null,13,185,12.8,4.1500000000000004,6.75,6.7,1.9,null,43,null,null,null,9,6,null,null,1.1000000000000001,0.45]
["Putenmast män.,  17. - 20. Woche",15,null,13.2,160,10.5,3.6,5.9,5.9,1.7,null,45,null,null,null,7,5,null,null,1,0.4]
["Putenmast män., > 20. Woche ",16,null,13.4,120,8.6,2.8,4.7,4.7,1.5,null,45,null,null,null,5,4,null,null,0.9,0.35]
[17,17]
["Putenmast weibl., 1. und 2. Woche",18,null,11.5,266,17.899999999999999,6,8,9.8000000000000007,2.9,null,35,null,null,null,13,10,null,null,1.3,0.6]
["Putenmast weibl., 3. und 4. Woche",19,null,11.8,250,17,5.9,8.9,9.4,2.7,null,36,null,null,null,13,10,null,null,1.3,0.6]
["Putenmast weibl., 5. - 8. Woche",20,null,12.6,249,16.3,5.8,8.8000000000000007,9,2.5,null,40,null,null,null,11,9,null,null,1.2,0.55000000000000004]
["Putenmast weibl., 9. - 12. Woche",21,null,12.3,220,15.3,5.5,8.6,8.6,2.1,null,42,null,null,null,9,6,null,null,1,0.45]
["Putenmast weibl., 13. - 16. Woche",22,null,13.4,162,12,4.0999999999999996,6.7,6.6,1.9,null,43,null,null,null,7,5,null,null,0.8,0.45]
[23,23]
["Hähnchenmast Starter, 0. - 10. Lt.",24,null,12.65,235,14.3,5.0999999999999996,10.7,9.4,2.4,10.9,null,null,null,null,10.5,null,5,null,1.9,0.45]
["Hähnchenmast Mast, 11. - 24. Lt.",25,null,13.2,220,12.4,4.5,9.5,8.3000000000000007,2,9.6,null,null,null,null,9,null,4.5,null,1.8,0.35]
["Hähnchenmast Endmast I, 24. - 42. Lt. ",26,null,13.4,210,10.6,4,8.3000000000000007,7.2,1.7,8.3000000000000007,null,null,null,null,8.5,null,4.2,null,1.9,0.35]
["Hähnchenmast Endmast II, >42. Lt.",27,null,13.5,190,10,3.8,7.9,6.8,1.7,7.9,null,null,null,null,8.5,null,4.2,null,1.8,0.31]
[28,28]
[29,29]
[30,30]

{"sheet":"Ration","index":2,"n_rows":35,"n_cols":26,"rows_kept":35,"cut":false,"hidden":false,"merged":[[0,5,1,25],[0,0,0,4],[1,0,2,4],[3,1,3,4],[4,1,4,4],[5,1,5,4],[6,1,6,4],[7,1,7,4],[8,1,8,4],[9,1,9,4],[34,0,34,4],[27,0,27,1],[32,0,32,4],[32,12,32,13],[10,1,10,4],[11,1,11,4],[12,1,12,4],[30,0,30,4],[33,0,33,4],[24,0,24,1],[13,0,13,1],[29,0,29,4]]}
[]
[]
[null,null,null,null,null,"ME","XP g","Lys g","Met g","M+C g","Thr","Trp","Val","XF g","XS g","XZ g","XA g","Ca","P","vP g","vPph","Na","K","XL g","PFS g","Preis / dt"]
[null,{"$f":"VLOOKUP(A4,'Gruber Tabelle'!A4:X100,2,0)","v":0},null,null,null,{"$f":"VLOOKUP(A4,'Gruber Tabelle'!$A$5:$X$100,4,0)","v":0},{"$f":"VLOOKUP(A4,'Gruber Tabelle'!$A$5:$X$100,5,0)","v":0},{"$f":"VLOOKUP(A4,'Gruber Tabelle'!$A$5:$X$100,6,0)","v":0},{"$f":"VLOOKUP(A4,'Gruber Tabelle'!$A$5:$X$100,7,0)","v":0},{"$f":"VLOOKUP(A4,'Gruber Tabelle'!$A$5:$X$100,8,0)","v":0},{"$f":"VLOOKUP(A4,'Gruber Tabelle'!$A$5:$X$100,9,0)","v":0},{"$f":"VLOOKUP(A4,'Gruber Tabelle'!$A$5:$X$100,10,0)","v":0},{"$f":"VLOOKUP(A4,'Gruber Tabelle'!$A$5:$X$100,11,0)","v":0},{"$f":"VLOOKUP(A4,'Gruber Tabelle'!$A$5:$X$100,12,0)","v":0},{"$f":"VLOOKUP(A4,'Gruber Tabelle'!$A$5:$X$100,13,0)","v":0},{"$f":"VLOOKUP(A4,'Gruber Tabelle'!$A$5:$X$100,14,0)","v":0},{"$f":"VLOOKUP(A4,'Gruber Tabelle'!$A$5:$X$100,15,0)","v":0},{"$f":"VLOOKUP(A4,'Gruber Tabelle'!$A$5:$X$100,16,0)","v":0},{"$f":"VLOOKUP(A4,'Gruber Tabelle'!$A$5:$X$100,17,0)","v":0},{"$f":"VLOOKUP(A4,'Gruber Tabelle'!$A$5:$X$100,18,0)","v":0},{"$f":"VLOOKUP(A4,'Gruber Tabelle'!$A$5:$X$100,19,0)","v":0},{"$f":"VLOOKUP(A4,'Gruber Tabelle'!$A$5:$X$100,20,0)","v":0},{"$f":"VLOOKUP(A4,'Gruber Tabelle'!$A$5:$X$100,21,0)","v":0},{"$f":"VLOOKUP(A4,'Gruber Tabelle'!$A$5:$X$100,22,0)","v":0},{"$f":"VLOOKUP(A4,'Gruber Tabelle'!$A$5:$X$100,23,0)","v":0},{"$f":"VLOOKUP(A4,'Gruber Tabelle'!$A$5:$X$100,24,0)","v":0}]
[null,{"$f":"VLOOKUP(A5,'Gruber Tabelle'!A5:X100,2,0)","v":0},null,null,null,{"$f":"VLOOKUP(A5,'Gruber Tabelle'!$A$5:$X$100,4,0)","v":0},{"$f":"VLOOKUP(A5,'Gruber Tabelle'!$A$5:$X$100,5,0)","v":0},{"$f":"VLOOKUP(A5,'Gruber Tabelle'!$A$5:$X$100,6,0)","v":0},{"$f":"VLOOKUP(A5,'Gruber Tabelle'!$A$5:$X$100,7,0)","v":0},{"$f":"VLOOKUP(A5,'Gruber Tabelle'!$A$5:$X$100,8,0)","v":0},{"$f":"VLOOKUP(A5,'Gruber Tabelle'!$A$5:$X$100,9,0)","v":0},{"$f":"VLOOKUP(A5,'Gruber Tabelle'!$A$5:$X$100,10,0)","v":0},{"$f":"VLOOKUP(A5,'Gruber Tabelle'!$A$5:$X$100,11,0)","v":0},{"$f":"VLOOKUP(A5,'Gruber Tabelle'!$A$5:$X$100,12,0)","v":0},{"$f":"VLOOKUP(A5,'Gruber Tabelle'!$A$5:$X$100,13,0)","v":0},{"$f":"VLOOKUP(A5,'Gruber Tabelle'!$A$5:$X$100,14,0)","v":0},{"$f":"VLOOKUP(A5,'Gruber Tabelle'!$A$5:$X$100,15,0)","v":0},{"$f":"VLOOKUP(A5,'Gruber Tabelle'!$A$5:$X$100,16,0)","v":0},{"$f":"VLOOKUP(A5,'Gruber Tabelle'!$A$5:$X$100,17,0)","v":0},{"$f":"VLOOKUP(A5,'Gruber Tabelle'!$A$5:$X$100,18,0)","v":0},{"$f":"VLOOKUP(A5,'Gruber Tabelle'!$A$5:$X$100,19,0)","v":0},{"$f":"VLOOKUP(A5,'Gruber Tabelle'!$A$5:$X$100,20,0)","v":0},{"$f":"VLOOKUP(A5,'Gruber Tabelle'!$A$5:$X$100,21,0)","v":0},{"$f":"VLOOKUP(A5,'Gruber Tabelle'!$A$5:$X$100,22,0)","v":0},{"$f":"VLOOKUP(A5,'Gruber Tabelle'!$A$5:$X$100,23,0)","v":0},{"$f":"VLOOKUP(A5,'Gruber Tabelle'!$A$5:$X$100,24,0)","v":0}]
[null,{"$f":"VLOOKUP(A6,'Gruber Tabelle'!A5:X100,2,0)","v":0},null,null,null,{"$f":"VLOOKUP(A6,'Gruber Tabelle'!$A$5:$X$100,4,0)","v":0},{"$f":"VLOOKUP(A6,'Gruber Tabelle'!$A$5:$X$100,5,0)","v":0},{"$f":"VLOOKUP(A6,'Gruber Tabelle'!$A$5:$X$100,6,0)","v":0},{"$f":"VLOOKUP(A6,'Gruber Tabelle'!$A$5:$X$100,7,0)","v":0},{"$f":"VLOOKUP(A6,'Gruber Tabelle'!$A$5:$X$100,8,0)","v":0},{"$f":"VLOOKUP(A6,'Gruber Tabelle'!$A$5:$X$100,9,0)","v":0},{"$f":"VLOOKUP(A6,'Gruber Tabelle'!$A$5:$X$100,10,0)","v":0},{"$f":"VLOOKUP(A6,'Gruber Tabelle'!$A$5:$X$100,11,0)","v":0},{"$f":"VLOOKUP(A6,'Gruber Tabelle'!$A$5:$X$100,12,0)","v":0},{"$f":"VLOOKUP(A6,'Gruber Tabelle'!$A$5:$X$100,13,0)","v":0},{"$f":"VLOOKUP(A6,'Gruber Tabelle'!$A$5:$X$100,14,0)","v":0},{"$f":"VLOOKUP(A6,'Gruber Tabelle'!$A$5:$X$100,15,0)","v":0},{"$f":"VLOOKUP(A6,'Gruber Tabelle'!$A$5:$X$100,16,0)","v":0},{"$f":"VLOOKUP(A6,'Gruber Tabelle'!$A$5:$X$100,17,0)","v":0},{"$f":"VLOOKUP(A6,'Gruber Tabelle'!$A$5:$X$100,18,0)","v":0},{"$f":"VLOOKUP(A6,'Gruber Tabelle'!$A$5:$X$100,19,0)","v":0},{"$f":"VLOOKUP(A6,'Gruber Tabelle'!$A$5:$X$100,20,0)","v":0},{"$f":"VLOOKUP(A6,'Gruber Tabelle'!$A$5:$X$100,21,0)","v":0},{"$f":"VLOOKUP(A6,'Gruber Tabelle'!$A$5:$X$100,22,0)","v":0},{"$f":"VLOOKUP(A6,'Gruber Tabelle'!$A$5:$X$100,23,0)","v":0},{"$f":"VLOOKUP(A6,'Gruber Tabelle'!$A$5:$X$100,24,0)","v":0}]
[null,{"$f":"VLOOKUP(A7,'Gruber Tabelle'!A5:X100,2,0)","v":0},null,null,null,{"$f":"VLOOKUP(A7,'Gruber Tabelle'!$A$5:$X$100,4,0)","v":0},{"$f":"VLOOKUP(A7,'Gruber Tabelle'!$A$5:$X$100,5,0)","v":0},{"$f":"VLOOKUP(A7,'Gruber Tabelle'!$A$5:$X$100,6,0)","v":0},{"$f":"VLOOKUP(A7,'Gruber Tabelle'!$A$5:$X$100,7,0)","v":0},{"$f":"VLOOKUP(A7,'Gruber Tabelle'!$A$5:$X$100,8,0)","v":0},{"$f":"VLOOKUP(A7,'Gruber Tabelle'!$A$5:$X$100,9,0)","v":0},{"$f":"VLOOKUP(A7,'Gruber Tabelle'!$A$5:$X$100,10,0)","v":0},{"$f":"VLOOKUP(A7,'Gruber Tabelle'!$A$5:$X$100,11,0)","v":0},{"$f":"VLOOKUP(A7,'Gruber Tabelle'!$A$5:$X$100,12,0)","v":0},{"$f":"VLOOKUP(A7,'Gruber Tabelle'!$A$5:$X$100,13,0)","v":0},{"$f":"VLOOKUP(A7,'Gruber Tabelle'!$A$5:$X$100,14,0)","v":0},{"$f":"VLOOKUP(A7,'Gruber Tabelle'!$A$5:$X$100,15,0)","v":0},{"$f":"VLOOKUP(A7,'Gruber Tabelle'!$A$5:$X$100,16,0)","v":0},{"$f":"VLOOKUP(A7,'Gruber Tabelle'!$A$5:$X$100,17,0)","v":0},{"$f":"VLOOKUP(A7,'Gruber Tabelle'!$A$5:$X$100,18,0)","v":0},{"$f":"VLOOKUP(A7,'Gruber Tabelle'!$A$5:$X$100,19,0)","v":0},{"$f":"VLOOKUP(A7,'Gruber Tabelle'!$A$5:$X$100,20,0)","v":0},{"$f":"VLOOKUP(A7,'Gruber Tabelle'!$A$5:$X$100,21,0)","v":0},{"$f":"VLOOKUP(A7,'Gruber Tabelle'!$A$5:$X$100,22,0)","v":0},{"$f":"VLOOKUP(A7,'Gruber Tabelle'!$A$5:$X$100,23,0)","v":0},{"$f":"VLOOKUP(A7,'Gruber Tabelle'!$A$5:$X$100,24,0)","v":0}]
[null,{"$f":"VLOOKUP(A8,'Gruber Tabelle'!A5:X100,2,0)","v":0},null,null,null,{"$f":"VLOOKUP(A8,'Gruber Tabelle'!$A$5:$X$100,4,0)","v":0},{"$f":"VLOOKUP(A8,'Gruber Tabelle'!$A$5:$X$100,5,0)","v":0},{"$f":"VLOOKUP(A8,'Gruber Tabelle'!$A$5:$X$100,6,0)","v":0},{"$f":"VLOOKUP(A8,'Gruber Tabelle'!$A$5:$X$100,7,0)","v":0},{"$f":"VLOOKUP(A8,'Gruber Tabelle'!$A$5:$X$100,8,0)","v":0},{"$f":"VLOOKUP(A8,'Gruber Tabelle'!$A$5:$X$100,9,0)","v":0},{"$f":"VLOOKUP(A8,'Gruber Tabelle'!$A$5:$X$100,10,0)","v":0},{"$f":"VLOOKUP(A8,'Gruber Tabelle'!$A$5:$X$100,11,0)","v":0},{"$f":"VLOOKUP(A8,'Gruber Tabelle'!$A$5:$X$100,12,0)","v":0},{"$f":"VLOOKUP(A8,'Gruber Tabelle'!$A$5:$X$100,13,0)","v":0},{"$f":"VLOOKUP(A8,'Gruber Tabelle'!$A$5:$X$100,14,0)","v":0},{"$f":"VLOOKUP(A8,'Gruber Tabelle'!$A$5:$X$100,15,0)","v":0},{"$f":"VLOOKUP(A8,'Gruber Tabelle'!$A$5:$X$100,16,0)","v":0},{"$f":"VLOOKUP(A8,'Gruber Tabelle'!$A$5:$X$100,17,0)","v":0},{"$f":"VLOOKUP(A8,'Gruber Tabelle'!$A$5:$X$100,18,0)","v":0},{"$f":"VLOOKUP(A8,'Gruber Tabelle'!$A$5:$X$100,19,0)","v":0},{"$f":"VLOOKUP(A8,'Gruber Tabelle'!$A$5:$X$100,20,0)","v":0},{"$f":"VLOOKUP(A8,'Gruber Tabelle'!$A$5:$X$100,21,0)","v":0},{"$f":"VLOOKUP(A8,'Gruber Tabelle'!$A$5:$X$100,22,0)","v":0},{"$f":"VLOOKUP(A8,'Gruber Tabelle'!$A$5:$X$100,23,0)","v":0},{"$f":"VLOOKUP(A8,'Gruber Tabelle'!$A$5:$X$100,24,0)","v":0}]
[null,{"$f":"VLOOKUP(A9,'Gruber Tabelle'!A5:X100,2,0)","v":0},null,null,null,{"$f":"VLOOKUP(A9,'Gruber Tabelle'!$A$5:$X$100,4,0)","v":0},{"$f":"VLOOKUP(A9,'Gruber Tabelle'!$A$5:$X$100,5,0)","v":0},{"$f":"VLOOKUP(A9,'Gruber Tabelle'!$A$5:$X$100,6,0)","v":0},{"$f":"VLOOKUP(A9,'Gruber Tabelle'!$A$5:$X$100,7,0)","v":0},{"$f":"VLOOKUP(A9,'Gruber Tabelle'!$A$5:$X$100,8,0)","v":0},{"$f":"VLOOKUP(A9,'Gruber Tabelle'!$A$5:$X$100,9,0)","v":0},{"$f":"VLOOKUP(A9,'Gruber Tabelle'!$A$5:$X$100,10,0)","v":0},{"$f":"VLOOKUP(A9,'Gruber Tabelle'!$A$5:$X$100,11,0)","v":0},{"$f":"VLOOKUP(A9,'Gruber Tabelle'!$A$5:$X$100,12,0)","v":0},{"$f":"VLOOKUP(A9,'Gruber Tabelle'!$A$5:$X$100,13,0)","v":0},{"$f":"VLOOKUP(A9,'Gruber Tabelle'!$A$5:$X$100,14,0)","v":0},{"$f":"VLOOKUP(A9,'Gruber Tabelle'!$A$5:$X$100,15,0)","v":0},{"$f":"VLOOKUP(A9,'Gruber Tabelle'!$A$5:$X$100,16,0)","v":0},{"$f":"VLOOKUP(A9,'Gruber Tabelle'!$A$5:$X$100,17,0)","v":0},{"$f":"VLOOKUP(A9,'Gruber Tabelle'!$A$5:$X$100,18,0)","v":0},{"$f":"VLOOKUP(A9,'Gruber Tabelle'!$A$5:$X$100,19,0)","v":0},{"$f":"VLOOKUP(A9,'Gruber Tabelle'!$A$5:$X$100,20,0)","v":0},{"$f":"VLOOKUP(A9,'Gruber Tabelle'!$A$5:$X$100,21,0)","v":0},{"$f":"VLOOKUP(A9,'Gruber Tabelle'!$A$5:$X$100,22,0)","v":0},{"$f":"VLOOKUP(A9,'Gruber Tabelle'!$A$5:$X$100,23,0)","v":0},{"$f":"VLOOKUP(A9,'Gruber Tabelle'!$A$5:$X$100,24,0)","v":0}]
[null,{"$f":"VLOOKUP(A10,'Gruber Tabelle'!A5:X100,2,0)","v":0},null,null,null,{"$f":"VLOOKUP(A10,'Gruber Tabelle'!$A$5:$X$100,4,0)","v":0},{"$f":"VLOOKUP(A10,'Gruber Tabelle'!$A$5:$X$100,5,0)","v":0},{"$f":"VLOOKUP(A10,'Gruber Tabelle'!$A$5:$X$100,6,0)","v":0},{"$f":"VLOOKUP(A10,'Gruber Tabelle'!$A$5:$X$100,7,0)","v":0},{"$f":"VLOOKUP(A10,'Gruber Tabelle'!$A$5:$X$100,8,0)","v":0},{"$f":"VLOOKUP(A10,'Gruber Tabelle'!$A$5:$X$100,9,0)","v":0},{"$f":"VLOOKUP(A10,'Gruber Tabelle'!$A$5:$X$100,10,0)","v":0},{"$f":"VLOOKUP(A10,'Gruber Tabelle'!$A$5:$X$100,11,0)","v":0},{"$f":"VLOOKUP(A10,'Gruber Tabelle'!$A$5:$X$100,12,0)","v":0},{"$f":"VLOOKUP(A10,'Gruber Tabelle'!$A$5:$X$100,13,0)","v":0},{"$f":"VLOOKUP(A10,'Gruber Tabelle'!$A$5:$X$100,14,0)","v":0},{"$f":"VLOOKUP(A10,'Gruber Tabelle'!$A$5:$X$100,15,0)","v":0},{"$f":"VLOOKUP(A10,'Gruber Tabelle'!$A$5:$X$100,16,0)","v":0},{"$f":"VLOOKUP(A10,'Gruber Tabelle'!$A$5:$X$100,17,0)","v":0},{"$f":"VLOOKUP(A10,'Gruber Tabelle'!$A$5:$X$100,18,0)","v":0},{"$f":"VLOOKUP(A10,'Gruber Tabelle'!$A$5:$X$100,19,0)","v":0},{"$f":"VLOOKUP(A10,'Gruber Tabelle'!$A$5:$X$100,20,0)","v":0},{"$f":"VLOOKUP(A10,'Gruber Tabelle'!$A$5:$X$100,21,0)","v":0},{"$f":"VLOOKUP(A10,'Gruber Tabelle'!$A$5:$X$100,22,0)","v":0},{"$f":"VLOOKUP(A10,'Gruber Tabelle'!$A$5:$X$100,23,0)","v":0},{"$f":"VLOOKUP(A10,'Gruber Tabelle'!$A$5:$X$100,24,0)","v":0}]
[null,{"$f":"VLOOKUP(A11,'Gruber Tabelle'!A5:X100,2,0)","v":0},null,null,null,{"$f":"VLOOKUP(A11,'Gruber Tabelle'!$A$5:$X$100,4,0)","v":0},{"$f":"VLOOKUP(A11,'Gruber Tabelle'!$A$5:$X$100,5,0)","v":0},{"$f":"VLOOKUP(A11,'Gruber Tabelle'!$A$5:$X$100,6,0)","v":0},{"$f":"VLOOKUP(A11,'Gruber Tabelle'!$A$5:$X$100,7,0)","v":0},{"$f":"VLOOKUP(A11,'Gruber Tabelle'!$A$5:$X$100,8,0)","v":0},{"$f":"VLOOKUP(A11,'Gruber Tabelle'!$A$5:$X$100,9,0)","v":0},{"$f":"VLOOKUP(A11,'Gruber Tabelle'!$A$5:$X$100,10,0)","v":0},{"$f":"VLOOKUP(A11,'Gruber Tabelle'!$A$5:$X$100,11,0)","v":0},{"$f":"VLOOKUP(A11,'Gruber Tabelle'!$A$5:$X$100,12,0)","v":0},{"$f":"VLOOKUP(A11,'Gruber Tabelle'!$A$5:$X$100,13,0)","v":0},{"$f":"VLOOKUP(A11,'Gruber Tabelle'!$A$5:$X$100,14,0)","v":0},{"$f":"VLOOKUP(A11,'Gruber Tabelle'!$A$5:$X$100,15,0)","v":0},{"$f":"VLOOKUP(A11,'Gruber Tabelle'!$A$5:$X$100,16,0)","v":0},{"$f":"VLOOKUP(A11,'Gruber Tabelle'!$A$5:$X$100,17,0)","v":0},{"$f":"VLOOKUP(A11,'Gruber Tabelle'!$A$5:$X$100,18,0)","v":0},{"$f":"VLOOKUP(A11,'Gruber Tabelle'!$A$5:$X$100,19,0)","v":0},{"$f":"VLOOKUP(A11,'Gruber Tabelle'!$A$5:$X$100,20,0)","v":0},{"$f":"VLOOKUP(A11,'Gruber Tabelle'!$A$5:$X$100,21,0)","v":0},{"$f":"VLOOKUP(A11,'Gruber Tabelle'!$A$5:$X$100,22,0)","v":0},{"$f":"VLOOKUP(A11,'Gruber Tabelle'!$A$5:$X$100,23,0)","v":0},{"$f":"VLOOKUP(A11,'Gruber Tabelle'!$A$5:$X$100,24,0)","v":0}]
[null,{"$f":"VLOOKUP(A12,'Gruber Tabelle'!A5:X100,2,0)","v":0},null,null,null,{"$f":"VLOOKUP(A12,'Gruber Tabelle'!$A$5:$X$100,4,0)","v":0},{"$f":"VLOOKUP(A12,'Gruber Tabelle'!$A$5:$X$100,5,0)","v":0},{"$f":"VLOOKUP(A12,'Gruber Tabelle'!$A$5:$X$100,6,0)","v":0},{"$f":"VLOOKUP(A12,'Gruber Tabelle'!$A$5:$X$100,7,0)","v":0},{"$f":"VLOOKUP(A12,'Gruber Tabelle'!$A$5:$X$100,8,0)","v":0},{"$f":"VLOOKUP(A12,'Gruber Tabelle'!$A$5:$X$100,9,0)","v":0},{"$f":"VLOOKUP(A12,'Gruber Tabelle'!$A$5:$X$100,10,0)","v":0},{"$f":"VLOOKUP(A12,'Gruber Tabelle'!$A$5:$X$100,11,0)","v":0},{"$f":"VLOOKUP(A12,'Gruber Tabelle'!$A$5:$X$100,12,0)","v":0},{"$f":"VLOOKUP(A12,'Gruber Tabelle'!$A$5:$X$100,13,0)","v":0},{"$f":"VLOOKUP(A12,'Gruber Tabelle'!$A$5:$X$100,14,0)","v":0},{"$f":"VLOOKUP(A12,'Gruber Tabelle'!$A$5:$X$100,15,0)","v":0},{"$f":"VLOOKUP(A12,'Gruber Tabelle'!$A$5:$X$100,16,0)","v":0},{"$f":"VLOOKUP(A12,'Gruber Tabelle'!$A$5:$X$100,17,0)","v":0},{"$f":"VLOOKUP(A12,'Gruber Tabelle'!$A$5:$X$100,18,0)","v":0},{"$f":"VLOOKUP(A12,'Gruber Tabelle'!$A$5:$X$100,19,0)","v":0},{"$f":"VLOOKUP(A12,'Gruber Tabelle'!$A$5:$X$100,20,0)","v":0},{"$f":"VLOOKUP(A12,'Gruber Tabelle'!$A$5:$X$100,21,0)","v":0},{"$f":"VLOOKUP(A12,'Gruber Tabelle'!$A$5:$X$100,22,0)","v":0},{"$f":"VLOOKUP(A12,'Gruber Tabelle'!$A$5:$X$100,23,0)","v":0},{"$f":"VLOOKUP(A12,'Gruber Tabelle'!$A$5:$X$100,24,0)","v":0}]
[null,{"$f":"VLOOKUP(A13,'Gruber Tabelle'!A5:X100,2,0)","v":0},null,null,null,{"$f":"VLOOKUP(A13,'Gruber Tabelle'!$A$5:$X$100,4,0)","v":0},{"$f":"VLOOKUP(A13,'Gruber Tabelle'!$A$5:$X$100,5,0)","v":0},{"$f":"VLOOKUP(A13,'Gruber Tabelle'!$A$5:$X$100,6,0)","v":0},{"$f":"VLOOKUP(A13,'Gruber Tabelle'!$A$5:$X$100,7,0)","v":0},{"$f":"VLOOKUP(A13,'Gruber Tabelle'!$A$5:$X$100,8,0)","v":0},{"$f":"VLOOKUP(A13,'Gruber Tabelle'!$A$5:$X$100,9,0)","v":0},{"$f":"VLOOKUP(A13,'Gruber Tabelle'!$A$5:$X$100,10,0)","v":0},{"$f":"VLOOKUP(A13,'Gruber Tabelle'!$A$5:$X$100,11,0)","v":0},{"$f":"VLOOKUP(A13,'Gruber Tabelle'!$A$5:$X$100,12,0)","v":0},{"$f":"VLOOKUP(A13,'Gruber Tabelle'!$A$5:$X$100,13,0)","v":0},{"$f":"VLOOKUP(A13,'Gruber Tabelle'!$A$5:$X$100,14,0)","v":0},{"$f":"VLOOKUP(A13,'Gruber Tabelle'!$A$5:$X$100,15,0)","v":0},{"$f":"VLOOKUP(A13,'Gruber Tabelle'!$A$5:$X$100,16,0)","v":0},{"$f":"VLOOKUP(A13,'Gruber Tabelle'!$A$5:$X$100,17,0)","v":0},{"$f":"VLOOKUP(A13,'Gruber Tabelle'!$A$5:$X$100,18,0)","v":0},{"$f":"VLOOKUP(A13,'Gruber Tabelle'!$A$5:$X$100,19,0)","v":0},{"$f":"VLOOKUP(A13,'Gruber Tabelle'!$A$5:$X$100,20,0)","v":0},{"$f":"VLOOKUP(A13,'Gruber Tabelle'!$A$5:$X$100,21,0)","v":0},{"$f":"VLOOKUP(A13,'Gruber Tabelle'!$A$5:$X$100,22,0)","v":0},{"$f":"VLOOKUP(A13,'Gruber Tabelle'!$A$5:$X$100,23,0)","v":0},{"$f":"VLOOKUP(A13,'Gruber Tabelle'!$A$5:$X$100,24,0)","v":0}]
["Ration - Berechnung",null,"Ant. %","FM g","TM g","ME","XP g","Lys g","Met g","M+C g","Thr","Trp","Val","XF g","XS g","XZ g","XA g","Ca","P","vP g","vPph","Na","K","XL g","PFS g","Preis"]
[{"$f":"A4","v":0},0,null,{"$f":"IF(C15>0,1000*C15,0)","v":0},{"$f":"VLOOKUP(A4,'Gruber Tabelle'!$A$5:$T$263,3,0)*C15","v":0},{"$f":"IF(C15>0,C15*F4,0)","v":0},{"$f":"IF(C15>0,G4*C15,0)","v":0},{"$f":"IF(C15>0,H4*C15,0)","v":0},{"$f":"IF(C15>0,I4*C15,0)","v":0},{"$f":"IF(C15>0,J4*C15,0)","v":0},{"$f":"IF(C15>0,K4*C15,0)","v":0},{"$f":"IF(C15>0,L4*C15,0)","v":0},{"$f":"IF(C15>0,M4*C15,0)","v":0},{"$f":"IF(C15>0,N4*C15,0)","v":0},{"$f":"IF(C15>0,O4*C15,0)","v":0},{"$f":"IF(C15>0,P4*C15,0)","v":0},{"$f":"IF(C15>0,Q4*C15,0)","v":0},{"$f":"IF(C15>0,R4*C15,0)","v":0},{"$f":"IF(C15>0,S4*C15,0)","v":0},{"$f":"IF(C15>0,T4*C15,0)","v":0},{"$f":"IF(C15>0,U4*C15,0)","v":0},{"$f":"IF(C15>0,V4*C15,0)","v":0},{"$f":"IF(C15>0,W4*C15,0)","v":0},{"$f":"IF(C15>0,X4*C15,0)","v":0},{"$f":"IF(C15>0,Y4*C15,0)","v":0},{"$f":"IF(C15>0,Z4*D15/10000,0)","v":0}]
[0,0,null,{"$f":"IF(C16>0,1000*C16,0)","v":0},{"$f":"VLOOKUP(A5,'Gruber Tabelle'!$A$5:$T$263,3,0)*C16","v":0},0,0,0,0,0,0,0,0,0,0,0,0,0,0,0,0,0,0,0,0,{"$f":"IF(C16>0,Z5*D16/10000,0)","v":0}]
[0,0,null,0,{"$f":"VLOOKUP(A6,'Gruber Tabelle'!$A$5:$T$263,3,0)*C17","v":0},0,0,0,0,0,0,0,0,0,0,0,0,0,0,0,0,0,0,0,0,0]
[0,0,null,0,{"$f":"VLOOKUP(A7,'Gruber Tabelle'!$A$5:$T$263,3,0)*C18","v":0},0,0,0,0,0,0,0,0,0,0,0,0,0,0,0,0,0,0,0,0,0]
[0,0,null,0,{"$f":"VLOOKUP(A8,'Gruber Tabelle'!$A$5:$T$263,3,0)*C19","v":0},0,0,0,0,0,0,0,0,0,0,0,0,0,0,0,0,0,0,0,0,0]
[0,0,null,0,{"$f":"VLOOKUP(A9,'Gruber Tabelle'!$A$5:$T$263,3,0)*C20","v":0},0,0,0,0,0,0,0,0,0,0,0,0,0,0,0,0,0,0,0,0,0]
[0,0,null,0,{"$f":"VLOOKUP(A10,'Gruber Tabelle'!$A$5:$T$263,3,0)*C21","v":0},0,0,0,0,0,0,0,0,0,0,0,0,0,0,0,0,0,0,0,0,0]
[0,0,null,0,{"$f":"VLOOKUP(A11,'Gruber Tabelle'!$A$5:$T$263,3,0)*C22","v":0},0,0,0,0,0,0,0,0,0,0,0,0,0,0,0,0,0,0,0,0,0]
[0,0,null,0,{"$f":"VLOOKUP(A12,'Gruber Tabelle'!$A$5:$T$263,3,0)*C23","v":0},0,0,0,0,0,0,0,0,0,0,0,0,0,0,0,0,0,0,0,0,0]
[0,0,null,0,{"$f":"VLOOKUP(A13,'Gruber Tabelle'!$A$5:$T$263,3,0)*C24","v":0},0,0,0,0,0,0,0,0,0,0,0,0,0,0,0,0,0,0,0,0,0]
["Summen:",null,{"$f":"SUM(C15:C24)","v":0},{"$f":"SUM(D15:D24)","v":0},{"$f":"SUM(E15:E24)","v":0},{"$f":"SUM(F15:F24)","v":0},0,0,0,0,0,0,0,0,0,0,0,0,0,0,0,0,0,0,0,0]
[null,"Anteil Basis - Ration",1,null,{"$f":"IF(C26>0,E25*C26,0)","v":0},{"$f":"IF(C26>0,F25*C26,0)","v":0},{"$f":"IF(C26>0,G25*C26,0)","v":0},{"$f":"IF(C26>0,H25*C26,0)","v":0},{"$f":"IF(C26>0,I25*C26,0)","v":0},{"$f":"IF(C26>0,J25*C26,0)","v":0},{"$f":"IF(C26>0,K25*C26,0)","v":0},{"$f":"IF(C26>0,L25*C26,0)","v":0},{"$f":"IF(C26>0,M25*C26,0)","v":0},{"$f":"IF(C26>0,N25*C26,0)","v":0},{"$f":"IF(C26>0,O25*C26,0)","v":0},{"$f":"IF(C26>0,P25*C26,0)","v":0},{"$f":"IF(C26>0,Q25*C26,0)","v":0},{"$f":"IF(C26>0,R25*C26,0)","v":0},{"$f":"IF(C26>0,S25*C26,0)","v":0},{"$f":"IF(C26>0,T25*C26,0)","v":0},{"$f":"IF(C26>0,U25*C26,0)","v":0},{"$f":"IF(C26>0,V25*C26,0)","v":0},{"$f":"IF(C26>0,W25*C26,0)","v":0},{"$f":"IF(C26>0,X25*C26,0)","v":0},{"$f":"IF(C26>0,Y25*C26,0)","v":0},{"$f":"IF(C26>0,Z25*C26,0)","v":0}]
[null,"Anteil Mischung 1",null,null,{"$f":"IF(C27>0,'Mischung 1'!E25*C27,0)","v":0},{"$f":"IF(C27>0,'Mischung 1'!F25*C27,0)","v":0},{"$f":"IF(C27>0,'Mischung 1'!G25*C27,0)","v":0},{"$f":"IF(C27>0,'Mischung 1'!H25*C27,0)","v":0},{"$f":"IF(C27>0,'Mischung 1'!I25*C27,0)","v":0},{"$f":"IF(C27>0,'Mischung 1'!J25*C27,0)","v":0},{"$f":"IF(C27>0,'Mischung 1'!K25*C27,0)","v":0},{"$f":"IF(C27>0,'Mischung 1'!L25*C27,0)","v":0},{"$f":"IF(C27>0,'Mischung 1'!M25*C27,0)","v":0},{"$f":"IF(C27>0,'Mischung 1'!N25*C27,0)","v":0},{"$f":"IF(C27>0,'Mischung 1'!O25*C27,0)","v":0},{"$f":"IF(C27>0,'Mischung 1'!P25*C27,0)","v":0},{"$f":"IF(C27>0,'Mischung 1'!Q25*C27,0)","v":0},{"$f":"IF(C27>0,'Mischung 1'!R25*C27,0)","v":0},{"$f":"IF(C27>0,'Mischung 1'!S25*C27,0)","v":0},{"$f":"IF(C27>0,'Mischung 1'!T25*C27,0)","v":0},{"$f":"IF(C27>0,'Mischung 1'!U25*C27,0)","v":0},{"$f":"IF(C27>0,'Mischung 1'!V25*C27,0)","v":0},{"$f":"IF(C27>0,'Mischung 1'!W25*C27,0)","v":0},{"$f":"IF(C27>0,'Mischung 1'!X25*C27,0)","v":0},{"$f":"IF(C27>0,'Mischung 1'!Y25*C27,0)","v":0},{"$f":"IF(C27>0,'Mischung 1'!Z25*C27,0)","v":0}]
["Summe Ration + Mischung 1:",null,{"$f":"SUM(C26:C27)","v":1},{"$f":"D26+D27","v":0},{"$f":"E26+E27","v":0},0,0,0,0,0,0,0,0,0,0,0,0,0,0,0,0,0,0,0,0,0]
[]
["Bitte Sollwerte auswählen  >>>",null,null,null,null,{"$f":"IFERROR(VLOOKUP($A$30,Sollwerte!$A$5:$W$35,4,0),0)","v":0},{"$f":"IFERROR(VLOOKUP($A$30,Sollwerte!$A$5:$W$35,5,0),0)","v":0},{"$f":"IFERROR(VLOOKUP($A$30,Sollwerte!$A$5:$W$35,6,0),0)","v":0},{"$f":"IFERROR(VLOOKUP($A$30,Sollwerte!$A$5:$W$35,7,0),0)","v":0},{"$f":"IFERROR(VLOOKUP($A$30,Sollwerte!$A$5:$W$35,8,0),0)","v":0},{"$f":"IFERROR(VLOOKUP($A$30,Sollwerte!$A$5:$W$35,9,0),0)","v":0},{"$f":"IFERROR(VLOOKUP($A$30,Sollwerte!$A$5:$W$35,10,0),0)","v":0},{"$f":"IFERROR(VLOOKUP($A$30,Sollwerte!$A$5:$W$35,11,0),0)","v":0},{"$f":"IFERROR(VLOOKUP($A$30,Sollwerte!$A$5:$W$35,12,0),0)","v":0},{"$f":"IFERROR(VLOOKUP($A$30,Sollwerte!$A$5:$W$35,13,0),0)","v":0},{"$f":"IFERROR(VLOOKUP($A$30,Sollwerte!$A$5:$W$35,14,0),0)","v":0},{"$f":"IFERROR(VLOOKUP($A$30,Sollwerte!$A$5:$W$35,15,0),0)","v":0},{"$f":"IFERROR(VLOOKUP($A$30,Sollwerte!$A$5:$W$35,16,0),0)","v":0},{"$f":"IFERROR(VLOOKUP($A$30,Sollwerte!$A$5:$W$35,17,0),0)","v":0},{"$f":"IFERROR(VLOOKUP($A$30,Sollwerte!$A$5:$W$35,18,0),0)","v":0},{"$f":"IFERROR(VLOOKUP($A$30,Sollwerte!$A$5:$W$35,19,0),0)","v":0},{"$f":"IFERROR(VLOOKUP($A$30,Sollwerte!$A$5:$W$35,20,0),0)","v":0}]
["Differenz zum Sollwert",null,null,null,null,{"$f":"IF(F30>0,F28-F30,0)","v":0},{"$f":"IF(G30>0,G28-G30,0)","v":0},0,0,0,0,0,0,0,0,0,0,0,0,0,0,0,0,0,0]
[]
["Aminosäurenrelation Sollwerte",null,null,null,null,"Lys",":  Met",":  M+C",":  Thr",":  Trp",":  Val",null,"Verhältnis Ca / P"]
[{"$f":"A30","v":"Bitte Sollwerte auswählen  >>>"},null,null,null,null,{"$f":"IFERROR(VLOOKUP($A$30,Sollwerte!$A$5:$AA$35,22,0),0)","v":0},{"$f":"IFERROR(VLOOKUP($A$30,Sollwerte!$A$5:$AA$35,23,0),0)","v":0},{"$f":"IFERROR(VLOOKUP($A$30,Sollwerte!$A$5:$AA$35,24,0),0)","v":0},{"$f":"IFERROR(VLOOKUP($A$30,Sollwerte!$A$5:$AA$35,25,0),0)","v":0},{"$f":"IFERROR(VLOOKUP($A$30,Sollwerte!$A$5:$AA$35,26,0),0)","v":0},{"$f":"IFERROR(VLOOKUP($A$30,Sollwerte!$A$5:$AA$35,27,0),0)","v":0},null,"Ca","P"]
["Aminosäurenrelation Istwerte",null,null,null,null,{"$f":"IF(H28>0,1,0)","v":0},{"$f":"IF(I28>0,I28/H28,0)","v":0},{"$f":"IF(J28>0,J28/H28,0)","v":0},{"$f":"IF(K28>0,K28/H28,0)","v":0},{"$f":"IF(L28>0,L28/H28,0)","v":0},{"$f":"IF(M28>0,M28/H28,0)","v":0},null,{"$f":"IFERROR(IF(R28>0,R28/S28,\"\"),0)","v":""},{"$f":"IFERROR(IF(M35>0,1),0)","v":1}]

{"sheet":"Mischung 1","index":3,"n_rows":25,"n_cols":26,"rows_kept":25,"cut":false,"hidden":false,"merged":[[0,5,1,25],[0,0,1,4],[12,1,12,4],[13,0,13,1],[2,0,2,4],[24,0,24,1],[3,1,3,4],[4,1,4,4],[5,1,5,4],[6,1,6,4],[7,1,7,4],[8,1,8,4],[9,1,9,4],[10,1,10,4],[11,1,11,4]]}
[null,null,null,null,null,"Mischung 1"]
[]
["Mischung 1 zusammenstellen",null,null,null,null,"ME","XP g","Lys g","Met g","M+C g","Thr","Trp","Val","XF g","XS g","XZ g","XA g","Ca","P","vP g","vPph","Na","K","XL g","PFS g","Preis € / dt"]
[null,{"$f":"VLOOKUP(A4,'Gruber Tabelle'!A5:X100,2,0)","v":0},null,null,null,{"$f":"VLOOKUP(A4,'Gruber Tabelle'!$A$5:$X$100,4,0)","v":0},{"$f":"VLOOKUP(A4,'Gruber Tabelle'!$A$5:$X$100,5,0)","v":0},{"$f":"VLOOKUP(A4,'Gruber Tabelle'!$A$5:$X$100,6,0)","v":0},{"$f":"VLOOKUP(A4,'Gruber Tabelle'!$A$5:$X$100,7,0)","v":0},{"$f":"VLOOKUP(A4,'Gruber Tabelle'!$A$5:$X$100,8,0)","v":0},{"$f":"VLOOKUP(A4,'Gruber Tabelle'!$A$5:$X$100,9,0)","v":0},{"$f":"VLOOKUP(A4,'Gruber Tabelle'!$A$5:$X$100,10,0)","v":0},{"$f":"VLOOKUP(A4,'Gruber Tabelle'!$A$5:$X$100,11,0)","v":0},{"$f":"VLOOKUP(A4,'Gruber Tabelle'!$A$5:$X$100,12,0)","v":0},{"$f":"VLOOKUP(A4,'Gruber Tabelle'!$A$5:$X$100,13,0)","v":0},{"$f":"VLOOKUP(A4,'Gruber Tabelle'!$A$5:$X$100,14,0)","v":0},{"$f":"VLOOKUP(A4,'Gruber Tabelle'!$A$5:$X$100,15,0)","v":0},{"$f":"VLOOKUP(A4,'Gruber Tabelle'!$A$5:$X$100,16,0)","v":0},{"$f":"VLOOKUP(A4,'Gruber Tabelle'!$A$5:$X$100,17,0)","v":0},{"$f":"VLOOKUP(A4,'Gruber Tabelle'!$A$5:$X$100,18,0)","v":0},{"$f":"VLOOKUP(A4,'Gruber Tabelle'!$A$5:$X$100,19,0)","v":0},{"$f":"VLOOKUP(A4,'Gruber Tabelle'!$A$5:$X$100,20,0)","v":0},{"$f":"VLOOKUP(A4,'Gruber Tabelle'!$A$5:$X$100,21,0)","v":0},{"$f":"VLOOKUP(A4,'Gruber Tabelle'!$A$5:$X$100,22,0)","v":0},{"$f":"VLOOKUP(A4,'Gruber Tabelle'!$A$5:$X$100,23,0)","v":0},{"$f":"VLOOKUP(A4,'Gruber Tabelle'!$A$5:$X$100,24,0)","v":0}]
[null,{"$f":"VLOOKUP(A5,'Gruber Tabelle'!A5:X100,2,0)","v":0},null,null,null,{"$f":"VLOOKUP(A5,'Gruber Tabelle'!$A$5:$X$100,4,0)","v":0},{"$f":"VLOOKUP(A5,'Gruber Tabelle'!$A$5:$X$100,5,0)","v":0},{"$f":"VLOOKUP(A5,'Gruber Tabelle'!$A$5:$X$100,6,0)","v":0},{"$f":"VLOOKUP(A5,'Gruber Tabelle'!$A$5:$X$100,7,0)","v":0},{"$f":"VLOOKUP(A5,'Gruber Tabelle'!$A$5:$X$100,8,0)","v":0},{"$f":"VLOOKUP(A5,'Gruber Tabelle'!$A$5:$X$100,9,0)","v":0},{"$f":"VLOOKUP(A5,'Gruber Tabelle'!$A$5:$X$100,10,0)","v":0},{"$f":"VLOOKUP(A5,'Gruber Tabelle'!$A$5:$X$100,11,0)","v":0},{"$f":"VLOOKUP(A5,'Gruber Tabelle'!$A$5:$X$100,12,0)","v":0},{"$f":"VLOOKUP(A5,'Gruber Tabelle'!$A$5:$X$100,13,0)","v":0},{"$f":"VLOOKUP(A5,'Gruber Tabelle'!$A$5:$X$100,14,0)","v":0},{"$f":"VLOOKUP(A5,'Gruber Tabelle'!$A$5:$X$100,15,0)","v":0},{"$f":"VLOOKUP(A5,'Gruber Tabelle'!$A$5:$X$100,16,0)","v":0},{"$f":"VLOOKUP(A5,'Gruber Tabelle'!$A$5:$X$100,17,0)","v":0},{"$f":"VLOOKUP(A5,'Gruber Tabelle'!$A$5:$X$100,18,0)","v":0},{"$f":"VLOOKUP(A5,'Gruber Tabelle'!$A$5:$X$100,19,0)","v":0},{"$f":"VLOOKUP(A5,'Gruber Tabelle'!$A$5:$X$100,20,0)","v":0},{"$f":"VLOOKUP(A5,'Gruber Tabelle'!$A$5:$X$100,21,0)","v":0},{"$f":"VLOOKUP(A5,'Gruber Tabelle'!$A$5:$X$100,22,0)","v":0},{"$f":"VLOOKUP(A5,'Gruber Tabelle'!$A$5:$X$100,23,0)","v":0},{"$f":"VLOOKUP(A5,'Gruber Tabelle'!$A$5:$X$100,24,0)","v":0}]
[null,{"$f":"VLOOKUP(A6,'Gruber Tabelle'!A5:X100,2,0)","v":0},null,null,null,{"$f":"VLOOKUP(A6,'Gruber Tabelle'!$A$5:$X$100,4,0)","v":0},{"$f":"VLOOKUP(A6,'Gruber Tabelle'!$A$5:$X$100,5,0)","v":0},{"$f":"VLOOKUP(A6,'Gruber Tabelle'!$A$5:$X$100,6,0)","v":0},{"$f":"VLOOKUP(A6,'Gruber Tabelle'!$A$5:$X$100,7,0)","v":0},{"$f":"VLOOKUP(A6,'Gruber Tabelle'!$A$5:$X$100,8,0)","v":0},{"$f":"VLOOKUP(A6,'Gruber Tabelle'!$A$5:$X$100,9,0)","v":0},{"$f":"VLOOKUP(A6,'Gruber Tabelle'!$A$5:$X$100,10,0)","v":0},{"$f":"VLOOKUP(A6,'Gruber Tabelle'!$A$5:$X$100,11,0)","v":0},{"$f":"VLOOKUP(A6,'Gruber Tabelle'!$A$5:$X$100,12,0)","v":0},{"$f":"VLOOKUP(A6,'Gruber Tabelle'!$A$5:$X$100,13,0)","v":0},{"$f":"VLOOKUP(A6,'Gruber Tabelle'!$A$5:$X$100,14,0)","v":0},{"$f":"VLOOKUP(A6,'Gruber Tabelle'!$A$5:$X$100,15,0)","v":0},{"$f":"VLOOKUP(A6,'Gruber Tabelle'!$A$5:$X$100,16,0)","v":0},{"$f":"VLOOKUP(A6,'Gruber Tabelle'!$A$5:$X$100,17,0)","v":0},{"$f":"VLOOKUP(A6,'Gruber Tabelle'!$A$5:$X$100,18,0)","v":0},{"$f":"VLOOKUP(A6,'Gruber Tabelle'!$A$5:$X$100,19,0)","v":0},{"$f":"VLOOKUP(A6,'Gruber Tabelle'!$A$5:$X$100,20,0)","v":0},{"$f":"VLOOKUP(A6,'Gruber Tabelle'!$A$5:$X$100,21,0)","v":0},{"$f":"VLOOKUP(A6,'Gruber Tabelle'!$A$5:$X$100,22,0)","v":0},{"$f":"VLOOKUP(A6,'Gruber Tabelle'!$A$5:$X$100,23,0)","v":0},{"$f":"VLOOKUP(A6,'Gruber Tabelle'!$A$5:$X$100,24,0)","v":0}]
[null,{"$f":"VLOOKUP(A7,'Gruber Tabelle'!A5:X100,2,0)","v":0},null,null,null,{"$f":"VLOOKUP(A7,'Gruber Tabelle'!$A$5:$X$100,4,0)","v":0},{"$f":"VLOOKUP(A7,'Gruber Tabelle'!$A$5:$X$100,5,0)","v":0},{"$f":"VLOOKUP(A7,'Gruber Tabelle'!$A$5:$X$100,6,0)","v":0},{"$f":"VLOOKUP(A7,'Gruber Tabelle'!$A$5:$X$100,7,0)","v":0},{"$f":"VLOOKUP(A7,'Gruber Tabelle'!$A$5:$X$100,8,0)","v":0},{"$f":"VLOOKUP(A7,'Gruber Tabelle'!$A$5:$X$100,9,0)","v":0},{"$f":"VLOOKUP(A7,'Gruber Tabelle'!$A$5:$X$100,10,0)","v":0},{"$f":"VLOOKUP(A7,'Gruber Tabelle'!$A$5:$X$100,11,0)","v":0},{"$f":"VLOOKUP(A7,'Gruber Tabelle'!$A$5:$X$100,12,0)","v":0},{"$f":"VLOOKUP(A7,'Gruber Tabelle'!$A$5:$X$100,13,0)","v":0},{"$f":"VLOOKUP(A7,'Gruber Tabelle'!$A$5:$X$100,14,0)","v":0},{"$f":"VLOOKUP(A7,'Gruber Tabelle'!$A$5:$X$100,15,0)","v":0},{"$f":"VLOOKUP(A7,'Gruber Tabelle'!$A$5:$X$100,16,0)","v":0},{"$f":"VLOOKUP(A7,'Gruber Tabelle'!$A$5:$X$100,17,0)","v":0},{"$f":"VLOOKUP(A7,'Gruber Tabelle'!$A$5:$X$100,18,0)","v":0},{"$f":"VLOOKUP(A7,'Gruber Tabelle'!$A$5:$X$100,19,0)","v":0},{"$f":"VLOOKUP(A7,'Gruber Tabelle'!$A$5:$X$100,20,0)","v":0},{"$f":"VLOOKUP(A7,'Gruber Tabelle'!$A$5:$X$100,21,0)","v":0},{"$f":"VLOOKUP(A7,'Gruber Tabelle'!$A$5:$X$100,22,0)","v":0},{"$f":"VLOOKUP(A7,'Gruber Tabelle'!$A$5:$X$100,23,0)","v":0},{"$f":"VLOOKUP(A7,'Gruber Tabelle'!$A$5:$X$100,24,0)","v":0}]
[null,{"$f":"VLOOKUP(A8,'Gruber Tabelle'!A5:X100,2,0)","v":0},null,null,null,{"$f":"VLOOKUP(A8,'Gruber Tabelle'!$A$5:$X$100,4,0)","v":0},{"$f":"VLOOKUP(A8,'Gruber Tabelle'!$A$5:$X$100,5,0)","v":0},{"$f":"VLOOKUP(A8,'Gruber Tabelle'!$A$5:$X$100,6,0)","v":0},{"$f":"VLOOKUP(A8,'Gruber Tabelle'!$A$5:$X$100,7,0)","v":0},{"$f":"VLOOKUP(A8,'Gruber Tabelle'!$A$5:$X$100,8,0)","v":0},{"$f":"VLOOKUP(A8,'Gruber Tabelle'!$A$5:$X$100,9,0)","v":0},{"$f":"VLOOKUP(A8,'Gruber Tabelle'!$A$5:$X$100,10,0)","v":0},{"$f":"VLOOKUP(A8,'Gruber Tabelle'!$A$5:$X$100,11,0)","v":0},{"$f":"VLOOKUP(A8,'Gruber Tabelle'!$A$5:$X$100,12,0)","v":0},{"$f":"VLOOKUP(A8,'Gruber Tabelle'!$A$5:$X$100,13,0)","v":0},{"$f":"VLOOKUP(A8,'Gruber Tabelle'!$A$5:$X$100,14,0)","v":0},{"$f":"VLOOKUP(A8,'Gruber Tabelle'!$A$5:$X$100,15,0)","v":0},{"$f":"VLOOKUP(A8,'Gruber Tabelle'!$A$5:$X$100,16,0)","v":0},{"$f":"VLOOKUP(A8,'Gruber Tabelle'!$A$5:$X$100,17,0)","v":0},{"$f":"VLOOKUP(A8,'Gruber Tabelle'!$A$5:$X$100,18,0)","v":0},{"$f":"VLOOKUP(A8,'Gruber Tabelle'!$A$5:$X$100,19,0)","v":0},{"$f":"VLOOKUP(A8,'Gruber Tabelle'!$A$5:$X$100,20,0)","v":0},{"$f":"VLOOKUP(A8,'Gruber Tabelle'!$A$5:$X$100,21,0)","v":0},{"$f":"VLOOKUP(A8,'Gruber Tabelle'!$A$5:$X$100,22,0)","v":0},{"$f":"VLOOKUP(A8,'Gruber Tabelle'!$A$5:$X$100,23,0)","v":0},{"$f":"VLOOKUP(A8,'Gruber Tabelle'!$A$5:$X$100,24,0)","v":0}]
[null,{"$f":"VLOOKUP(A9,'Gruber Tabelle'!A5:X100,2,0)","v":0},null,null,null,{"$f":"VLOOKUP(A9,'Gruber Tabelle'!$A$5:$X$100,4,0)","v":0},{"$f":"VLOOKUP(A9,'Gruber Tabelle'!$A$5:$X$100,5,0)","v":0},{"$f":"VLOOKUP(A9,'Gruber Tabelle'!$A$5:$X$100,6,0)","v":0},{"$f":"VLOOKUP(A9,'Gruber Tabelle'!$A$5:$X$100,7,0)","v":0},{"$f":"VLOOKUP(A9,'Gruber Tabelle'!$A$5:$X$100,8,0)","v":0},{"$f":"VLOOKUP(A9,'Gruber Tabelle'!$A$5:$X$100,9,0)","v":0},{"$f":"VLOOKUP(A9,'Gruber Tabelle'!$A$5:$X$100,10,0)","v":0},{"$f":"VLOOKUP(A9,'Gruber Tabelle'!$A$5:$X$100,11,0)","v":0},{"$f":"VLOOKUP(A9,'Gruber Tabelle'!$A$5:$X$100,12,0)","v":0},{"$f":"VLOOKUP(A9,'Gruber Tabelle'!$A$5:$X$100,13,0)","v":0},{"$f":"VLOOKUP(A9,'Gruber Tabelle'!$A$5:$X$100,14,0)","v":0},{"$f":"VLOOKUP(A9,'Gruber Tabelle'!$A$5:$X$100,15,0)","v":0},{"$f":"VLOOKUP(A9,'Gruber Tabelle'!$A$5:$X$100,16,0)","v":0},{"$f":"VLOOKUP(A9,'Gruber Tabelle'!$A$5:$X$100,17,0)","v":0},{"$f":"VLOOKUP(A9,'Gruber Tabelle'!$A$5:$X$100,18,0)","v":0},{"$f":"VLOOKUP(A9,'Gruber Tabelle'!$A$5:$X$100,19,0)","v":0},{"$f":"VLOOKUP(A9,'Gruber Tabelle'!$A$5:$X$100,20,0)","v":0},{"$f":"VLOOKUP(A9,'Gruber Tabelle'!$A$5:$X$100,21,0)","v":0},{"$f":"VLOOKUP(A9,'Gruber Tabelle'!$A$5:$X$100,22,0)","v":0},{"$f":"VLOOKUP(A9,'Gruber Tabelle'!$A$5:$X$100,23,0)","v":0},{"$f":"VLOOKUP(A9,'Gruber Tabelle'!$A$5:$X$100,24,0)","v":0}]
[null,{"$f":"VLOOKUP(A10,'Gruber Tabelle'!A5:X100,2,0)","v":0},null,null,null,{"$f":"VLOOKUP(A10,'Gruber Tabelle'!$A$5:$X$100,4,0)","v":0},{"$f":"VLOOKUP(A10,'Gruber Tabelle'!$A$5:$X$100,5,0)","v":0},{"$f":"VLOOKUP(A10,'Gruber Tabelle'!$A$5:$X$100,6,0)","v":0},{"$f":"VLOOKUP(A10,'Gruber Tabelle'!$A$5:$X$100,7,0)","v":0},{"$f":"VLOOKUP(A10,'Gruber Tabelle'!$A$5:$X$100,8,0)","v":0},{"$f":"VLOOKUP(A10,'Gruber Tabelle'!$A$5:$X$100,9,0)","v":0},{"$f":"VLOOKUP(A10,'Gruber Tabelle'!$A$5:$X$100,10,0)","v":0},{"$f":"VLOOKUP(A10,'Gruber Tabelle'!$A$5:$X$100,11,0)","v":0},{"$f":"VLOOKUP(A10,'Gruber Tabelle'!$A$5:$X$100,12,0)","v":0},{"$f":"VLOOKUP(A10,'Gruber Tabelle'!$A$5:$X$100,13,0)","v":0},{"$f":"VLOOKUP(A10,'Gruber Tabelle'!$A$5:$X$100,14,0)","v":0},{"$f":"VLOOKUP(A10,'Gruber Tabelle'!$A$5:$X$100,15,0)","v":0},{"$f":"VLOOKUP(A10,'Gruber Tabelle'!$A$5:$X$100,16,0)","v":0},{"$f":"VLOOKUP(A10,'Gruber Tabelle'!$A$5:$X$100,17,0)","v":0},{"$f":"VLOOKUP(A10,'Gruber Tabelle'!$A$5:$X$100,18,0)","v":0},{"$f":"VLOOKUP(A10,'Gruber Tabelle'!$A$5:$X$100,19,0)","v":0},{"$f":"VLOOKUP(A10,'Gruber Tabelle'!$A$5:$X$100,20,0)","v":0},{"$f":"VLOOKUP(A10,'Gruber Tabelle'!$A$5:$X$100,21,0)","v":0},{"$f":"VLOOKUP(A10,'Gruber Tabelle'!$A$5:$X$100,22,0)","v":0},{"$f":"VLOOKUP(A10,'Gruber Tabelle'!$A$5:$X$100,23,0)","v":0},{"$f":"VLOOKUP(A10,'Gruber Tabelle'!$A$5:$X$100,24,0)","v":0}]
[null,{"$f":"VLOOKUP(A11,'Gruber Tabelle'!A5:X100,2,0)","v":0},null,null,null,{"$f":"VLOOKUP(A11,'Gruber Tabelle'!$A$5:$X$100,4,0)","v":0},{"$f":"VLOOKUP(A11,'Gruber Tabelle'!$A$5:$X$100,5,0)","v":0},{"$f":"VLOOKUP(A11,'Gruber Tabelle'!$A$5:$X$100,6,0)","v":0},{"$f":"VLOOKUP(A11,'Gruber Tabelle'!$A$5:$X$100,7,0)","v":0},{"$f":"VLOOKUP(A11,'Gruber Tabelle'!$A$5:$X$100,8,0)","v":0},{"$f":"VLOOKUP(A11,'Gruber Tabelle'!$A$5:$X$100,9,0)","v":0},{"$f":"VLOOKUP(A11,'Gruber Tabelle'!$A$5:$X$100,10,0)","v":0},{"$f":"VLOOKUP(A11,'Gruber Tabelle'!$A$5:$X$100,11,0)","v":0},{"$f":"VLOOKUP(A11,'Gruber Tabelle'!$A$5:$X$100,12,0)","v":0},{"$f":"VLOOKUP(A11,'Gruber Tabelle'!$A$5:$X$100,13,0)","v":0},{"$f":"VLOOKUP(A11,'Gruber Tabelle'!$A$5:$X$100,14,0)","v":0},{"$f":"VLOOKUP(A11,'Gruber Tabelle'!$A$5:$X$100,15,0)","v":0},{"$f":"VLOOKUP(A11,'Gruber Tabelle'!$A$5:$X$100,16,0)","v":0},{"$f":"VLOOKUP(A11,'Gruber Tabelle'!$A$5:$X$100,17,0)","v":0},{"$f":"VLOOKUP(A11,'Gruber Tabelle'!$A$5:$X$100,18,0)","v":0},{"$f":"VLOOKUP(A11,'Gruber Tabelle'!$A$5:$X$100,19,0)","v":0},{"$f":"VLOOKUP(A11,'Gruber Tabelle'!$A$5:$X$100,20,0)","v":0},{"$f":"VLOOKUP(A11,'Gruber Tabelle'!$A$5:$X$100,21,0)","v":0},{"$f":"VLOOKUP(A11,'Gruber Tabelle'!$A$5:$X$100,22,0)","v":0},{"$f":"VLOOKUP(A11,'Gruber Tabelle'!$A$5:$X$100,23,0)","v":0},{"$f":"VLOOKUP(A11,'Gruber Tabelle'!$A$5:$X$100,24,0)","v":0}]
[null,{"$f":"VLOOKUP(A12,'Gruber Tabelle'!A5:X100,2,0)","v":0},null,null,null,{"$f":"VLOOKUP(A12,'Gruber Tabelle'!$A$5:$X$100,4,0)","v":0},{"$f":"VLOOKUP(A12,'Gruber Tabelle'!$A$5:$X$100,5,0)","v":0},{"$f":"VLOOKUP(A12,'Gruber Tabelle'!$A$5:$X$100,6,0)","v":0},{"$f":"VLOOKUP(A12,'Gruber Tabelle'!$A$5:$X$100,7,0)","v":0},{"$f":"VLOOKUP(A12,'Gruber Tabelle'!$A$5:$X$100,8,0)","v":0},{"$f":"VLOOKUP(A12,'Gruber Tabelle'!$A$5:$X$100,9,0)","v":0},{"$f":"VLOOKUP(A12,'Gruber Tabelle'!$A$5:$X$100,10,0)","v":0},{"$f":"VLOOKUP(A12,'Gruber Tabelle'!$A$5:$X$100,11,0)","v":0},{"$f":"VLOOKUP(A12,'Gruber Tabelle'!$A$5:$X$100,12,0)","v":0},{"$f":"VLOOKUP(A12,'Gruber Tabelle'!$A$5:$X$100,13,0)","v":0},{"$f":"VLOOKUP(A12,'Gruber Tabelle'!$A$5:$X$100,14,0)","v":0},{"$f":"VLOOKUP(A12,'Gruber Tabelle'!$A$5:$X$100,15,0)","v":0},{"$f":"VLOOKUP(A12,'Gruber Tabelle'!$A$5:$X$100,16,0)","v":0},{"$f":"VLOOKUP(A12,'Gruber Tabelle'!$A$5:$X$100,17,0)","v":0},{"$f":"VLOOKUP(A12,'Gruber Tabelle'!$A$5:$X$100,18,0)","v":0},{"$f":"VLOOKUP(A12,'Gruber Tabelle'!$A$5:$X$100,19,0)","v":0},{"$f":"VLOOKUP(A12,'Gruber Tabelle'!$A$5:$X$100,20,0)","v":0},{"$f":"VLOOKUP(A12,'Gruber Tabelle'!$A$5:$X$100,21,0)","v":0},{"$f":"VLOOKUP(A12,'Gruber Tabelle'!$A$5:$X$100,22,0)","v":0},{"$f":"VLOOKUP(A12,'Gruber Tabelle'!$A$5:$X$100,23,0)","v":0},{"$f":"VLOOKUP(A12,'Gruber Tabelle'!$A$5:$X$100,24,0)","v":0}]
[null,{"$f":"VLOOKUP(A13,'Gruber Tabelle'!A5:X100,2,0)","v":0},null,null,null,{"$f":"VLOOKUP(A13,'Gruber Tabelle'!$A$5:$X$100,4,0)","v":0},{"$f":"VLOOKUP(A13,'Gruber Tabelle'!$A$5:$X$100,5,0)","v":0},{"$f":"VLOOKUP(A13,'Gruber Tabelle'!$A$5:$X$100,6,0)","v":0},{"$f":"VLOOKUP(A13,'Gruber Tabelle'!$A$5:$X$100,7,0)","v":0},{"$f":"VLOOKUP(A13,'Gruber Tabelle'!$A$5:$X$100,8,0)","v":0},{"$f":"VLOOKUP(A13,'Gruber Tabelle'!$A$5:$X$100,9,0)","v":0},{"$f":"VLOOKUP(A13,'Gruber Tabelle'!$A$5:$X$100,10,0)","v":0},{"$f":"VLOOKUP(A13,'Gruber Tabelle'!$A$5:$X$100,11,0)","v":0},{"$f":"VLOOKUP(A13,'Gruber Tabelle'!$A$5:$X$100,12,0)","v":0},{"$f":"VLOOKUP(A13,'Gruber Tabelle'!$A$5:$X$100,13,0)","v":0},{"$f":"VLOOKUP(A13,'Gruber Tabelle'!$A$5:$X$100,14,0)","v":0},{"$f":"VLOOKUP(A13,'Gruber Tabelle'!$A$5:$X$100,15,0)","v":0},{"$f":"VLOOKUP(A13,'Gruber Tabelle'!$A$5:$X$100,16,0)","v":0},{"$f":"VLOOKUP(A13,'Gruber Tabelle'!$A$5:$X$100,17,0)","v":0},{"$f":"VLOOKUP(A13,'Gruber Tabelle'!$A$5:$X$100,18,0)","v":0},{"$f":"VLOOKUP(A13,'Gruber Tabelle'!$A$5:$X$100,19,0)","v":0},{"$f":"VLOOKUP(A13,'Gruber Tabelle'!$A$5:$X$100,20,0)","v":0},{"$f":"VLOOKUP(A13,'Gruber Tabelle'!$A$5:$X$100,21,0)","v":0},{"$f":"VLOOKUP(A13,'Gruber Tabelle'!$A$5:$X$100,22,0)","v":0},{"$f":"VLOOKUP(A13,'Gruber Tabelle'!$A$5:$X$100,23,0)","v":0},{"$f":"VLOOKUP(A13,'Gruber Tabelle'!$A$5:$X$100,24,0)","v":0}]
["Mischung 1 berechnen",null,"Mischungs- Anteil","FM g","TM g","ME","XP g","Lys g","Met g","M+C g","Thr","Trp","Val","XF g","XS g","XZ g","XA g","Ca","P","vP g","vPph","Na","K","XL g","PFS g","Preis"]
[{"$f":"A4","v":0},0,null,{"$f":"IF(C15>0,1000*C15,0)","v":0},{"$f":"IF(C15>0,VLOOKUP(A4,'Gruber Tabelle'!$A$5:$X$100,3,0)*C15,0)","v":0},{"$f":"IF(C15>0,F4*C15,0)","v":0},{"$f":"IF(C15>0,G4*C15,0)","v":0},{"$f":"IF(C15>0,H4*C15,0)","v":0},{"$f":"IF(C15>0,I4*C15,0)","v":0},{"$f":"IF(C15>0,J4*C15,0)","v":0},{"$f":"IF(C15>0,K4*C15,0)","v":0},{"$f":"IF(C15>0,L4*C15,0)","v":0},{"$f":"IF(C15>0,M4*C15,0)","v":0},{"$f":"IF(C15>0,N4*C15,0)","v":0},{"$f":"IF(C15>0,O4*C15,0)","v":0},{"$f":"IF(C15>0,P4*C15,0)","v":0},{"$f":"IF(C15>0,Q4*C15,0)","v":0},{"$f":"IF(C15>0,R4*C15,0)","v":0},{"$f":"IF(C15>0,S4*C15,0)","v":0},{"$f":"IF(C15>0,T4*C15,0)","v":0},{"$f":"IF(C15>0,U4*C15,0)","v":0},{"$f":"IF(C15>0,V4*C15,0)","v":0},{"$f":"IF(C15>0,W4*C15,0)","v":0},{"$f":"IF(C15>0,X4*C15,0)","v":0},{"$f":"IF(C15>0,Y4*C15,0)","v":0},{"$f":"IF(C15>0,Z4*D15/10000,0)","v":0}]
[0,0,null,{"$f":"IF(C16>0,1000*C16,0)","v":0},{"$f":"IF(C16>0,VLOOKUP(A5,'Gruber Tabelle'!$A$5:$X$100,3,0)*C16,0)","v":0},{"$f":"IF(C16>0,F5*C16,0)","v":0},{"$f":"IF(C16>0,G5*C16,0)","v":0},{"$f":"IF(C16>0,H5*C16,0)","v":0},{"$f":"IF(C16>0,I5*C16,0)","v":0},{"$f":"IF(C16>0,J5*C16,0)","v":0},{"$f":"IF(C16>0,K5*C16,0)","v":0},{"$f":"IF(C16>0,L5*C16,0)","v":0},{"$f":"IF(C16>0,M5*C16,0)","v":0},{"$f":"IF(N5>0,N5*C16,\" \")","v":" "},{"$f":"IF(C16>0,O5*C16,0)","v":0},{"$f":"IF(C16>0,P5*C16,0)","v":0},{"$f":"IF(C16>0,Q5*C16,0)","v":0},{"$f":"IF(C16>0,R5*C16,0)","v":0},{"$f":"IF(C16>0,S5*C16,0)","v":0},{"$f":"IF(C16>0,T5*C16,0)","v":0},{"$f":"IF(C16>0,U5*C16,0)","v":0},{"$f":"IF(C16>0,V5*C16,0)","v":0},{"$f":"IF(C16>0,W5*C16,0)","v":0},{"$f":"IF(C16>0,X5*C16,0)","v":0},{"$f":"IF(C16>0,Y5*C16,0)","v":0},{"$f":"IF(C16>0,Z5*D16/10000,0)","v":0}]
[0,0,null,0,{"$f":"IF(C17>0,VLOOKUP(A6,'Gruber Tabelle'!$A$5:$X$100,3,0)*C17,0)","v":0},0,0,0,0,0,0,0,0," ",0,0,0,0,0,0,0,0,0,0,0,0]
[0,0,null,0,{"$f":"IF(C18>0,VLOOKUP(A7,'Gruber Tabelle'!$A$5:$X$100,3,0)*C18,0)","v":0},0,0,0,0,0,0,0,0," ",0,0,0,0,0,0,0,0,0,0,0,0]
[0,0,null,0,{"$f":"IF(C19>0,VLOOKUP(A8,'Gruber Tabelle'!$A$5:$X$100,3,0)*C19,0)","v":0},0,0,0,0,0,0,0,0," ",0,0,0,0,0,0,0,0,0,0,0,0]
[0,0,null,0,{"$f":"IF(C20>0,VLOOKUP(A9,'Gruber Tabelle'!$A$5:$X$100,3,0)*C20,0)","v":0},0,0,0,0,0,0,0,0," ",0,0,0,0,0,0,0,0,0,0,0,0]
[0,0,null,0,{"$f":"IF(C21>0,VLOOKUP(A10,'Gruber Tabelle'!$A$5:$X$100,3,0)*C21,0)","v":0},0,0,0,0,0,0,0,0," ",0,0,0,0,0,0,0,0,0,0,0,0]
[0,0,null,0,{"$f":"IF(C22>0,VLOOKUP(A11,'Gruber Tabelle'!$A$5:$X$100,3,0)*C22,0)","v":0},0,0,0,0,0,0,0,0," ",0,0,0,0,0,0,0,0,0,0,0,0]
[0,0,null,0,{"$f":"IF(C23>0,VLOOKUP(A12,'Gruber Tabelle'!$A$5:$X$100,3,0)*C23,0)","v":0},0,0,0,0,0,0,0,0," ",0,0,0,0,0,0,0,0,0,0,0,0]
[0,0,null,0,{"$f":"IF(C24>0,VLOOKUP(A13,'Gruber Tabelle'!$A$5:$X$100,3,0)*C24,0)","v":0},0,0,0,0,0,0,0,0," ",0,0,0,0,0,0,0,0,0,0,0,0]
["Summe:",null,{"$f":"SUM(C15:C24)","v":0},{"$f":"SUM(D15:D24)","v":0},{"$f":"SUM(E15:E24)","v":0},0,0,0,0,0,0,0,0,0,0,0,0,0,0,0,0,0,0,0,0,0]

{"sheet":"Gruber Tabelle","index":4,"n_rows":100,"n_cols":24,"rows_kept":100,"cut":false,"hidden":false,"merged":[[1,0,3,1],[1,2,1,5],[1,6,1,22],[0,2,0,23],[0,0,0,1],[2,6,2,22],[2,2,2,5]]}
["Ration"]
[null,null,"www.LfL.bayern.de",null,null,null,"Gruber Tabelle  27. Auflage, August 2022",null,null,null,null,null,null,null,null,null,null,null,null,null,null,null,null,"Preis"]
[null,null,null,null,null,null,"Gehaltswerte der Futtermittel - Angaben in kg Frischmasse",null,null,null,null,null,null,null,null,null,null,null,null,null,null,null,null,"FM"]
[null,null,"TM g","ME","XP g","Lys g","Met g","M+C g","Thr","Trp","Val","XF g","XS g","XZ g","XA g","Ca","P","vP g","vPph","Na","K","XL g","PFS g","€ / dt"]
[null,"Getreide"]
[4025,"Gerste",880,11.59,110,3.92,1.81,4.18,3.61,1.36,5.33,44,530,22,22,0.6,3.5,1.6,2.2999999999999998,0.3,4.4000000000000004,22,9]
[4026,"Gerste mehrzeilig",880,11.51,110,3.92,1.81,4.18,3.61,1.36,5.33,46,528,23,22,0.6,3.5,1.6,2.2999999999999998,0.3,4.4000000000000004,20,8]
[4005,"Menggetreide",880,11.59,110,3.92,1.81,4.18,3.61,1.36,4.58,44,530,22,22,0.6,3.5,1.6,2.2999999999999998,0.3,4.4000000000000004,22,9]
[4065,"Hafer",880,10,108,4.43,1.73,4.83,3.62,1.5,5.46,99,393,14,26,1.1000000000000001,3.2,1.8,2.1,0.4,4.4000000000000004,46,17]
[4105,"Roggen",880,12.17,92,3.4,1.52,3.59,3.06,1.02,3.78,20,568,55,18,0.8,2.9,1.5,1.9,0.3,5.3,16,8]
[4125,"Triticale",880,12.43,106,3.44,1.74,4.13,3.31,1.2,4.75,22,587,35,18,0.4,3.4,1.7,2.2000000000000002,0.3,4.9000000000000004,16,10]
[4145,"Weizen",880,12.77,121,3.39,1.9,4.62,3.44,1.47,5.14,26,594,28,17,0.6,3.3,2.2000000000000002,2.2000000000000002,0.3,4.4000000000000004,18,9]
[4205,"Mais",880,13.17,90,2.46,1.84,3.83,3.22,0.7,4.3099999999999996,23,612,17,15,0.4,3.1,0.5,2,0.2,3.6,40,20]
[9000]
[4155,"Weizenflocken",880,12.64,121,3.39,1.9,4.62,3.44,1.47,4.51,20,596,20,15,0.6,3.3,1,2.2000000000000002,0.2,4.4000000000000004,16,8]
[4075,"Haferflocken",910,13.65,117,4.78,1.87,5.2,3.92,1.63,5.92,16,592,17,17,0.9,4,1,2.6,0.3,3.8,50,19]
[9001]
[null,"Heu, Cobs, Grünmehl"]
[3774,"Luzerne v. d. Knospe, Grünmehl",890,4.42,187,9.01,2.5,4.5599999999999996,7.51,2.75,9.23,165,0,45,120,16,3.4,1.7,2.2000000000000002,0.4,24,28,8]
[3775,"Luzerne i. d. Knospe,  Grünmehl",890,4.01,165,7.94,2.21,4.0199999999999996,6.62,2.42,8.1300000000000008,200,0,45,111,16,3.1,1.6,2,0.4,21.4,26,8]
[3776,"Luzernecobs  älter,  Grünmehl",890,3.76,156,7.51,2.09,3.81,6.27,2.29,7.7,227,0,36,107,13.4,2.7,1.3,1.7,0.4,19.600000000000001,26,8]
[9002]
[null,"Eiweißfuttermittel"]
[9003]
[4285,"Milokorn, Hirse",880,11.57,114,2.6,1.96,3.95,3.64,1.25,5.46,46,519,8,30,0.8,2.8,0.8,1.8,0.6,2.7,30,15]
[9004]
[4305,"Ackerbohnen",880,11,260,16.18,1.82,4.91,8.8699999999999992,2.2400000000000002,8.8000000000000007,79,362,35,35,1.4,4.2,1.5,2.7,0.2,10.9,14,6]
[4345,"Erbsen",880,11.36,207,14.48,1.88,4.67,7.7,1.85,7.44,57,420,54,31,0.8,4.2,1.9,2.7,0.3,9.6999999999999993,13,5]
[4365,"Süßlupine",880,9.7200000000000006,331,15.94,2.0499999999999998,6.98,11.35,2.65,8.27,120,65,64,36,2.6,4.5,2.2000000000000002,2.9,0.5,8.4,77,42]
[4405,"Leinsamen",910,15.33,226,9.2100000000000009,3.99,7.76,8.24,3.45,10.97,66,0,34,45,2.5,4.9000000000000004,2,3.2,0.8,7.3,332,229]
[4425,"Rapssamen",900,17.41,203,12.25,3.99,8.91,9.0500000000000007,2.74,10.4,74,0,41,40,4.5,7,2.8,4.5999999999999996,0.3,8,400,128]
[4435,"Sojabohnen, getoastet",935,14.17,374,22.96,5.05,10.58,14.59,5.01,17.690000000000001,58,53,75,50,2.7,6.6,2.2999999999999998,4.3,0.2,18.600000000000001,190,118]
[9005]
[6425,"Rapsextraktionsschrot",890,7.33,344,17.739999999999998,6.68,14.75,14.53,4.6500000000000004,17.09,118,0,71,69,7.7,10.6,3.2,6.9,0.4,12.6,31,10]
[6405,"Leinextraktionsschrot",880,6.58,339,13.82,5.99,11.65,12.36,5.18,16.46,91,0,40,58,4,8.4,0.8,5.4,1,10.6,24,16]
[6434,"Sojaextr.schrot 42 % RP",880,9.24,420,25.69,5.67,11.71,16.41,5.67,19.899999999999999,80,60,93,61,3.2,6.5,2.2999999999999998,4.2,0.4,22,15,9]
[6435,"Sojaextr.schrot 44 % RP",880,9.51,440,26.93,5.94,12.28,17.2,5.94,20.86,60,62,95,59,2.7,6.2,2.2000000000000002,4,0.2,19.399999999999999,12,8]
[6436,"Sojaextr.schrot 48 % RP",880,10.19,480,29.35,6.48,13.38,18.75,6.48,22.73,35,62,100,59,2.8,6.7,2.2999999999999998,4.3,0.3,20.2,12,8]
[9006]
[6445,"So-blu.extr.schrot 20 % RFa",880,6.9,337,11.83,7.42,12.87,12.23,4.38,16.350000000000001,195,0,70,62,3.5,9.4,3.3,6.1,0.4,11.4,22,14]
[6446,"So-blu.extr.schrot 11 % RFa",880,7.93,402,14.12,8.84,15.36,14.6,5.23,19.5,113,0,91,71,3.9,8.6999999999999993,3.1,5.7,0.1,11.4,15,9]
[9007]
[6015,"Bierhefe, trocken",900,8.17,469,31.04,7.08,11.54,22.04,5.35,24.57,22,0,17,73,1.8,10.3,5.0999999999999996,6.7,0.3,13.2,20,5]
[6625,"Kartoffeleiweiß",910,12.68,764,59.4,16.89,27.52,44.34,10.77,50.38,7,8,5,29,0.6,4.7,3.3,3.3,0.1,6.7,18,8]
[9008]
[6456,"Erdnussextr.schrot, 5 % Rfa",880,10.91,500,16.100000000000001,5.24,11.59,12.85,4.9000000000000004,19.45,50,84,103,57,1.4,5.9,1.8,3.8,0.4,11.4,12,2]
[6455,"Erdnussextr.schrot, 10 % Rfa",908,10.31,481,15.5,5.0599999999999996,11.17,12.37,4.71,18.72,104,69,94,59,2.2999999999999998,5.3,1.6,3.4,0.4,12.7,14,3]
[6465,"Kokosextraktionsschrot",880,5.46,209,5.07,2.72,5.46,6.05,1.61,9.9700000000000006,142,0,105,66,1.5,5.6,1.7,3.7,0.9,20.2,25,4]
[6475,"Palmkernextraktionsschrot",880,3.56,165,4.55,2.99,4.8899999999999997,4.88,1.24,8.01,175,0,30,38,2.6,6.3,1.9,4.0999999999999996,0.1,7,18,3]
[6426,"Rapskuchen, 8 % RFe",910,8.85,337,18.55,6.57,14.45,14.91,4.55,17.27,123,0,68,66,7.5,10.8,3.2,7,0.5,13.3,80,26]
[6427,"Rapskuchen, 15 % RFe",910,10.76,309,17.04,6.03,13.28,13.7,4.18,15.87,112,0,62,60,6.8,10.6,3.2,6.9,0.4,12.2,150,48]
[6406,"Leinkuchen, -expeller",880,7.49,328,13.39,5.81,11.29,11.98,5.0199999999999996,15.95,94,0,38,56,3.7,7.2,0.7,4.7,1,10.6,55,38]
[6439,"Sojakuchen, 8 % RFe",890,10.57,400,23.82,5.55,11.47,15.74,5.52,18.940000000000001,58,45,62,58,2.7,6.2,2.2000000000000002,4,0.1,17.8,82,51]
[6447,"Sonnenblumenkuchen",880,9.7100000000000009,219,7.93,4.88,8.5,8.15,2.85,10.81,278,0,91,71,3.4,8.3000000000000007,2.9,5.4,0.1,11.4,150,93]
[9009]
[4445,"Sonnenblumensamen",880,13.81,169,6.1,3.8,6.6,6.3,2.2000000000000002,0,215,0,0,30,2.5,3.3,1.2,2.2000000000000002,0.2,5.5,316,197]
[9010]
[null,"Getreide - Nebenprodukte"]
[6065,"Haferfuttermehl",909,13.29,138,5.63,2.2400000000000002,6.2,4.6399999999999997,1.88,6.77,54,506,15,24,1,5.2,1,3.4,0.1,7.3,73,27]
[6075,"Haferschälkleie",908,4.71,68,2.66,0.95,2.39,2.66,1.0900000000000001,3.48,230,150,10,54,1.3,1.5,0.5,1,0.4,9.1,30,11]
[6165,"Weizengrießkleie",880,8.19,160,6.42,2.36,5.6,5.12,2.54,7.24,80,215,59,49,1.2,9.1,2.7,5.9,0.4,10.6,40,21]
[6175,"Weizenkleie",880,6.71,160,6.42,2.36,5.6,5.12,2.54,7.24,100,131,56,57,1.6,11.4,3.4,7.4,0.4,10.6,38,20]
[6195,"Weizenkeime",880,12.4,260,14.78,4.26,8.1,9.27,2.7,11.66,36,224,140,44,0.9,8.6999999999999993,2.6,5.7,0.1,8.8000000000000007,82,44]
[4605,"Kartoffelschrot, -schnitzel",880,12.42,81,4.21,1.46,2.35,3.24,1.54,3.89,26,648,20,51,0.4,2.2999999999999998,1.1000000000000001,1.5,0.3,21.1,3,1]
[4615,"Kartoffelflocken",880,12.68,78,4.07,1.41,2.27,3.13,1.49,3.76,26,650,35,47,0.4,2.2999999999999998,1.1000000000000001,1.5,1,21.1,4,2]
[6025,"Biertreber, trocken",900,7.05,238,8.4600000000000009,5.04,9.75,8.5299999999999994,3.35,12.97,152,35,9,43,3.2,5.4,1.9,3.5,0.4,0.7,77,30]
[4674,"Fasermix, 20 % RFa",900,3.69,90,3.6,1.35,2.25,2.7,0.9,4.05,200,35,65,40,4,3,0.7,1.9,1,9,25,13]
[4675,"Fasermix, 30 % RFa",900,3.2,80,3.2,1.21,2.0099999999999998,2.4,0.8,3.61,300,30,60,35,5,5,1.3,3.3,1,9,20,11]
[9011]
[null,"Öle"]
[5435,"Sojaöl",999,34.25,0,0,0,0,0,0,0,0,0,0,1,0,0,0,0,0,0,998,619]
[5425,"Rapsöl",999,34.25,0,0,0,0,0,0,0,0,0,0,1,0,0,0,0,0,0,998,319]
[5445,"Sonnenblumenöl",999,34.25,0,0,0,0,0,0,0,0,0,0,1,0,0,0,0,0,0,998,624]
[5405,"Leinöl",999,34.25,0,0,0,0,0,0,0,0,0,0,1,0,0,0,0,0,0,998,689]
[9012]
[null,"Ergänzungsfutter"]
[8415,"Kükenaufzucht Futter",880,10.96,180,9.02,3.97,7.58,5.41,1.8,7.22,25,400,10,35,10,7,4.2,4.5999999999999996,1,12,40,12]
[8445,"Mastküken Futter",880,12.63,220,12.1,5.0599999999999996,9.4600000000000009,6.6,2.2000000000000002,8.8000000000000007,30,380,10,50,10,6.5,3.9,4.2,1.4,8,80,25]
[8455,"Alleinfutter I Legehennen",880,10.77,175,8.51,3.8,7,5.25,1.75,7,50,350,12,130,36,5.5,3.3,3.6,1.5,8,60,33]
[8465,"Legemehl Ergänzer Legeh.",880,10.1,202,9.23,4.25,7.89,6.07,2.02,8.1,56,303,12,182,50.6,7,4.2,4.5999999999999996,2,12.1,51,13]
[8475,"Eiweißreicher Erg. Legeh.",880,9.33,300,15,8.01,14.01,9,3,12,60,150,10,280,100,12,7.2,7.8,4,12,60,33]
[9013]
[9014]
[9015]
[9016]
[null,"Mineralfutter"]
[4925,"Kohlensaurer Kalk",997,0,0,0,0,0,0,0,0,0,0,0,997,380.3,0.4,0.3,0.3,0,0,0,0]
[4945,"Viehsalz",990,0,0,0,0,0,0,0,0,0,0,0,990,0,0,0,0,361.3,0,0,0]
[8485,"Mineralfutter Geflügel",950,1.24,80,0,79.989999999999995,79.989999999999995,0,0,0,0,0,0,900,220,70,56,56,50,0,0,0]
[9017]
[9018]
[9019]
[9020]
[9021]
[9022]
[9023]
[9024]
[9025]
[9026]
[0,null,0,0,null,0,0,0,null,0,0,0,0,0,0,0,0,0,0,0,0,0,0,0]

{"sheet":"Mengenberechnung","index":5,"n_rows":25,"n_cols":7,"rows_kept":25,"cut":false,"hidden":false,"merged":[[21,1,21,3],[21,5,24,6],[22,1,22,3],[23,1,23,3],[24,1,24,3],[17,1,17,3],[17,5,20,6],[18,1,18,3],[19,1,19,3],[20,1,20,3],[13,0,13,4],[14,1,14,3],[14,5,14,6],[15,1,15,3],[16,1,16,3],[9,1,9,3],[5,5,8,6],[9,5,12,6],[10,1,10,3],[11,1,11,3],[12,1,12,3],[4,1,4,3],[5,1,5,3],[6,1,6,3],[7,1,7,3],[8,1,8,3],[0,0,0,6],[1,0,1,4],[2,1,2,3],[2,5,2,6],[3,1,3,3]]}
[]
["Basis – Ration             Mischergröße:",null,null,null,null,null,"kg"]
["Kenn Nr.","Futtermittel",null,null,"kg."]
[{"$f":"Ration!A15","v":0},{"$f":"Ration!B15","v":0},null,null,{"$f":"IF(F2>0,F2*Ration!D15/1000,0)","v":0},"Tiere gesamt:"]
[{"$f":"Ration!A16","v":0},{"$f":"Ration!B16","v":0},null,null,{"$f":"IF(F2>0,F2*Ration!D16/1000,0)","v":0},"kg je Tier/Tag:"]
[{"$f":"Ration!A17","v":0},{"$f":"Ration!B17","v":0},null,null,{"$f":"IF(F2>0,F2*Ration!D17/1000,0)","v":0},"Die Mischung reicht für Tage :"]
[{"$f":"Ration!A18","v":0},{"$f":"Ration!B18","v":0},null,null,{"$f":"IF(F2>0,F2*Ration!D18/1000,0)","v":0}]
[{"$f":"Ration!A19","v":0},{"$f":"Ration!B19","v":0},null,null,{"$f":"IF(F2>0,F2*Ration!D19/1000,0)","v":0}]
[{"$f":"Ration!A20","v":0},{"$f":"Ration!B20","v":0},null,null,{"$f":"IF(F2>0,F2*Ration!D20/1000,0)","v":0}]
[{"$f":"Ration!A21","v":0},{"$f":"Ration!B21","v":0},null,null,{"$f":"IF(F2>0,F2*Ration!D21/1000,0)","v":0},{"$f":"IFERROR(IF(G5>0,F2/(G4*G5),\" \"),0)","v":" "}]
[{"$f":"Ration!A22","v":0},{"$f":"Ration!B22","v":0},null,null,{"$f":"IF(F2>0,F2*Ration!D22/1000,0)","v":0}]
[{"$f":"Ration!A23","v":0},{"$f":"Ration!B23","v":0},null,null,{"$f":"IF(F2>0,F2*Ration!D23/1000,0)","v":0}]
[{"$f":"Ration!A24","v":0},{"$f":"Ration!B24","v":0},null,null,{"$f":"IF(F2>0,F2*Ration!D24/1000,0)","v":0}]
["Kraftfutter – Mischung 1          Mischergröße:",null,null,null,null,null,"kg"]
["Kenn Nr.","Futtermittel",null,null,"kg."]
[{"$f":"'Mischung 1'!A15","v":0},{"$f":"'Mischung 1'!B15","v":0},null,null,{"$f":"IF(F14>0,F14*'Mischung 1'!D15/1000,0)","v":0},"Tiere gesamt:"]
[{"$f":"'Mischung 1'!A16","v":0},{"$f":"'Mischung 1'!B16","v":0},null,null,{"$f":"IF(F14>0,F14*'Mischung 1'!D16/1000,0)","v":0},"kg je Tier/Tag:"]
[{"$f":"'Mischung 1'!A17","v":0},{"$f":"'Mischung 1'!B17","v":0},null,null,{"$f":"IF(F14>0,F14*'Mischung 1'!D17/1000,0)","v":0},"Die Mischung reicht für Tage :"]
[{"$f":"'Mischung 1'!A18","v":0},{"$f":"'Mischung 1'!B18","v":0},null,null,{"$f":"IF(F14>0,F14*'Mischung 1'!D18/1000,0)","v":0}]
[{"$f":"'Mischung 1'!A19","v":0},{"$f":"'Mischung 1'!B19","v":0},null,null,{"$f":"IF(F14>0,F14*'Mischung 1'!D19/1000,0)","v":0}]
[{"$f":"'Mischung 1'!A20","v":0},{"$f":"'Mischung 1'!B20","v":0},null,null,{"$f":"IF(F14>0,F14*'Mischung 1'!D20/1000,0)","v":0}]
[{"$f":"'Mischung 1'!A21","v":0},{"$f":"'Mischung 1'!B21","v":0},null,null,{"$f":"IF(F14>0,F14*'Mischung 1'!D21/1000,0)","v":0},{"$f":"IFERROR(IF(G17>0,F14/(G16*G17),\" \"),0)","v":" "}]
[{"$f":"'Mischung 1'!A22","v":0},{"$f":"'Mischung 1'!B22","v":0},null,null,{"$f":"IF(F14>0,F14*'Mischung 1'!D22/1000,0)","v":0}]
[{"$f":"'Mischung 1'!A23","v":0},{"$f":"'Mischung 1'!B23","v":0},null,null,{"$f":"IF(F14>0,F14*'Mischung 1'!D23/1000,0)","v":0}]
[{"$f":"'Mischung 1'!A24","v":0},{"$f":"'Mischung 1'!B24","v":0},null,null,{"$f":"IF(F14>0,F14*'Mischung 1'!D24/1000,0)","v":0}]

{"sheet":"Ausdruck","index":6,"n_rows":50,"n_cols":11,"rows_kept":50,"cut":false,"hidden":false,"merged":[[7,5,7,7],[8,5,8,7],[9,5,9,7],[37,9,37,10],[35,9,35,10],[36,9,36,10],[30,9,30,10],[31,9,31,10],[31,5,31,7],[29,9,29,10],[25,0,25,10],[31,1,31,3],[37,0,37,3],[37,5,37,7],[33,9,33,10],[33,5,33,7],[32,9,32,10],[32,5,32,7],[33,2,33,3],[35,0,36,2],[35,3,36,3],[32,0,32,3],[33,0,33,1],[34,0,34,3],[34,9,34,10],[34,5,34,7],[35,5,35,7],[36,5,36,7],[29,0,29,1],[29,2,29,3],[30,0,30,3],[28,9,28,10],[26,0,28,1],[26,2,28,3],[27,9,27,10],[27,5,27,7],[28,5,28,7],[29,5,29,7],[30,5,30,7],[26,4,26,10],[13,0,13,1],[24,0,24,1],[10,0,11,2],[10,3,11,3],[12,9,12,10],[10,9,10,10],[11,9,11,10],[12,5,12,7],[10,5,10,7],[11,5,11,7],[12,0,12,3],[5,9,5,10],[6,9,6,10],[4,9,4,10],[5,0,5,3],[6,1,6,3],[5,5,5,7],[6,5,6,7],[4,0,4,1],[4,2,4,3],[9,0,9,3],[9,9,9,10],[8,0,8,1],[8,2,8,3],[8,9,8,10],[1,0,3,1],[1,2,3,3],[1,4,1,10],[2,9,2,10],[3,9,3,10],[0,0,0,10],[23,0,23,1],[22,0,22,1],[21,0,21,1],[20,0,20,1],[19,0,19,1],[18,0,18,1],[17,0,17,1],[16,0,16,1],[15,0,15,1],[14,0,14,1],[7,9,7,10],[7,0,7,3],[2,5,2,7],[3,5,3,7],[4,5,4,7],[48,0,48,1],[49,0,49,1],[43,0,43,1],[44,0,44,1],[45,0,45,1],[46,0,46,1],[47,0,47,1],[38,0,38,1],[39,0,39,1],[40,0,40,1],[41,0,41,1],[42,0,42,1]]}
[]
[null,null,"www.triesdorf.de",null,"Basis - Ration"]
[null,null,null,null,"Kenn - Nr.","Futtermittelbezeichnung",null,null,"Anteil %","Mischungsanteil kg"]
[null,null,null,null,{"$f":"Ration!A15","v":0},{"$f":"Ration!B15","v":0},null,null,{"$f":"Ration!C15","v":0},{"$f":"Mengenberechnung!E4","v":0}]
[{"$f":"Einstellung!C6","v":"Tierhaltungsschule"},null,{"$f":"Einstellung!E6","v":"Triesdorf"},null,{"$f":"Ration!A16","v":0},{"$f":"Ration!B16","v":0},null,null,{"$f":"Ration!C16","v":0},{"$f":"Mengenberechnung!E5","v":0}]
[{"$f":"Einstellung!C7","v":"Markgrafenstraße 1"},null,null,null,{"$f":"Ration!A17","v":0},{"$f":"Ration!B17","v":0},null,null,{"$f":"Ration!C17","v":0},{"$f":"Mengenberechnung!E6","v":0}]
[{"$f":"Einstellung!C8","v":91746},{"$f":"Einstellung!D8","v":"Weidenbach"},null,null,{"$f":"Ration!A18","v":0},{"$f":"Ration!B18","v":0},null,null,{"$f":"Ration!C18","v":0},{"$f":"Mengenberechnung!E7","v":0}]
[null,null,null,null,{"$f":"Ration!A19","v":0},{"$f":"Ration!B19","v":0},null,null,{"$f":"Ration!C19","v":0},{"$f":"Mengenberechnung!E8","v":0}]
["Betriebs - Nr. :",null,{"$f":"Einstellung!C9","v":"09 111 222 1234"},null,{"$f":"Ration!A20","v":0},{"$f":"Ration!B20","v":0},null,null,{"$f":"Ration!C20","v":0},{"$f":"Mengenberechnung!E9","v":0}]
[null,null,null,null,{"$f":"Ration!A21","v":0},{"$f":"Ration!B21","v":0},null,null,{"$f":"Ration!C21","v":0},{"$f":"Mengenberechnung!E10","v":0}]
[" Gewicht der Mischung in kg :",null,null,{"$f":"Mengenberechnung!F2","v":0},{"$f":"Ration!A22","v":0},{"$f":"Ration!B22","v":0},null,null,{"$f":"Ration!C22","v":0},{"$f":"Mengenberechnung!E11","v":0}]
[null,null,null,null,{"$f":"Ration!A23","v":0},{"$f":"Ration!B23","v":0},null,null,{"$f":"Ration!C23","v":0},{"$f":"Mengenberechnung!E12","v":0}]
[null,null,null,null,{"$f":"Ration!A24","v":0},{"$f":"Ration!B24","v":0},null,null,{"$f":"Ration!C24","v":0},{"$f":"Mengenberechnung!E13","v":0}]
[null,null,"TM g","ME Mj","Lys g","RP g","Rfa g","Ca g","P g","vP g","Preis"]
[{"$f":"Ration!B15","v":0},null,{"$f":"Ration!E15","v":0},{"$f":"Ration!F15","v":0},{"$f":"Ration!H15","v":0},{"$f":"Ration!G15","v":0},{"$f":"Ration!N15","v":0},{"$f":"Ration!R15","v":0},{"$f":"Ration!S15","v":0},{"$f":"Ration!T15","v":0},{"$f":"Ration!Z15","v":0}]
[{"$f":"Ration!B16","v":0},null,{"$f":"Ration!E16","v":0},{"$f":"Ration!F16","v":0},{"$f":"Ration!H16","v":0},{"$f":"Ration!G16","v":0},{"$f":"Ration!N16","v":0},{"$f":"Ration!R16","v":0},{"$f":"Ration!S16","v":0},{"$f":"Ration!T16","v":0},{"$f":"Ration!Z16","v":0}]
[{"$f":"Ration!B17","v":0},null,{"$f":"Ration!E17","v":0},{"$f":"Ration!F17","v":0},{"$f":"Ration!H17","v":0},{"$f":"Ration!G17","v":0},{"$f":"Ration!N17","v":0},{"$f":"Ration!R17","v":0},{"$f":"Ration!S17","v":0},{"$f":"Ration!T17","v":0},{"$f":"Ration!Z17","v":0}]
[{"$f":"Ration!B18","v":0},null,{"$f":"Ration!E18","v":0},{"$f":"Ration!F18","v":0},{"$f":"Ration!H18","v":0},{"$f":"Ration!G18","v":0},{"$f":"Ration!N18","v":0},{"$f":"Ration!R18","v":0},{"$f":"Ration!S18","v":0},{"$f":"Ration!T18","v":0},{"$f":"Ration!Z18","v":0}]
[{"$f":"Ration!B19","v":0},null,{"$f":"Ration!E19","v":0},{"$f":"Ration!F19","v":0},{"$f":"Ration!H19","v":0},{"$f":"Ration!G19","v":0},{"$f":"Ration!N19","v":0},{"$f":"Ration!R19","v":0},{"$f":"Ration!S19","v":0},{"$f":"Ration!T19","v":0},{"$f":"Ration!Z19","v":0}]
[{"$f":"Ration!B20","v":0},null,{"$f":"Ration!E20","v":0},{"$f":"Ration!F20","v":0},{"$f":"Ration!H20","v":0},{"$f":"Ration!G20","v":0},{"$f":"Ration!N20","v":0},{"$f":"Ration!R20","v":0},{"$f":"Ration!S20","v":0},{"$f":"Ration!T20","v":0},{"$f":"Ration!Z20","v":0}]
[{"$f":"Ration!B21","v":0},null,{"$f":"Ration!E21","v":0},{"$f":"Ration!F21","v":0},{"$f":"Ration!H21","v":0},{"$f":"Ration!G21","v":0},{"$f":"Ration!N21","v":0},{"$f":"Ration!R21","v":0},{"$f":"Ration!S21","v":0},{"$f":"Ration!T21","v":0},{"$f":"Ration!Z21","v":0}]
[{"$f":"Ration!B22","v":0},null,{"$f":"Ration!E22","v":0},{"$f":"Ration!F22","v":0},{"$f":"Ration!H22","v":0},{"$f":"Ration!G22","v":0},{"$f":"Ration!N22","v":0},{"$f":"Ration!R22","v":0},{"$f":"Ration!S22","v":0},{"$f":"Ration!T22","v":0},{"$f":"Ration!Z22","v":0}]
[{"$f":"Ration!B23","v":0},null,{"$f":"Ration!E23","v":0},{"$f":"Ration!F23","v":0},{"$f":"Ration!H23","v":0},{"$f":"Ration!G23","v":0},{"$f":"Ration!N23","v":0},{"$f":"Ration!R23","v":0},{"$f":"Ration!S23","v":0},{"$f":"Ration!T23","v":0},{"$f":"Ration!Z23","v":0}]
[{"$f":"Ration!B24","v":0},null,{"$f":"Ration!E24","v":0},{"$f":"Ration!F24","v":0},{"$f":"Ration!H24","v":0},{"$f":"Ration!G24","v":0},{"$f":"Ration!N24","v":0},{"$f":"Ration!R24","v":0},{"$f":"Ration!S24","v":0},{"$f":"Ration!T24","v":0},{"$f":"Ration!Z24","v":0}]
["Summen:",null,{"$f":"SUM(C15:C24)","v":0},{"$f":"SUM(D15:D24)","v":0},0,0,0,0,0,0,0]
[]
[null,null,"www.triesdorf.de",null,"Mischung 1"]
[null,null,null,null,"Kenn - Nr.","Futtermittelbezeichnung",null,null,"Anteil %","Mischungsanteil kg"]
[null,null,null,null,{"$f":"'Mischung 1'!A15","v":0},{"$f":"'Mischung 1'!B15","v":0},null,null,{"$f":"'Mischung 1'!C15","v":0},{"$f":"Mengenberechnung!E16","v":0}]
[{"$f":"Einstellung!C6","v":"Tierhaltungsschule"},null,{"$f":"Einstellung!E6","v":"Triesdorf"},null,{"$f":"'Mischung 1'!A16","v":0},{"$f":"'Mischung 1'!B16","v":0},null,null,{"$f":"'Mischung 1'!C16","v":0},{"$f":"Mengenberechnung!E17","v":0}]
[{"$f":"Einstellung!C7","v":"Markgrafenstraße 1"},null,null,null,{"$f":"'Mischung 1'!A17","v":0},{"$f":"'Mischung 1'!B17","v":0},null,null,{"$f":"'Mischung 1'!C17","v":0},{"$f":"Mengenberechnung!E18","v":0}]
[{"$f":"Einstellung!C8","v":91746},{"$f":"Einstellung!D8","v":"Weidenbach"},null,null,{"$f":"'Mischung 1'!A18","v":0},{"$f":"'Mischung 1'!B18","v":0},null,null,{"$f":"'Mischung 1'!C18","v":0},{"$f":"Mengenberechnung!E19","v":0}]
[null,null,null,null,{"$f":"'Mischung 1'!A19","v":0},{"$f":"'Mischung 1'!B19","v":0},null,null,{"$f":"'Mischung 1'!C19","v":0},{"$f":"Mengenberechnung!E20","v":0}]
["Betriebs - Nr. :",null,{"$f":"Einstellung!C9","v":"09 111 222 1234"},null,{"$f":"'Mischung 1'!A20","v":0},{"$f":"'Mischung 1'!B20","v":0},null,null,{"$f":"'Mischung 1'!C20","v":0},{"$f":"Mengenberechnung!E21","v":0}]
[null,null,null,null,{"$f":"'Mischung 1'!A21","v":0},{"$f":"'Mischung 1'!B21","v":0},null,null,{"$f":"'Mischung 1'!C21","v":0},{"$f":"Mengenberechnung!E22","v":0}]
[" Gewicht der Mischung in kg :",null,null,{"$f":"Mengenberechnung!F14","v":0},{"$f":"'Mischung 1'!A22","v":0},{"$f":"'Mischung 1'!B22","v":0},null,null,{"$f":"'Mischung 1'!C22","v":0},{"$f":"Mengenberechnung!E23","v":0}]
[null,null,null,null,{"$f":"'Mischung 1'!A23","v":0},{"$f":"'Mischung 1'!B23","v":0},null,null,{"$f":"'Mischung 1'!C23","v":0},{"$f":"Mengenberechnung!E24","v":0}]
[null,null,null,null,{"$f":"'Mischung 1'!A24","v":0},{"$f":"'Mischung 1'!B24","v":0},null,null,{"$f":"'Mischung 1'!C24","v":0},{"$f":"Mengenberechnung!E25","v":0}]
[null,null,"TM g","ME Mj","Lys g","RP g","Rfa g","Ca g","P g","vP g","Preis"]
[{"$f":"'Mischung 1'!B15","v":0},null,{"$f":"'Mischung 1'!E15","v":0},{"$f":"'Mischung 1'!F15","v":0},{"$f":"'Mischung 1'!H15","v":0},{"$f":"'Mischung 1'!G15","v":0},{"$f":"'Mischung 1'!N15","v":0},{"$f":"'Mischung 1'!R15","v":0},{"$f":"'Mischung 1'!S15","v":0},{"$f":"'Mischung 1'!T15","v":0},{"$f":"'Mischung 1'!Z15","v":0}]
[{"$f":"'Mischung 1'!B16","v":0},null,{"$f":"'Mischung 1'!E16","v":0},{"$f":"'Mischung 1'!F16","v":0},{"$f":"'Mischung 1'!H16","v":0},{"$f":"'Mischung 1'!G16","v":0},{"$f":"'Mischung 1'!N16","v":" "},{"$f":"'Mischung 1'!R16","v":0},{"$f":"'Mischung 1'!S16","v":0},{"$f":"'Mischung 1'!T16","v":0},{"$f":"'Mischung 1'!Z16","v":0}]
[{"$f":"'Mischung 1'!B17","v":0},null,{"$f":"'Mischung 1'!E17","v":0},{"$f":"'Mischung 1'!F17","v":0},{"$f":"'Mischung 1'!H17","v":0},{"$f":"'Mischung 1'!G17","v":0},{"$f":"'Mischung 1'!N17","v":" "},{"$f":"'Mischung 1'!R17","v":0},{"$f":"'Mischung 1'!S17","v":0},{"$f":"'Mischung 1'!T17","v":0},{"$f":"'Mischung 1'!Z17","v":0}]
[{"$f":"'Mischung 1'!B18","v":0},null,{"$f":"'Mischung 1'!E18","v":0},{"$f":"'Mischung 1'!F18","v":0},{"$f":"'Mischung 1'!H18","v":0},{"$f":"'Mischung 1'!G18","v":0},{"$f":"'Mischung 1'!N18","v":" "},{"$f":"'Mischung 1'!R18","v":0},{"$f":"'Mischung 1'!S18","v":0},{"$f":"'Mischung 1'!T18","v":0},{"$f":"'Mischung 1'!Z18","v":0}]
[{"$f":"'Mischung 1'!B19","v":0},null,{"$f":"'Mischung 1'!E19","v":0},{"$f":"'Mischung 1'!F19","v":0},{"$f":"'Mischung 1'!H19","v":0},{"$f":"'Mischung 1'!G19","v":0},{"$f":"'Mischung 1'!N19","v":" "},{"$f":"'Mischung 1'!R19","v":0},{"$f":"'Mischung 1'!S19","v":0},{"$f":"'Mischung 1'!T19","v":0},{"$f":"'Mischung 1'!Z19","v":0}]
[{"$f":"'Mischung 1'!B20","v":0},null,{"$f":"'Mischung 1'!E20","v":0},{"$f":"'Mischung 1'!F20","v":0},{"$f":"'Mischung 1'!H20","v":0},{"$f":"'Mischung 1'!G20","v":0},{"$f":"'Mischung 1'!N20","v":" "},{"$f":"'Mischung 1'!R20","v":0},{"$f":"'Mischung 1'!S20","v":0},{"$f":"'Mischung 1'!T20","v":0},{"$f":"'Mischung 1'!Z20","v":0}]
[{"$f":"'Mischung 1'!B21","v":0},null,{"$f":"'Mischung 1'!E21","v":0},{"$f":"'Mischung 1'!F21","v":0},{"$f":"'Mischung 1'!H21","v":0},{"$f":"'Mischung 1'!G21","v":0},{"$f":"'Mischung 1'!N21","v":" "},{"$f":"'Mischung 1'!R21","v":0},{"$f":"'Mischung 1'!S21","v":0},{"$f":"'Mischung 1'!T21","v":0},{"$f":"'Mischung 1'!Z21","v":0}]
[{"$f":"'Mischung 1'!B22","v":0},null,{"$f":"'Mischung 1'!E22","v":0},{"$f":"'Mischung 1'!F22","v":0},{"$f":"'Mischung 1'!H22","v":0},{"$f":"'Mischung 1'!G22","v":0},{"$f":"'Mischung 1'!N22","v":" "},{"$f":"'Mischung 1'!R22","v":0},{"$f":"'Mischung 1'!S22","v":0},{"$f":"'Mischung 1'!T22","v":0},{"$f":"'Mischung 1'!Z22","v":0}]
[{"$f":"'Mischung 1'!B23","v":0},null,{"$f":"'Mischung 1'!E23","v":0},{"$f":"'Mischung 1'!F23","v":0},{"$f":"'Mischung 1'!H23","v":0},{"$f":"'Mischung 1'!G23","v":0},{"$f":"'Mischung 1'!N23","v":" "},{"$f":"'Mischung 1'!R23","v":0},{"$f":"'Mischung 1'!S23","v":0},{"$f":"'Mischung 1'!T23","v":0},{"$f":"'Mischung 1'!Z23","v":0}]
[{"$f":"'Mischung 1'!B24","v":0},null,{"$f":"'Mischung 1'!E24","v":0},{"$f":"'Mischung 1'!F24","v":0},{"$f":"'Mischung 1'!H24","v":0},{"$f":"'Mischung 1'!G24","v":0},{"$f":"'Mischung 1'!N24","v":" "},{"$f":"'Mischung 1'!R24","v":0},{"$f":"'Mischung 1'!S24","v":0},{"$f":"'Mischung 1'!T24","v":0},{"$f":"'Mischung 1'!Z24","v":0}]
["Summen:",null,{"$f":"SUM(C40:C49)","v":0},{"$f":"SUM(D40:D49)","v":0},{"$f":"SUM(E40:E49)","v":0},{"$f":"SUM(F40:F49)","v":0},{"$f":"SUM(G40:G49)","v":0},{"$f":"SUM(H40:H49)","v":0},{"$f":"SUM(I40:I49)","v":0},{"$f":"SUM(J40:J49)","v":0},{"$f":"SUM(K40:K49)","v":0}]