{"text_format":"1","workbook":"xlsx","n_sheets":8,"sheets":["Einstellung","Sollwerte","Ration","Mischung 1","Mischung 2","Gruber Tabelle","Mengenberechnung","Ausdruck"],"not_rendered":{"charts":0,"images":14,"macros":1,"external_links":0,"defined_names":4,"comments":3,"pivot_tables":0},"unopened":[],"bounds":{"document_bytes":16777216,"sheet_cells":100000,"rows_first":2000,"rows_last":500,"rows_between":2000,"halvings":0,"cell_chars":16384,"cell_head_chars":4096},"cells_cut":0,"cells_raw":0,"read":"whole","date_system":"1900"}

{"sheet":"Einstellung","index":0,"n_rows":23,"n_cols":8,"rows_kept":23,"cut":false,"hidden":false,"merged":[[22,2,22,5],[17,2,17,5],[0,0,23,0],[24,1,24,12],[1,1,1,16],[3,7,3,16],[2,7,2,16],[4,1,7,1],[8,2,9,5],[10,2,11,5],[4,4,4,5],[4,2,4,3],[5,2,5,5],[6,3,6,5],[7,3,7,5],[12,2,13,5]]}
[]
[]
[null,null,null,null,null,null,null,"Futterberechnung zur Fütterung der Schafe und Ziegen"]
[null,null,null,null,null,null,null,"Gruber Tabelle, 48.  Auflage / August 2023    www.LfL.Bayern.de"]
[null,null,"Tierhaltungsschule",null,"Triesdorf"]
[null,null,"Markgrafenstraße 1"]
[null,null,91746,"Weidenbach"]
[null,null,"Betr. Nr.","091231234444"]
[]
[]
[null,null,"Freie Software"]
[]
[null,null,"keine Gewährleistung!"]
[]
[]
[]
[]
[null,null,"Update vom   08.11.2023"]
[]
[]
[]
[]
[null,null,"ths@triesdorf.de"]

{"sheet":"Sollwerte","index":1,"n_rows":75,"n_cols":15,"rows_kept":75,"cut":false,"hidden":false,"merged":[[1,0,2,14],[0,0,0,14]]}
[]
["Richtwerte zur Nährstoffversorgung aus Gruber Tabelle S. 60 ff        Alle Felder können mit eigenen Werten überschrieben werden.        "]
[]
["Tier","Kenn - Nr.","TM / Tag g","aNDFom","XP","nXP","ME/MJ","NEL/MJ"," Ca g","P g","Mg g","Na g","K g","Cl g","S g"]
["Sollwerte aus Liste wählen  >>>",0,0,0,0,0,0,null,0,0,0,0,0]
["Mutterschaf 70 kg (leer/niedertragend)",1,1250,250,90,90,11,null,5,4,1,1,10]
["Mutterschaf 70 kg (hochtragend 5. Monat)",2,1650,250,160,160,15.5,null,9,6,1.5,2,10]
["Mutterschaf 70 kg (säugend, 1 Lamm)",3,2100,250,300,300,22.4,null,16,9,2.5,2,15]
["Mutterschaf 70 kg (säugend, 2 Lämmer)",4,2400,250,370,370,26.4,null,19.7,10.7,3,2.2999999999999998,15]
[5,5]
["Mutterschaf 85 kg (leer/niedertragend)",6,1440,250,105,105,12.7,null,5,4,1,1,10]
["Mutterschaf 85 kg (hochtragend 5. Monat)",7,1940,250,170,170,18.3,null,9,6,1.5,2,10]
["Mutterschaf 85 kg (säugend, 1 Lamm)",8,2280,250,315,315,24,null,16,9,2.5,2,15]
["Mutterschaf 85 kg (säugend, 2 Lämmer)",9,2580,250,385,385,28,null,19.7,10.7,3,2.2999999999999998,15]
[10,10]
["Mutterschaf 100 kg (leer/niedertragend)",11,1640,250,120,120,14.3,null,5,4,1,1,10]
["Mutterschaf 100 kg (hochtragend 5. Monat)",12,2200,250,185,185,21,null,9,6,1.5,2,10]
["Mutterschaf 100 kg (säugend, 1 Lamm)",13,2450,250,330,330,25.6,null,16,9,2.5,2,15]
["Mutterschaf 100 kg (säugend, 2 Lämmer)",14,2750,250,400,400,29.6,null,19.7,10.7,3,2.2999999999999998,15]
[15,15]
["Jungschaf /Jungbock  (4 - 7 Monate)",16,1200,250,175,175,13.8,null,13,5]
[17,17]
["Mastlamm  250 g tgl. ZN - >25 kg  1-6 Wo.",18,1100,250,170,170,12.1,null,9,3.7,0.8,0.8,15]
["Mastlamm  250 g tgl. ZN - <45 kg  10-12 Wo.",19,1200,250,180,180,13.6,null,11,4.3,1.1000000000000001,1.1000000000000001,15]
[20,20]
["Mastlamm  400 g tgl. ZN - >25 kg  - 1-4 Wo.",21,1500,250,240,240,17.399999999999999,null,9,3.7,0.8,0.8,15]
["Mastlamm  400 g tägl. ZN - 45 kg  - 4-7 Wo.",22,1600,250,255,255,19.100000000000001,null,11,4.3,1.1000000000000001,1.1000000000000001,15]
[23,23]
["Böcke m. 100 - 120 kg     (Erhaltung)",24,1600,null,120,null,15,null,8,5]
["Böcke m. 100 - 120 kg     (Deckzeit)",25,2000,null,280,null,20,null,12,7]
[26,26]
[27,27]
["Milchschaf 80 kg LM - 2 kg Milch",28,2800,250,null,327,23,16,10.7,10,3.4,1.8]
["Milchschaf 80 kg LM - 3 kg Milch",29,3000,250,null,443,29.7,20.2,13.5,12.3,4.5,2.2999999999999998]
["Milchschaf 80 kg LM - 4 kg Milch",30,3100,250,null,559,36.4,24.5,17.399999999999999,14.7,5.6,2.8]
[31,31]
[32,32]
[33,33]
["Ziegen Leer, trag. < 4 Mon. - LG 45 kg",34,900,null,null,85,7.6,null,3.5,2.8,1.1000000000000001,1.1000000000000001,4.4000000000000004,0.6]
["Ziegen Leer, trag. < 4 Mon. - LG 60 kg",35,1100,null,null,113,9.6999999999999993,null,3.5,2.8,1.1000000000000001,1.1000000000000001,4.4000000000000004,0.6]
["Ziegen Leer, trag. < 4 Mon. - LG 75 kg",36,1300,null,null,142,11.5,null,3.5,2.8,1.1000000000000001,1.1000000000000001,4.4000000000000004,0.6]
["Ziegen tragend ab 5. Mon. - LG 45 kg",37,1200,null,null,119,10.4,null,4.4000000000000004,3.4,1.4,1.3,6,1.9]
["Ziegen tragend ab 5. Mon. - LG 60 kg",38,1400,null,null,150,13,null,4.4000000000000004,3.4,1.4,1.3,6,1.9]
["Ziegen tragend ab 5. Mon. - LG 75 kg",39,1700,null,null,162,15.3,null,4.4000000000000004,3.4,1.4,1.3,6,1.9]
[40,40]
["Milchziege - LG 45 kg - 1 kg Milch / Tag",41,1358,940,146,146,12.5,null,4.0999999999999996,3,2.1,0.8,7,2.1]
["Milchziege - LG 45 kg - 2 kg Milch / Tag",42,1777,940,221,221,17.2,null,6.6,4.7,3.1,1.4,10.199999999999999,3.7]
["Milchziege - LG 45 kg - 3 kg Milch / Tag",43,2164,940,295,295,21.9,null,9,6.3,4.0999999999999996,1.9,13.4,5.3]
["Milchziege - LG 45 kg - 4 kg Milch / Tag",44,2521,940,368,368,26.6,null,11.4,7.8,5.0999999999999996,2.5,16.5,6.9]
[45,45]
["Milchziege - LG 60 kg - 1 kg Milch / Tag",46,1544,940,162,162,14.4,null,4.4000000000000004,3.2,2.2999999999999998,0.9,7.6,2.2000000000000002]
["Milchziege - LG 60 kg - 2 kg Milch / Tag",47,1962,940,237,237,19.100000000000001,null,6.9,4.9000000000000004,3.3,1.5,10.8,3.8]
["Milchziege - LG 60 kg - 3 kg Milch / Tag",48,2350,940,311,311,23.8,null,9.3000000000000007,6.5,4.3,2,14,5.4]
["Milchziege - LG 60 kg - 4 kg Milch / Tag",49,2706,940,384,384,28.5,null,11.7,8.1,5.3,2.5,17.100000000000001,7]
["Milchziege - LG 60 kg - 5 kg Milch / Tag",50,3032,940,457,457,33.200000000000003,null,14,9.6,6.2,3.1,20,8.5]
[51,51]
["Milchziege - LG 75 kg - 1 kg Millch / Tag",52,1718,940,175,175,16.2,null,4.5999999999999996,3.5,2.5,1,8.1,2.2999999999999998]
["Milchziege - LG 75 kg - 2 kg Millch / Tag",53,2137,940,250,250,20.9,null,7.2,5.0999999999999996,3.5,1.5,11.4,3.9]
["Milchziege - LG 75 kg - 3 kg Millch / Tag",54,2524,940,325,325,25.6,null,9.6,6.7,4.5,2.1,14.6,5.5]
["Milchziege - LG 75 kg - 4 kg Millch / Tag",55,2881,940,398,398,30.3,null,12,8.3000000000000007,5.4,2.6,17.600000000000001,7.1]
["Milchziege - LG 75 kg - 5 kg Millch / Tag",56,3206,940,470,470,35,null,14.3,9.8000000000000007,6.4,3.1,20.6,8.6]
["Milchziege - LG 75 kg - 6 kg Millch / Tag",57,3500,940,542,542,39.700000000000003,null,16.600000000000001,11.3,7.3,3.6,13.4,10.1]
[58,58]
["Ziegenkitz - 12 kg LG - Zun. 100 g / Tag",59,406,330,38,38,4.0999999999999996,null,1.6,1,5,0.3,1.5,0.3]
["Ziegenkitz - 12 kg LG - Zun. 200 g / Tag",60,603,330,78,78,6.3,null,3.4,2,0.9,0.4,2.2999999999999998,0.5]
["Ziegenkitz - 20 kg LG - Zun. 100 g / Tag",61,743,330,81,81,7.6,null,3,1.9,1,0.4,2.7,0.5]
["Ziegenkitz - 20 kg LG - Zun. 200 g / Tag",62,973,330,125,125,10.4,null,4.9000000000000004,2.9,1.4,0.6,3.6,0.8]
["Ziegenkitz - 30 kg LG - Zun. 100 g / Tag",63,1027,330,106,106,10.6,null,3.5,2.2999999999999998,1.3,0.5,3.6,0.7]
["Ziegenkitz - 30 kg LG - Zun. 200 g / Tag",64,1328,330,153,153,14.2,null,5.6,3.4,1.8,0.8,4.8,0.9]
[65,65]
[66,66]
[67,67]
[68,68]
[69,69]
[70,70]

{"sheet":"Ration","index":2,"n_rows":32,"n_cols":20,"rows_kept":32,"cut":false,"hidden":false,"merged":[[0,4,0,18],[0,2,0,3],[0,19,1,19],[28,0,28,19],[25,0,25,2],[26,0,26,2],[30,5,31,5],[24,0,24,2],[1,5,1,18],[29,0,29,2],[30,0,31,3],[3,2,12,3],[2,2,2,3],[1,0,1,3],[27,0,27,2],[30,6,31,6]]}
[null,null,"Bitte eine Tierart aus der Liste auswählen!"]
[null,null,null,null,null,"Nähr- und Mineralstoffgehalte in 1000 g Trockenmasse"]
["Nr.","Futterart",null,null,"TM g","XF g","aNDFom g"," XP g","nXP g","ME Mj","NEL Mj","Ca","P","Mg","Na","K","Cl","S","Preis / dt FM","Typ"]
[null,{"$f":"IFERROR(VLOOKUP(A4,'Gruber Tabelle'!$A$8:$W$404,2,0),\"\")","v":0},null,null,{"$f":"IFERROR(VLOOKUP(A4,'Gruber Tabelle'!$A$8:$W$404,3,0),\"\")","v":0},{"$f":"IFERROR(VLOOKUP(A4,'Gruber Tabelle'!$A$8:$W$404,4,0),\"\")","v":0},{"$f":"IFERROR(VLOOKUP(A4,'Gruber Tabelle'!$A$8:$W$404,5,0),\"\")","v":0},{"$f":"IFERROR(VLOOKUP(A4,'Gruber Tabelle'!$A$8:$W$404,7,0),\"\")","v":0},{"$f":"IFERROR(VLOOKUP(A4,'Gruber Tabelle'!$A$8:$W$404,8,0),\"\")","v":0},{"$f":"IFERROR(VLOOKUP(A4,'Gruber Tabelle'!$A$8:$W$404,12,0),\"\")","v":0},{"$f":"IFERROR(VLOOKUP(A4,'Gruber Tabelle'!$A$8:$W$404,11,0),\"\")","v":0},{"$f":"IFERROR(VLOOKUP(A4,'Gruber Tabelle'!$A$8:$W$404,16,0),\"\")","v":0},{"$f":"IFERROR(VLOOKUP(A4,'Gruber Tabelle'!$A$8:$W$404,17,0),\"\")","v":0},{"$f":"IFERROR(VLOOKUP(A4,'Gruber Tabelle'!$A$8:$W$404,18,0),\"\")","v":0},{"$f":"IFERROR(VLOOKUP(A4,'Gruber Tabelle'!$A$8:$W$404,19,0),\"\")","v":0},{"$f":"IFERROR(VLOOKUP(A4,'Gruber Tabelle'!$A$8:$W$404,20,0),\"\")","v":0},{"$f":"IFERROR(VLOOKUP(A4,'Gruber Tabelle'!$A$8:$W$404,21,0),\"\")","v":0},{"$f":"IFERROR(VLOOKUP(A4,'Gruber Tabelle'!$A$8:$W$404,22,0),\"\")","v":0},{"$f":"IFERROR(VLOOKUP(A4,'Gruber Tabelle'!$A$8:$W$404,23,0),\"\")","v":0},{"$f":"IFERROR(VLOOKUP(A4,'Gruber Tabelle'!$A$8:$X$404,24,0),\"\")","v":0}]
[null,{"$f":"IFERROR(VLOOKUP(A5,'Gruber Tabelle'!$A$8:$W$404,2,0),\"\")","v":0},null,null,{"$f":"IFERROR(VLOOKUP(A5,'Gruber Tabelle'!$A$8:$W$404,3,0),\"\")","v":0},{"$f":"IFERROR(VLOOKUP(A5,'Gruber Tabelle'!$A$8:$W$404,4,0),\"\")","v":0},{"$f":"IFERROR(VLOOKUP(A5,'Gruber Tabelle'!$A$8:$W$404,5,0),\"\")","v":0},{"$f":"IFERROR(VLOOKUP(A5,'Gruber Tabelle'!$A$8:$W$404,7,0),\"\")","v":0},{"$f":"IFERROR(VLOOKUP(A5,'Gruber Tabelle'!$A$8:$W$404,8,0),\"\")","v":0},{"$f":"IFERROR(VLOOKUP(A5,'Gruber Tabelle'!$A$8:$W$404,12,0),\"\")","v":0},{"$f":"IFERROR(VLOOKUP(A5,'Gruber Tabelle'!$A$8:$W$404,11,0),\"\")","v":0},{"$f":"IFERROR(VLOOKUP(A5,'Gruber Tabelle'!$A$8:$W$404,16,0),\"\")","v":0},{"$f":"IFERROR(VLOOKUP(A5,'Gruber Tabelle'!$A$8:$W$404,17,0),\"\")","v":0},{"$f":"IFERROR(VLOOKUP(A5,'Gruber Tabelle'!$A$8:$W$404,18,0),\"\")","v":0},{"$f":"IFERROR(VLOOKUP(A5,'Gruber Tabelle'!$A$8:$W$404,19,0),\"\")","v":0},{"$f":"IFERROR(VLOOKUP(A5,'Gruber Tabelle'!$A$8:$W$404,20,0),\"\")","v":0},{"$f":"IFERROR(VLOOKUP(A5,'Gruber Tabelle'!$A$8:$W$404,21,0),\"\")","v":0},{"$f":"IFERROR(VLOOKUP(A5,'Gruber Tabelle'!$A$8:$W$404,22,0),\"\")","v":0},{"$f":"IFERROR(VLOOKUP(A5,'Gruber Tabelle'!$A$8:$W$404,23,0),\"\")","v":0},{"$f":"IFERROR(VLOOKUP(A5,'Gruber Tabelle'!$A$8:$X$404,24,0),\"\")","v":0}]
[null,{"$f":"IFERROR(VLOOKUP(A6,'Gruber Tabelle'!$A$8:$W$404,2,0),\"\")","v":0},null,null,{"$f":"IFERROR(VLOOKUP(A6,'Gruber Tabelle'!$A$8:$W$404,3,0),\"\")","v":0},{"$f":"IFERROR(VLOOKUP(A6,'Gruber Tabelle'!$A$8:$W$404,4,0),\"\")","v":0},{"$f":"IFERROR(VLOOKUP(A6,'Gruber Tabelle'!$A$8:$W$404,5,0),\"\")","v":0},{"$f":"IFERROR(VLOOKUP(A6,'Gruber Tabelle'!$A$8:$W$404,7,0),\"\")","v":0},{"$f":"IFERROR(VLOOKUP(A6,'Gruber Tabelle'!$A$8:$W$404,8,0),\"\")","v":0},{"$f":"IFERROR(VLOOKUP(A6,'Gruber Tabelle'!$A$8:$W$404,12,0),\"\")","v":0},{"$f":"IFERROR(VLOOKUP(A6,'Gruber Tabelle'!$A$8:$W$404,11,0),\"\")","v":0},{"$f":"IFERROR(VLOOKUP(A6,'Gruber Tabelle'!$A$8:$W$404,16,0),\"\")","v":0},{"$f":"IFERROR(VLOOKUP(A6,'Gruber Tabelle'!$A$8:$W$404,17,0),\"\")","v":0},{"$f":"IFERROR(VLOOKUP(A6,'Gruber Tabelle'!$A$8:$W$404,18,0),\"\")","v":0},{"$f":"IFERROR(VLOOKUP(A6,'Gruber Tabelle'!$A$8:$W$404,19,0),\"\")","v":0},{"$f":"IFERROR(VLOOKUP(A6,'Gruber Tabelle'!$A$8:$W$404,20,0),\"\")","v":0},{"$f":"IFERROR(VLOOKUP(A6,'Gruber Tabelle'!$A$8:$W$404,21,0),\"\")","v":0},{"$f":"IFERROR(VLOOKUP(A6,'Gruber Tabelle'!$A$8:$W$404,22,0),\"\")","v":0},{"$f":"IFERROR(VLOOKUP(A6,'Gruber Tabelle'!$A$8:$W$404,23,0),\"\")","v":0},{"$f":"IFERROR(VLOOKUP(A6,'Gruber Tabelle'!$A$8:$X$404,24,0),\"\")","v":0}]
[null,{"$f":"IFERROR(VLOOKUP(A7,'Gruber Tabelle'!$A$8:$W$404,2,0),\"\")","v":0},null,null,{"$f":"IFERROR(VLOOKUP(A7,'Gruber Tabelle'!$A$8:$W$404,3,0),\"\")","v":0},{"$f":"IFERROR(VLOOKUP(A7,'Gruber Tabelle'!$A$8:$W$404,4,0),\"\")","v":0},{"$f":"IFERROR(VLOOKUP(A7,'Gruber Tabelle'!$A$8:$W$404,5,0),\"\")","v":0},{"$f":"IFERROR(VLOOKUP(A7,'Gruber Tabelle'!$A$8:$W$404,7,0),\"\")","v":0},{"$f":"IFERROR(VLOOKUP(A7,'Gruber Tabelle'!$A$8:$W$404,8,0),\"\")","v":0},{"$f":"IFERROR(VLOOKUP(A7,'Gruber Tabelle'!$A$8:$W$404,12,0),\"\")","v":0},{"$f":"IFERROR(VLOOKUP(A7,'Gruber Tabelle'!$A$8:$W$404,11,0),\"\")","v":0},{"$f":"IFERROR(VLOOKUP(A7,'Gruber Tabelle'!$A$8:$W$404,16,0),\"\")","v":0},{"$f":"IFERROR(VLOOKUP(A7,'Gruber Tabelle'!$A$8:$W$404,17,0),\"\")","v":0},{"$f":"IFERROR(VLOOKUP(A7,'Gruber Tabelle'!$A$8:$W$404,18,0),\"\")","v":0},{"$f":"IFERROR(VLOOKUP(A7,'Gruber Tabelle'!$A$8:$W$404,19,0),\"\")","v":0},{"$f":"IFERROR(VLOOKUP(A7,'Gruber Tabelle'!$A$8:$W$404,20,0),\"\")","v":0},{"$f":"IFERROR(VLOOKUP(A7,'Gruber Tabelle'!$A$8:$W$404,21,0),\"\")","v":0},{"$f":"IFERROR(VLOOKUP(A7,'Gruber Tabelle'!$A$8:$W$404,22,0),\"\")","v":0},{"$f":"IFERROR(VLOOKUP(A7,'Gruber Tabelle'!$A$8:$W$404,23,0),\"\")","v":0},{"$f":"IFERROR(VLOOKUP(A7,'Gruber Tabelle'!$A$8:$X$404,24,0),\"\")","v":0}]
[null,{"$f":"IFERROR(VLOOKUP(A8,'Gruber Tabelle'!$A$8:$W$404,2,0),\"\")","v":0},null,null,{"$f":"IFERROR(VLOOKUP(A8,'Gruber Tabelle'!$A$8:$W$404,3,0),\"\")","v":0},{"$f":"IFERROR(VLOOKUP(A8,'Gruber Tabelle'!$A$8:$W$404,4,0),\"\")","v":0},{"$f":"IFERROR(VLOOKUP(A8,'Gruber Tabelle'!$A$8:$W$404,5,0),\"\")","v":0},{"$f":"IFERROR(VLOOKUP(A8,'Gruber Tabelle'!$A$8:$W$404,7,0),\"\")","v":0},{"$f":"IFERROR(VLOOKUP(A8,'Gruber Tabelle'!$A$8:$W$404,8,0),\"\")","v":0},{"$f":"IFERROR(VLOOKUP(A8,'Gruber Tabelle'!$A$8:$W$404,12,0),\"\")","v":0},{"$f":"IFERROR(VLOOKUP(A8,'Gruber Tabelle'!$A$8:$W$404,11,0),\"\")","v":0},{"$f":"IFERROR(VLOOKUP(A8,'Gruber Tabelle'!$A$8:$W$404,16,0),\"\")","v":0},{"$f":"IFERROR(VLOOKUP(A8,'Gruber Tabelle'!$A$8:$W$404,17,0),\"\")","v":0},{"$f":"IFERROR(VLOOKUP(A8,'Gruber Tabelle'!$A$8:$W$404,18,0),\"\")","v":0},{"$f":"IFERROR(VLOOKUP(A8,'Gruber Tabelle'!$A$8:$W$404,19,0),\"\")","v":0},{"$f":"IFERROR(VLOOKUP(A8,'Gruber Tabelle'!$A$8:$W$404,20,0),\"\")","v":0},{"$f":"IFERROR(VLOOKUP(A8,'Gruber Tabelle'!$A$8:$W$404,21,0),\"\")","v":0},{"$f":"IFERROR(VLOOKUP(A8,'Gruber Tabelle'!$A$8:$W$404,22,0),\"\")","v":0},{"$f":"IFERROR(VLOOKUP(A8,'Gruber Tabelle'!$A$8:$W$404,23,0),\"\")","v":0},{"$f":"IFERROR(VLOOKUP(A8,'Gruber Tabelle'!$A$8:$X$404,24,0),\"\")","v":0}]
[null,{"$f":"IFERROR(VLOOKUP(A9,'Gruber Tabelle'!$A$8:$W$404,2,0),\"\")","v":0},null,null,{"$f":"IFERROR(VLOOKUP(A9,'Gruber Tabelle'!$A$8:$W$404,3,0),\"\")","v":0},{"$f":"IFERROR(VLOOKUP(A9,'Gruber Tabelle'!$A$8:$W$404,4,0),\"\")","v":0},{"$f":"IFERROR(VLOOKUP(A9,'Gruber Tabelle'!$A$8:$W$404,5,0),\"\")","v":0},{"$f":"IFERROR(VLOOKUP(A9,'Gruber Tabelle'!$A$8:$W$404,7,0),\"\")","v":0},{"$f":"IFERROR(VLOOKUP(A9,'Gruber Tabelle'!$A$8:$W$404,8,0),\"\")","v":0},{"$f":"IFERROR(VLOOKUP(A9,'Gruber Tabelle'!$A$8:$W$404,12,0),\"\")","v":0},{"$f":"IFERROR(VLOOKUP(A9,'Gruber Tabelle'!$A$8:$W$404,11,0),\"\")","v":0},{"$f":"IFERROR(VLOOKUP(A9,'Gruber Tabelle'!$A$8:$W$404,16,0),\"\")","v":0},{"$f":"IFERROR(VLOOKUP(A9,'Gruber Tabelle'!$A$8:$W$404,17,0),\"\")","v":0},{"$f":"IFERROR(VLOOKUP(A9,'Gruber Tabelle'!$A$8:$W$404,18,0),\"\")","v":0},{"$f":"IFERROR(VLOOKUP(A9,'Gruber Tabelle'!$A$8:$W$404,19,0),\"\")","v":0},{"$f":"IFERROR(VLOOKUP(A9,'Gruber Tabelle'!$A$8:$W$404,20,0),\"\")","v":0},{"$f":"IFERROR(VLOOKUP(A9,'Gruber Tabelle'!$A$8:$W$404,21,0),\"\")","v":0},{"$f":"IFERROR(VLOOKUP(A9,'Gruber Tabelle'!$A$8:$W$404,22,0),\"\")","v":0},{"$f":"IFERROR(VLOOKUP(A9,'Gruber Tabelle'!$A$8:$W$404,23,0),\"\")","v":0},{"$f":"IFERROR(VLOOKUP(A9,'Gruber Tabelle'!$A$8:$X$404,24,0),\"\")","v":0}]
[null,{"$f":"IFERROR(VLOOKUP(A10,'Gruber Tabelle'!$A$8:$W$404,2,0),\"\")","v":0},null,null,{"$f":"IFERROR(VLOOKUP(A10,'Gruber Tabelle'!$A$8:$W$404,3,0),\"\")","v":0},{"$f":"IFERROR(VLOOKUP(A10,'Gruber Tabelle'!$A$8:$W$404,4,0),\"\")","v":0},{"$f":"IFERROR(VLOOKUP(A10,'Gruber Tabelle'!$A$8:$W$404,5,0),\"\")","v":0},{"$f":"IFERROR(VLOOKUP(A10,'Gruber Tabelle'!$A$8:$W$404,7,0),\"\")","v":0},{"$f":"IFERROR(VLOOKUP(A10,'Gruber Tabelle'!$A$8:$W$404,8,0),\"\")","v":0},{"$f":"IFERROR(VLOOKUP(A10,'Gruber Tabelle'!$A$8:$W$404,12,0),\"\")","v":0},{"$f":"IFERROR(VLOOKUP(A10,'Gruber Tabelle'!$A$8:$W$404,11,0),\"\")","v":0},{"$f":"IFERROR(VLOOKUP(A10,'Gruber Tabelle'!$A$8:$W$404,16,0),\"\")","v":0},{"$f":"IFERROR(VLOOKUP(A10,'Gruber Tabelle'!$A$8:$W$404,17,0),\"\")","v":0},{"$f":"IFERROR(VLOOKUP(A10,'Gruber Tabelle'!$A$8:$W$404,18,0),\"\")","v":0},{"$f":"IFERROR(VLOOKUP(A10,'Gruber Tabelle'!$A$8:$W$404,19,0),\"\")","v":0},{"$f":"IFERROR(VLOOKUP(A10,'Gruber Tabelle'!$A$8:$W$404,20,0),\"\")","v":0},{"$f":"IFERROR(VLOOKUP(A10,'Gruber Tabelle'!$A$8:$W$404,21,0),\"\")","v":0},{"$f":"IFERROR(VLOOKUP(A10,'Gruber Tabelle'!$A$8:$W$404,22,0),\"\")","v":0},{"$f":"IFERROR(VLOOKUP(A10,'Gruber Tabelle'!$A$8:$W$404,23,0),\"\")","v":0},{"$f":"IFERROR(VLOOKUP(A10,'Gruber Tabelle'!$A$8:$X$404,24,0),\"\")","v":0}]
[null,{"$f":"IFERROR(VLOOKUP(A11,'Gruber Tabelle'!$A$8:$W$404,2,0),\"\")","v":0},null,null,{"$f":"IFERROR(VLOOKUP(A11,'Gruber Tabelle'!$A$8:$W$404,3,0),\"\")","v":0},{"$f":"IFERROR(VLOOKUP(A11,'Gruber Tabelle'!$A$8:$W$404,4,0),\"\")","v":0},{"$f":"IFERROR(VLOOKUP(A11,'Gruber Tabelle'!$A$8:$W$404,5,0),\"\")","v":0},{"$f":"IFERROR(VLOOKUP(A11,'Gruber Tabelle'!$A$8:$W$404,7,0),\"\")","v":0},{"$f":"IFERROR(VLOOKUP(A11,'Gruber Tabelle'!$A$8:$W$404,8,0),\"\")","v":0},{"$f":"IFERROR(VLOOKUP(A11,'Gruber Tabelle'!$A$8:$W$404,12,0),\"\")","v":0},{"$f":"IFERROR(VLOOKUP(A11,'Gruber Tabelle'!$A$8:$W$404,11,0),\"\")","v":0},{"$f":"IFERROR(VLOOKUP(A11,'Gruber Tabelle'!$A$8:$W$404,16,0),\"\")","v":0},{"$f":"IFERROR(VLOOKUP(A11,'Gruber Tabelle'!$A$8:$W$404,17,0),\"\")","v":0},{"$f":"IFERROR(VLOOKUP(A11,'Gruber Tabelle'!$A$8:$W$404,18,0),\"\")","v":0},{"$f":"IFERROR(VLOOKUP(A11,'Gruber Tabelle'!$A$8:$W$404,19,0),\"\")","v":0},{"$f":"IFERROR(VLOOKUP(A11,'Gruber Tabelle'!$A$8:$W$404,20,0),\"\")","v":0},{"$f":"IFERROR(VLOOKUP(A11,'Gruber Tabelle'!$A$8:$W$404,21,0),\"\")","v":0},{"$f":"IFERROR(VLOOKUP(A11,'Gruber Tabelle'!$A$8:$W$404,22,0),\"\")","v":0},{"$f":"IFERROR(VLOOKUP(A11,'Gruber Tabelle'!$A$8:$W$404,23,0),\"\")","v":0},{"$f":"IFERROR(VLOOKUP(A11,'Gruber Tabelle'!$A$8:$X$404,24,0),\"\")","v":0}]
[null,{"$f":"IFERROR(VLOOKUP(A12,'Gruber Tabelle'!$A$8:$W$404,2,0),\"\")","v":0},null,null,{"$f":"IFERROR(VLOOKUP(A12,'Gruber Tabelle'!$A$8:$W$404,3,0),\"\")","v":0},{"$f":"IFERROR(VLOOKUP(A12,'Gruber Tabelle'!$A$8:$W$404,4,0),\"\")","v":0},{"$f":"IFERROR(VLOOKUP(A12,'Gruber Tabelle'!$A$8:$W$404,5,0),\"\")","v":0},{"$f":"IFERROR(VLOOKUP(A12,'Gruber Tabelle'!$A$8:$W$404,7,0),\"\")","v":0},{"$f":"IFERROR(VLOOKUP(A12,'Gruber Tabelle'!$A$8:$W$404,8,0),\"\")","v":0},{"$f":"IFERROR(VLOOKUP(A12,'Gruber Tabelle'!$A$8:$W$404,12,0),\"\")","v":0},{"$f":"IFERROR(VLOOKUP(A12,'Gruber Tabelle'!$A$8:$W$404,11,0),\"\")","v":0},{"$f":"IFERROR(VLOOKUP(A12,'Gruber Tabelle'!$A$8:$W$404,16,0),\"\")","v":0},{"$f":"IFERROR(VLOOKUP(A12,'Gruber Tabelle'!$A$8:$W$404,17,0),\"\")","v":0},{"$f":"IFERROR(VLOOKUP(A12,'Gruber Tabelle'!$A$8:$W$404,18,0),\"\")","v":0},{"$f":"IFERROR(VLOOKUP(A12,'Gruber Tabelle'!$A$8:$W$404,19,0),\"\")","v":0},{"$f":"IFERROR(VLOOKUP(A12,'Gruber Tabelle'!$A$8:$W$404,20,0),\"\")","v":0},{"$f":"IFERROR(VLOOKUP(A12,'Gruber Tabelle'!$A$8:$W$404,21,0),\"\")","v":0},{"$f":"IFERROR(VLOOKUP(A12,'Gruber Tabelle'!$A$8:$W$404,22,0),\"\")","v":0},{"$f":"IFERROR(VLOOKUP(A12,'Gruber Tabelle'!$A$8:$W$404,23,0),\"\")","v":0},{"$f":"IFERROR(VLOOKUP(A12,'Gruber Tabelle'!$A$8:$X$404,24,0),\"\")","v":0}]
[null,{"$f":"IFERROR(VLOOKUP(A13,'Gruber Tabelle'!$A$8:$W$404,2,0),\"\")","v":0},null,null,{"$f":"IFERROR(VLOOKUP(A13,'Gruber Tabelle'!$A$8:$W$404,3,0),\"\")","v":0},{"$f":"IFERROR(VLOOKUP(A13,'Gruber Tabelle'!$A$8:$W$404,4,0),\"\")","v":0},{"$f":"IFERROR(VLOOKUP(A13,'Gruber Tabelle'!$A$8:$W$404,5,0),\"\")","v":0},{"$f":"IFERROR(VLOOKUP(A13,'Gruber Tabelle'!$A$8:$W$404,7,0),\"\")","v":0},{"$f":"IFERROR(VLOOKUP(A13,'Gruber Tabelle'!$A$8:$W$404,8,0),\"\")","v":0},{"$f":"IFERROR(VLOOKUP(A13,'Gruber Tabelle'!$A$8:$W$404,12,0),\"\")","v":0},{"$f":"IFERROR(VLOOKUP(A13,'Gruber Tabelle'!$A$8:$W$404,11,0),\"\")","v":0},{"$f":"IFERROR(VLOOKUP(A13,'Gruber Tabelle'!$A$8:$W$404,16,0),\"\")","v":0},{"$f":"IFERROR(VLOOKUP(A13,'Gruber Tabelle'!$A$8:$W$404,17,0),\"\")","v":0},{"$f":"IFERROR(VLOOKUP(A13,'Gruber Tabelle'!$A$8:$W$404,18,0),\"\")","v":0},{"$f":"IFERROR(VLOOKUP(A13,'Gruber Tabelle'!$A$8:$W$404,19,0),\"\")","v":0},{"$f":"IFERROR(VLOOKUP(A13,'Gruber Tabelle'!$A$8:$W$404,20,0),\"\")","v":0},{"$f":"IFERROR(VLOOKUP(A13,'Gruber Tabelle'!$A$8:$W$404,21,0),\"\")","v":0},{"$f":"IFERROR(VLOOKUP(A13,'Gruber Tabelle'!$A$8:$W$404,22,0),\"\")","v":0},{"$f":"IFERROR(VLOOKUP(A13,'Gruber Tabelle'!$A$8:$W$404,23,0),\"\")","v":0},{"$f":"IFERROR(VLOOKUP(A13,'Gruber Tabelle'!$A$8:$X$404,24,0),\"\")","v":0}]
[null,"Futterart","TM %","FM kg","TM g","XF g","aNDFom g ","XP g","nXP g","ME Mj","NEL Mj","Ca","P","Mg","Na","K","Cl","S","Preis","NDFomGF"]
[{"$f":"A4","v":0},0,null,null,{"$f":"IF(D15>0,(D15*C15)*1000,0)","v":0},{"$f":"IF(D15>0,(F4*C15)*D15,0)","v":0},{"$f":"IF(D15>0,(G4*C15)*D15,0)","v":0},{"$f":"IF(D15>0,(H4*C15)*D15,0)","v":0},{"$f":"IF(D15>0,(I4*C15)*D15,0)","v":0},{"$f":"IF(D15>0,(J4*C15)*D15,0)","v":0},{"$f":"IF(D15>0,(K4*C15)*D15,0)","v":0},{"$f":"IF(D15>0,(L4*C15)*D15,0)","v":0},{"$f":"IF(D15>0,(M4*C15)*D15,0)","v":0},{"$f":"IF(D15>0,(N4*C15)*D15,0)","v":0},{"$f":"IF(D15>0,(O4*C15)*D15,0)","v":0},{"$f":"IF(D15>0,(P4*C15)*D15,0)","v":0},{"$f":"IF(D15>0,(Q4*C15)*D15,0)","v":0},{"$f":"IF(D15>0,(R4*C15)*D15,0)","v":0},{"$f":"IF(D15>0,S4*D15/100,0)","v":0},{"$f":"IFERROR(IF(T4=\"GF\",G4*E15/1000,0),0)","v":0}]
[0,0,null,null,{"$f":"IF(D16>0,(D16*C16)*1000,0)","v":0},0,{"$f":"IF(D16>0,(G5*C16)*D16,0)","v":0},0,0,0,0,0,0,0,0,0,0,0,0,{"$f":"IFERROR(IF(T5=\"GF\",G5*E16/1000,0),0)","v":0}]
[0,0,null,null,0,0,0,0,0,0,0,0,0,0,0,0,0,0,0,0]
[0,0,null,null,0,0,0,0,0,0,0,0,0,0,0,0,0,0,0,0]
[0,0,null,null,0,0,0,0,0,0,0,0,0,0,0,0,0,0,0,0]
[0,0,null,null,0,0,0,0,0,0,0,0,0,0,0,0,0,0,0,0]
[0,0,null,null,0,0,0,0,0,0,0,0,0,0,0,0,0,0,0,0]
[0,0,null,null,0,0,0,0,0,0,0,0,0,0,0,0,0,0,0,0]
[0,0,null,null,0,0,0,0,0,0,0,0,0,0,0,0,0,0,0,0]
[0,0,null,null,0,0,0,0,0,0,0,0,0,0,0,0,0,0,0,0]
["Summen und Gehaltswerte:",null,null,{"$f":"SUM(D15:D24)","v":0},{"$f":"SUM(E15:E24)","v":0},{"$f":"SUM(F15:F24)","v":0},{"$f":"SUM(G15:G24)","v":0},{"$f":"SUM(H15:H24)","v":0},0,0,0,0,0,0,0,0,0,0,0,{"$f":"SUM(T15:T24)","v":0}]
["Mischung 1 kg:",null,null,null,{"$f":"SUM(D26*'Mischung 1'!F25)","v":0},{"$f":"IF(D26>0,'Mischung 1'!G25*D26,0)","v":0},null,{"$f":"IF(D26>0,'Mischung 1'!I25*D26,0)","v":0},{"$f":"IF(D26>0,'Mischung 1'!J25*D26,0)","v":0},{"$f":"IF(D26>0,'Mischung 1'!K25*D26,0)","v":0},{"$f":"IF(D26>0,'Mischung 1'!L25*D26,0)","v":0},{"$f":"IF(D26>0,'Mischung 1'!M25*D26,0)","v":0},{"$f":"IF(D26>0,'Mischung 1'!N25*D26,0)","v":0},{"$f":"IF(D26>0,'Mischung 1'!O25*D26,0)","v":0},{"$f":"IF(D26>0,'Mischung 1'!P25*D26,0)","v":0},{"$f":"IF(D26>0,'Mischung 1'!Q25*D26,0)","v":0},{"$f":"IF(D26>0,'Mischung 1'!R25*D26,0)","v":0},{"$f":"IF(D26>0,'Mischung 1'!S25*D26,0)","v":0},{"$f":"IF('Mischung 1'!T25>0,'Mischung 1'!T25*D26,0)","v":0}]
["Mischung 2 kg:",null,null,null,{"$f":"SUM(D27*'Mischung 2'!F25)","v":0},{"$f":"IF(D27>0,'Mischung 2'!G25*D27,0)","v":0},null,{"$f":"IF(D27>0,'Mischung 2'!I25*D27,0)","v":0},{"$f":"IF(D27>0,'Mischung 2'!J25*D27,0)","v":0},{"$f":"IF(D27>0,'Mischung 2'!K25*D27,0)","v":0},{"$f":"IF(D27>0,'Mischung 2'!L25*D27,0)","v":0},{"$f":"IF(D27>0,'Mischung 2'!M25*D27,0)","v":0},{"$f":"IF(D27>0,'Mischung 2'!N25*D27,0)","v":0},{"$f":"IF(D27>0,'Mischung 2'!O25*D27,0)","v":0},{"$f":"IF(D27>0,'Mischung 2'!P25*D27,0)","v":0},{"$f":"IF(D27>0,'Mischung 2'!Q25*D27,0)","v":0},{"$f":"IF(D27>0,'Mischung 2'!R25*D27,0)","v":0},{"$f":"IF(D27>0,'Mischung 2'!S25*D27,0)","v":0},{"$f":"IF('Mischung 2'!T25>0,'Mischung 2'!T25*D27,0)","v":0}]
["Summe Grundfutter + Kraftfutter",null,null,{"$f":"SUM(D25:D27)","v":0},{"$f":"SUM(E25+E26+E27)","v":0},{"$f":"SUM(F25+F26+F27)","v":0},{"$f":"IF(G25>0,G25,0)","v":0},0,0,0,0,0,0,0,0,0,0,0,0]
[]
["Sollwerte aus Liste wählen  >>>",null,null,"TM g :",{"$f":"IFERROR(VLOOKUP(A30,Sollwerte!$A$5:$O$75,3,0),0)","v":0},null,{"$f":"IFERROR(VLOOKUP(A30,Sollwerte!$A$5:$O$75,4,0),0)","v":0},{"$f":"IFERROR(VLOOKUP(A30,Sollwerte!$A$5:$O$75,5,0),0)","v":0},{"$f":"IFERROR(VLOOKUP(A30,Sollwerte!$A$5:$O$75,6,0),0)","v":0},{"$f":"IFERROR(VLOOKUP(A30,Sollwerte!$A$5:$O$75,7,0),0)","v":0},{"$f":"IFERROR(VLOOKUP(A30,Sollwerte!$A$5:$O$75,8,0),0)","v":0},{"$f":"IFERROR(VLOOKUP(A30,Sollwerte!$A$5:$O$75,9,0),0)","v":0},{"$f":"IFERROR(VLOOKUP(A30,Sollwerte!$A$5:$O$75,10,0),0)","v":0},{"$f":"IFERROR(VLOOKUP(A30,Sollwerte!$A$5:$O$75,11,0),0)","v":0},{"$f":"IFERROR(VLOOKUP(A30,Sollwerte!$A$5:$O$75,12,0),0)","v":0},{"$f":"IFERROR(VLOOKUP(A30,Sollwerte!$A$5:$O$75,13,0),0)","v":0},{"$f":"IFERROR(VLOOKUP(A30,Sollwerte!$A$5:$O$75,14,0),0)","v":0},{"$f":"IFERROR(VLOOKUP(A30,Sollwerte!$A$5:$O$75,15,0),0)","v":0}]
["Differenz zum Sollwert -  XF % / aNDF %",null,null,null,{"$f":"IF(E30>0,E28-E30,0)","v":0},{"$f":"IF(F28>0,F28/E28,0)","v":0},{"$f":"IF(G28>0,T25/E28,0)","v":0},{"$f":"IF(H30>0,H28-H30,0)","v":0},{"$f":"IF(I30>0,I28-I30,0)","v":0},{"$f":"IF(J30>0,J28-J30,0)","v":0},0,0,0,0,0,0,0,0]
[null,null,null,null,{"$f":"IF(E31=0,0,E31/E30)","v":0},null,null,{"$f":"IF(H31=0,0,H31/H30)","v":0},{"$f":"IF(I31=0,0,I31/I30)","v":0},{"$f":"IF(J31=0,0,J31/J30)","v":0},0,0,0,0,0,0,0,0]

{"sheet":"Mischung 1","index":3,"n_rows":25,"n_cols":20,"rows_kept":25,"cut":false,"hidden":false,"merged":[[0,0,0,19],[1,0,1,4],[1,6,1,19],[2,1,2,4],[3,2,12,4]]}
[]
["Kraftfutter – Mischung 1",null,null,null,null,null,"Nähr- und Mineralstoffgehalte je kg TM"]
["Nr ","Futterart",null,null,null,"TM g","XF g","aNDFom g","XP g","nXP g","ME Mj","NEL  Mj","Ca","P","Mg","Na","K","Cl","S","Preis / dt FM"]
[null,{"$f":"IFERROR(VLOOKUP(A4,'Gruber Tabelle'!$A$8:$W$405,2,0),\"\")","v":0},null,null,null,{"$f":"IFERROR(VLOOKUP(A4,'Gruber Tabelle'!$A$8:$W$404,3,0),\"\")","v":0},{"$f":"IFERROR(VLOOKUP(A4,'Gruber Tabelle'!$A$8:$W$404,4,0),\"\")","v":0},{"$f":"IFERROR(VLOOKUP(A4,'Gruber Tabelle'!$A$8:$W$404,5,0),\"\")","v":0},{"$f":"IFERROR(VLOOKUP(A4,'Gruber Tabelle'!$A$8:$W$404,7,0),\"\")","v":0},{"$f":"IFERROR(VLOOKUP(A4,'Gruber Tabelle'!$A$8:$W$404,8,0),\"\")","v":0},{"$f":"IFERROR(VLOOKUP(A4,'Gruber Tabelle'!$A$5:$W$404,12,0),\"\")","v":0},{"$f":"IFERROR(VLOOKUP(A4,'Gruber Tabelle'!$A$5:$W$404,11,0),\"\")","v":0},{"$f":"IFERROR(VLOOKUP(A4,'Gruber Tabelle'!$A$8:$W$404,16,0),\"\")","v":0},{"$f":"IFERROR(VLOOKUP(A4,'Gruber Tabelle'!$A$8:$W$404,17,0),\"\")","v":0},{"$f":"IFERROR(VLOOKUP(A4,'Gruber Tabelle'!$A$8:$W$404,18,0),\"\")","v":0},{"$f":"IFERROR(VLOOKUP(A4,'Gruber Tabelle'!$A$8:$W$404,19,0),\"\")","v":0},{"$f":"IFERROR(VLOOKUP(A4,'Gruber Tabelle'!$A$8:$W$404,20,0),\"\")","v":0},{"$f":"IFERROR(VLOOKUP(A4,'Gruber Tabelle'!$A$8:$W$404,21,0),\"\")","v":0},{"$f":"IFERROR(VLOOKUP(A4,'Gruber Tabelle'!$A$8:$W$404,22,0),\"\")","v":0},{"$f":"IFERROR(VLOOKUP(A4,'Gruber Tabelle'!$A$8:$W$404,23,0),\"\")","v":0}]
[null,{"$f":"IFERROR(VLOOKUP(A5,'Gruber Tabelle'!$A$8:$W$405,2,0),\"\")","v":0},null,null,null,{"$f":"IFERROR(VLOOKUP(A5,'Gruber Tabelle'!$A$8:$W$404,3,0),\"\")","v":0},{"$f":"IFERROR(VLOOKUP(A5,'Gruber Tabelle'!$A$8:$W$404,4,0),\"\")","v":0},{"$f":"IFERROR(VLOOKUP(A5,'Gruber Tabelle'!$A$8:$W$404,5,0),\"\")","v":0},{"$f":"IFERROR(VLOOKUP(A5,'Gruber Tabelle'!$A$8:$W$404,7,0),\"\")","v":0},{"$f":"IFERROR(VLOOKUP(A5,'Gruber Tabelle'!$A$8:$W$404,8,0),\"\")","v":0},{"$f":"IFERROR(VLOOKUP(A5,'Gruber Tabelle'!$A$5:$W$404,12,0),\"\")","v":0},{"$f":"IFERROR(VLOOKUP(A5,'Gruber Tabelle'!$A$5:$W$404,11,0),\"\")","v":0},{"$f":"IFERROR(VLOOKUP(A5,'Gruber Tabelle'!$A$8:$W$404,16,0),\"\")","v":0},{"$f":"IFERROR(VLOOKUP(A5,'Gruber Tabelle'!$A$8:$W$404,17,0),\"\")","v":0},{"$f":"IFERROR(VLOOKUP(A5,'Gruber Tabelle'!$A$8:$W$404,18,0),\"\")","v":0},{"$f":"IFERROR(VLOOKUP(A5,'Gruber Tabelle'!$A$8:$W$404,19,0),\"\")","v":0},{"$f":"IFERROR(VLOOKUP(A5,'Gruber Tabelle'!$A$8:$W$404,20,0),\"\")","v":0},{"$f":"IFERROR(VLOOKUP(A5,'Gruber Tabelle'!$A$8:$W$404,21,0),\"\")","v":0},{"$f":"IFERROR(VLOOKUP(A5,'Gruber Tabelle'!$A$8:$W$404,22,0),\"\")","v":0},{"$f":"IFERROR(VLOOKUP(A5,'Gruber Tabelle'!$A$8:$W$404,23,0),\"\")","v":0}]
[null,{"$f":"IFERROR(VLOOKUP(A6,'Gruber Tabelle'!$A$8:$W$405,2,0),\"\")","v":0},null,null,null,{"$f":"IFERROR(VLOOKUP(A6,'Gruber Tabelle'!$A$8:$W$404,3,0),\"\")","v":0},{"$f":"IFERROR(VLOOKUP(A6,'Gruber Tabelle'!$A$8:$W$404,4,0),\"\")","v":0},{"$f":"IFERROR(VLOOKUP(A6,'Gruber Tabelle'!$A$8:$W$404,5,0),\"\")","v":0},{"$f":"IFERROR(VLOOKUP(A6,'Gruber Tabelle'!$A$8:$W$404,7,0),\"\")","v":0},{"$f":"IFERROR(VLOOKUP(A6,'Gruber Tabelle'!$A$8:$W$404,8,0),\"\")","v":0},{"$f":"IFERROR(VLOOKUP(A6,'Gruber Tabelle'!$A$5:$W$404,12,0),\"\")","v":0},{"$f":"IFERROR(VLOOKUP(A6,'Gruber Tabelle'!$A$5:$W$404,11,0),\"\")","v":0},{"$f":"IFERROR(VLOOKUP(A6,'Gruber Tabelle'!$A$8:$W$404,16,0),\"\")","v":0},{"$f":"IFERROR(VLOOKUP(A6,'Gruber Tabelle'!$A$8:$W$404,17,0),\"\")","v":0},{"$f":"IFERROR(VLOOKUP(A6,'Gruber Tabelle'!$A$8:$W$404,18,0),\"\")","v":0},{"$f":"IFERROR(VLOOKUP(A6,'Gruber Tabelle'!$A$8:$W$404,19,0),\"\")","v":0},{"$f":"IFERROR(VLOOKUP(A6,'Gruber Tabelle'!$A$8:$W$404,20,0),\"\")","v":0},{"$f":"IFERROR(VLOOKUP(A6,'Gruber Tabelle'!$A$8:$W$404,21,0),\"\")","v":0},{"$f":"IFERROR(VLOOKUP(A6,'Gruber Tabelle'!$A$8:$W$404,22,0),\"\")","v":0},{"$f":"IFERROR(VLOOKUP(A6,'Gruber Tabelle'!$A$8:$W$404,23,0),\"\")","v":0}]
[null,{"$f":"IFERROR(VLOOKUP(A7,'Gruber Tabelle'!$A$8:$W$405,2,0),\"\")","v":0},null,null,null,{"$f":"IFERROR(VLOOKUP(A7,'Gruber Tabelle'!$A$8:$W$404,3,0),\"\")","v":0},{"$f":"IFERROR(VLOOKUP(A7,'Gruber Tabelle'!$A$8:$W$404,4,0),\"\")","v":0},{"$f":"IFERROR(VLOOKUP(A7,'Gruber Tabelle'!$A$8:$W$404,5,0),\"\")","v":0},{"$f":"IFERROR(VLOOKUP(A7,'Gruber Tabelle'!$A$8:$W$404,7,0),\"\")","v":0},{"$f":"IFERROR(VLOOKUP(A7,'Gruber Tabelle'!$A$8:$W$404,8,0),\"\")","v":0},{"$f":"IFERROR(VLOOKUP(A7,'Gruber Tabelle'!$A$5:$W$404,12,0),\"\")","v":0},{"$f":"IFERROR(VLOOKUP(A7,'Gruber Tabelle'!$A$5:$W$404,11,0),\"\")","v":0},{"$f":"IFERROR(VLOOKUP(A7,'Gruber Tabelle'!$A$8:$W$404,16,0),\"\")","v":0},{"$f":"IFERROR(VLOOKUP(A7,'Gruber Tabelle'!$A$8:$W$404,17,0),\"\")","v":0},{"$f":"IFERROR(VLOOKUP(A7,'Gruber Tabelle'!$A$8:$W$404,18,0),\"\")","v":0},{"$f":"IFERROR(VLOOKUP(A7,'Gruber Tabelle'!$A$8:$W$404,19,0),\"\")","v":0},{"$f":"IFERROR(VLOOKUP(A7,'Gruber Tabelle'!$A$8:$W$404,20,0),\"\")","v":0},{"$f":"IFERROR(VLOOKUP(A7,'Gruber Tabelle'!$A$8:$W$404,21,0),\"\")","v":0},{"$f":"IFERROR(VLOOKUP(A7,'Gruber Tabelle'!$A$8:$W$404,22,0),\"\")","v":0},{"$f":"IFERROR(VLOOKUP(A7,'Gruber Tabelle'!$A$8:$W$404,23,0),\"\")","v":0}]
[null,{"$f":"IFERROR(VLOOKUP(A8,'Gruber Tabelle'!$A$8:$W$405,2,0),\"\")","v":0},null,null,null,{"$f":"IFERROR(VLOOKUP(A8,'Gruber Tabelle'!$A$8:$W$404,3,0),\"\")","v":0},{"$f":"IFERROR(VLOOKUP(A8,'Gruber Tabelle'!$A$8:$W$404,4,0),\"\")","v":0},{"$f":"IFERROR(VLOOKUP(A8,'Gruber Tabelle'!$A$8:$W$404,5,0),\"\")","v":0},{"$f":"IFERROR(VLOOKUP(A8,'Gruber Tabelle'!$A$8:$W$404,7,0),\"\")","v":0},{"$f":"IFERROR(VLOOKUP(A8,'Gruber Tabelle'!$A$8:$W$404,8,0),\"\")","v":0},{"$f":"IFERROR(VLOOKUP(A8,'Gruber Tabelle'!$A$5:$W$404,12,0),\"\")","v":0},{"$f":"IFERROR(VLOOKUP(A8,'Gruber Tabelle'!$A$5:$W$404,11,0),\"\")","v":0},{"$f":"IFERROR(VLOOKUP(A8,'Gruber Tabelle'!$A$8:$W$404,16,0),\"\")","v":0},{"$f":"IFERROR(VLOOKUP(A8,'Gruber Tabelle'!$A$8:$W$404,17,0),\"\")","v":0},{"$f":"IFERROR(VLOOKUP(A8,'Gruber Tabelle'!$A$8:$W$404,18,0),\"\")","v":0},{"$f":"IFERROR(VLOOKUP(A8,'Gruber Tabelle'!$A$8:$W$404,19,0),\"\")","v":0},{"$f":"IFERROR(VLOOKUP(A8,'Gruber Tabelle'!$A$8:$W$404,20,0),\"\")","v":0},{"$f":"IFERROR(VLOOKUP(A8,'Gruber Tabelle'!$A$8:$W$404,21,0),\"\")","v":0},{"$f":"IFERROR(VLOOKUP(A8,'Gruber Tabelle'!$A$8:$W$404,22,0),\"\")","v":0},{"$f":"IFERROR(VLOOKUP(A8,'Gruber Tabelle'!$A$8:$W$404,23,0),\"\")","v":0}]
[null,{"$f":"IFERROR(VLOOKUP(A9,'Gruber Tabelle'!$A$8:$W$405,2,0),\"\")","v":0},null,null,null,{"$f":"IFERROR(VLOOKUP(A9,'Gruber Tabelle'!$A$8:$W$404,3,0),\"\")","v":0},{"$f":"IFERROR(VLOOKUP(A9,'Gruber Tabelle'!$A$8:$W$404,4,0),\"\")","v":0},{"$f":"IFERROR(VLOOKUP(A9,'Gruber Tabelle'!$A$8:$W$404,5,0),\"\")","v":0},{"$f":"IFERROR(VLOOKUP(A9,'Gruber Tabelle'!$A$8:$W$404,7,0),\"\")","v":0},{"$f":"IFERROR(VLOOKUP(A9,'Gruber Tabelle'!$A$8:$W$404,8,0),\"\")","v":0},{"$f":"IFERROR(VLOOKUP(A9,'Gruber Tabelle'!$A$5:$W$404,12,0),\"\")","v":0},{"$f":"IFERROR(VLOOKUP(A9,'Gruber Tabelle'!$A$5:$W$404,11,0),\"\")","v":0},{"$f":"IFERROR(VLOOKUP(A9,'Gruber Tabelle'!$A$8:$W$404,16,0),\"\")","v":0},{"$f":"IFERROR(VLOOKUP(A9,'Gruber Tabelle'!$A$8:$W$404,17,0),\"\")","v":0},{"$f":"IFERROR(VLOOKUP(A9,'Gruber Tabelle'!$A$8:$W$404,18,0),\"\")","v":0},{"$f":"IFERROR(VLOOKUP(A9,'Gruber Tabelle'!$A$8:$W$404,19,0),\"\")","v":0},{"$f":"IFERROR(VLOOKUP(A9,'Gruber Tabelle'!$A$8:$W$404,20,0),\"\")","v":0},{"$f":"IFERROR(VLOOKUP(A9,'Gruber Tabelle'!$A$8:$W$404,21,0),\"\")","v":0},{"$f":"IFERROR(VLOOKUP(A9,'Gruber Tabelle'!$A$8:$W$404,22,0),\"\")","v":0},{"$f":"IFERROR(VLOOKUP(A9,'Gruber Tabelle'!$A$8:$W$404,23,0),\"\")","v":0}]
[null,{"$f":"IFERROR(VLOOKUP(A10,'Gruber Tabelle'!$A$8:$W$405,2,0),\"\")","v":0},null,null,null,{"$f":"IFERROR(VLOOKUP(A10,'Gruber Tabelle'!$A$8:$W$404,3,0),\"\")","v":0},{"$f":"IFERROR(VLOOKUP(A10,'Gruber Tabelle'!$A$8:$W$404,4,0),\"\")","v":0},{"$f":"IFERROR(VLOOKUP(A10,'Gruber Tabelle'!$A$8:$W$404,5,0),\"\")","v":0},{"$f":"IFERROR(VLOOKUP(A10,'Gruber Tabelle'!$A$8:$W$404,7,0),\"\")","v":0},{"$f":"IFERROR(VLOOKUP(A10,'Gruber Tabelle'!$A$8:$W$404,8,0),\"\")","v":0},{"$f":"IFERROR(VLOOKUP(A10,'Gruber Tabelle'!$A$5:$W$404,12,0),\"\")","v":0},{"$f":"IFERROR(VLOOKUP(A10,'Gruber Tabelle'!$A$5:$W$404,11,0),\"\")","v":0},{"$f":"IFERROR(VLOOKUP(A10,'Gruber Tabelle'!$A$8:$W$404,16,0),\"\")","v":0},{"$f":"IFERROR(VLOOKUP(A10,'Gruber Tabelle'!$A$8:$W$404,17,0),\"\")","v":0},{"$f":"IFERROR(VLOOKUP(A10,'Gruber Tabelle'!$A$8:$W$404,18,0),\"\")","v":0},{"$f":"IFERROR(VLOOKUP(A10,'Gruber Tabelle'!$A$8:$W$404,19,0),\"\")","v":0},{"$f":"IFERROR(VLOOKUP(A10,'Gruber Tabelle'!$A$8:$W$404,20,0),\"\")","v":0},{"$f":"IFERROR(VLOOKUP(A10,'Gruber Tabelle'!$A$8:$W$404,21,0),\"\")","v":0},{"$f":"IFERROR(VLOOKUP(A10,'Gruber Tabelle'!$A$8:$W$404,22,0),\"\")","v":0},{"$f":"IFERROR(VLOOKUP(A10,'Gruber Tabelle'!$A$8:$W$404,23,0),\"\")","v":0}]
[null,{"$f":"IFERROR(VLOOKUP(A11,'Gruber Tabelle'!$A$8:$W$405,2,0),\"\")","v":0},null,null,null,{"$f":"IFERROR(VLOOKUP(A11,'Gruber Tabelle'!$A$8:$W$404,3,0),\"\")","v":0},{"$f":"IFERROR(VLOOKUP(A11,'Gruber Tabelle'!$A$8:$W$404,4,0),\"\")","v":0},{"$f":"IFERROR(VLOOKUP(A11,'Gruber Tabelle'!$A$8:$W$404,5,0),\"\")","v":0},{"$f":"IFERROR(VLOOKUP(A11,'Gruber Tabelle'!$A$8:$W$404,7,0),\"\")","v":0},{"$f":"IFERROR(VLOOKUP(A11,'Gruber Tabelle'!$A$8:$W$404,8,0),\"\")","v":0},{"$f":"IFERROR(VLOOKUP(A11,'Gruber Tabelle'!$A$5:$W$404,12,0),\"\")","v":0},{"$f":"IFERROR(VLOOKUP(A11,'Gruber Tabelle'!$A$5:$W$404,11,0),\"\")","v":0},{"$f":"IFERROR(VLOOKUP(A11,'Gruber Tabelle'!$A$8:$W$404,16,0),\"\")","v":0},{"$f":"IFERROR(VLOOKUP(A11,'Gruber Tabelle'!$A$8:$W$404,17,0),\"\")","v":0},{"$f":"IFERROR(VLOOKUP(A11,'Gruber Tabelle'!$A$8:$W$404,18,0),\"\")","v":0},{"$f":"IFERROR(VLOOKUP(A11,'Gruber Tabelle'!$A$8:$W$404,19,0),\"\")","v":0},{"$f":"IFERROR(VLOOKUP(A11,'Gruber Tabelle'!$A$8:$W$404,20,0),\"\")","v":0},{"$f":"IFERROR(VLOOKUP(A11,'Gruber Tabelle'!$A$8:$W$404,21,0),\"\")","v":0},{"$f":"IFERROR(VLOOKUP(A11,'Gruber Tabelle'!$A$8:$W$404,22,0),\"\")","v":0},{"$f":"IFERROR(VLOOKUP(A11,'Gruber Tabelle'!$A$8:$W$404,23,0),\"\")","v":0}]
[null,{"$f":"IFERROR(VLOOKUP(A12,'Gruber Tabelle'!$A$8:$W$405,2,0),\"\")","v":0},null,null,null,{"$f":"IFERROR(VLOOKUP(A12,'Gruber Tabelle'!$A$8:$W$404,3,0),\"\")","v":0},{"$f":"IFERROR(VLOOKUP(A12,'Gruber Tabelle'!$A$8:$W$404,4,0),\"\")","v":0},{"$f":"IFERROR(VLOOKUP(A12,'Gruber Tabelle'!$A$8:$W$404,5,0),\"\")","v":0},{"$f":"IFERROR(VLOOKUP(A12,'Gruber Tabelle'!$A$8:$W$404,7,0),\"\")","v":0},{"$f":"IFERROR(VLOOKUP(A12,'Gruber Tabelle'!$A$8:$W$404,8,0),\"\")","v":0},{"$f":"IFERROR(VLOOKUP(A12,'Gruber Tabelle'!$A$5:$W$404,12,0),\"\")","v":0},{"$f":"IFERROR(VLOOKUP(A12,'Gruber Tabelle'!$A$5:$W$404,11,0),\"\")","v":0},{"$f":"IFERROR(VLOOKUP(A12,'Gruber Tabelle'!$A$8:$W$404,16,0),\"\")","v":0},{"$f":"IFERROR(VLOOKUP(A12,'Gruber Tabelle'!$A$8:$W$404,17,0),\"\")","v":0},{"$f":"IFERROR(VLOOKUP(A12,'Gruber Tabelle'!$A$8:$W$404,18,0),\"\")","v":0},{"$f":"IFERROR(VLOOKUP(A12,'Gruber Tabelle'!$A$8:$W$404,19,0),\"\")","v":0},{"$f":"IFERROR(VLOOKUP(A12,'Gruber Tabelle'!$A$8:$W$404,20,0),\"\")","v":0},{"$f":"IFERROR(VLOOKUP(A12,'Gruber Tabelle'!$A$8:$W$404,21,0),\"\")","v":0},{"$f":"IFERROR(VLOOKUP(A12,'Gruber Tabelle'!$A$8:$W$404,22,0),\"\")","v":0},{"$f":"IFERROR(VLOOKUP(A12,'Gruber Tabelle'!$A$8:$W$404,23,0),\"\")","v":0}]
[null,{"$f":"IFERROR(VLOOKUP(A13,'Gruber Tabelle'!$A$8:$W$405,2,0),\"\")","v":0},null,null,null,{"$f":"IFERROR(VLOOKUP(A13,'Gruber Tabelle'!$A$8:$W$404,3,0),\"\")","v":0},{"$f":"IFERROR(VLOOKUP(A13,'Gruber Tabelle'!$A$8:$W$404,4,0),\"\")","v":0},{"$f":"IFERROR(VLOOKUP(A13,'Gruber Tabelle'!$A$8:$W$404,5,0),\"\")","v":0},{"$f":"IFERROR(VLOOKUP(A13,'Gruber Tabelle'!$A$8:$W$404,7,0),\"\")","v":0},{"$f":"IFERROR(VLOOKUP(A13,'Gruber Tabelle'!$A$8:$W$404,8,0),\"\")","v":0},{"$f":"IFERROR(VLOOKUP(A13,'Gruber Tabelle'!$A$5:$W$404,12,0),\"\")","v":0},{"$f":"IFERROR(VLOOKUP(A13,'Gruber Tabelle'!$A$5:$W$404,11,0),\"\")","v":0},{"$f":"IFERROR(VLOOKUP(A13,'Gruber Tabelle'!$A$8:$W$404,16,0),\"\")","v":0},{"$f":"IFERROR(VLOOKUP(A13,'Gruber Tabelle'!$A$8:$W$404,17,0),\"\")","v":0},{"$f":"IFERROR(VLOOKUP(A13,'Gruber Tabelle'!$A$8:$W$404,18,0),\"\")","v":0},{"$f":"IFERROR(VLOOKUP(A13,'Gruber Tabelle'!$A$8:$W$404,19,0),\"\")","v":0},{"$f":"IFERROR(VLOOKUP(A13,'Gruber Tabelle'!$A$8:$W$404,20,0),\"\")","v":0},{"$f":"IFERROR(VLOOKUP(A13,'Gruber Tabelle'!$A$8:$W$404,21,0),\"\")","v":0},{"$f":"IFERROR(VLOOKUP(A13,'Gruber Tabelle'!$A$8:$W$404,22,0),\"\")","v":0},{"$f":"IFERROR(VLOOKUP(A13,'Gruber Tabelle'!$A$8:$W$404,23,0),\"\")","v":0}]
["Nr ","Futterart","Mischungs- Anteil in %","TM %","FM kg","TM g","XF g","aNDFom g","XP g","nXP g","ME Mj","NEL Mj","Ca","P","Mg","Na","K","Cl","S","Preis"]
[{"$f":"A4","v":0},0,null,{"$f":"IFERROR(VLOOKUP(A4,'Gruber Tabelle'!$A$5:$T$405,3,0)/1000,\"\")","v":0},{"$f":"IF(C15>0,1*C15,\" \")","v":" "},{"$f":"IFERROR(IF(C15>0,F4*C15,\" \"),\"\")","v":" "},{"$f":"IFERROR(IF($G$4>0,(G4*C15)*D15,\" \"),\"\")","v":" "},{"$f":"IFERROR(IF(H4>0,(H4*C15)*D15,\" \"),\"\")","v":" "},{"$f":"IFERROR(IF(I4>0,(I4*C15)*D15,\" \"),\"\")","v":" "},{"$f":"IFERROR(IF(J4>0,(J4*C15)*D15,\" \"),\"\")","v":" "},{"$f":"IFERROR(IF(K4>0,(K4*C15)*D15,\" \"),\"\")","v":" "},{"$f":"IFERROR(IF(L4>0,(L4*C15)*D15,\" \"),\"\")","v":" "},{"$f":"IFERROR(IF(M4>0,(M4*C15)*D15,\" \"),\"\")","v":" "},{"$f":"IFERROR(IF(N4>0,(N4*C15)*D15,\" \"),\"\")","v":" "},{"$f":"IFERROR(IF(O4>0,(O4*C15)*D15,\" \"),\"\")","v":" "},{"$f":"IFERROR(IF(P4>0,(P4*C15)*D15,\" \"),\"\")","v":" "},{"$f":"IFERROR(IF(Q4>0,(Q4*C15)*D15,\" \"),\"\")","v":" "},{"$f":"IFERROR(IF(R4>0,(R4*C15)*D15,\" \"),\"\")","v":" "},{"$f":"IFERROR(IF(S4>0,(S4*C15)*D15,\" \"),\"\")","v":" "},{"$f":"IFERROR(IF(C15>0,T4*E15/100,0),\"\")","v":0}]
[0,0,null,{"$f":"IFERROR(VLOOKUP(A5,'Gruber Tabelle'!$A$5:$T$405,3,0)/1000,\"\")","v":0},{"$f":"IF(C16>0,1*C16,\" \")","v":" "},{"$f":"IFERROR(IF(C16>0,F5*C16,\" \"),\"\")","v":" "},{"$f":"IFERROR(IF($G$5>0,(G5*C16)*D16,\" \"),\"\")","v":" "},{"$f":"IFERROR(IF(H5>0,(H5*C16)*D16,\" \"),\"\")","v":" "},{"$f":"IFERROR(IF(I5>0,(I5*C16)*D16,\" \"),\"\")","v":" "},{"$f":"IFERROR(IF(J5>0,(J5*C16)*D16,\" \"),\"\")","v":" "},{"$f":"IFERROR(IF(K5>0,(K5*C16)*D16,\" \"),\"\")","v":" "},{"$f":"IFERROR(IF(L5>0,(L5*C16)*D16,\" \"),\"\")","v":" "},{"$f":"IFERROR(IF(M5>0,(M5*C16)*D16,\" \"),\"\")","v":" "},{"$f":"IFERROR(IF(N5>0,(N5*C16)*D16,\" \"),\"\")","v":" "},{"$f":"IFERROR(IF(O5>0,(O5*C16)*D16,\" \"),\"\")","v":" "},{"$f":"IFERROR(IF(P5>0,(P5*C16)*D16,\" \"),\"\")","v":" "},{"$f":"IFERROR(IF(Q5>0,(Q5*C16)*D16,\" \"),\"\")","v":" "},{"$f":"IFERROR(IF(R5>0,(R5*C16)*D16,\" \"),\"\")","v":" "},{"$f":"IFERROR(IF(S5>0,(S5*C16)*D16,\" \"),\"\")","v":" "},{"$f":"IFERROR(IF(C16>0,T5*E16/100,0),\"\")","v":0}]
[0,0,null,{"$f":"IFERROR(VLOOKUP(A6,'Gruber Tabelle'!$A$5:$T$405,3,0)/1000,\"\")","v":0}," "," ",{"$f":"IFERROR(IF($G$6>0,(G6*C17)*D17,\" \"),\"\")","v":" "}," "," "," "," "," "," "," "," "," "," "," "," ",0]
[0,0,null,{"$f":"IFERROR(VLOOKUP(A7,'Gruber Tabelle'!$A$5:$T$405,3,0)/1000,\"\")","v":0}," "," ",{"$f":"IFERROR(IF($G$7>0,(G7*C18)*D18,\" \"),\"\")","v":" "}," "," "," "," "," "," "," "," "," "," "," "," ",0]
[0,0,null,{"$f":"IFERROR(VLOOKUP(A8,'Gruber Tabelle'!$A$5:$T$405,3,0)/1000,\"\")","v":0}," "," ",{"$f":"IFERROR(IF($G$8>0,(G8*C19)*D19,\" \"),\"\")","v":" "}," "," "," "," "," "," "," "," "," "," "," "," ",0]
[0,0,null,{"$f":"IFERROR(VLOOKUP(A9,'Gruber Tabelle'!$A$5:$T$405,3,0)/1000,\"\")","v":0}," "," ",{"$f":"IFERROR(IF($G$9>0,(G9*C20)*D20,\" \"),\"\")","v":" "}," "," "," "," "," "," "," "," "," "," "," "," ",0]
[0,0,null,{"$f":"IFERROR(VLOOKUP(A10,'Gruber Tabelle'!$A$5:$T$405,3,0)/1000,\"\")","v":0}," "," ",{"$f":"IFERROR(IF($G$10>0,(G10*C21)*D21,\" \"),\"\")","v":" "}," "," "," "," "," "," "," "," "," "," "," "," ",0]
[0,0,null,{"$f":"IFERROR(VLOOKUP(A11,'Gruber Tabelle'!$A$5:$T$405,3,0)/1000,\"\")","v":0}," "," ",{"$f":"IFERROR(IF($G$11>0,(G11*C22)*D22,\" \"),\"\")","v":" "}," "," "," "," "," "," "," "," "," "," "," "," ",0]
[0,0,null,{"$f":"IFERROR(VLOOKUP(A12,'Gruber Tabelle'!$A$5:$T$405,3,0)/1000,\"\")","v":0}," "," ",{"$f":"IFERROR(IF($G$12>0,(G12*C23)*D23,\" \"),\"\")","v":" "}," "," "," "," "," "," "," "," "," "," "," "," ",0]
[0,0,null,{"$f":"IFERROR(VLOOKUP(A13,'Gruber Tabelle'!$A$5:$T$405,3,0)/1000,\"\")","v":0}," "," ",{"$f":"IFERROR(IF($G$13>0,(G13*C24)*D24,\" \"),\"\")","v":" "}," "," "," "," "," "," "," "," "," "," "," "," ",0]
["FM","Summe:",{"$f":"SUM(C15:C24)","v":0},null,{"$f":"SUM(E15:E24)","v":0},0,0,0,{"$f":"SUM(I15:I24)","v":0},{"$f":"SUM(J15:J24)","v":0},0,0,0,0,0,0,0,0,0,0]

{"sheet":"Mischung 2","index":4,"n_rows":25,"n_cols":20,"rows_kept":25,"cut":false,"hidden":false,"merged":[[0,0,0,19],[1,0,1,4],[2,1,2,4],[3,2,12,4],[1,5,1,19]]}
[]
["Kraftfutter – Mischung 2",null,null,null,null,"Nähr- und Mineralstoffgehalte je kg TM"]
["Nr ","Futterart",null,null,null,"TM g","XF  g","aNDFom g","XP g","nXP g","ME Mj","NEL Mj","Ca","P","Mg","Na","K","Cl","S","Preis / dt FM"]
[null,{"$f":"IFERROR(VLOOKUP(A4,'Gruber Tabelle'!$A$8:$W$405,2,0),\"\")","v":0},null,null,null,{"$f":"IFERROR(VLOOKUP(A4,'Gruber Tabelle'!$A$8:$W$404,3,0),\"\")","v":0},{"$f":"IFERROR(VLOOKUP(A4,'Gruber Tabelle'!$A$8:$W$404,4,0),\"\")","v":0},{"$f":"IFERROR(VLOOKUP(A4,'Gruber Tabelle'!$A$8:$W$404,5,0),\"\")","v":0},{"$f":"IFERROR(VLOOKUP(A4,'Gruber Tabelle'!$A$8:$W$404,7,0),\"\")","v":0},{"$f":"IFERROR(VLOOKUP(A4,'Gruber Tabelle'!$A$8:$W$404,8,0),\"\")","v":0},{"$f":"IFERROR(VLOOKUP(A4,'Gruber Tabelle'!$A$8:$W$404,12,0),\"\")","v":0},{"$f":"IFERROR(VLOOKUP(A4,'Gruber Tabelle'!$A$8:$W$404,11,0),\"\")","v":0},{"$f":"IFERROR(VLOOKUP(A4,'Gruber Tabelle'!$A$8:$W$404,16,0),\"\")","v":0},{"$f":"IFERROR(VLOOKUP(A4,'Gruber Tabelle'!$A$8:$W$404,17,0),\"\")","v":0},{"$f":"IFERROR(VLOOKUP(A4,'Gruber Tabelle'!$A$8:$W$404,18,0),\"\")","v":0},{"$f":"IFERROR(VLOOKUP(A4,'Gruber Tabelle'!$A$8:$W$404,19,0),\"\")","v":0},{"$f":"IFERROR(VLOOKUP(A4,'Gruber Tabelle'!$A$8:$W$404,20,0),\"\")","v":0},{"$f":"IFERROR(VLOOKUP(A4,'Gruber Tabelle'!$A$8:$W$404,21,0),\"\")","v":0},{"$f":"IFERROR(VLOOKUP(A4,'Gruber Tabelle'!$A$8:$W$404,22,0),\"\")","v":0},{"$f":"IFERROR(VLOOKUP(A4,'Gruber Tabelle'!$A$8:$W$404,23,0),\"\")","v":0}]
[null,{"$f":"IFERROR(VLOOKUP(A5,'Gruber Tabelle'!$A$8:$W$405,2,0),\"\")","v":0},null,null,null,{"$f":"IFERROR(VLOOKUP(A5,'Gruber Tabelle'!$A$8:$W$404,3,0),\"\")","v":0},{"$f":"IFERROR(VLOOKUP(A5,'Gruber Tabelle'!$A$8:$W$404,4,0),\"\")","v":0},{"$f":"IFERROR(VLOOKUP(A5,'Gruber Tabelle'!$A$8:$W$404,5,0),\"\")","v":0},{"$f":"IFERROR(VLOOKUP(A5,'Gruber Tabelle'!$A$8:$W$404,7,0),\"\")","v":0},{"$f":"IFERROR(VLOOKUP(A5,'Gruber Tabelle'!$A$8:$W$404,8,0),\"\")","v":0},{"$f":"IFERROR(VLOOKUP(A5,'Gruber Tabelle'!$A$8:$W$404,12,0),\"\")","v":0},{"$f":"IFERROR(VLOOKUP(A5,'Gruber Tabelle'!$A$8:$W$404,11,0),\"\")","v":0},{"$f":"IFERROR(VLOOKUP(A5,'Gruber Tabelle'!$A$8:$W$404,16,0),\"\")","v":0},{"$f":"IFERROR(VLOOKUP(A5,'Gruber Tabelle'!$A$8:$W$404,17,0),\"\")","v":0},{"$f":"IFERROR(VLOOKUP(A5,'Gruber Tabelle'!$A$8:$W$404,18,0),\"\")","v":0},{"$f":"IFERROR(VLOOKUP(A5,'Gruber Tabelle'!$A$8:$W$404,19,0),\"\")","v":0},{"$f":"IFERROR(VLOOKUP(A5,'Gruber Tabelle'!$A$8:$W$404,20,0),\"\")","v":0},{"$f":"IFERROR(VLOOKUP(A5,'Gruber Tabelle'!$A$8:$W$404,21,0),\"\")","v":0},{"$f":"IFERROR(VLOOKUP(A5,'Gruber Tabelle'!$A$8:$W$404,22,0),\"\")","v":0},{"$f":"IFERROR(VLOOKUP(A5,'Gruber Tabelle'!$A$8:$W$404,23,0),\"\")","v":0}]
[null,{"$f":"IFERROR(VLOOKUP(A6,'Gruber Tabelle'!$A$8:$W$405,2,0),\"\")","v":0},null,null,null,{"$f":"IFERROR(VLOOKUP(A6,'Gruber Tabelle'!$A$8:$W$404,3,0),\"\")","v":0},{"$f":"IFERROR(VLOOKUP(A6,'Gruber Tabelle'!$A$8:$W$404,4,0),\"\")","v":0},{"$f":"IFERROR(VLOOKUP(A6,'Gruber Tabelle'!$A$8:$W$404,5,0),\"\")","v":0},{"$f":"IFERROR(VLOOKUP(A6,'Gruber Tabelle'!$A$8:$W$404,7,0),\"\")","v":0},{"$f":"IFERROR(VLOOKUP(A6,'Gruber Tabelle'!$A$8:$W$404,8,0),\"\")","v":0},{"$f":"IFERROR(VLOOKUP(A6,'Gruber Tabelle'!$A$8:$W$404,12,0),\"\")","v":0},{"$f":"IFERROR(VLOOKUP(A6,'Gruber Tabelle'!$A$8:$W$404,11,0),\"\")","v":0},{"$f":"IFERROR(VLOOKUP(A6,'Gruber Tabelle'!$A$8:$W$404,16,0),\"\")","v":0},{"$f":"IFERROR(VLOOKUP(A6,'Gruber Tabelle'!$A$8:$W$404,17,0),\"\")","v":0},{"$f":"IFERROR(VLOOKUP(A6,'Gruber Tabelle'!$A$8:$W$404,18,0),\"\")","v":0},{"$f":"IFERROR(VLOOKUP(A6,'Gruber Tabelle'!$A$8:$W$404,19,0),\"\")","v":0},{"$f":"IFERROR(VLOOKUP(A6,'Gruber Tabelle'!$A$8:$W$404,20,0),\"\")","v":0},{"$f":"IFERROR(VLOOKUP(A6,'Gruber Tabelle'!$A$8:$W$404,21,0),\"\")","v":0},{"$f":"IFERROR(VLOOKUP(A6,'Gruber Tabelle'!$A$8:$W$404,22,0),\"\")","v":0},{"$f":"IFERROR(VLOOKUP(A6,'Gruber Tabelle'!$A$8:$W$404,23,0),\"\")","v":0}]
[null,{"$f":"IFERROR(VLOOKUP(A7,'Gruber Tabelle'!$A$8:$W$405,2,0),\"\")","v":0},null,null,null,{"$f":"IFERROR(VLOOKUP(A7,'Gruber Tabelle'!$A$8:$W$404,3,0),\"\")","v":0},{"$f":"IFERROR(VLOOKUP(A7,'Gruber Tabelle'!$A$8:$W$404,4,0),\"\")","v":0},{"$f":"IFERROR(VLOOKUP(A7,'Gruber Tabelle'!$A$8:$W$404,5,0),\"\")","v":0},{"$f":"IFERROR(VLOOKUP(A7,'Gruber Tabelle'!$A$8:$W$404,7,0),\"\")","v":0},{"$f":"IFERROR(VLOOKUP(A7,'Gruber Tabelle'!$A$8:$W$404,8,0),\"\")","v":0},{"$f":"IFERROR(VLOOKUP(A7,'Gruber Tabelle'!$A$8:$W$404,12,0),\"\")","v":0},{"$f":"IFERROR(VLOOKUP(A7,'Gruber Tabelle'!$A$8:$W$404,11,0),\"\")","v":0},{"$f":"IFERROR(VLOOKUP(A7,'Gruber Tabelle'!$A$8:$W$404,16,0),\"\")","v":0},{"$f":"IFERROR(VLOOKUP(A7,'Gruber Tabelle'!$A$8:$W$404,17,0),\"\")","v":0},{"$f":"IFERROR(VLOOKUP(A7,'Gruber Tabelle'!$A$8:$W$404,18,0),\"\")","v":0},{"$f":"IFERROR(VLOOKUP(A7,'Gruber Tabelle'!$A$8:$W$404,19,0),\"\")","v":0},{"$f":"IFERROR(VLOOKUP(A7,'Gruber Tabelle'!$A$8:$W$404,20,0),\"\")","v":0},{"$f":"IFERROR(VLOOKUP(A7,'Gruber Tabelle'!$A$8:$W$404,21,0),\"\")","v":0},{"$f":"IFERROR(VLOOKUP(A7,'Gruber Tabelle'!$A$8:$W$404,22,0),\"\")","v":0},{"$f":"IFERROR(VLOOKUP(A7,'Gruber Tabelle'!$A$8:$W$404,23,0),\"\")","v":0}]
[null,{"$f":"IFERROR(VLOOKUP(A8,'Gruber Tabelle'!$A$8:$W$405,2,0),\"\")","v":0},null,null,null,{"$f":"IFERROR(VLOOKUP(A8,'Gruber Tabelle'!$A$8:$W$404,3,0),\"\")","v":0},{"$f":"IFERROR(VLOOKUP(A8,'Gruber Tabelle'!$A$8:$W$404,4,0),\"\")","v":0},{"$f":"IFERROR(VLOOKUP(A8,'Gruber Tabelle'!$A$8:$W$404,5,0),\"\")","v":0},{"$f":"IFERROR(VLOOKUP(A8,'Gruber Tabelle'!$A$8:$W$404,7,0),\"\")","v":0},{"$f":"IFERROR(VLOOKUP(A8,'Gruber Tabelle'!$A$8:$W$404,8,0),\"\")","v":0},{"$f":"IFERROR(VLOOKUP(A8,'Gruber Tabelle'!$A$8:$W$404,12,0),\"\")","v":0},{"$f":"IFERROR(VLOOKUP(A8,'Gruber Tabelle'!$A$8:$W$404,11,0),\"\")","v":0},{"$f":"IFERROR(VLOOKUP(A8,'Gruber Tabelle'!$A$8:$W$404,16,0),\"\")","v":0},{"$f":"IFERROR(VLOOKUP(A8,'Gruber Tabelle'!$A$8:$W$404,17,0),\"\")","v":0},{"$f":"IFERROR(VLOOKUP(A8,'Gruber Tabelle'!$A$8:$W$404,18,0),\"\")","v":0},{"$f":"IFERROR(VLOOKUP(A8,'Gruber Tabelle'!$A$8:$W$404,19,0),\"\")","v":0},{"$f":"IFERROR(VLOOKUP(A8,'Gruber Tabelle'!$A$8:$W$404,20,0),\"\")","v":0},{"$f":"IFERROR(VLOOKUP(A8,'Gruber Tabelle'!$A$8:$W$404,21,0),\"\")","v":0},{"$f":"IFERROR(VLOOKUP(A8,'Gruber Tabelle'!$A$8:$W$404,22,0),\"\")","v":0},{"$f":"IFERROR(VLOOKUP(A8,'Gruber Tabelle'!$A$8:$W$404,23,0),\"\")","v":0}]
[null,{"$f":"IFERROR(VLOOKUP(A9,'Gruber Tabelle'!$A$8:$W$405,2,0),\"\")","v":0},null,null,null,{"$f":"IFERROR(VLOOKUP(A9,'Gruber Tabelle'!$A$8:$W$404,3,0),\"\")","v":0},{"$f":"IFERROR(VLOOKUP(A9,'Gruber Tabelle'!$A$8:$W$404,4,0),\"\")","v":0},{"$f":"IFERROR(VLOOKUP(A9,'Gruber Tabelle'!$A$8:$W$404,5,0),\"\")","v":0},{"$f":"IFERROR(VLOOKUP(A9,'Gruber Tabelle'!$A$8:$W$404,7,0),\"\")","v":0},{"$f":"IFERROR(VLOOKUP(A9,'Gruber Tabelle'!$A$8:$W$404,8,0),\"\")","v":0},{"$f":"IFERROR(VLOOKUP(A9,'Gruber Tabelle'!$A$8:$W$404,12,0),\"\")","v":0},{"$f":"IFERROR(VLOOKUP(A9,'Gruber Tabelle'!$A$8:$W$404,11,0),\"\")","v":0},{"$f":"IFERROR(VLOOKUP(A9,'Gruber Tabelle'!$A$8:$W$404,16,0),\"\")","v":0},{"$f":"IFERROR(VLOOKUP(A9,'Gruber Tabelle'!$A$8:$W$404,17,0),\"\")","v":0},{"$f":"IFERROR(VLOOKUP(A9,'Gruber Tabelle'!$A$8:$W$404,18,0),\"\")","v":0},{"$f":"IFERROR(VLOOKUP(A9,'Gruber Tabelle'!$A$8:$W$404,19,0),\"\")","v":0},{"$f":"IFERROR(VLOOKUP(A9,'Gruber Tabelle'!$A$8:$W$404,20,0),\"\")","v":0},{"$f":"IFERROR(VLOOKUP(A9,'Gruber Tabelle'!$A$8:$W$404,21,0),\"\")","v":0},{"$f":"IFERROR(VLOOKUP(A9,'Gruber Tabelle'!$A$8:$W$404,22,0),\"\")","v":0},{"$f":"IFERROR(VLOOKUP(A9,'Gruber Tabelle'!$A$8:$W$404,23,0),\"\")","v":0}]
[null,{"$f":"IFERROR(VLOOKUP(A10,'Gruber Tabelle'!$A$8:$W$405,2,0),\"\")","v":0},null,null,null,{"$f":"IFERROR(VLOOKUP(A10,'Gruber Tabelle'!$A$8:$W$404,3,0),\"\")","v":0},{"$f":"IFERROR(VLOOKUP(A10,'Gruber Tabelle'!$A$8:$W$404,4,0),\"\")","v":0},{"$f":"IFERROR(VLOOKUP(A10,'Gruber Tabelle'!$A$8:$W$404,5,0),\"\")","v":0},{"$f":"IFERROR(VLOOKUP(A10,'Gruber Tabelle'!$A$8:$W$404,7,0),\"\")","v":0},{"$f":"IFERROR(VLOOKUP(A10,'Gruber Tabelle'!$A$8:$W$404,8,0),\"\")","v":0},{"$f":"IFERROR(VLOOKUP(A10,'Gruber Tabelle'!$A$8:$W$404,12,0),\"\")","v":0},{"$f":"IFERROR(VLOOKUP(A10,'Gruber Tabelle'!$A$8:$W$404,11,0),\"\")","v":0},{"$f":"IFERROR(VLOOKUP(A10,'Gruber Tabelle'!$A$8:$W$404,16,0),\"\")","v":0},{"$f":"IFERROR(VLOOKUP(A10,'Gruber Tabelle'!$A$8:$W$404,17,0),\"\")","v":0},{"$f":"IFERROR(VLOOKUP(A10,'Gruber Tabelle'!$A$8:$W$404,18,0),\"\")","v":0},{"$f":"IFERROR(VLOOKUP(A10,'Gruber Tabelle'!$A$8:$W$404,19,0),\"\")","v":0},{"$f":"IFERROR(VLOOKUP(A10,'Gruber Tabelle'!$A$8:$W$404,20,0),\"\")","v":0},{"$f":"IFERROR(VLOOKUP(A10,'Gruber Tabelle'!$A$8:$W$404,21,0),\"\")","v":0},{"$f":"IFERROR(VLOOKUP(A10,'Gruber Tabelle'!$A$8:$W$404,22,0),\"\")","v":0},{"$f":"IFERROR(VLOOKUP(A10,'Gruber Tabelle'!$A$8:$W$404,23,0),\"\")","v":0}]
[null,{"$f":"IFERROR(VLOOKUP(A11,'Gruber Tabelle'!$A$8:$W$405,2,0),\"\")","v":0},null,null,null,{"$f":"IFERROR(VLOOKUP(A11,'Gruber Tabelle'!$A$8:$W$404,3,0),\"\")","v":0},{"$f":"IFERROR(VLOOKUP(A11,'Gruber Tabelle'!$A$8:$W$404,4,0),\"\")","v":0},{"$f":"IFERROR(VLOOKUP(A11,'Gruber Tabelle'!$A$8:$W$404,5,0),\"\")","v":0},{"$f":"IFERROR(VLOOKUP(A11,'Gruber Tabelle'!$A$8:$W$404,7,0),\"\")","v":0},{"$f":"IFERROR(VLOOKUP(A11,'Gruber Tabelle'!$A$8:$W$404,8,0),\"\")","v":0},{"$f":"IFERROR(VLOOKUP(A11,'Gruber Tabelle'!$A$8:$W$404,12,0),\"\")","v":0},{"$f":"IFERROR(VLOOKUP(A11,'Gruber Tabelle'!$A$8:$W$404,11,0),\"\")","v":0},{"$f":"IFERROR(VLOOKUP(A11,'Gruber Tabelle'!$A$8:$W$404,16,0),\"\")","v":0},{"$f":"IFERROR(VLOOKUP(A11,'Gruber Tabelle'!$A$8:$W$404,17,0),\"\")","v":0},{"$f":"IFERROR(VLOOKUP(A11,'Gruber Tabelle'!$A$8:$W$404,18,0),\"\")","v":0},{"$f":"IFERROR(VLOOKUP(A11,'Gruber Tabelle'!$A$8:$W$404,19,0),\"\")","v":0},{"$f":"IFERROR(VLOOKUP(A11,'Gruber Tabelle'!$A$8:$W$404,20,0),\"\")","v":0},{"$f":"IFERROR(VLOOKUP(A11,'Gruber Tabelle'!$A$8:$W$404,21,0),\"\")","v":0},{"$f":"IFERROR(VLOOKUP(A11,'Gruber Tabelle'!$A$8:$W$404,22,0),\"\")","v":0},{"$f":"IFERROR(VLOOKUP(A11,'Gruber Tabelle'!$A$8:$W$404,23,0),\"\")","v":0}]
[null,{"$f":"IFERROR(VLOOKUP(A12,'Gruber Tabelle'!$A$8:$W$405,2,0),\"\")","v":0},null,null,null,{"$f":"IFERROR(VLOOKUP(A12,'Gruber Tabelle'!$A$8:$W$404,3,0),\"\")","v":0},{"$f":"IFERROR(VLOOKUP(A12,'Gruber Tabelle'!$A$8:$W$404,4,0),\"\")","v":0},{"$f":"IFERROR(VLOOKUP(A12,'Gruber Tabelle'!$A$8:$W$404,5,0),\"\")","v":0},{"$f":"IFERROR(VLOOKUP(A12,'Gruber Tabelle'!$A$8:$W$404,7,0),\"\")","v":0},{"$f":"IFERROR(VLOOKUP(A12,'Gruber Tabelle'!$A$8:$W$404,8,0),\"\")","v":0},{"$f":"IFERROR(VLOOKUP(A12,'Gruber Tabelle'!$A$8:$W$404,12,0),\"\")","v":0},{"$f":"IFERROR(VLOOKUP(A12,'Gruber Tabelle'!$A$8:$W$404,11,0),\"\")","v":0},{"$f":"IFERROR(VLOOKUP(A12,'Gruber Tabelle'!$A$8:$W$404,16,0),\"\")","v":0},{"$f":"IFERROR(VLOOKUP(A12,'Gruber Tabelle'!$A$8:$W$404,17,0),\"\")","v":0},{"$f":"IFERROR(VLOOKUP(A12,'Gruber Tabelle'!$A$8:$W$404,18,0),\"\")","v":0},{"$f":"IFERROR(VLOOKUP(A12,'Gruber Tabelle'!$A$8:$W$404,19,0),\"\")","v":0},{"$f":"IFERROR(VLOOKUP(A12,'Gruber Tabelle'!$A$8:$W$404,20,0),\"\")","v":0},{"$f":"IFERROR(VLOOKUP(A12,'Gruber Tabelle'!$A$8:$W$404,21,0),\"\")","v":0},{"$f":"IFERROR(VLOOKUP(A12,'Gruber Tabelle'!$A$8:$W$404,22,0),\"\")","v":0},{"$f":"IFERROR(VLOOKUP(A12,'Gruber Tabelle'!$A$8:$W$404,23,0),\"\")","v":0}]
[null,{"$f":"IFERROR(VLOOKUP(A13,'Gruber Tabelle'!$A$8:$W$405,2,0),\"\")","v":0},null,null,null,{"$f":"IFERROR(VLOOKUP(A13,'Gruber Tabelle'!$A$8:$W$404,3,0),\"\")","v":0},{"$f":"IFERROR(VLOOKUP(A13,'Gruber Tabelle'!$A$8:$W$404,4,0),\"\")","v":0},{"$f":"IFERROR(VLOOKUP(A13,'Gruber Tabelle'!$A$8:$W$404,5,0),\"\")","v":0},{"$f":"IFERROR(VLOOKUP(A13,'Gruber Tabelle'!$A$8:$W$404,7,0),\"\")","v":0},{"$f":"IFERROR(VLOOKUP(A13,'Gruber Tabelle'!$A$8:$W$404,8,0),\"\")","v":0},{"$f":"IFERROR(VLOOKUP(A13,'Gruber Tabelle'!$A$8:$W$404,12,0),\"\")","v":0},{"$f":"IFERROR(VLOOKUP(A13,'Gruber Tabelle'!$A$8:$W$404,11,0),\"\")","v":0},{"$f":"IFERROR(VLOOKUP(A13,'Gruber Tabelle'!$A$8:$W$404,16,0),\"\")","v":0},{"$f":"IFERROR(VLOOKUP(A13,'Gruber Tabelle'!$A$8:$W$404,17,0),\"\")","v":0},{"$f":"IFERROR(VLOOKUP(A13,'Gruber Tabelle'!$A$8:$W$404,18,0),\"\")","v":0},{"$f":"IFERROR(VLOOKUP(A13,'Gruber Tabelle'!$A$8:$W$404,19,0),\"\")","v":0},{"$f":"IFERROR(VLOOKUP(A13,'Gruber Tabelle'!$A$8:$W$404,20,0),\"\")","v":0},{"$f":"IFERROR(VLOOKUP(A13,'Gruber Tabelle'!$A$8:$W$404,21,0),\"\")","v":0},{"$f":"IFERROR(VLOOKUP(A13,'Gruber Tabelle'!$A$8:$W$404,22,0),\"\")","v":0},{"$f":"IFERROR(VLOOKUP(A13,'Gruber Tabelle'!$A$8:$W$404,23,0),\"\")","v":0}]
["Nr ","Futterart","Mischungs- Anteil in %","TM %","FM kg","TM g","XF  g","aNDFom g","XP g","nXP g","ME Mj","NEL Mj","Ca","P","Mg","Na","K","Cl","S","Preis"]
[{"$f":"A4","v":0},0,null,{"$f":"IFERROR(VLOOKUP(A4,'Gruber Tabelle'!$A$5:$T$405,3,0)/1000,\"\")","v":0},{"$f":"IF(D15>0,1*C15,\" \")","v":" "},{"$f":"IF(C15>0,F4*C15,\" \")","v":" "},{"$f":"IFERROR(IF(G4>0,(G4*C15)*D15,\" \"),\"\")","v":" "},{"$f":"IFERROR(IF(H4>0,(H4*C15)*D15,\" \"),\"\")","v":" "},{"$f":"IFERROR(IF(I4>0,(I4*C15)*D15,\" \"),\"\")","v":" "},{"$f":"IFERROR(IF(J4>0,(J4*C15)*D15,\" \"),\"\")","v":" "},{"$f":"IFERROR(IF(K4>0,(K4*C15)*D15,\" \"),\"\")","v":" "},{"$f":"IFERROR(IF(L4>0,(L4*C15)*D15,\" \"),\"\")","v":" "},{"$f":"IFERROR(IF(M4>0,(M4*C15)*D15,\" \"),\"\")","v":" "},{"$f":"IFERROR(IF(N4>0,(N4*C15)*D15,\" \"),\"\")","v":" "},{"$f":"IFERROR(IF(O4>0,(O4*C15)*D15,\" \"),\"\")","v":" "},{"$f":"IFERROR(IF(P4>0,(P4*C15)*D15,\" \"),\"\")","v":" "},{"$f":"IFERROR(IF(Q4>0,(Q4*C15)*D15,\" \"),\"\")","v":" "},{"$f":"IFERROR(IF(R4>0,(R4*C15)*D15,\" \"),\"\")","v":" "},{"$f":"IFERROR(IF(S4>0,(S4*C15)*D15,\" \"),\"\")","v":" "},{"$f":"IFERROR(IF(C15>0,T4*E15/100,0),\"\")","v":0}]
[0,0,null,{"$f":"IFERROR(VLOOKUP(A5,'Gruber Tabelle'!$A$5:$T$405,3,0)/1000,\"\")","v":0},{"$f":"IF(D16>0,1*C16,\" \")","v":" "},{"$f":"IF(C16>0,F5*C16,\" \")","v":" "},{"$f":"IFERROR(IF(G5>0,(G5*C16)*D16,\" \"),\"\")","v":" "},{"$f":"IFERROR(IF(H5>0,(H5*C16)*D16,\" \"),\"\")","v":" "},{"$f":"IFERROR(IF(I5>0,(I5*C16)*D16,\" \"),\"\")","v":" "},{"$f":"IFERROR(IF(J5>0,(J5*C16)*D16,\" \"),\"\")","v":" "},{"$f":"IFERROR(IF(K5>0,(K5*C16)*D16,\" \"),\"\")","v":" "},{"$f":"IFERROR(IF(L5>0,(L5*C16)*D16,\" \"),\"\")","v":" "},{"$f":"IFERROR(IF(M5>0,(M5*C16)*D16,\" \"),\"\")","v":" "},{"$f":"IFERROR(IF(N5>0,(N5*C16)*D16,\" \"),\"\")","v":" "},{"$f":"IFERROR(IF(O5>0,(O5*C16)*D16,\" \"),\"\")","v":" "},{"$f":"IFERROR(IF(P5>0,(P5*C16)*D16,\" \"),\"\")","v":" "},{"$f":"IFERROR(IF(Q5>0,(Q5*C16)*D16,\" \"),\"\")","v":" "},{"$f":"IFERROR(IF(R5>0,(R5*C16)*D16,\" \"),\"\")","v":" "},{"$f":"IFERROR(IF(S5>0,(S5*C16)*D16,\" \"),\"\")","v":" "},{"$f":"IFERROR(IF(C16>0,T5*E16/100,0),\"\")","v":0}]
[0,0,null,{"$f":"IFERROR(VLOOKUP(A6,'Gruber Tabelle'!$A$5:$T$405,3,0)/1000,\"\")","v":0}," "," "," "," "," "," "," "," "," "," "," "," "," "," "," ",0]
[0,0,null,{"$f":"IFERROR(VLOOKUP(A7,'Gruber Tabelle'!$A$5:$T$405,3,0)/1000,\"\")","v":0}," "," "," "," "," "," "," "," "," "," "," "," "," "," "," ",0]
[0,0,null,{"$f":"IFERROR(VLOOKUP(A8,'Gruber Tabelle'!$A$5:$T$405,3,0)/1000,\"\")","v":0}," "," "," "," "," "," "," "," "," "," "," "," "," "," "," ",0]
[0,0,null,{"$f":"IFERROR(VLOOKUP(A9,'Gruber Tabelle'!$A$5:$T$405,3,0)/1000,\"\")","v":0}," "," "," "," "," "," "," "," "," "," "," "," "," "," "," ",0]
[0,0,null,{"$f":"IFERROR(VLOOKUP(A10,'Gruber Tabelle'!$A$5:$T$405,3,0)/1000,\"\")","v":0}," "," "," "," "," "," "," "," "," "," "," "," "," "," "," ",0]
[0,0,null,{"$f":"IFERROR(VLOOKUP(A11,'Gruber Tabelle'!$A$5:$T$405,3,0)/1000,\"\")","v":0}," "," "," "," "," "," "," "," "," "," "," "," "," "," "," ",0]
[0,0,null,{"$f":"IFERROR(VLOOKUP(A12,'Gruber Tabelle'!$A$5:$T$405,3,0)/1000,\"\")","v":0}," "," "," "," "," "," "," "," "," "," "," "," "," "," "," ",0]
[0,0,null,{"$f":"IFERROR(VLOOKUP(A13,'Gruber Tabelle'!$A$5:$T$405,3,0)/1000,\"\")","v":0}," "," "," "," "," "," "," "," "," "," "," "," "," "," "," ",0]
["FM","Summe:",{"$f":"SUM(C15:C24)","v":0},null,{"$f":"SUM(E15:E24)","v":0},0,0,0,0,0,0,0,0,0,0,0,0,0,0,0]

{"sheet":"Gruber Tabelle","index":5,"n_rows":388,"n_cols":24,"rows_kept":388,"cut":false,"hidden":false,"merged":[[1,2,1,6],[2,2,3,2],[2,3,2,21],[0,0,0,23],[1,7,1,23],[3,23,4,23]]}
["Ration"]
[null,null,"www.LfL.bayern.de",null,null,null,null,"Gruber Tabelle zur Fütterung der Milchkühe – Zuchtrinder – Mastrinder – Schafe – Ziegen"]
[null,null,"TM","in 1000 g Trockenmasse ( TM )",null,null,null,null,null,null,null,null,null,null,null,null,null,null,null,null,null,null,"Preis","Typ"]
[null,null,null,"XF","aNDF","ADF","XP","nXP","UDP","RNB","NEL","ME","XS+XZ","bXS","XL","Ca","P","Mg","Na","K","Cl","S","FM"]
[null,null,"g","g","om g","om g","g","g","%","g","MJ","MJ","g","g","g","g","g","g","g","g","g","g","€ / dt"]
[null,"10.1 Grünfutter",null,null,null,null,null,null,null,{"$f":"(G6-H6)/6.25","v":0}]
[null,"Wiesengras 1. Schnitt",null,null,null,null,null,null,null,0]
[1013,"Blattstadium",150,170,380,204,215,152,10,10.08,7.06,11.52,100,null,38,5.5,3.6,2,1.3,26,7,2.2000000000000002,null,"GF"]
[1014,"Schossen",160,205,430,224,195,144,10,8.16,6.7,11.05,100,null,39,5.5,3.6,2,1.3,26,7,2.2000000000000002,null,"GF"]
[1015,"Rispenschieben",180,240,490,272,175,142,15,5.28,6.33,10.55,100,null,35,5.5,3.6,2.1,0.7,26,9,2.2000000000000002,0,"GF"]
[1016,"Beginn Blüte",200,278,550,291,155,133,15,3.52,5.93,9.99,70,null,31,4.8,3.5,1.9,0.7,27,10.5,2.2000000000000002,0,"GF"]
[1017,"Ende Blüte",220,312,600,306,140,127,15,2.08,5.67,9.6300000000000008,60,null,29,3.8,3.3,1.8,0.7,27,4,1.3,0,"GF"]
[1018,null,null,null,null,null,null,null,null,0,null,null,null,null,null,null,null,null,null,null,null,null,null,"GF"]
[null,"Wiesengras 2. u. folg. Schnitte",null,null,null,null,null,null,null,0]
[1023,"Blattstadium",160,165,380,221,235,149,10,13.76,6.74,11.12,100,null,37,11,4,3.5,0.6,26,5,2,null,"GF"]
[1024,"Schossen",170,205,435,245,180,136,10,7.04,6.28,10.47,100,null,38,10,3.1,3.2,0.8,23,5,2.5,null,"GF"]
[1025,"Rispenschieben",180,240,490,259,172,137,15,5.6,6.02,10.11,100,null,35,8.1,3.5,2.8,0.9,24,5,1.8,null,"GF"]
[1026,"Beginn Blüte",200,275,545,281,150,130,15,3.2,5.78,9.7799999999999994,100,null,32,6.2,3.6,2.2000000000000002,0.9,24,5,2.4,null,"GF"]
[1027,null,null,null,null,null,null,null,null,0,null,null,null,null,null,null,null,null,null,null,null,null,null,"GF"]
[null,"Rotklee 1. Schnitt",null,null,null,null,null,null,null,0]
[1614,"vor der Knospe",150,192,420,245,210,155,20,8.8000000000000007,6.37,10.57,70,null,40,16,2.9,3.6,0.4,32,6,2.6,null,"GF"]
[1615,"in der Knospe",180,240,490,285,180,142,20,6.08,5.89,9.91,80,null,35,15,2.5,3.6,0.4,24,6,2.5,null,"GF"]
[1616,"Mitte der Blüte",200,282,555,325,160,131,20,4.6399999999999997,5.47,9.31,80,null,29,13,2.5,3.6,0.3,22,6,2.5,null,"GF"]
[1617,null,null,null,null,null,null,null,null,0,null,null,null,null,null,null,null,null,null,null,null,null,null,"GF"]
[null,"Rotklee 2. u. folg. Schnitte",null,null,null,null,null,null,null,0]
[1624,"vor der Knospe",140,201,430,255,219,152,20,10.72,6.03,10.11,80,null,38,17,2.8,3.6,1.4,24,7.6,1.8,null,"GF"]
[1625,"in der Knospe",160,238,485,285,190,140,20,8,5.65,9.59,70,null,34,17,3,4,1.5,29,5.4,3.7,null,"GF"]
[1626,"Mitte der Blüte",180,274,540,315,165,130,20,5.6,5.31,9.11,80,null,33,15,3,3,1.2,28,5,2,null,"GF"]
[1627,null,null,null,null,null,null,null,null,0,null,null,null,null,null,null,null,null,null,null,null,null,null,"GF"]
[null,"Kleegras  1. Schnitt",null,null,null,null,null,null,null,0]
[1633,"vor der Knospe",150,185,405,240,230,156,15,11.84,6.73,11.05,80,null,34,13,4.5,2.4,0.3,36,5,2,null,"GF"]
[1634,"in der Knospe",160,222,460,270,215,149,15,10.56,6.37,10.58,80,null,31,10,4.4000000000000004,2.2999999999999998,0.5,35,5,2,null,"GF"]
[1636,"Mitte der Blüte",200,295,575,335,170,136,20,5.44,5.63,9.56,80,null,26,7,3.5,2,0.3,30,4,2,null,"GF"]
[1637,null,null,null,null,null,null,null,null,0,null,null,null,null,null,null,null,null,null,null,null,null,null,"GF"]
[null,"Kleegras 2. u. folg. Schnitte",null,null,null,null,null,null,null,0]
[1644,"vor der Knospe",160,205,430,255,215,146,15,11.04,6.18,10.32,70,null,33,12,4.0999999999999996,3.1,0.7,35,2,2,null,"GF"]
[1645,"Knospe",170,240,490,285,205,140,15,10.4,5.9,9.94,70,null,32,11,3.8,2.5,0.4,33,2,2,null,"GF"]
[1646,"Mitte der Blüte",180,280,550,320,170,134,20,5.76,5.47,9.33,70,null,31,8,4,2,0.3,35,5,2,null,"GF"]
[1647,null,null,null,null,null,null,null,null,0,null,null,null,null,null,null,null,null,null,null,null,null,null,"GF"]
[1655,"Jurakleegras 1.Schn.Beg.Blü.",170,245,500,290,185,139,15,7.36,6.03,10.1,50,null,30,10,3.7,1.9,0.8,35,6,2,null,"GF"]
[1656,null,null,null,null,null,null,null,null,0,null,null,null,null,null,null,null,null,null,null,null,null,null,"GF"]
[null,"Luzerne 1.Schnitt",null,null,null,null,null,null,null,0]
[1714,"Knospe",180,228,470,275,216,139,15,12.32,5.74,9.69,15,null,31,18,3,3.2,0.5,30,6,4.5999999999999996,null,"GF"]
[1715,"Beginn Blüte",200,276,545,315,188,137,20,8.16,5.45,9.31,25,null,30,20,2.8,2.7,1,26,6.7,4.5,null,"GF"]
[1716,"Ende Blüte",210,325,620,360,169,132,25,5.92,5,8.66,54,null,28,17,2.7,2.5,1,28,6,3,null,"GF"]
[1717,null,null,null,null,null,null,null,null,0,null,null,null,null,null,null,null,null,null,null,null,null,null,"GF"]
[null,"Luzerne 2. u. folg. Schnitte",null,null,null,null,null,null,null,0]
[1724,"Knospe",180,231,475,280,222,141,15,12.96,5.79,9.8000000000000007,40,null,40,18,3.1,2.8,0.5,28,3,2,null,"GF"]
[1725,"Beginn Blüte",200,277,545,320,198,139,20,9.44,5.44,9.31,35,null,31,18,2.8,2.7,0.7,24,3.6,3.3,null,"GF"]
[1726,"Ende Blüte",200,331,625,365,189,130,20,9.44,4.97,8.65,35,null,31,16,2.4,2.2000000000000002,0.4,21,4,3,null,"GF"]
[1727,null,null,null,null,null,null,null,null,0,null,null,null,null,null,null,null,null,null,null,null,null,null,"GF"]
[null,"Luzernegras 1. Schnitt",null,null,null,null,null,null,null,0]
[1734,"vor der Knospe",150,225,455,265,205,144,15,9.76,6.17,10.31,9,null,35,9,3.5,2.2000000000000002,0.3,34,2,2,null,"GF"]
[1735,"Knospe",170,265,515,300,180,135,15,7.2,5.83,9.85,29,null,32,9,3.3,2.1,0.3,30,2,2,null,"GF"]
[1736,"Mitte der Blüte",200,305,590,345,160,125,15,5.6,5.39,9.2100000000000009,70,null,28,7,3.2,2,0.3,30,2,2,null,"GF"]
[1737,null,null,null,null,null,null,null,null,0,null,null,null,null,null,null,null,null,null,null,null,null,null,"GF"]
[null,"Luzernegras 2. u. folg. Schnitte",null,null,null,null,null,null,null,0]
[1744,"vor der Knospe",170,225,460,270,215,142,15,11.68,5.92,9.9499999999999993,9,null,36,12,3.7,2,0.3,35,2,2.5,null,"GF"]
[1745,"Knospe",180,260,520,305,195,136,15,9.44,5.7,9.67,29,null,34,12,3.4,2.5,0.3,32,2,2,null,"GF"]
[1746,"Mitte der Blüte",200,300,580,340,180,128,15,8.32,5.39,9.23,70,null,32,11,3.2,2.1,0.3,30,2,2,null,"GF"]
[1747,null,null,null,null,null,null,null,null,0,null,null,null,null,null,null,null,null,null,null,null,null,null,"GF"]
[1665,"Alexandrinerklee gr. Beg. Blüte",125,237,485,285,200,149,25,8.16,5.65,9.56,80,null,43,16,3.9,3.2,1.3,33,6,2,null,"GF"]
[1685,"Perserklee",118,218,455,265,203,143,20,9.6,5.71,9.6,80,null,24,16,3.5,2,1.4,28,6,2,null,"GF"]
[null,"Weidelgras 1. Schnitt",null,null,null,null,null,null,null,0]
[1814,"Schossen",150,200,425,222,195,151,15,7.04,6.77,11.11,150,null,41,6,3.5,1.6,1.8,27,6,1.5,null,"GF"]
[1815,"Ährenschieben",170,235,490,241,165,140,15,4,6.33,10.5,150,null,37,5,3.2,1.6,2.5,19,6,2,null,"GF"]
[1816,"Beginn Blüte",180,290,550,300,125,123,15,0.32,5.63,9.5299999999999994,150,null,31,4.5,2.1,1.5,1.5,12,6,2,null,"GF"]
[1817,null,null,null,null,null,null,null,null,0,null,null,null,null,null,null,null,null,null,null,null,null,null,"GF"]
[null,"Weidelgras 2. u. folg. Schnitte",null,null,null,null,null,null,null,0]
[1824,"Schossen",160,200,430,236,195,141,15,{"$f":"(G70-H70)/6.25","v":8.64},6.09,10.16,150,null,33,6,3.7,2.1,1.3,31,5,2,null,"GF"]
[1825,"Ährenschieben",170,240,500,265,175,135,15,6.4,5.88,9.9,150,null,36,5.5,3.5,2,1.3,28,5,2,null,"GF"]
[1826,"Beginn Blüte",180,285,560,279,140,125,15,2.4,5.56,9.4499999999999993,150,null,27,5,3,1.5,1.3,25,5,2,null,"GF"]
[1827,null,null,null,null,null,null,null,null,0,null,null,null,null,null,null,null,null,null,null,null,null,null,"GF"]
[1865,"Landsb.Gemenge Beg.Ähren.",170,220,460,270,194,140,15,8.64,6.01,10.09,80,null,30,8.5,3,1.8,0.5,27,5,2,null,"GF"]
[1866,"Landsb.Gemenge Beg.Blüte",190,271,535,315,161,127,15,5.44,5.52,9.3800000000000008,80,null,28,6,3,1.6,0.5,25,5,2,null,"GF"]
[1867,null,null,null,null,null,null,null,null,0,null,null,null,null,null,null,null,null,null,null,null,null,null,"GF"]
[1125,"Gerste im Ährenschieben",240,260,520,305,143,146,20,-0.48,6.65,11,197,10,47,3.3,2.9,1.5,0.2,18,9,2,null,"GF"]
[null,"Grünhafer",null,null,null,null,null,null,null,0]
[1144,null,null,null,null,null,null,null,null,0,null,null,null,null,null,null,null,null,null,null,null,null,null,"GF"]
[1145,"Rispenschieben",220,260,520,305,142,135,15,1.1200000000000001,6.26,10.4,150,null,31,3.9,4.2,1.7,1.7,28,9,2,null,"GF"]
[1146,null,null,null,null,null,null,null,null,0,null,null,null,null,null,null,null,null,null,null,null,null,null,"GF"]
[1164,"Grünroggen im Schossen",220,230,460,270,185,152,15,5.28,6.94,11.33,120,null,41,7.5,6.6,1.6,1,28,9,2,null,"GF"]
[1165,"Grünroggen im Ährenschieben",220,285,555,325,150,138,15,1.92,6.34,10.53,120,null,35,3.4,4.3,1.3,0.5,28,9,2,null,"GF"]
[1166,null,null,null,null,null,null,null,null,0,null,null,null,null,null,null,null,null,null,null,null,null,null,"GF"]
[1305,"Ackerbohnen",180,306,590,345,174,121,10,8.48,5.34,9.19,40,null,33,15.5,3.5,3.3,2,23,2,2,null,"GF"]
[null,"Hülsenfruchtgemenge",null,null,null,null,null,null,null,0]
[1314,"Knospe",120,217,455,265,204,141,15,10.08,6,10.029999999999999,40,null,40,7,4,1.8,0.4,30,2,2,null,"GF"]
[1315,"Beginn der Blüte",140,260,510,300,180,133,15,7.52,5.72,9.67,40,null,33,7,4,1.8,0.4,30,2,3,null,"GF"]
[1316,"Ende der Blüte",200,300,610,355,160,124,15,5.76,5.28,9.06,40,null,30,7,4,2,0.3,28,2,2,null,"GF"]
[1317,null,null,null,null,null,null,null,null,0,null,null,null,null,null,null,null,null,null,null,null,null,null,"GF"]
[null,"Erbs-Wick-Gemenge ",null,null,null,null,null,null,null,0]
[1334,"Knospe",120,205,425,250,200,146,15,8.64,6.36,10.54,40,null,40,9.5,5,2.2999999999999998,0.3,30,2,3,null,"GF"]
[1335,"Beginn der Blüte",150,245,490,285,175,138,15,5.92,6.06,10.15,40,null,33,11,4.5999999999999996,2.6,0.5,30,2,2,null,"GF"]
[1336,"Ende der Blüte",180,280,550,320,165,130,15,5.6,5.64,9.57,40,null,30,8,4,1.4,0.3,30,2,2,null,"GF"]
[1337,null,null,null,null,null,null,null,null,0,null,null,null,null,null,null,null,null,null,null,null,null,null,"GF"]
[1355,"Hülsenfr.-Sonnenbl.gem.",180,250,515,300,160,133,15,4.32,5.89,9.93,30,null,38,12,3,2.2000000000000002,0.3,28,1.6,2.2999999999999998,null,"GF"]
[1455,"Sonnenblumen Beg. Blüte",180,220,450,260,135,122,15,2.08,5.45,9.23,126,null,25,14,4.4000000000000004,2.2999999999999998,0,30,9,4,null,"GF"]
[1424,"Raps jung, blattreich",120,130,315,185,210,153,15,9.1199999999999992,6.76,11.02,110,null,37,17,4.5,2.6,1.3,32,11,7,null,"GF"]
[1425,"Raps alt, stengelreich",140,160,375,220,190,143,15,7.52,6.31,10.39,80,null,38,19,5,2.6,1.4,32,11,7,null,"GF"]
[1435,"Perko",100,127,320,190,216,145,15,11.36,6.27,10.23,110,null,38,13,6,1.2,1.1000000000000001,30,9,4,null,"GF"]
[1436,null,null,null,null,null,null,null,null,0,null,null,null,null,null,null,null,null,null,null,null,null,null,"GF"]
[1444,"Rübsen jung, blattreich",110,107,290,170,180,148,15,5.12,6.84,11.02,90,null,42,16,3.6,2.4,0.9,30,9,4,null,"GF"]
[1445,"Rübsen alt, stengelreich",120,146,350,205,189,146,15,6.88,6.62,10.74,70,null,37,16,4.5999999999999996,2.7,1.4,30,9,4,null,"GF"]
[1465,"Senf vor der Blüte",140,210,430,250,215,138,15,12.32,5.74,9.6199999999999992,110,null,26,15.5,4,3.4,0,25,9,4,null,"GF"]
[1505,"Zuckerrübenblatt",160,109,295,175,160,139,15,3.36,6.44,10.46,220,null,21,12.4,2.5,4.8,9.5,35,15,5.2,null,"GF"]
[1555,"Futterrübenblatt",120,114,300,180,138,126,15,1.92,5.86,9.6300000000000008,100,null,22,20,2.5,6.1,6.1,45,13.3,6.2,null,"GF"]
[1885,"Sudangras/Zuckerhirse grün",200,280,600,350,105,116,15,-1.76,5.36,9.1300000000000008,60,null,27,5,2,4,0.8,25,4,1.5,null,"GF"]
[null,"Grünmais",null,null,null,null,null,null,null,0]
[1203,"Kolbenbildung",240,265,460,300,85,130,25,-7.2,6.35,10.54,210,9,23,2.8,2.6,1.5,0.2,15,1,1,null,"GF"]
[1204,"Milchreife",260,230,410,275,82,132,25,-8,6.54,10.8,260,28,23,2.2000000000000002,2.4,1.2,0.3,12,1.2,1,null,"GF"]
[1205,"Teigreife",300,205,413,260,81,135,25,-8.64,6.77,11.13,320,46,30,2.1,2.2999999999999998,1.3,0.3,12,1.2,1,null,"GF"]
[1206,"Wachsreife",340,180,390,235,80,135,25,-8.8000000000000007,6.83,11.21,390,69,28,1.9,2.6,1.3,0.4,12,1.2,1,null,"GF"]
[null,"10.2  Silagen",null,null,null,null,null,null,null,0]
[null,"Grassilage angewelkt 1. Schnitt",null,null,null,null,null,null,null,0]
[2013,"Beginn Schossen",350,192,410,225,190,149,15,6.56,6.65,10.95,40,null,40,7,4,2.5,0.6,30,5.5,2.2000000000000002,null,"GF"]
[2014,"Beginn Rispenschieben",350,224,465,251,180,143,15,5.92,6.36,10.57,25,null,40,6.5,4,2.4,0.7,31,7,2.2000000000000002,0,"GF"]
[2015,"Rispenspreizen",350,256,515,281,165,136,15,4.6399999999999997,6.04,10.119999999999999,15,null,38,6.3,3.8,2.2999999999999998,0.8,30,7,2.2000000000000002,null,"GF"]
[2016,"Mitte der Blüte",350,295,570,307,145,128,15,2.72,5.71,9.66,10,null,36,5.8,3.7,2.2000000000000002,0.8,29,8,2.2000000000000002,null,"GF"]
[2017,null,null,null,null,null,null,null,null,0,null,null,null,null,null,null,null,null,null,null,null,null,null,"GF"]
[2018,null,null,null,null,null,null,null,null,0,null,null,null,null,null,null,null,null,null,null,null,null,null,"GF"]
[null,"Grassilage angew. 2. u. f. Schnitte",null,null,null,null,null,null,null,0]
[2024,"Beginn Schossen ",350,190,410,247,188,141,15,7.52,6.2,10.29,20,null,42,9,3.8,3.2,1,27,6,2.2000000000000002,null,"GF"]
[2025,"Beginn Rispenschieben",350,225,460,272,174,136,15,6.08,5.96,10.01,20,null,40,8.5,3.7,3.1,1,25,7,2.4,null,"GF"]
[2026,"Rispenspreizen",350,258,510,296,160,129,15,4.96,5.66,9.6,15,null,37,7.5,3.6,2.7,1,25,7,2.2999999999999998,null,"GF"]
[2027,null,null,null,null,null,null,null,null,0,null,null,null,null,null,null,null,null,null,null,null,null,null,"GF"]
[null,"Kleegrassilage 1. Schnitt",null,null,null,null,null,null,null,0]
[2634,"Beginn Knospe",350,225,455,265,195,144,15,8.16,6.3,10.48,25,null,38,8,3.8,2.4,0.5,33,6,2,null,"GF"]
[2635,"Knospenöffnen",350,260,520,305,175,135,15,6.4,5.91,9.94,20,null,38,7.9,3.7,2.2999999999999998,0.6,33,6,2,null,"GF"]
[2636,"Mitte der Blüte",350,300,585,340,154,132,20,3.52,5.59,9.51,10,null,40,8,3.7,2.2000000000000002,0.6,30,8,2.5,null,"GF"]
[2637,null,null,null,null,null,null,null,null,0,null,null,null,null,null,null,null,null,null,null,null,null,null,"GF"]
[null,"Kleegrassilage 2.u.folg. Schnitt",null,null,null,null,null,null,null,0]
[2644,"vor der Knospe",350,210,430,250,190,138,15,8.32,5.98,10,20,null,40,7,4.3,2.8,0.8,30,6,2,null,"GF"]
[2645,"in der Knospe",350,245,490,285,180,133,15,7.52,5.68,9.61,20,null,36,8,3.7,2.7,0.8,28,6,2,null,"GF"]
[2646,"Beginn der Blüte",350,282,550,320,160,124,15,{"$f":"(G134-H134)/6.25","v":5.76},5.28,9.07,15,null,38,8,3.5,2.2000000000000002,0.6,28,6,2,null,"GF"]
[2647,null,null,null,null,null,null,null,null,0,null,null,null,null,null,null,null,null,null,null,null,null,null,"GF"]
[null,"Luzernesilage",null,null,null,null,null,null,null,0]
[2714,"1. Schnitt in der Knospe",350,240,485,280,190,130,15,9.6,5.45,9.27,20,null,38,12,3.7,2.6,0.5,32,3,2,null,"GF"]
[2715,"1. Schnitt Beginn Blüte",350,280,550,320,175,130,20,7.2,5.15,8.86,15,null,38,13,3.5,2.2000000000000002,0.5,29,3,2,null,"GF"]
[2716,"1. Schnitt Ende der Blüte",350,325,620,360,165,128,25,5.92,4.8099999999999996,8.39,15,null,38,12,3.1,1.9,0.5,28,3,2,null,"GF"]
[2725,"ab 2. Schnitt",250,300,570,330,178,130,20,7.68,5.0999999999999996,8.81,15,null,36,12,3,2.2999999999999998,0.3,28,3,2,null,"GF"]
[null,"Luzernegrassilage",null,null,null,null,null,null,null,0]
[2734,"1. Schnitt Beginn Knospe",350,220,445,260,192,138,15,8.64,5.95,9.9499999999999993,20,null,27,11,3.5,2.8,0.5,30,4,2,null,"GF"]
[2735,"1. Schnitt Knospenöffnen",350,265,515,300,175,129,15,7.36,5.54,9.39,15,null,29,11,3.5,2.8,0.5,30,4,2,null,"GF"]
[2736,"1. Schnitt in der Blüte",350,300,595,345,165,124,15,6.56,5.3,9.06,10,null,31,10,3.4,2.2999999999999998,0.5,30,4,2,null,"GF"]
[2745,"ab 2. Schnitt",350,290,525,305,170,125,15,7.2,5.28,9.0500000000000007,15,null,35,10,3.4,2.2999999999999998,0.5,27,4,2,null,"GF"]
[null,"Weidelgrassilage",null,null,null,null,null,null,null,0]
[2814,"im Schossen",350,200,430,219,175,143,15,5.12,6.48,10.6,40,null,40,6,4.5,2.1,0.6,35,6,2,null,"GF"]
[2815,"im Ährenschieben",350,250,505,264,162,136,15,4.16,6.13,10.210000000000001,35,null,50,6,4.5,2.1,0.6,35,6,2,null,"GF"]
[2816,"in der Blüte",350,300,585,320,135,125,15,1.6,5.62,9.5399999999999991,30,null,47,5,4,1.6,0.4,34,6,2,null,"GF"]
[2817,null,null,null,null,null,null,null,null,0,null,null,null,null,null,null,null,null,null,null,null,null,null,"GF"]
[2865,"Landsb. Gem. Ährensch.",350,260,520,305,165,130,15,5.6,5.7,9.6,30,null,31,8.5,3,1.8,0.5,30,5,2,null,"GF"]
[2866,"Landsb. Gemenge Blüte",350,305,585,340,135,126,15,1.44,5.68,9.65,25,null,45,6,3,1.6,0.5,28,5,2,null,"GF"]
[2424,"Rapssilage jung, blattreich",150,142,340,200,195,148,15,7.52,6.69,10.83,5,null,52,17,4.5,2.6,1.3,32,11,7,null,"GF"]
[2425,"Rapssilage alt stängelreich",160,180,410,240,185,147,15,6.08,6.69,10.87,5,null,52,19,5,2.6,1.4,32,11,7,null,"GF"]
[2445,"Rübsensilage",150,140,335,200,130,143,15,-2.08,7.01,11.26,5,null,41,16,4.5999999999999996,2.7,1.4,30,9,4,null,"GF"]
[2446,null,null,null,null,null,null,null,null,0,null,null,null,null,null,null,null,null,null,null,null,null,null,"GF"]
[null,"Grünhafersilage ",null,null,null,null,null,null,null,0]
[2144,"Rispenschieben",350,260,525,305,112,132,15,-3.2,6.34,10.52,2,null,38,5.7,4,2,1,22,6,2,null,"GF"]
[2145,"Mitte der Blüte",350,295,575,335,105,124,15,-3.04,5.84,9.84,2,null,38,4,3,1.6,1,20,6,2,null,"GF"]
[2146,"abgeblüht",350,340,650,380,100,117,20,-2.72,5.3,9.09,2,null,36,4,3,1.6,1,20,6,2,null,"GF"]
[null,"Grünroggensilage",null,null,null,null,null,null,null,0]
[2164,"Ährenschieben",250,260,530,310,150,139,15,1.76,6.42,10.62,2,null,45,4.5,4.2,1.6,0.4,30,6,2,null,"GF"]
[2165,"Mitte der Blüte",250,298,575,335,140,133,15,1.1200000000000001,6.11,10.210000000000001,2,null,37,4.5,4.2,1.6,0.4,30,6,2,null,"GF"]
[2166,"abgeblüht",250,340,645,375,120,125,15,-0.8,5.8,9.7899999999999991,2,null,38,4.5,4.2,1.6,0.4,30,6,2,null,"GF"]
[2167,null,null,null,null,null,null,null,null,0,null,null,null,null,null,null,null,null,null,null,null,null,null,"GF"]
[null,"GPS Gerste/Weizen",null,null,null,null,null,null,null,0]
[2134,"körnerarm",380,283,555,325,100,113,15,-2.08,5.16,8.91,170,15,23,4,2.8,1.2,0.4,15,2,1.3,null,"GF"]
[2135,"mittlerer Körneranteil",400,245,490,285,98,117,15,-3.04,5.46,9.32,220,20,23,2,2.5,1,0.3,12,1.6,1.3,null,"GF"]
[2136,"körnerreich",420,215,430,255,100,121,15,-3.36,5.71,9.66,270,25,20,2.6,2.8,1.2,0.4,13,3,1.3,null,"GF"]
[2305,"GPS Ackerbohnen",350,280,535,310,180,133,15,7.52,5.69,9.67,150,24,20,10,3.6,3.3,2,20,8,2,null,"GF"]
[2885,"Zuckerhirse/Sudangras siliert",350,310,570,330,100,113,15,-2.08,5.16,8.91,10,null,32,5,2,4,0.8,25,4,1.3,null,"GF"]
[null,"Maissilage",null,null,null,null,null,null,null,0]
[2203,"Kolbenbildung",190,292,590,315,100,132,25,-5.12,6.22,10.42,62,5,34,2.5,3,1.7,0.2,13,1,1,null,"GF"]
[2204,"Milchreife",240,235,540,280,90,131,25,-6.56,6.34,10.56,190,18,30,2.2999999999999998,2.2000000000000002,1.3,0.3,12,1,1,null,"GF"]
[2205,"Teigreife, mittl. Körneranteil",300,205,465,260,84,133,25,-7.84,6.55,10.85,280,41,28,2.1,2.2000000000000002,1.3,0.3,11,1,1,null,"GF"]
[2206,"Wachsreife, mittl. Körnerant.",350,195,485,250,82,134,25,-8.32,6.69,11.04,305,44,33,2,2.2000000000000002,1.3,0.3,11,1,1,0,"GF"]
[2215,"Teigreife, körnerarm",280,230,520,280,84,130,25,-7.36,6.36,10.58,230,33,28,2.2999999999999998,2.2000000000000002,1.4,0.3,12,1,1,null,"GF"]
[2216,"Wachsreife, körnerarm",340,220,510,270,84,132,25,-7.68,6.5,10.79,250,36,31,2.2999999999999998,2.2000000000000002,1.4,0.3,12,1,1,null,"GF"]
[2225,"Teigreife, körnerreich",330,185,458,245,82,136,25,-8.64,6.81,11.2,325,47,35,2,2.2000000000000002,1.3,0.3,10,1,1,null,"GF"]
[2226,"Wachsreife, körnerreich",360,172,440,235,82,137,25,-8.8000000000000007,6.94,11.38,345,50,36,1.9,2.2000000000000002,1.2,0.3,9,1,1,null,"GF"]
[2227,null,null,null,null,null,null,null,null,0,null,null,null,null,null,null,null,null,null,null,null,null,null,"GF"]
[2245,"Maissilage Pflückhäcksel 2+4",350,170,388,225,84,140,25,-8.9600000000000009,7.07,11.54,345,50,34,1.8,2.2999999999999998,1.2,0.3,8,1,1,null,"GF"]
[2246,"Maissilage Pflückhäcksel 2+2",400,155,353,215,83,142,25,-9.44,7.25,11.79,395,57,35,1.6,2.4,1.2,0.3,8,1,1,null,"GF"]
[2235,"Lieschkolbensilage LKS",480,140,321,215,95,149,35,-8.64,7.44,12.05,455,68,36,1,2.5,1.2,0.3,6,1,1,null,"FF"]
[5206,"Maiskornsilage Schrot",650,25,170,100,100,166,40,-10.56,8.65,13.6,655,162,42,0.4,3.5,1.3,0.2,4,1,1.5,null,"FF"]
[5225,"CCM Kornspind.gem.",600,53,210,125,100,158,35,-9.2799999999999994,7.99,12.78,631,156,43,0.4,3.5,1.3,0.2,4,1,1.5,null,"FF"]
[2505,"Zuckerrübenblattsilage",180,145,350,205,150,130,15,3.2,5.98,9.83,16,null,32,10,2.4,4,7,27,15,5,null,"GF"]
[2555,"Futterrübenblattsilage",180,145,335,195,145,123,15,3.52,5.57,9.2100000000000009,20,null,29,20,2.4,5,3.5,33,13,6,null,"GF"]
[null,"10.3 Heu, Cobs, Grünmehl, Stroh",null,null,null,null,null,null,null,0]
[null,"Wiesenheu 1.Schnitt",null,null,null,null,null,null,null,0]
[3014,"Rispenschieben",860,245,500,261,132,135,20,-0.48,6.08,10.16,120,null,30,5.2,3.4,2,0.4,25,6,2,null,"GF"]
[3015,"Rispenspreizen",860,282,555,296,115,125,20,-1.6,5.65,9.59,110,null,30,4.4000000000000004,2.9,1.8,0.4,22,6,2,null,"GF"]
[3016,"Mitte der Blüte",860,315,605,329,98,118,25,-3.2,5.27,9.0500000000000007,105,null,23,4,2.5,1.6,0.4,20,6,2,0,"GF"]
[3017,"abgeblüht",860,350,655,361,82,107,25,-4,4.84,8.43,100,null,20,3.8,2,1.5,0.4,16,6,2,null,"GF"]
[3018,null,null,null,null,null,null,null,null,0,null,null,null,null,null,null,null,null,null,null,null,null,null,"GF"]
[null,"Wiesenheu  2. u. folg. Schnitte",null,null,null,null,null,null,null,0]
[3024,"Schossen",860,225,470,245,155,137,20,2.88,5.92,9.94,120,null,30,7.2,3.5,2.6,0.4,26,6,2,null,"GF"]
[3025,"Rispenspreizen",860,260,520,276,140,129,20,{"$f":"(G198-H198)/6.25","v":1.76},5.61,9.5299999999999994,110,null,28,5.8,3.4,2.1,0.4,24,6,2,null,"GF"]
[3026,"Mitte der Blüte",860,295,575,301,120,121,20,-0.16,5.31,9.1,100,null,29,4.5,2.9,1.8,0.6,22,6,2,null,"GF"]
[null,"Heu U-Dachtr. 1. Schnitt",null,null,null,null,null,null,null,0]
[3034,"Rispenschieben",870,235,490,253,135,136,20,-0.16,6.17,10.27,120,null,28,5.2,3.4,2,0.4,25,6,2,null,"GF"]
[3035,"Rispenspreizen",870,275,550,292,120,126,20,-0.96,5.69,9.6300000000000008,110,null,26,4.4000000000000004,2.9,1.8,0.4,22,6,2,null,"GF"]
[3036,"Mitte der Blüte",870,310,605,319,100,119,25,-3.04,5.34,9.14,105,null,23,4,2.5,1.6,0.4,20,6,2,null,"GF"]
[3037,null,null,null,null,null,null,null,null,0,null,null,null,null,null,null,null,null,null,null,null,null,null,"GF"]
[null,"Heu U-Dachtr. 2.u.f. Schnitte",null,null,null,null,null,null,null,0]
[3044,"Schossen",870,205,440,226,160,142,20,2.88,6.17,10.29,120,null,30,7.2,3.5,2.6,0.4,26,6,2,null,"GF"]
[3045,"Rispenschieben",870,235,490,258,150,135,20,2.4,5.87,9.8800000000000008,110,null,28,5.8,3.4,2.1,0.4,24,6,2,null,"GF"]
[3046,"Mitte der Blüte",870,270,535,291,145,130,20,2.4,5.55,9.4600000000000009,100,null,29,4.5,2.9,1.8,0.6,22,6,2,null,"GF"]
[null,"Luzerneheu 1. Schnitt",null,null,null,null,null,null,null,0]
[3714,"Beginn Blüte",860,305,585,340,185,135,25,8,4.9000000000000004,8.52,60,null,22,16,3.5,3.1,0.8,30,6,3,null,"GF"]
[3715,"Ende Blüte",860,345,640,370,155,129,30,4.16,4.67,8.18,50,null,20,15,3,2.8,0.6,26,6,3,null,"GF"]
[3716,"abgeblüht",860,370,690,400,150,126,30,3.84,4.5599999999999996,8.01,40,null,17,15,2.5,2.2999999999999998,0.4,23,6,3,null,"GF"]
[3717,null,null,null,null,null,null,null,null,0,null,null,null,null,null,null,null,null,null,null,null,null,null,"GF"]
[null,"Luzerneheu 2. u. folg. Schnitte",null,null,null,null,null,null,null,0]
[3724,"Beginn Blüte",860,300,585,340,178,129,25,7.84,4.63,8.1199999999999992,50,null,22,18,3.1,3.9,0.8,27,6,3,null,"GF"]
[3725,"Ende  Blüte",860,350,650,380,140,113,25,4.32,4.21,7.5,50,null,21,18,2.6,3.4,0.6,25,6,3,null,"GF"]
[3726,"abgeblüht",860,385,710,410,130,111,30,3.04,4.0199999999999996,7.2,40,null,21,16,2.1,3.1,0.4,21,6,3,null,"GF"]
[3815,"Weidelgrasheu",860,290,610,314,135,129,20,0.96,5.64,9.5500000000000007,100,null,16,6,4.5,2.1,0.6,35,6,2,null,"GF"]
[3816,null,null,null,null,null,null,null,null,0,null,null,null,null,null,null,null,null,null,null,null,null,null,"GF"]
[null,"Graskobs 1. Schnitt",null,null,null,null,null,null,null,0]
[3074,"Blattstadium",890,166,380,184,192,183,40,1.44,6.9,11.25,100,null,37,7,4.5,2.4,0.6,26,5,2,null,"GF"]
[3075,"Schossen",890,200,425,216,185,176,40,1.44,6.58,10.84,100,null,34,6.5,3.8,2.2000000000000002,0.6,26,5,2,null,"GF"]
[3076,"Rispenschieben",890,240,495,249,160,161,40,-0.16,6.18,10.29,100,null,34,6.5,3.8,2.5,0.6,27,5,2,0,"GF"]
[3077,null,null,null,null,null,null,null,null,0,null,null,null,null,null,null,null,null,null,null,null,null,null,"GF"]
[null,"Graskobs 2. u. folg. Schnitte",null,null,null,null,null,null,null,0]
[3084,"Blattstadium",890,165,380,207,190,172,40,2.88,6.13,10.14,100,null,37,10,4,3.6,0.8,25,9,2,null,"GF"]
[3085,"Schossen",890,200,430,241,175,166,40,1.44,6.11,10.17,100,null,35,10,3.9,3.2,0.7,25,5,2,null,"GF"]
[3086,"Rispenschieben",890,235,485,263,165,160,40,0.8,5.94,9.9700000000000006,100,null,34,8,3.6,2.8,0.7,25,5,2,null,"GF"]
[3205,"Maiskobs Ganzpflanze",890,190,396,245,85,133,30,-7.68,6.55,10.82,417,126,25,2,2.1,1.3,0.3,11,1,1,null,"GF"]
[null,"Luzernekobs, -Grünmehl",null,null,null,null,null,null,null,0]
[3774,"vor Knospe",890,185,410,240,210,177,40,5.28,5.88,9.84,50,null,31,18,3.8,3,0.5,27,6,2,null,"GF"]
[3775,"in Knospe",890,225,490,285,185,162,40,3.68,5.46,9.27,50,null,29,18,3.5,2.8,0.5,24,6,2,null,"GF"]
[3776,"Beginn Blüte",890,255,545,315,175,154,40,3.36,5.16,8.85,40,null,29,15,3,2.5,0.5,22,6,2,null,"GF"]
[3777,null,null,null,null,null,null,null,null,0,null,null,null,null,null,null,null,null,null,null,null,null,null,"GF"]
[3778,null,null,null,null,null,null,null,null,0,null,null,null,null,null,null,null,null,null,null,null,null,null,"GF"]
[3125,"Gerstenstroh",860,435,785,455,45,80,45,-5.6,3.65,6.62,7,null,16,5,0.8,0.9,2,17,8,2,null,"GF"]
[3145,"Haferstroh",860,440,795,460,36,76,40,-6.4,3.66,6.65,14,null,15,4,1.4,1,2,21,8,2,null,"GF"]
[3165,"Roggenstroh",860,470,830,480,37,71,45,-5.44,3.28,6.04,8,null,13,3,1,1,1.5,10,3,1,null,"GF"]
[3185,"Weizenstroh",860,430,770,445,40,74,45,-5.44,3.42,6.24,8,null,13,3,0.8,1,1.5,11,3,1,null,"GF"]
[3186,null,null,null,null,null,null,null,null,0,null,null,null,null,null,null,null,null,null,null,null,null,null,"GF"]
[null,"10.4 Rüben und -Nebenprodukte",null,null,null,null,null,null,null,0]
[5505,"Zuckerrübe",230,85,210,125,80,142,20,-9.92,7.46,11.84,647,null,6,2.2999999999999998,1.5,1.6,1,8,1,2,null,"GF"]
[5555,"Gehaltsfutterrübe",146,70,230,135,80,141,20,-9.76,7.47,11.82,545,null,8,2.7,2.4,1.8,4.0999999999999996,30,1,2,null,"GF"]
[5565,null,null,null,null,null,null,null,null,0,null,null,null,null,null,null,null,null,null,null,null,null,null,"GF"]
[6505,"Trockenschnitzel",906,189,366,191,84,143,45,-9.44,7.39,11.8,86,null,8,9.1999999999999993,1.1000000000000001,1.8,1.1000000000000001,8.8000000000000007,1.4,3,0,"KF"]
[6514,"Melasseschnitzel 14% XZ",910,160,330,220,90,145,30,-8.8000000000000007,7.45,11.88,150,null,9,11,0.8,1.8,1,12,1.4,3,null,"KF"]
[6515,"Melasseschnitzel 18% XZ",896,146,315,184,97,151,30,-8.64,7.75,12.25,200,null,8,10.6,0.8,1.8,1.7,14,1.4,3,null,"KF"]
[6516,"Melasseschnitzel 23% XZ",907,134,300,170,110,153,30,-6.88,7.58,12.02,250,null,8,10,0.8,1.8,2,15,1.4,3,null,"KF"]
[4535,"Futterzucker",990,0,null,null,1,159,10,-25.28,9.25,14.09,994,0,null,0,0,0,0,0,null,null,null,"KF"]
[7505,"Rübenkleinteile",170,102,282,136,75,137,25,-9.92,7.25,11.54,360,null,3,3.3,2.1,2.2999999999999998,1.4,11,1.4,3,null,"FF"]
[7525,"Preßschnitzel siliert",270,200,527,256,94,148,30,-8.64,7.52,11.99,35,null,4,12.4,1,2.7,0.6,5.3,1.4,3,null,"FF"]
[7545,"Melasse (Zuckerrü.)",780,0,null,null,135,157,20,-3.52,7.84,12.2,652,null,0,2.5,0.5,0.2,7.6,54,10,3,null,"FF"]
[null,"10.5 Nebenprod. a. Lebensmittel-",null,null,null,null,null,null,null,0]
[null,"verarb. und Energiegewinnung",null,null,null,null,null,null,null,0]
[5585,"Karotten, Gelbe Rüben",150,150,265,160,90,148,20,-9.2799999999999994,7.75,12.29,256,null,15,4.4000000000000004,3,1.9,2.2999999999999998,28,1,2,null,"FF"]
[5605,"Kartoffel roh, 16% XS",220,27,170,105,97,157,20,-9.6,8.39,13.01,741,178,4,0.4,2.5,1.4,0.6,22,1,2,null,"FF"]
[6625,null,0,0,0,0,0,0,0,0,0,0,0,0,0,0,0,0,0,0,0,0,null,"FF"]
[7635,"Kartoffelpreßpülpe siliert",180,208,440,260,49,130,25,-12.96,7.08,11.46,393,97,5,0.7,2.7,0.7,0.1,22,1,2,null,"FF"]
[7645,"Kartoffelschlempe frisch",60,72,240,140,307,213,30,15.04,7.5,11.98,27,4,17,2.8,7.3,0.5,0.6,55,1,3,null,"FF"]
[7145,"Weizenschlempe flüssig",60,102,285,170,360,240,35,19.2,7.91,12.9,199,17,71,3.5,10.8,3.6,3.1,13,1,3,null,"FF"]
[7205,"Maisschlempe flüssig",70,85,260,155,287,220,40,10.72,8.5,13.74,110,12,117,2.5,8.6,4.7,1.3,9,1.7,3,null,"FF"]
[6144,"Weizentrockenschlempe",900,76,285,170,382,269,40,{"$f":"(G262-H262)/6.25","v":18.079999999999998},7.29,12.07,44,3,61,3.5,10.8,3.6,3.1,13,1,3,null,"KF"]
[6204,"Maistrockenschlempe",900,102,260,155,360,251,40,17.440000000000001,7.62,12.51,108,14,71,3.5,8.6,2.4,3.1,8,1,3,null,"KF"]
[7685,"Apfeltrester",220,216,455,265,66,116,35,-8,5.67,9.69,111,null,42,2,1,2,0.8,7,1,2,null,"FF"]
[7688,null,null,null,null,null,null,null,null,0,null,null,null,null,null,null,null,null,null,null,null,null,null,"FF"]
[7689,null,null,null,null,null,null,null,null,0,null,null,null,null,null,null,null,null,null,null,null,null,null,"FF"]
[null,"weitere Nebenprodukte",null,null,null,null,null,null,null,0]
[7026,"Biertreber siliert",247,160,370,220,249,188,40,9.76,6.69,11.26,23,2,84,3.6,6,2,0.4,1,1.6,3,null,"FF"]
[7015,"Bierhefe frisch",100,17,155,95,525,272,25,40.479999999999997,8.36,13.42,10,null,31,2,11.4,1.8,0.3,14.7,1,4,null,"FF"]
[6015,"Bierhefe trocken",900,24,165,100,521,329,40,30.72,7.59,12.4,19,null,22,2,11.4,1.8,0.3,15,1,4,null,"KF"]
[6035,"Malzkeime",920,145,350,205,296,182,25,18.239999999999998,6.18,10.37,190,11,11,2.6,8.1,1.5,0.6,21,1,3,null,"KF"]
[null,"Nebenprod. u. Müllereierzeugn.",null,null,null,null,null,null,null,0]
[6145,"Weizennachmehl",880,23,180,110,182,181,20,0.16,8.58,13.56,606,55,45,0.9,7.4,2.9,0.2,9,0.7,2,null,"KF"]
[6155,"Weizenfuttermehl",880,45,210,125,182,175,20,1.1200000000000001,8.1999999999999993,13.06,483,42,45,1.2,8.1,2.9,0.4,13,0.7,2,null,"KF"]
[6165,"Weizengrießkleie",880,91,275,160,182,155,20,4.32,6.75,11.17,311,24,45,1.4,10.3,4.3,0.5,12,0.5,2,null,"KF"]
[6175,"Weizenkleie",880,114,330,195,182,151,25,4.96,6.03,10.16,212,15,43,1.8,13,5.3,0.5,12,1.4,2,null,"KF"]
[6135,"Roggenkleie",880,83,255,150,162,142,15,3.2,6.42,10.67,233,13,36,1.7,11.3,3.6,0.8,14,1,2,null,"KF"]
[6215,"Maisfuttermehl",880,59,220,130,118,164,50,-7.36,8.39,13.37,449,101,72,0.8,5,3,0.5,2,1,2,null,"KF"]
[6216,null,null,null,null,null,null,null,null,0,null,null,null,null,null,null,null,null,null,null,null,null,null,"KF"]
[6246,"Maiskleberfutter 23-30% XP",880,90,265,155,258,194,25,10.24,7.69,12.43,224,42,41,1.5,9.5,4.8,2.8,14,2.7,5,null,"KF"]
[null,"10.6 Molkereiprodukte",null,null,null,null,null,null,null,0]
[5705,"Vollmilch 4,2% XL, 3,5% XP",135,null,null,null,262,133,5,20.64,12.53,19.399999999999999,345,null,324,8.6,7.2,0.9,3.2,11,8.1999999999999993,2.2999999999999998,null,"FF"]
[6725,"Magermilch trocken",941,null,null,null,365,180,5,29.6,8.94,13.89,481,null,5,14,10.8,1.6,5.4,14,8.1999999999999993,2.8,null,"KF"]
[7725,"Magermilch frisch",86,null,null,null,361,180,5,28.96,8.9700000000000006,13.95,481,null,11,13.6,10.9,1.6,3.6,12,8,3,null,"FF"]
[7735,"Labmolke frisch",50,null,null,null,137,163,5,-4.16,8.7200000000000006,13.43,727,null,13,8.1999999999999993,8.6,1.4,6.4,25,8,2,null,"FF"]
[7736,null,null,null,null,null,null,null,null,0,null,null,null,null,null,null,null,null,null,null,null,null,null,"FF"]
[null,"10.7 Getreide und Leguminosen",null,null,null,null,null,null,null,0]
[4025,"Gerste zweizeilig",880,50,210,125,125,165,25,-6.4,8.2100000000000009,13,627,60,25,0.7,4,1.3,0.3,5,1,1.5,0,"KF"]
[4026,"Gerste vierzeilig",880,52,215,130,125,164,25,-6.24,8.14,12.91,626,60,23,0.7,4,1.3,0.3,5,1,1.5,null,"KF"]
[4065,"Hafer",880,112,300,175,123,145,15,-3.52,7,11.53,462,45,52,1.2,3.6,1.2,0.4,5,1,1.5,0,"KF"]
[4105,"Roggen",880,23,170,105,105,161,15,-8.9600000000000009,8.49,13.3,708,65,18,0.9,3.3,1.4,0.3,6,1,1.5,0,"KF"]
[4125,"Triticale",880,25,175,105,120,162,15,-6.72,8.3699999999999992,13.17,707,67,18,0.5,3.9,1.3,0.3,6,1,1.5,0,"KF"]
[4145,"Weizen",880,30,175,105,137,170,20,-5.28,8.5299999999999994,13.4,707,68,20,0.7,3.8,1.3,0.3,5,1,1.5,0,"KF"]
[4205,"Mais",880,26,170,100,102,166,50,-10.24,8.3800000000000008,13.28,715,292,45,0.4,3.5,1.3,0.2,4,1,1.5,0,"KF"]
[4305,"Ackerbohnen",880,90,265,155,295,194,15,16.16,8.58,13.57,451,103,16,1.6,4.8,1.4,0.2,12,1,2,0,"KF"]
[4345,"Erbsen",880,65,230,140,235,183,15,8.32,8.52,13.44,539,119,15,0.9,4.8,1.3,0.3,11,1,2,0,"KF"]
[4365,"Süßlupine weiß",880,136,335,195,376,217,20,25.44,9.24,14.73,147,18,87,2.9,5.0999999999999996,2,0.6,10,1,2,0,"KF"]
[null,"10.8 Ölsaaten und Nebenprodukte",null,null,null,null,null,null,null,0]
[4405,"Leinsamen",910,73,240,140,248,127,15,19.36,10.72,17.3,37,null,365,2.8,5.4,5.6,0.9,8,0.3,2,null,"KF"]
[4425,"Rapssamen",900,82,194,117,226,98,15,20.48,10.73,17.53,46,null,444,5,7.8,3.3,0.3,9,0.2,4.5999999999999996,null,"KF"]
[4426,null,null,null,null,null,null,null,null,0,null,null,null,null,null,null,null,null,null,null,null,null,null,"KF"]
[4435,"Sojabohnen dampferhitzt",935,62,220,130,400,198,20,32.32,9.9,15.89,137,11,203,2.9,7.1,3.7,0.2,20,1,4,null,"KF"]
[6405,"Leinextraktionsschrot",880,103,285,170,385,238,30,23.52,7.33,12.02,45,null,27,4.5,9.5,5.7,1.1000000000000001,12,0.7,4,null,"KF"]
[6406,"Leinkuchen,-expeller",880,107,295,175,373,253,35,19.2,7.54,12.39,43,null,62,4.2,8.1999999999999993,5.3,1.1000000000000001,12,0.6,4,null,"KF"]
[6424,null,null,null,null,null,null,null,null,0,null,null,null,null,null,null,null,null,null,null,null,null,null,"KF"]
[6425,"Rapsextraktionsschrot",890,133,301,228,387,252,35,21.6,7.16,11.8,80,null,35,8.6999999999999993,11.9,6,0.5,14,0.3,7.1,0,"KF"]
[6426,"Rapskuchen 8% Rohfett",910,135,320,191,370,180,15,30.4,7.89,12.9,75,null,88,8.1999999999999993,11.9,5.5,0.5,15,0.4,7.5,null,"KF"]
[6427,"Rapskuchen 15% Rohfett",910,123,292,176,340,165,15,28,8.7200000000000006,14.19,68,null,165,7.5,11.6,5.0999999999999996,0.4,13,0.3,6.8,null,"KF"]
[6434,"Sojaextraktionsschrot 42% XP",880,91,260,155,477,281,30,31.36,8.44,13.49,174,14,17,3.6,7.4,3.7,0.4,25,0.5,4.8,null,"KF"]
[6435,"Sojaextraktionsschrot 44% XP",880,68,230,135,500,291,30,34,8.64,13.76,178,14,14,3.1,7,3,0.2,22,0.5,4.8,null,"KF"]
[6436,"Sojaextraktionsschrot 48% XP",880,40,190,115,545,306,30,{"$f":"(G311-H311)/6.25","v":38.24},8.7799999999999994,13.96,184,14,14,3.2,7.6,2.7,0.3,23,0.5,4.8,null,"KF"]
[6438,"Sojaextr.schrot, pansenstabil",880,68,230,135,500,438,65,9.92,8.64,13.76,178,14,14,3.1,7,3,0.2,22,0.5,4.8,null,"KF"]
[6439,"Sojakuchen 8% Rohfett",890,65,240,145,449,223,20,36.159999999999997,8.74,14.08,120,10,92,3,7,3,0.1,20,0.5,4.8,null,"KF"]
[6445,"Sonnenblu.extr.schrot teilent.",880,222,465,270,383,203,25,28.8,6.01,10.24,80,null,25,4,10.7,5.2,0.5,13,0.8,4,null,"KF"]
[6446,null,null,null,null,null,null,null,null,0,null,null,null,null,null,null,null,null,null,null,null,null,null,"KF"]
[5435,"Sojaöl",999,null,null,null,null,null,null,0,19.78,30.55,null,null,999,null,null,null,null,null,0,0,0,"KF"]
[null,"10.9 Kälberaufzuchtfutter, Milchaust.",null,null,null,null,null,null,null,0]
[8035,"Kälberaufzuchtfutter 18% XP",880,102,285,136,205,179,25,4.16,7.67,12.31,505,68,45,9.1,5.7,2.1,2.2999999999999998,10,2.1,2.1,null,"KF"]
[8036,"Kälberaufzuchtfutter 24% XP",880,91,285,153,273,197,25,12.16,7.73,12.42,448,60,40,9.1,5.7,2.1,2.2999999999999998,10,2.1,2.1,null,"KF"]
[8015,"Milchaustauscher Aufz. 15% XL",940,1,1,0,223,161,10,9.92,10.23,15.87,495,2,160,9.6,6.4,2,5.3,20,2,2,null,"KF"]
[8025,"Milchaustauscher Mast 20% XL",940,1,1,null,234,154,10,12.8,10.92,16.93,444,7,213,9.6,6.4,2,5,20,2,2,null,"KF"]
[8027,null,null,null,null,null,null,null,null,0,null,null,null,null,null,null,null,null,null,null,null,null,null,"KF"]
[null,"10.10 Milchleistungsfutter",null,null,null,null,null,null,null,0]
[8104,"MLF 12% XP Est. >3",880,68,250,91,136,168,25,-5.12,8.18,13,584,107,50,6.8,4.5999999999999996,2.2999999999999998,1.4,8,1.7,2.1,0,"KF"]
[8105,"MLF 14% XP Est. 3",880,85,285,118,159,166,25,-1.1200000000000001,7.61,12.19,497,68,45,8,4.5999999999999996,1.7,1.7,10,2.1,2.1,null,"KF"]
[8116,"MLF 16% XP Est. 3",880,91,285,125,182,172,25,1.6,7.62,12.21,483,67,43,8,4.5999999999999996,1.7,1.7,10,2.1,2.1,null,"KF"]
[8126,"MLF 18% XP Est. 3",880,105,300,141,205,184,30,3.36,7.61,12.24,478,66,43,8,4.5999999999999996,1.7,1.7,10,2.1,2.1,null,"KF"]
[8127,"MLF 18% XP Est. >3",880,85,265,102,205,192,30,2.08,8.18,12.99,565,105,43,8,4.5999999999999996,2.2999999999999998,2.2999999999999998,11,2.1,2.1,null,"KF"]
[8135,"MLF 25% XP Est. 2",880,136,335,193,284,191,25,14.88,7.05,11.51,228,28,34,17,6.8,2.1,3.4,10,2.1,2.5,null,"KF"]
[8147,"MLF 40% XP Est. 3 ",880,136,315,165,455,283,35,27.52,7.61,12.44,114,15,34,6.8,9.1,4,0.8,18,2.1,2.9,null,"KF"]
[8148,null,null,null,null,null,null,null,null,0,null,null,null,null,null,null,null,null,null,null,null,null,null,"KF"]
[8045,null,null,null,null,null,null,null,null,0,null,null,null,null,null,null,null,null,null,null,null,null,null,"KF"]
[8055,null,null,null,null,null,null,null,null,0,null,null,null,null,null,null,null,null,null,null,null,null,null,"KF"]
[8056,null,null,null,null,null,null,null,null,0,null,null,null,null,null,null,null,null,null,null,null,null,null,"KF"]
[8057,null,null,null,null,null,null,null,null,0,null,null,null,null,null,null,null,null,null,null,null,null,null,"KF"]
[8058,null,null,null,null,null,null,null,null,0,null,null,null,null,null,null,null,null,null,null,null,null,null,"KF"]
[null,"10.11 Mineral- u. Ergänzungsfutter",null,null,null,null,null,null,null,0]
[8185,"Min.Futter Milchkuh lakt.",950,null,null,null,null,null,null,0,null,null,null,null,null,250,0,30,150,null,125.9,0,null,"MF"]
[8183,"Min.Futter Milchkuh trocken",950,null,null,null,null,null,null,0,null,null,null,null,null,30,0,30,50,null,62.9,0,null,"MF"]
[8184,"Mineralfutter Jungvieh",950,null,null,null,null,null,null,0,null,null,null,null,null,200,0,20,80,null,100.7,0,null,"MF"]
[8188,"Mineralfutter 20 % Ca, 5 % P",950,null,null,null,null,null,null,null,null,null,null,null,null,210.5,52.6,21.1,94.7,0,116.2,0,null,"MF"]
[8189,"Mineralfutter 22 % Ca, 2 % P",950,null,null,null,null,null,null,{"$f":"(G342-H342)/6.25","v":0},null,null,null,null,null,231.6,21.1,21.1,84.2,0,125.9,0,null,"MF"]
[8190,null,null,null,null,null,null,null,null,0,null,null,null,null,null,null,null,null,null,null,null,null,null,"MF"]
[8191,null,null,null,null,null,null,null,null,0,null,null,null,null,null,null,null,null,null,null,null,null,null,"MF"]
[4925,"Kohlensaurer Kalk",997,null,null,null,null,null,null,0,null,null,null,null,null,381.4,0.4,1.6,null,null,0.9,0,0]
[4945,"Viehsalz",990,null,null,null,null,null,null,0,null,null,null,null,null,null,null,null,361.3,null,500,0,0]
[4965,"Na.hydrogencarb. NaHCO³",990,null,null,null,null,null,null,0,null,null,null,null,null,null,null,null,271.3,null,0,0]
[5965,"Rohglycerin",880,null,null,null,null,null,null,0,7.4,11.6,null,null,null,null,null,null,15.8,null,28,0]
[5825,"Futterfett",999,null,null,null,null,null,null,0,18.2,28.7,null,null,998]
[5975,"Propylenglykol",990,null,null,null,null,null,null,0,9.6999999999999993,14.6]
[6985,"Futterharnstoff",990,null,null,null,2886,null,0,461.76,null,null,null,null,null,null,null,null,null,null,null,null,0]
[null,null,null,null,null,null,null,null,null,0]
[0,null,null,null,null,null,null,null,null,0]
[null,"Anhang Futtertabelle:",null,null,null,null,null,null,null,{"$f":"(G354-H354)/6.25","v":0}]
[null,"intensive Schafweide"]
[9001,"Weidegras intensiv - Mai",250,173,420,242,190,152,29,{"$f":"(G356-H356)/6.25","v":6.08},6.7,11.2,130,null,31,5.5,3.6,2,1.3,26,null,null,0,"GF"]
[9002,"Weidegras intensiv - Juni",260,235,490,241,165,140,25,4,6.3,10.5,150,null,37,4.8,3.5,1.9,0.7,27,null,null,0,"GF"]
[9003,"Weidegras intensiv - Juli",215,216,469,287,158,135,24,3.68,6,10.1,105,null,31,3.8,3.3,1.8,0.7,27,null,null,0,"GF"]
[9004,"Weidegras intensiv - August",175,182,444,240,258,161,39,15.52,6.8,11.1,90,null,32,8.1,3.5,2.8,0.9,24,null,null,0,"GF"]
[9005,"Weidegras intensiv - Sept.",150,218,491,274,222,148,33,11.84,6.3,10.4,74,null,33,6.2,3.6,2.2000000000000002,0.9,24,null,null,0,"GF"]
[null,"extensive Schafweide"]
[9006,"Weidegras extensiv - Mai",285,249,522,305,127,128,19,{"$f":"(G362-H362)/6.25","v":-0.16},5.8,9.9,121,null,27,5.5,3.6,2,1.3,26,null,null,null,"GF"]
[9007,"Weidegras extensiv - Juni",277,292,609,349,135,118,20,2.72,5.0999999999999996,8.9,88,null,25,4.8,3.5,1.9,0.7,27,null,null,null,"GF"]
[9008,"Weidegras extensiv - Juli",244,278,574,335,132,119,20,2.08,5.3,9.1,77,null,27,3.8,3.3,1.8,0.7,27,null,null,null,"GF"]
[9009,"Weidegras extensiv - August",215,236,526,298,163,132,24,4.96,5.8,9.8000000000000007,85,null,31,8.1,3.5,2.8,0.9,24,null,null,null,"GF"]
[9010,"Weidegras extensiv - Sept.",217,255,548,321,163,127,24,5.76,5.5,9.3000000000000007,72,null,30,6.2,3.6,2.2000000000000002,0.9,24,null,null,null,"GF"]
[null,"extensiv mit Naturschutzauflagen"]
[9011,"Weidegras ext. m. NA - Mai",327,272,566,333,125,120,19,{"$f":"(G368-H368)/6.25","v":0.8},5.3,9.1999999999999993,86,null,25,5.5,3.6,2,1.3,26,null,null,null,"GF"]
[9012,"Weidegras ext. m. NA - Juni",324,292,607,360,122,113,18,1.44,4.9000000000000004,8.6,68,null,26,4.8,3.5,1.9,0.7,27,null,null,null,"GF"]
[9013,"Weidegras ext. m. NA - Juli",293,288,590,357,119,111,18,1.28,4.9000000000000004,8.5,63,null,26,3.8,3.3,1.8,0.7,27,null,null,null,"GF"]
[9014,"Weidegras ext. m. NA - August",295,278,572,349,129,114,19,2.4,4.9000000000000004,8.6,52,null,27,8.1,3.5,2.8,0.9,24,null,null,null,"GF"]
[9015,"Weidegras ext. m. NA - Sept.",254,278,578,347,139,116,21,3.68,4.9000000000000004,8.6,54,null,27,6.2,3.6,2.2000000000000002,0.9,24,null,null,null,"GF"]
[null,"Winterweide Hütehaltung"]
[9017,"Veg.Beginn März - Mittelwert",275,151,347,190,224,159,34,{"$f":"(G374-H374)/6.25","v":10.4},7,11.4,160,null,32,4.8,3.5,1.9,0.7,27,null,null,null,"GF"]
[9018,"Veg.Beginn März - Minimum",192,125,300,145,163,144,24,3.04,6,9.8000000000000007,114,null,27,3.8,3.3,1.8,0.7,27,null,null,null,"GF"]
[9019,"Veg.Beginn März - Maximum",331,174,362,240,305,180,46,20,7.6,12.3,234,null,39,5.5,3.6,2,1.3,26,null,null,null,"GF"]
[null,"aus Lebensmittelproduktion"]
[9020,"Brotabfälle",800,19,null,null,121,177,12,{"$f":"(G378-H378)/6.25","v":-8.9600000000000009},9.3000000000000007,14.3,47,null,17]
[9021,"Keksabfälle",920,13,null,null,97,160,9,-10.08,10.4,16.100000000000001,169,null,148]
[9022,"Pflanzenöl",999,0,null,null,null,null,null,0,19.3,29.9,null,null,999]
[9023,null,null,null,null,null,null,null,null,0]
[9024,null,null,null,null,null,null,null,null,0]
[9025,null,null,null,null,null,null,null,null,0]
[9026,null,null,null,null,null,null,null,null,0]
[9027,null,null,null,null,null,null,null,null,0]
[9028,null,null,null,null,null,null,null,null,0]
[9029,null,null,null,null,null,null,null,null,0]
[9030,null,null,null,null,null,null,null,null,0]

{"sheet":"Mengenberechnung","index":6,"n_rows":39,"n_cols":7,"rows_kept":39,"cut":false,"hidden":false,"merged":[[35,1,35,3],[35,5,38,6],[36,1,36,3],[37,1,37,3],[38,1,38,3],[31,5,34,6],[32,1,32,3],[33,1,33,3],[34,1,34,3],[23,1,23,3],[23,5,26,6],[24,1,24,3],[25,1,25,3],[26,1,26,3],[27,0,27,4],[28,1,28,3],[28,5,28,6],[29,1,29,3],[30,1,30,3],[31,1,31,3],[19,1,19,3],[19,5,22,6],[20,1,20,3],[21,1,21,3],[22,1,22,3],[15,0,15,4],[16,1,16,3],[16,5,16,6],[17,1,17,3],[18,1,18,3],[10,1,10,3],[10,5,14,6],[11,1,11,3],[12,1,12,3],[13,1,13,3],[14,1,14,3],[0,0,0,6],[1,0,1,4],[2,1,2,3],[2,5,2,6],[3,1,3,3],[3,5,9,6],[4,1,4,3],[5,1,5,3],[6,1,6,3],[7,1,7,3],[8,1,8,3],[9,1,9,3]]}
[]
["Basis – Ration für :",null,null,null,null,null,"Tiere"]
["Kenn Nr.","Futtermittel",null,null,"kg."]
[{"$f":"Ration!A15","v":0},{"$f":"Ration!B15","v":0},null,null,{"$f":"Ration!D15*F2","v":0},"Gesamtgewicht Grundfutter und Kraftfutter pro Mischung in kg:"]
[{"$f":"Ration!A16","v":0},{"$f":"Ration!B16","v":0},null,null,{"$f":"Ration!D16*F2","v":0}]
[{"$f":"Ration!A17","v":0},{"$f":"Ration!B17","v":0},null,null,{"$f":"Ration!D17*F2","v":0}]
[{"$f":"Ration!A18","v":0},{"$f":"Ration!B18","v":0},null,null,{"$f":"Ration!D18*F2","v":0}]
[{"$f":"Ration!A19","v":0},{"$f":"Ration!B19","v":0},null,null,{"$f":"Ration!D19*F2","v":0}]
[{"$f":"Ration!A20","v":0},{"$f":"Ration!B20","v":0},null,null,{"$f":"Ration!D20*F2","v":0}]
[{"$f":"Ration!A21","v":0},{"$f":"Ration!B21","v":0},null,null,{"$f":"Ration!D21*F2","v":0}]
[{"$f":"Ration!A22","v":0},{"$f":"Ration!B22","v":0},null,null,{"$f":"Ration!D22*F2","v":0},{"$f":"SUM(E4:E15)","v":0}]
[{"$f":"Ration!A23","v":0},{"$f":"Ration!B23","v":0},null,null,{"$f":"Ration!D23*F2","v":0}]
[{"$f":"Ration!A24","v":0},{"$f":"Ration!B24","v":0},null,null,{"$f":"Ration!D24*F2","v":0}]
["KF 1","Mischung 1",null,null,{"$f":"Ration!D26*F2","v":0}]
["KF 2","Mischung 2",null,null,{"$f":"Ration!D27*F2","v":0}]
["Kraftfutter – Mischung 1          Mischergröße:",null,null,null,null,null,"kg"]
["Kenn Nr.","Futtermittel",null,null,"kg."]
[{"$f":"'Mischung 1'!A15","v":0},{"$f":"'Mischung 1'!B15","v":0},null,null,{"$f":"F16*'Mischung 1'!C15","v":0},"Tiere gesamt:"]
[{"$f":"'Mischung 1'!A16","v":0},{"$f":"'Mischung 1'!B16","v":0},null,null,{"$f":"F16*'Mischung 1'!C16","v":0},"kg je Tier/Tag:"]
[{"$f":"'Mischung 1'!A17","v":0},{"$f":"'Mischung 1'!B17","v":0},null,null,{"$f":"F16*'Mischung 1'!C17","v":0},"Die Mischung reicht für Tage :"]
[{"$f":"'Mischung 1'!A18","v":0},{"$f":"'Mischung 1'!B18","v":0},null,null,{"$f":"F16*'Mischung 1'!C18","v":0}]
[{"$f":"'Mischung 1'!A19","v":0},{"$f":"'Mischung 1'!B19","v":0},null,null,{"$f":"F16*'Mischung 1'!C19","v":0}]
[{"$f":"'Mischung 1'!A20","v":0},{"$f":"'Mischung 1'!B20","v":0},null,null,{"$f":"F16*'Mischung 1'!C20","v":0}]
[{"$f":"'Mischung 1'!A21","v":0},{"$f":"'Mischung 1'!B21","v":0},null,null,{"$f":"F16*'Mischung 1'!C21","v":0},{"$f":"IF(G19>0,F16/(G18*G19),\" \")","v":" "}]
[{"$f":"'Mischung 1'!A22","v":0},{"$f":"'Mischung 1'!B22","v":0},null,null,{"$f":"F16*'Mischung 1'!C22","v":0}]
[{"$f":"'Mischung 1'!A23","v":0},{"$f":"'Mischung 1'!B23","v":0},null,null,{"$f":"F16*'Mischung 1'!C23","v":0}]
[{"$f":"'Mischung 1'!A24","v":0},{"$f":"'Mischung 1'!B24","v":0},null,null,{"$f":"F16*'Mischung 1'!C24","v":0}]
["Kraftfutter – Mischung 2          Mischergröße:",null,null,null,null,null,"kg"]
["Kenn Nr.","Futtermittel",null,null,"kg."]
[{"$f":"'Mischung 2'!A15","v":0},{"$f":"'Mischung 2'!B15","v":0},null,null,{"$f":"F28*'Mischung 2'!C15","v":0},"Tiere gesamt:"]
[{"$f":"'Mischung 2'!A16","v":0},{"$f":"'Mischung 2'!B16","v":0},null,null,{"$f":"F28*'Mischung 2'!C16","v":0},"kg je Tier/Tag:"]
[{"$f":"'Mischung 2'!A17","v":0},{"$f":"'Mischung 2'!B17","v":0},null,null,{"$f":"F28*'Mischung 2'!C17","v":0},"Die Mischung reicht für Tage :"]
[{"$f":"'Mischung 2'!A18","v":0},{"$f":"'Mischung 2'!B18","v":0},null,null,{"$f":"F28*'Mischung 2'!C18","v":0}]
[{"$f":"'Mischung 2'!A19","v":0},{"$f":"'Mischung 2'!B19","v":0},null,null,{"$f":"F28*'Mischung 2'!C19","v":0}]
[{"$f":"'Mischung 2'!A20","v":0},{"$f":"'Mischung 2'!B20","v":0},null,null,{"$f":"F28*'Mischung 2'!C20","v":0}]
[{"$f":"'Mischung 2'!A21","v":0},{"$f":"'Mischung 2'!B21","v":0},null,null,{"$f":"F28*'Mischung 2'!C21","v":0},{"$f":"IF(G31>0,F28/(G30*G31),\" \")","v":" "}]
[{"$f":"'Mischung 2'!A22","v":0},{"$f":"'Mischung 2'!B22","v":0},null,null,{"$f":"F28*'Mischung 2'!C22","v":0}]
[{"$f":"'Mischung 2'!A23","v":0},{"$f":"'Mischung 2'!B23","v":0},null,null,{"$f":"F28*'Mischung 2'!C23","v":0}]
[{"$f":"'Mischung 2'!A24","v":0},{"$f":"'Mischung 2'!B24","v":0},null,null,{"$f":"F28*'Mischung 2'!C24","v":0}]

{"sheet":"Ausdruck","index":7,"n_rows":32,"n_cols":38,"rows_kept":32,"cut":false,"hidden":false,"merged":[[12,34,12,36],[14,34,14,36],[13,34,13,36],[15,34,15,36],[16,34,16,36],[12,37,12,38],[13,37,13,38],[14,37,14,38],[15,37,15,38],[16,37,16,38],[10,37,10,38],[11,37,11,38],[7,34,7,36],[6,34,6,36],[8,34,8,36],[9,34,9,36],[10,34,10,36],[11,34,11,36],[5,26,5,31],[6,37,6,38],[7,37,7,38],[8,37,8,38],[9,37,9,38],[6,32,17,32],[5,33,5,38],[6,30,6,31],[17,30,17,31],[7,30,7,31],[8,30,8,31],[9,30,9,31],[10,30,10,31],[11,30,11,31],[12,30,12,31],[13,30,13,31],[31,26,31,27],[16,27,16,29],[17,27,17,29],[17,37,17,38],[17,34,17,36],[19,26,19,27],[20,26,20,27],[21,26,21,27],[29,28,29,32],[22,28,22,32],[26,28,26,32],[27,28,27,32],[28,28,28,32],[23,28,23,32],[24,28,24,32],[25,28,25,32],[16,30,16,31],[19,14,19,16],[18,13,18,25],[10,14,10,16],[11,14,11,16],[12,14,12,16],[13,14,13,16],[15,27,15,29],[0,26,0,27],[0,28,0,30],[1,26,1,28],[1,29,1,30],[2,26,2,30],[3,26,3,27],[3,28,3,30],[6,27,6,29],[7,27,7,29],[8,27,8,29],[9,27,9,29],[10,27,10,29],[14,30,14,31],[15,30,15,31],[14,14,14,16],[3,15,3,17],[6,14,6,16],[7,14,7,16],[0,13,0,14],[0,15,0,17],[1,13,1,15],[1,16,1,17],[2,19,3,25],[31,13,31,14],[5,13,5,25],[29,14,29,16],[30,14,30,16],[24,14,24,16],[25,14,25,16],[26,14,26,16],[27,14,27,16],[28,14,28,16],[15,14,15,16],[16,14,16,16],[17,14,17,16],[22,14,22,16],[23,14,23,16],[20,14,20,16],[21,14,21,16],[8,14,8,16],[9,14,9,16],[0,19,1,25],[28,2,28,3],[28,7,28,8],[28,9,28,10],[9,1,9,3],[10,1,10,3],[11,1,11,3],[12,1,12,3],[25,2,25,3],[0,0,0,12],[2,5,2,9],[2,10,2,12],[27,7,27,8],[27,9,27,10],[1,0,1,1],[1,2,1,4],[1,5,1,7],[1,8,1,12],[2,0,2,2],[2,3,2,4],[2,13,2,17],[3,13,3,14],[3,10,3,12],[4,5,4,7],[23,11,23,12],[24,11,24,12],[25,11,25,12],[26,11,26,12],[27,11,27,12],[23,0,23,1],[23,2,23,3],[23,7,23,8],[23,9,23,10],[23,4,23,5],[24,0,24,1],[24,2,24,3],[24,7,24,8],[24,9,24,10],[25,0,25,1],[25,4,25,5],[25,7,25,8],[25,9,25,10],[27,0,27,1],[27,2,27,3],[26,0,26,1],[26,2,26,3],[19,1,19,3],[20,1,20,3],[13,1,13,3],[14,1,14,3],[15,1,15,3],[16,1,16,3],[17,1,17,3],[4,9,4,11],[22,0,22,12],[3,0,3,4],[4,0,4,1],[4,2,4,4],[6,1,6,3],[7,1,7,3],[8,1,8,3],[3,5,3,9],[5,0,5,12],[18,1,18,3],[28,0,28,1],[31,0,31,1],[31,2,31,3],[31,4,31,5],[31,7,31,8],[31,9,31,10],[29,0,29,1],[30,0,30,1],[29,2,29,3],[30,2,30,3],[29,4,29,5],[30,4,30,5],[28,4,28,5],[31,11,31,12],[29,9,29,10],[29,7,29,8],[30,11,30,12],[29,11,29,12],[30,7,30,10],[26,7,26,8],[26,9,26,10],[24,4,24,5],[27,4,27,5],[28,11,28,12],[26,4,26,5],[0,34,3,38],[30,26,30,27],[30,28,30,32],[31,28,31,32],[18,26,18,32],[18,34,19,36],[18,37,19,38],[21,34,22,36],[21,37,22,38],[22,26,22,27],[23,26,23,27],[24,26,24,27],[25,26,25,27],[26,26,26,27],[27,26,27,27],[28,26,28,27],[29,26,29,27],[19,28,19,32],[20,28,20,32],[21,28,21,32],[11,27,11,29],[12,27,12,29],[13,27,13,29],[14,27,14,29]]}
[null,null,null,null,null,null,null,null,null,null,null,null,null,"Betriebs Nr.",null,{"$f":"Einstellung!D8","v":"091231234444"},null,null,null,"Kraftfutter - Mischung 1",null,null,null,null,null,null,"Betriebs Nr.",null,{"$f":"Einstellung!D8","v":"091231234444"},null,null,null,null,null,"Mengenliste für Futtermischer"]
["Betriebs Nr.",null,{"$f":"Einstellung!D8","v":"091231234444"},null,null,"Basis Ration",null,null,{"$f":"Ration!A2","v":0},null,null,null,null,{"$f":"Einstellung!C5","v":"Tierhaltungsschule"},null,null,{"$f":"Einstellung!E5","v":"Triesdorf"},null,null,null,null,null,null,null,null,null,{"$f":"Einstellung!C5","v":"Tierhaltungsschule"},null,null,{"$f":"Einstellung!E5","v":"Triesdorf"}]
[{"$f":"Einstellung!C5","v":"Tierhaltungsschule"},null,null,{"$f":"Einstellung!E5","v":"Triesdorf"},null,"kg Grundfutter und KF - FM ges.",null,null,null,null,{"$f":"Ration!D28","v":0},null,null,{"$f":"Einstellung!C6","v":"Markgrafenstraße 1"},null,null,null,null,null,"Kraftfutter - Mischung 2",null,null,null,null,null,null,{"$f":"Einstellung!C6","v":"Markgrafenstraße 1"}]
[{"$f":"Einstellung!C6","v":"Markgrafenstraße 1"},null,null,null,null,"kg Grundfutter und KF - TM ges.",null,null,null,null,{"$f":"Ration!E28/1000","v":0},null,null,{"$f":"Einstellung!C7","v":91746},null,{"$f":"Einstellung!D7","v":"Weidenbach"},null,null,null,null,null,null,null,null,null,null,{"$f":"Einstellung!C7","v":91746},null,{"$f":"Einstellung!D7","v":"Weidenbach"}]
[{"$f":"Einstellung!C7","v":91746},null,{"$f":"Einstellung!D7","v":"Weidenbach"},null,null,"KF 1 kg",null,null,{"$f":"Ration!D26","v":0},"KF 2 kg",null,null,{"$f":"Ration!D27","v":0}]
[null,null,null,null,null,null,null,null,null,null,null,null,null,null,null,null,null,null,null,null,null,null,null,null,null,null,"Kraftfutter - Mischung 1",null,null,null,null,null,null,"Kraftfutter - Mischung 2"]
["FM","Futtermittel",null,null,"XP g","nXP g","ME","Ca g","P g","Mg g","Na g","K g","Cl g","%","KF Mischung 1",null,null,"nXP g","ME","Ca g","P g","Mg g","Na g","K g","Cl g","Preis",null,"Mischergröße 1",null,null,{"$f":"Mengenberechnung!F16","v":0},null,null,null,"Mischergröße 2",null,null,{"$f":"Mengenberechnung!F28","v":0}]
[{"$f":"Ration!D15","v":0},{"$f":"Ration!B4","v":0},null,null,{"$f":"Ration!H15","v":0},{"$f":"Ration!I15","v":0},{"$f":"Ration!J15","v":0},{"$f":"Ration!L15","v":0},{"$f":"Ration!M15","v":0},{"$f":"Ration!N15","v":0},{"$f":"Ration!O15","v":0},{"$f":"Ration!P15","v":0},{"$f":"Ration!Q15","v":0},{"$f":"'Mischung 1'!C15","v":0},{"$f":"'Mischung 1'!B15","v":0},null,null,{"$f":"'Mischung 1'!J15","v":" "},{"$f":"'Mischung 1'!K15","v":" "},{"$f":"'Mischung 1'!M15","v":" "},{"$f":"'Mischung 1'!N15","v":" "},{"$f":"'Mischung 1'!O15","v":" "},{"$f":"'Mischung 1'!P15","v":" "},{"$f":"'Mischung 1'!Q15","v":" "},{"$f":"'Mischung 1'!R15","v":" "},{"$f":"'Mischung 1'!T15","v":0},{"$f":"'Mischung 1'!C15","v":0},{"$f":"Mengenberechnung!B18","v":0},null,null,{"$f":"Mengenberechnung!E18","v":0},null,null,{"$f":"'Mischung 2'!C15","v":0},{"$f":"Mengenberechnung!B30","v":0},null,null,{"$f":"Mengenberechnung!E30","v":0}]
[{"$f":"Ration!D16","v":0},{"$f":"Ration!B5","v":0},null,null,{"$f":"Ration!H16","v":0},{"$f":"Ration!I16","v":0},{"$f":"Ration!J16","v":0},{"$f":"Ration!L16","v":0},{"$f":"Ration!M16","v":0},{"$f":"Ration!N16","v":0},{"$f":"Ration!O16","v":0},{"$f":"Ration!P16","v":0},{"$f":"Ration!Q16","v":0},{"$f":"'Mischung 1'!C16","v":0},{"$f":"'Mischung 1'!B16","v":0},null,null,{"$f":"'Mischung 1'!J16","v":" "},{"$f":"'Mischung 1'!K16","v":" "},{"$f":"'Mischung 1'!M16","v":" "},{"$f":"'Mischung 1'!N16","v":" "},{"$f":"'Mischung 1'!O16","v":" "},{"$f":"'Mischung 1'!P16","v":" "},{"$f":"'Mischung 1'!Q16","v":" "},{"$f":"'Mischung 1'!R16","v":" "},{"$f":"'Mischung 1'!T16","v":0},{"$f":"'Mischung 1'!C16","v":0},{"$f":"Mengenberechnung!B19","v":0},null,null,{"$f":"Mengenberechnung!E19","v":0},null,null,{"$f":"'Mischung 2'!C16","v":0},{"$f":"Mengenberechnung!B31","v":0},null,null,{"$f":"Mengenberechnung!E31","v":0}]
[{"$f":"Ration!D17","v":0},{"$f":"Ration!B6","v":0},null,null,{"$f":"Ration!H17","v":0},{"$f":"Ration!I17","v":0},{"$f":"Ration!J17","v":0},{"$f":"Ration!L17","v":0},{"$f":"Ration!M17","v":0},{"$f":"Ration!N17","v":0},{"$f":"Ration!O17","v":0},{"$f":"Ration!P17","v":0},{"$f":"Ration!Q17","v":0},{"$f":"'Mischung 1'!C17","v":0},{"$f":"'Mischung 1'!B17","v":0},null,null,{"$f":"'Mischung 1'!J17","v":" "},{"$f":"'Mischung 1'!K17","v":" "},{"$f":"'Mischung 1'!M17","v":" "},{"$f":"'Mischung 1'!N17","v":" "},{"$f":"'Mischung 1'!O17","v":" "},{"$f":"'Mischung 1'!P17","v":" "},{"$f":"'Mischung 1'!Q17","v":" "},{"$f":"'Mischung 1'!R17","v":" "},{"$f":"'Mischung 1'!T17","v":0},{"$f":"'Mischung 1'!C17","v":0},{"$f":"Mengenberechnung!B20","v":0},null,null,{"$f":"Mengenberechnung!E20","v":0},null,null,{"$f":"'Mischung 2'!C17","v":0},{"$f":"Mengenberechnung!B32","v":0},null,null,{"$f":"Mengenberechnung!E32","v":0}]
[{"$f":"Ration!D18","v":0},{"$f":"Ration!B7","v":0},null,null,{"$f":"Ration!H18","v":0},{"$f":"Ration!I18","v":0},{"$f":"Ration!J18","v":0},{"$f":"Ration!L18","v":0},{"$f":"Ration!M18","v":0},{"$f":"Ration!N18","v":0},{"$f":"Ration!O18","v":0},{"$f":"Ration!P18","v":0},{"$f":"Ration!Q18","v":0},{"$f":"'Mischung 1'!C18","v":0},{"$f":"'Mischung 1'!B18","v":0},null,null,{"$f":"'Mischung 1'!J18","v":" "},{"$f":"'Mischung 1'!K18","v":" "},{"$f":"'Mischung 1'!M18","v":" "},{"$f":"'Mischung 1'!N18","v":" "},{"$f":"'Mischung 1'!O18","v":" "},{"$f":"'Mischung 1'!P18","v":" "},{"$f":"'Mischung 1'!Q18","v":" "},{"$f":"'Mischung 1'!R18","v":" "},{"$f":"'Mischung 1'!T18","v":0},{"$f":"'Mischung 1'!C18","v":0},{"$f":"Mengenberechnung!B21","v":0},null,null,{"$f":"Mengenberechnung!E21","v":0},null,null,{"$f":"'Mischung 2'!C18","v":0},{"$f":"Mengenberechnung!B33","v":0},null,null,{"$f":"Mengenberechnung!E33","v":0}]
[{"$f":"Ration!D19","v":0},{"$f":"Ration!B8","v":0},null,null,{"$f":"Ration!H19","v":0},{"$f":"Ration!I19","v":0},{"$f":"Ration!J19","v":0},{"$f":"Ration!L19","v":0},{"$f":"Ration!M19","v":0},{"$f":"Ration!N19","v":0},{"$f":"Ration!O19","v":0},{"$f":"Ration!P19","v":0},{"$f":"Ration!Q19","v":0},{"$f":"'Mischung 1'!C19","v":0},{"$f":"'Mischung 1'!B19","v":0},null,null,{"$f":"'Mischung 1'!J19","v":" "},{"$f":"'Mischung 1'!K19","v":" "},{"$f":"'Mischung 1'!M19","v":" "},{"$f":"'Mischung 1'!N19","v":" "},{"$f":"'Mischung 1'!O19","v":" "},{"$f":"'Mischung 1'!P19","v":" "},{"$f":"'Mischung 1'!Q19","v":" "},{"$f":"'Mischung 1'!R19","v":" "},{"$f":"'Mischung 1'!T19","v":0},{"$f":"'Mischung 1'!C19","v":0},{"$f":"Mengenberechnung!B22","v":0},null,null,{"$f":"Mengenberechnung!E22","v":0},null,null,{"$f":"'Mischung 2'!C19","v":0},{"$f":"Mengenberechnung!B34","v":0},null,null,{"$f":"Mengenberechnung!E34","v":0}]
[{"$f":"Ration!D20","v":0},{"$f":"Ration!B9","v":0},null,null,{"$f":"Ration!H20","v":0},{"$f":"Ration!I20","v":0},{"$f":"Ration!J20","v":0},{"$f":"Ration!L20","v":0},{"$f":"Ration!M20","v":0},{"$f":"Ration!N20","v":0},{"$f":"Ration!O20","v":0},{"$f":"Ration!P20","v":0},{"$f":"Ration!Q20","v":0},{"$f":"'Mischung 1'!C20","v":0},{"$f":"'Mischung 1'!B20","v":0},null,null,{"$f":"'Mischung 1'!J20","v":" "},{"$f":"'Mischung 1'!K20","v":" "},{"$f":"'Mischung 1'!M20","v":" "},{"$f":"'Mischung 1'!N20","v":" "},{"$f":"'Mischung 1'!O20","v":" "},{"$f":"'Mischung 1'!P20","v":" "},{"$f":"'Mischung 1'!Q20","v":" "},{"$f":"'Mischung 1'!R20","v":" "},{"$f":"'Mischung 1'!T20","v":0},{"$f":"'Mischung 1'!C20","v":0},{"$f":"Mengenberechnung!B23","v":0},null,null,{"$f":"Mengenberechnung!E23","v":0},null,null,{"$f":"'Mischung 2'!C20","v":0},{"$f":"Mengenberechnung!B35","v":0},null,null,{"$f":"Mengenberechnung!E35","v":0}]
[{"$f":"Ration!D21","v":0},{"$f":"Ration!B10","v":0},null,null,{"$f":"Ration!H21","v":0},{"$f":"Ration!I21","v":0},{"$f":"Ration!J21","v":0},{"$f":"Ration!L21","v":0},{"$f":"Ration!M21","v":0},{"$f":"Ration!N21","v":0},{"$f":"Ration!O21","v":0},{"$f":"Ration!P21","v":0},{"$f":"Ration!Q21","v":0},{"$f":"'Mischung 1'!C21","v":0},{"$f":"'Mischung 1'!B21","v":0},null,null,{"$f":"'Mischung 1'!J21","v":" "},{"$f":"'Mischung 1'!K21","v":" "},{"$f":"'Mischung 1'!M21","v":" "},{"$f":"'Mischung 1'!N21","v":" "},{"$f":"'Mischung 1'!O21","v":" "},{"$f":"'Mischung 1'!P21","v":" "},{"$f":"'Mischung 1'!Q21","v":" "},{"$f":"'Mischung 1'!R21","v":" "},{"$f":"'Mischung 1'!T21","v":0},{"$f":"'Mischung 1'!C21","v":0},{"$f":"Mengenberechnung!B24","v":0},null,null,{"$f":"Mengenberechnung!E24","v":0},null,null,{"$f":"'Mischung 2'!C21","v":0},{"$f":"Mengenberechnung!B36","v":0},null,null,{"$f":"Mengenberechnung!E36","v":0}]
[{"$f":"Ration!D22","v":0},{"$f":"Ration!B11","v":0},null,null,{"$f":"Ration!H22","v":0},{"$f":"Ration!I22","v":0},{"$f":"Ration!J22","v":0},{"$f":"Ration!L22","v":0},{"$f":"Ration!M22","v":0},{"$f":"Ration!N22","v":0},{"$f":"Ration!O22","v":0},{"$f":"Ration!P22","v":0},{"$f":"Ration!Q22","v":0},{"$f":"'Mischung 1'!C22","v":0},{"$f":"'Mischung 1'!B22","v":0},null,null,{"$f":"'Mischung 1'!J22","v":" "},{"$f":"'Mischung 1'!K22","v":" "},{"$f":"'Mischung 1'!M22","v":" "},{"$f":"'Mischung 1'!N22","v":" "},{"$f":"'Mischung 1'!O22","v":" "},{"$f":"'Mischung 1'!P22","v":" "},{"$f":"'Mischung 1'!Q22","v":" "},{"$f":"'Mischung 1'!R22","v":" "},{"$f":"'Mischung 1'!T22","v":0},{"$f":"'Mischung 1'!C22","v":0},{"$f":"Mengenberechnung!B25","v":0},null,null,{"$f":"Mengenberechnung!E25","v":0},null,null,{"$f":"'Mischung 2'!C22","v":0},{"$f":"Mengenberechnung!B37","v":0},null,null,{"$f":"Mengenberechnung!E37","v":0}]
[{"$f":"Ration!D23","v":0},{"$f":"Ration!B12","v":0},null,null,{"$f":"Ration!H23","v":0},{"$f":"Ration!I23","v":0},{"$f":"Ration!J23","v":0},{"$f":"Ration!L23","v":0},{"$f":"Ration!M23","v":0},{"$f":"Ration!N23","v":0},{"$f":"Ration!O23","v":0},{"$f":"Ration!P23","v":0},{"$f":"Ration!Q23","v":0},{"$f":"'Mischung 1'!C23","v":0},{"$f":"'Mischung 1'!B23","v":0},null,null,{"$f":"'Mischung 1'!J23","v":" "},{"$f":"'Mischung 1'!K23","v":" "},{"$f":"'Mischung 1'!M23","v":" "},{"$f":"'Mischung 1'!N23","v":" "},{"$f":"'Mischung 1'!O23","v":" "},{"$f":"'Mischung 1'!P23","v":" "},{"$f":"'Mischung 1'!Q23","v":" "},{"$f":"'Mischung 1'!R23","v":" "},{"$f":"'Mischung 1'!T23","v":0},{"$f":"'Mischung 1'!C23","v":0},{"$f":"Mengenberechnung!B26","v":0},null,null,{"$f":"Mengenberechnung!E26","v":0},null,null,{"$f":"'Mischung 2'!C23","v":0},{"$f":"Mengenberechnung!B38","v":0},null,null,{"$f":"Mengenberechnung!E38","v":0}]
[{"$f":"Ration!D24","v":0},{"$f":"Ration!B13","v":0},null,null,{"$f":"Ration!H24","v":0},{"$f":"Ration!I24","v":0},{"$f":"Ration!J24","v":0},{"$f":"Ration!L24","v":0},{"$f":"Ration!M24","v":0},{"$f":"Ration!N24","v":0},{"$f":"Ration!O24","v":0},{"$f":"Ration!P24","v":0},{"$f":"Ration!Q24","v":0},{"$f":"'Mischung 1'!C24","v":0},{"$f":"'Mischung 1'!B24","v":0},null,null,{"$f":"'Mischung 1'!J24","v":" "},{"$f":"'Mischung 1'!K24","v":" "},{"$f":"'Mischung 1'!M24","v":" "},{"$f":"'Mischung 1'!N24","v":" "},{"$f":"'Mischung 1'!O24","v":" "},{"$f":"'Mischung 1'!P24","v":" "},{"$f":"'Mischung 1'!Q24","v":" "},{"$f":"'Mischung 1'!R24","v":" "},{"$f":"'Mischung 1'!T24","v":0},{"$f":"'Mischung 1'!C24","v":0},{"$f":"Mengenberechnung!B27","v":0},null,null,{"$f":"Mengenberechnung!E27","v":0},null,null,{"$f":"'Mischung 2'!C24","v":0},{"$f":"Mengenberechnung!B39","v":0},null,null,{"$f":"Mengenberechnung!E39","v":0}]
[{"$f":"Ration!D25","v":0},null,null,null,{"$f":"Ration!H25","v":0},{"$f":"Ration!I25","v":0},{"$f":"Ration!J25","v":0},{"$f":"Ration!L25","v":0},{"$f":"Ration!M25","v":0},{"$f":"Ration!N25","v":0},{"$f":"Ration!O25","v":0},{"$f":"Ration!P25","v":0},{"$f":"Ration!Q25","v":0},{"$f":"'Mischung 1'!C25","v":0},null,null,null,{"$f":"'Mischung 1'!J25","v":0},{"$f":"'Mischung 1'!K25","v":0},{"$f":"'Mischung 1'!M25","v":0},{"$f":"'Mischung 1'!N25","v":0},{"$f":"'Mischung 1'!O25","v":0},{"$f":"'Mischung 1'!P25","v":0},{"$f":"'Mischung 1'!Q25","v":0},{"$f":"'Mischung 1'!R25","v":0},{"$f":"'Mischung 1'!T25","v":0}]
[{"$f":"Ration!D26","v":0},"KF-Mischung 1",null,null,{"$f":"Ration!H26","v":0},{"$f":"Ration!I26","v":0},{"$f":"Ration!J26","v":0},{"$f":"Ration!L26","v":0},{"$f":"Ration!M26","v":0},{"$f":"Ration!N26","v":0},{"$f":"Ration!O26","v":0},{"$f":"Ration!P26","v":0},{"$f":"Ration!Q26","v":0},null,null,null,null,null,null,null,null,null,null,null,null,null,"Ladeliste für Futtermischwagen",null,null,null,null,null,null,null,"Anzahl Tiere:",null,null,{"$f":"Mengenberechnung!F2","v":0}]
[{"$f":"Ration!D27","v":0},"KF-Mischung 2",null,null,{"$f":"Ration!H27","v":0},{"$f":"Ration!I27","v":0},{"$f":"Ration!J27","v":0},{"$f":"Ration!L27","v":0},{"$f":"Ration!M27","v":0},{"$f":"Ration!N27","v":0},{"$f":"Ration!O27","v":0},{"$f":"Ration!P27","v":0},{"$f":"Ration!Q27","v":0},"%","KF Mischung 2",null,null,"nXP g","ME","Ca g","P g","Mg g","Na g","K g","Cl g","Preis","kg",null,"Futtermittel"]
[{"$f":"Ration!D28","v":0},"Gesamt",null,null,{"$f":"Ration!H28","v":0},{"$f":"Ration!I28","v":0},{"$f":"Ration!J28","v":0},{"$f":"Ration!L28","v":0},{"$f":"Ration!M28","v":0},{"$f":"Ration!N28","v":0},{"$f":"Ration!O28","v":0},{"$f":"Ration!P28","v":0},{"$f":"Ration!Q28","v":0},{"$f":"'Mischung 2'!C15","v":0},{"$f":"'Mischung 2'!B15","v":0},null,null,{"$f":"'Mischung 2'!J15","v":" "},{"$f":"'Mischung 2'!K15","v":" "},{"$f":"'Mischung 2'!M15","v":" "},{"$f":"'Mischung 2'!N15","v":" "},{"$f":"'Mischung 2'!O15","v":" "},{"$f":"'Mischung 2'!P15","v":" "},{"$f":"'Mischung 2'!Q15","v":" "},{"$f":"'Mischung 2'!R15","v":" "},{"$f":"'Mischung 2'!T15","v":0},{"$f":"Mengenberechnung!E4","v":0},null,{"$f":"Mengenberechnung!B4","v":0}]
[null,null,null,null,null,null,null,null,null,null,null,null,null,{"$f":"'Mischung 2'!C16","v":0},{"$f":"'Mischung 2'!B16","v":0},null,null,{"$f":"'Mischung 2'!J16","v":" "},{"$f":"'Mischung 2'!K16","v":" "},{"$f":"'Mischung 2'!M16","v":" "},{"$f":"'Mischung 2'!N16","v":" "},{"$f":"'Mischung 2'!O16","v":" "},{"$f":"'Mischung 2'!P16","v":" "},{"$f":"'Mischung 2'!Q16","v":" "},{"$f":"'Mischung 2'!R16","v":" "},{"$f":"'Mischung 2'!T16","v":0},{"$f":"Mengenberechnung!E5","v":0},null,{"$f":"Mengenberechnung!B5","v":0},null,null,null,null,null,"Gesamtgew. kg:",null,null,{"$f":"Mengenberechnung!F11","v":0}]
["Vergleich Ration  -  Sollwert",null,null,null,null,null,null,null,null,null,null,null,null,{"$f":"'Mischung 2'!C17","v":0},{"$f":"'Mischung 2'!B17","v":0},null,null,{"$f":"'Mischung 2'!J17","v":" "},{"$f":"'Mischung 2'!K17","v":" "},{"$f":"'Mischung 2'!M17","v":" "},{"$f":"'Mischung 2'!N17","v":" "},{"$f":"'Mischung 2'!O17","v":" "},{"$f":"'Mischung 2'!P17","v":" "},{"$f":"'Mischung 2'!Q17","v":" "},{"$f":"'Mischung 2'!R17","v":" "},{"$f":"'Mischung 2'!T17","v":0},{"$f":"Mengenberechnung!E6","v":0},null,{"$f":"Mengenberechnung!B6","v":0}]
[null,null,"Sollwert",null,"Ration",null,null,null,null,"Sollwert",null,"Ration",null,{"$f":"'Mischung 2'!C18","v":0},{"$f":"'Mischung 2'!B18","v":0},null,null,{"$f":"'Mischung 2'!J18","v":" "},{"$f":"'Mischung 2'!K18","v":" "},{"$f":"'Mischung 2'!M18","v":" "},{"$f":"'Mischung 2'!N18","v":" "},{"$f":"'Mischung 2'!O18","v":" "},{"$f":"'Mischung 2'!P18","v":" "},{"$f":"'Mischung 2'!Q18","v":" "},{"$f":"'Mischung 2'!R18","v":" "},{"$f":"'Mischung 2'!T18","v":0},{"$f":"Mengenberechnung!E7","v":0},null,{"$f":"Mengenberechnung!B7","v":0}]
["TM",null,{"$f":"Ration!E30","v":0},null,{"$f":"Ration!E28","v":0},null,null,"Ca",null,{"$f":"Ration!L30","v":0},null,{"$f":"Ration!L28","v":0},null,{"$f":"'Mischung 2'!C19","v":0},{"$f":"'Mischung 2'!B19","v":0},null,null,{"$f":"'Mischung 2'!J19","v":" "},{"$f":"'Mischung 2'!K19","v":" "},{"$f":"'Mischung 2'!M19","v":" "},{"$f":"'Mischung 2'!N19","v":" "},{"$f":"'Mischung 2'!O19","v":" "},{"$f":"'Mischung 2'!P19","v":" "},{"$f":"'Mischung 2'!Q19","v":" "},{"$f":"'Mischung 2'!R19","v":" "},{"$f":"'Mischung 2'!T19","v":0},{"$f":"Mengenberechnung!E8","v":0},null,{"$f":"Mengenberechnung!B8","v":0}]
["XF",null,">18%",null,{"$f":"Ration!F31","v":0},null,null,"P",null,{"$f":"Ration!M30","v":0},null,{"$f":"Ration!M28","v":0},null,{"$f":"'Mischung 2'!C20","v":0},{"$f":"'Mischung 2'!B20","v":0},null,null,{"$f":"'Mischung 2'!J20","v":" "},{"$f":"'Mischung 2'!K20","v":" "},{"$f":"'Mischung 2'!M20","v":" "},{"$f":"'Mischung 2'!N20","v":" "},{"$f":"'Mischung 2'!O20","v":" "},{"$f":"'Mischung 2'!P20","v":" "},{"$f":"'Mischung 2'!Q20","v":" "},{"$f":"'Mischung 2'!R20","v":" "},{"$f":"'Mischung 2'!T20","v":0},{"$f":"Mengenberechnung!E9","v":0},null,{"$f":"Mengenberechnung!B9","v":0}]
["aNDFom",null,">28%",null,{"$f":"Ration!G31","v":0},null,null,"Mg",null,{"$f":"Ration!N30","v":0},null,{"$f":"Ration!N28","v":0},null,{"$f":"'Mischung 2'!C21","v":0},{"$f":"'Mischung 2'!B21","v":0},null,null,{"$f":"'Mischung 2'!J21","v":" "},{"$f":"'Mischung 2'!K21","v":" "},{"$f":"'Mischung 2'!M21","v":" "},{"$f":"'Mischung 2'!N21","v":" "},{"$f":"'Mischung 2'!O21","v":" "},{"$f":"'Mischung 2'!P21","v":" "},{"$f":"'Mischung 2'!Q21","v":" "},{"$f":"'Mischung 2'!R21","v":" "},{"$f":"'Mischung 2'!T21","v":0},{"$f":"Mengenberechnung!E10","v":0},null,{"$f":"Mengenberechnung!B10","v":0}]
["XP",null,{"$f":"Ration!H30","v":0},null,{"$f":"Ration!H28","v":0},null,null,"Na",null,{"$f":"Ration!O30","v":0},null,{"$f":"Ration!O28","v":0},null,{"$f":"'Mischung 2'!C22","v":0},{"$f":"'Mischung 2'!B22","v":0},null,null,{"$f":"'Mischung 2'!J22","v":" "},{"$f":"'Mischung 2'!K22","v":" "},{"$f":"'Mischung 2'!M22","v":" "},{"$f":"'Mischung 2'!N22","v":" "},{"$f":"'Mischung 2'!O22","v":" "},{"$f":"'Mischung 2'!P22","v":" "},{"$f":"'Mischung 2'!Q22","v":" "},{"$f":"'Mischung 2'!R22","v":" "},{"$f":"'Mischung 2'!T22","v":0},{"$f":"Mengenberechnung!E11","v":0},null,{"$f":"Mengenberechnung!B11","v":0}]
["nXP",null,{"$f":"Ration!I30","v":0},null,{"$f":"Ration!I28","v":0},null,null,"K",null,{"$f":"Ration!P30","v":0},null,{"$f":"Ration!P28","v":0},null,{"$f":"'Mischung 2'!C23","v":0},{"$f":"'Mischung 2'!B23","v":0},null,null,{"$f":"'Mischung 2'!J23","v":" "},{"$f":"'Mischung 2'!K23","v":" "},{"$f":"'Mischung 2'!M23","v":" "},{"$f":"'Mischung 2'!N23","v":" "},{"$f":"'Mischung 2'!O23","v":" "},{"$f":"'Mischung 2'!P23","v":" "},{"$f":"'Mischung 2'!Q23","v":" "},{"$f":"'Mischung 2'!R23","v":" "},{"$f":"'Mischung 2'!T23","v":0},{"$f":"Mengenberechnung!E12","v":0},null,{"$f":"Mengenberechnung!B12","v":0}]
["ME",null,{"$f":"Ration!J30","v":0},null,{"$f":"Ration!J28","v":0},null,null,"Cl",null,{"$f":"Ration!Q30","v":0},null,{"$f":"Ration!Q28","v":0},null,{"$f":"'Mischung 2'!C24","v":0},{"$f":"'Mischung 2'!B24","v":0},null,null,{"$f":"'Mischung 2'!J24","v":" "},{"$f":"'Mischung 2'!K24","v":" "},{"$f":"'Mischung 2'!M24","v":" "},{"$f":"'Mischung 2'!N24","v":" "},{"$f":"'Mischung 2'!O24","v":" "},{"$f":"'Mischung 2'!P24","v":" "},{"$f":"'Mischung 2'!Q24","v":" "},{"$f":"'Mischung 2'!R24","v":" "},{"$f":"'Mischung 2'!T24","v":0},{"$f":"Mengenberechnung!E13","v":0},null,{"$f":"Mengenberechnung!B13","v":0}]
["NEL",null,{"$f":"Ration!K30","v":0},null,{"$f":"Ration!K28","v":0},null,null,"Futterkosten / Tag",null,null,null,{"$f":"Ration!S28","v":0},null,{"$f":"'Mischung 2'!C25","v":0},null,null,null,{"$f":"'Mischung 2'!J25","v":0},{"$f":"'Mischung 2'!K25","v":0},{"$f":"'Mischung 2'!M25","v":0},{"$f":"'Mischung 2'!N25","v":0},{"$f":"'Mischung 2'!O25","v":0},{"$f":"'Mischung 2'!P25","v":0},{"$f":"'Mischung 2'!Q25","v":0},{"$f":"'Mischung 2'!R25","v":0},{"$f":"'Mischung 2'!T25","v":0},{"$f":"Mengenberechnung!E14","v":0},null,"Kraftfuttermischung 1"]
[null,null,null,null,null,null,null,null,null,null,null,null,null,null,null,null,null,null,null,null,null,null,null,null,null,null,{"$f":"Mengenberechnung!E15","v":0},null,"Kraftfuttermischung 2"]