{"text_format":"1","workbook":"xlsx","n_sheets":8,"sheets":["Einstellung","Sollwerte","Gruber Tabelle","Ration","Mischung 1","Grundfutter","Mengenberechnung","Ausdruck"],"not_rendered":{"charts":0,"images":11,"macros":1,"external_links":0,"defined_names":4,"comments":3,"pivot_tables":0},"unopened":[],"bounds":{"document_bytes":16777216,"sheet_cells":100000,"rows_first":2000,"rows_last":500,"rows_between":2000,"halvings":0,"cell_chars":16384,"cell_head_chars":4096},"cells_cut":0,"cells_raw":0,"read":"whole","date_system":"1900"}

{"sheet":"Einstellung","index":0,"n_rows":17,"n_cols":5,"rows_kept":17,"cut":false,"hidden":false,"merged":[[24,1,24,12],[7,3,7,5],[9,3,9,5],[8,2,8,5],[11,2,11,5],[16,2,16,5],[13,2,13,5],[19,2,22,5],[1,1,1,16],[2,1,2,16],[3,1,3,16],[15,1,15,4],[10,1,10,4],[4,6,23,16],[5,2,5,3],[5,4,5,5],[6,2,6,5],[14,1,14,4]]}
[]
[]
[null,"Futterberechnung zur Fütterung von Schweinen"]
[null,"Gruber Tabelle, 27. Auflage / August 2022             www.LfL.bayern.de"]
[]
[null,null,"Tierhaltungsschule",null,"Triesdorf"]
[null,null,"Markgrafenstraße 1"]
[null,null,91746,"Weidenbach"]
[]
[null,null,"Betr. Nr.","09 111 222 1234"]
[]
[null,null,"Freie Software - Keinerlei Gewährleistung"]
[]
[null,null,"Update: 30.11.2022"]
[]
[]
[null,null,"ths@triesdorf.de"]

{"sheet":"Sollwerte","index":1,"n_rows":68,"n_cols":31,"rows_kept":68,"cut":false,"hidden":false,"merged":[[1,29,1,30],[2,29,2,30],[0,0,0,30],[1,2,1,20],[1,21,1,28],[2,21,2,28]]}
[]
[null,null,"Richtwerte je kg Trockenfutter 88 -  weiße Leerzeilen sind für eigene Eingaben vorgesehen",null,null,null,null,null,null,null,null,null,null,null,null,null,null,null,null,null,null,"  Aminosäurenrelationen ",null,null,null,null,null,null,null,"Verhältnis"]
[null,null,"FM g","ME","XP","Lys","Met","M+C","Thr","Trp","XF","St","XZ","XA","Ca","P","vP g","vPph","Na","K","XL","(Lys : Met : M+C : Thr : Trp : Val : Ile : Leu )",null,null,null,null,null,null,null,"C  :  vP"]
["Richtwerte je kg Futter bei 88 % TM","Nr.","Tag","MJ","g","g","g","g","g","g","g","g","g","g","g","g","g","g","g","g","g","Lys","Met","M+C","Thr","Trp","Val","Ile","Leu","C","vP"]
["Bitte Richtwerte auswählen  >>",0,0,0,0,0,0,0,0,0,0,0,0,0,0,0,0,0,0,0,0]
["Jungsauenaufzucht LM 30-60       LMZ 650 g",1,2050,12,166,8.4600000000000009,2.62,4.6500000000000004,5.5,1.52,40,430,35,24,4.9000000000000004,3.7,2.1,2.1,0.8,7,40,1,0,0.55000000000000004,0.65,0.18,0.65,0.5,1.03,2.4,1]
["Jungsauenaufzucht LM 60-90       LMZ 700 g",2,2600,12,160,7.95,2.46,4.37,5.17,1.43,40,430,35,19,4.3,3.3,1.8,1.8,0.7,7,40,1,0,0.55000000000000004,0.65,0.18,null,null,null,2.4,1]
["Jungsauenaufzucht LM 90-120     LMZ 700 g",3,2900,12,150,7.28,2.2599999999999998,4.01,4.7300000000000004,1.31,40,430,35,17,3.8,2.8,1.6,1.6,0.6,7,40,1,0,0.55000000000000004,0.65,0.18,null,null,null,2.4,1]
["Jungsauenaufzucht LM 120-150    LMZ 700 g",4,2950,13,137,6.48,2.0099999999999998,3.56,4.21,1.17,40,430,35,50,3.4,2.6,1.4,1.4,0.6,7,40,1,0,0.55000000000000004,0.65,0.18,null,null,null,2.4,1]
[5,5,null,null,0]
["Eberaufzucht LM 30-60         LMZ 750 g",6,2001,12.5,181,10.89,3.37,6.53,7.08,1.96,30,400,35,25,5.6,4.3,2.4,2.4,0.9,7,40,1,0,0.6,0.65,0.18,null,null,null,2.4,1]
["Eberaufzucht LM 60-90         LMZ 850 g",7,2780,12.5,164,9.84,3.05,5.91,6.4,1.77,30,400,35,18,5,3.9,2.1,2.1,1.5,7,40,1,0,0.6,0.65,0.18,null,null,null,2.4,1]
["Eberaufzucht LM 90-120       LMZ 750 g",8,2985,12.5,142,8.51,2.64,5.1100000000000003,5.53,1.53,30,400,35,17,4.4000000000000004,3.3,1.8,1.8,0.7,7,40,1,0,0.7,0.65,0.18,null,null,null,2.5,1]
["Eberaufzucht LM 120-180     LMZ 600 g",9,2612,12.5,129,7.73,2.39,4.6399999999999997,5.03,1.39,30,400,35,19,3.6,2.6,1.4,1.4,0.5,7,40,1,0,0.6,0.65,0.18,null,null,null,2.5,1]
["Eberaufzucht LM   200",10,1986,12.49,162,9.7200000000000006,3,5.84,6.32,1.75,30,400,35,25,3.1,2.1,1.2,1.2,0.4,7,40,1,0,0.6,0.65,0.18,null,null,null,2.7,1]
[11,11]
["1. - Tragende Sauen Nieder (Tag 1 - 84)",12,2600,11.89,120,5.98,1.86,3.59,3.9,1.2,70,400,35,35,5.8,4.2,2.7,2.7,2,7,30,1,0.31,0.6,0.65,0.2,null,null,null,2.5,1]
["1. - Tragende Sauen Hoch (Tag 85 - 115)",13,3300,11.89,120,5.98,1.86,3.59,3.9,1.2,70,400,35,35,5.8,4.2,2.7,2.7,2,7,30,1,0.31,0.6,0.65,0.2,null,null,null,2.5,1]
["1. - Tragend (Tag 1 - 115)",14,2900,11.89,120,5.98,1.86,3.59,3.9,1.2,70,400,35,35,5.8,4.2,2.7,2.7,2,7,30,1,0.31,0.6,0.65,0.2,null,null,null,2.5,1]
["2. - Tragende Sauen Nieder (Tag 1 - 84)",15,2900,11.89,120,5.98,1.86,3.59,3.9,1.2,70,400,35,35,5.8,4.2,2.7,2.7,2,7,30,1,0.31,0.6,0.65,0.2,null,null,null,2.5,1]
["2. - Tragende Sauen Hoch (Tag 85 - 115)",16,3600,11.89,120,5.98,1.86,3.59,3.9,1.2,70,400,35,35,5.8,4.2,2.7,2.7,2,7,30,1,0.31,0.6,0.65,0.2,null,null,null,2.5,1]
["2. - Tragend (Tag 1 - 115)",17,3100,11.89,120,5.98,1.86,3.59,3.9,1.2,70,400,35,35,5.8,4.2,2.7,2.7,2,7,30,1,0.31,0.6,0.65,0.2,null,null,null,2.5,1]
["3. - Tragende Sauen Nieder (Tag 1 - 84)",18,3000,11.89,120,5.98,1.86,3.59,3.9,1.2,70,400,35,35,5.8,4.2,2.7,2.7,2,7,30,1,0.31,0.6,0.65,0.2,null,null,null,2.5,1]
["3. - Tragende Sauen Hoch (Tag 85 - 115)",19,3700,11.89,120,5.98,1.86,3.59,3.9,1.2,70,400,35,35,5.8,4.2,2.7,2.7,2,7,30,1,0.31,0.6,0.65,0.2,null,null,null,2.5,1]
["3. - Tragend (Tag 1 - 115)",20,3200,11.89,120,5.98,1.86,3.59,3.9,1.2,70,400,35,35,5.8,4.2,2.7,2.7,2,7,30,1,0.31,0.6,0.65,0.2,null,null,null,2.5,1]
["4. - Tragende Sauen Nieder (Tag 1 - 84)",21,2800,11.89,120,5.98,1.86,3.59,3.9,1.2,70,400,35,35,5.8,4.2,2.7,2.7,2,7,30,1,0.31,0.6,0.65,0.2,null,null,null,2.5,1]
["4. - Tragende Sauen Hoch (Tag 85 - 115)",22,3300,11.89,120,5.98,1.86,3.59,3.9,1.2,70,400,35,35,5.8,4.2,2.7,2.7,2,7,30,1,0.31,0.6,0.65,0.2,null,null,null,2.5,1]
["4. - Tragend (Tag 1 - 115)",23,2900,11.89,120,5.98,1.86,3.59,3.9,1.2,70,400,35,35,5.8,4.2,2.7,2.7,2,7,30,1,0.31,0.6,0.65,0.2,null,null,null,2.5,1]
[24,24]
["1. - Säugefutter  8 - 10 Ferkel",25,5000,13.23,165,9.5299999999999994,2.97,5.73,6.22,1.9,40,430,35,50,6.5,5,3.5,3.5,2,9,35,1,0.31,0.6,0.65,0.2,null,null,null,2.4,1]
["1. - Säugefutter  11 - 12 Ferkel",26,6200,13.23,165,9.5299999999999994,2.97,5.73,6.22,1.9,40,430,35,50,6.5,5,3.5,3.5,2,9,35,1,0.31,0.6,0.65,0.2,null,null,null,2.4,1]
["1. - Säugefutter  13 - 14 Ferkel",27,6900,13.23,165,9.5299999999999994,2.97,5.73,6.22,1.9,40,430,35,50,6.5,5,3.5,3.5,2,9,35,1,0.31,0.6,0.65,0.2,null,null,null,2.4,1]
["2. - Säugefutter  8 - 10 Ferkel",28,5300,13.23,165,9.5299999999999994,2.97,5.73,6.22,1.9,40,430,35,50,6.5,5,3.5,3.5,2,9,35,1,0.31,0.6,0.65,0.2,null,null,null,2.4,1]
["2. - Säugefutter  11 - 12 Ferkel",29,6500,13.23,165,9.5299999999999994,2.97,5.73,6.22,1.9,40,430,35,50,6.5,5,3.5,3.5,2,9,35,1,0.31,0.6,0.65,0.2,null,null,null,2.4,1]
["2. - Säugefutter  13 - 14 Ferkel",30,7200,13.23,165,9.5299999999999994,2.97,5.73,6.22,1.9,40,430,35,50,6.5,5,3.5,3.5,2,9,35,1,0.31,0.6,0.65,0.2,null,null,null,2.4,1]
["3. - Säugefutter  8 - 10 Ferkel",31,5500,13.23,165,9.5299999999999994,2.97,5.73,6.22,1.9,40,430,35,50,6.5,5,3.5,3.5,2,9,35,1,0.31,0.6,0.65,0.2,null,null,null,2.4,1]
["3. - Säugefutter  11 - 12 Ferkel",32,6700,13.23,165,9.5299999999999994,2.97,5.73,6.22,1.9,40,430,35,50,6.5,5,3.5,3.5,2,9,35,1,0.31,0.6,0.65,0.2,null,null,null,2.4,1]
["3. - Säugefutter  13 - 14 Ferkel",33,7400,13.23,165,9.5299999999999994,2.97,5.73,6.22,1.9,40,430,35,50,6.5,5,3.5,3.5,2,9,35,1,0.31,0.6,0.65,0.2,null,null,null,2.4,1]
["4. - Säugefutter  8 - 10 Ferkel",34,5700,13.23,165,9.5299999999999994,2.97,5.73,6.22,1.9,40,430,35,50,6.5,5,3.5,3.5,2,9,35,1,0.31,0.6,0.65,0.2,null,null,null,2.4,1]
["4. - Säugefutter  11 - 12 Ferkel",35,6800,13.23,165,9.5299999999999994,2.97,5.73,6.22,1.9,40,430,35,50,6.5,5,3.5,3.5,2,9,35,1,0.31,0.6,0.65,0.2,null,null,null,2.4,1]
["4. - Säugefutter  13 - 14 Ferkel",36,7500,13.23,165,9.5299999999999994,2.97,5.73,6.22,1.9,40,430,35,50,6.5,5,3.5,3.5,2,9,35,1,0.31,0.6,0.65,0.2,null,null,null,2.4,1]
[37,37]
["Ferkel Erg. Futter Aufzucht (Ant. 100%)",38,600,13.52,190,13.52,4.01,8.0299999999999994,9.01,2.39,30,350,50,56,8.5,5.5,4.4000000000000004,1.8,2,7.5,34,1,0.3,0.59,0.67,0.18,null,null,null,2.4,1]
["Ferkel LM 12 - 20 kg - FAF I",39,850,13.01,180,11.7,3.9,7.8,7.8,2.44,38,300,45,55,8.5,5.5,4.4000000000000004,4.4000000000000004,2,7.5,30,1,0.33,0.67,0.67,0.21,null,null,null,2.4,1]
["Ferkel LM 20 - 30 kg - FAF II",40,950,13.02,175,11.33,3.71,7.32,7.41,2.2599999999999998,38,300,40,52,7.5,4.5,3.6,3.6,2,6.5,30,1,0.33,0.65,0.65,0.2,null,null,null,2.4,1]
[41,41]
[42,42]
["Mastfutter LM 28 kg - Vormast 750 g ZN",43,1341,13,176,10.56,3.27,5.81,6.87,1.9,30,430,35,37,6.4,5,2.7,2.7,1,7,40,1,0,0.55000000000000004,0.65,0.18,null,null,null,2.2999999999999998,1]
["Mastfutter LM 40 kg - Anfangsmast 750 g ZN",44,1666,13,169,9.93,3.07,5.46,6.46,1.79,30,430,35,30,6,4.7,2.6,2.6,0.9,7,40,1,0,0.55000000000000004,0.65,0.18,null,null,null,2.4,1]
["Mastfutter LM 70 kg - Mittelmast 750 g ZN",45,2295,13,159,8.84,2.74,4.8600000000000003,5.75,1.59,30,430,35,22,5.0999999999999996,4,2.2000000000000002,2.2000000000000002,0.8,7,40,1,0,0.55000000000000004,0.65,0.18,null,null,null,2.4,1]
["Mastfutter LM 90 kg - Endmast 750 g ZN",46,2520,13,154,8.23,2.5499999999999998,4.53,5.35,1.48,32,430,35,20,4.5999999999999996,3.5,1.9,1.9,1,7,40,1,0,0.55000000000000004,0.65,0.18,null,null,null,2.4,1]
["Mastfutter LM 110 kg - Endmast 750 g ZN",47,2553,13,147,7.54,2.33,4.1399999999999997,4.9000000000000004,1.36,32,430,35,20,4,3.1,1.7,1.7,0.7,7,40,1,0,0.55000000000000004,0.65,0.18,null,null,null,2.4,1]
["Mastfutter LM 28 kg - Vormast 850 g ZN",48,1481,13,183,11,3.4,6.05,7.15,1.98,32,430,35,34,6.7,5.2,2.9,2.9,1,7,40,1,0,0.55000000000000004,0.65,0.18,null,null,null,2.2999999999999998,1]
["Mastfutter LM 40 kg - Anfangsmast 850 g ZN",49,1817,13,175,10.31,3.19,5.66,6.7,1.86,30,430,35,28,6.3,4.9000000000000004,2.7,2.7,1,7,40,1,0,0.55000000000000004,0.65,0.18,null,null,null,2.4,1]
["Mastfutter LM 70 kg - Mittelmast 850 g ZN",50,2468,13,165,9.16,2.84,5.04,5.96,1.65,30,430,35,20,5.3,4.0999999999999996,2.2000000000000002,2.2000000000000002,0.8,7,40,1,0,0.55000000000000004,0.65,0.18,null,null,null,2.4,1]
["Mastfutter LM 90 kg - Endmast 850 g ZN",51,2708,13,160,8.56,2.65,4.71,5.57,1.54,30,430,35,18,4.7,3.6,2,2,0.8,7,40,1,0,0.55000000000000004,0.65,0.18,null,null,null,2.4,1]
["Mastfutter LM 110 kg - Endmast 850 g ZN",52,2752,13,155,7.92,2.46,4.3600000000000003,5.15,1.43,30,430,35,18,4.0999999999999996,3.1,1.7,1.7,0.7,7,40,1,0,0.55000000000000004,0.65,0.18,null,null,null,2.4,1]
["Mastfutter LM 28 kg - Vormast 950 g ZN",53,1624,13,188,11.33,3.51,6.23,7.37,2.04,30,430,35,31,7,5.4,3,3,1.1000000000000001,7,40,1,0,0.55000000000000004,0.65,0.18,null,null,null,2.2999999999999998,1]
["Mastfutter LM 40 kg - Anfangsmast 950 g ZN",54,1969,13,180,10.59,3.28,5.83,6.89,1.9,30,430,35,25,6.5,5.0999999999999996,2.8,2.8,1,7,40,1,0,0.55000000000000004,0.65,0.18,null,null,null,2.5,1]
["Mastfutter LM 70 kg - Mittelmast 950 g ZN",55,2644,13,169,9.41,2.92,5.18,6.12,1.69,30,430,35,19,5.5,4.2,2.2999999999999998,2.2999999999999998,0.9,7,40,1,0,0.55000000000000004,0.65,0.18,null,null,null,2.4,1]
["Mastfutter LM 90 kg - Endmast 950 g ZN",56,2897,13,165,8.83,2.74,4.8600000000000003,4.9000000000000004,1.4,30,430,35,17,4.8,3.7,2,2,0.8,7,40,1,0,0.55000000000000004,0.65,0.18,null,null,null,2.4,1]
["Mastfutter LM 110 kg - Endmast 950 g ZN",57,2953,13,161,8.24,2.56,4.53,5.36,1.49,30,430,35,17,4.2,3.2,1.8,1.8,0.7,7,40,1,0,0.55000000000000004,0.65,0.18,null,null,null,2.4,1]
[58,58]
[59,59]
[60,60]
[61,61]
[62,62]
[63,63]

{"sheet":"Gruber Tabelle","index":2,"n_rows":231,"n_cols":22,"rows_kept":231,"cut":false,"hidden":false,"merged":[[2,0,4,1],[2,2,2,5],[0,0,0,21],[2,6,2,20],[2,21,4,21],[3,2,3,7],[3,8,3,14],[3,15,3,20]]}
["Ration"]
[]
[null,null,"www.LfL.bayern.de",null,null,null,"Gruber Tabelle zur Futterberechnung für Schweine - 27. Auflage - August 2022",null,null,null,null,null,null,null,null,null,null,null,null,null,null,"Preis   dt FM"]
[null,null,"grau = Trockenfutter 880 g TM",null,null,null,null,null,"weiß = Leerzeilen für eigene Futtermittel",null,null,null,null,null,null,"grün = Grundfuttermittel Frischmasse"]
[null,null,"TM","ME","XP ","Lys ","Met ","M+C ","Thr","Trp","XF ","St","Z","XA","Ca","P","vP","vPph","Na","K","XL"]
[null,"Futtermittel","g","MJ","g","g","g","g","g","g","g","g","g","g","g","g","g","g","g","g","g","€ / dt"]
[4025,"Gerste, 2-zeilig",880,12.63,110,3.9,1.8,4.0999999999999996,3.6,1.4,44,530,22,22,0.6,3.5,1.6,2.2999999999999998,0.3,4.4000000000000004,22]
[4125,"Triticale",880,13.57,106,3.5,1.8,4.2,3.3,1.2,22,587,35,18,0.4,3.4,1.7,2.2000000000000002,0.3,4.9000000000000004,16]
[4145,"Weizen",880,13.71,121,3.4,1.9,4.5,3.4,1.5,26,594,28,17,0.6,3.3,2.2000000000000002,2.2000000000000002,0.2,4.4000000000000004,18]
[4205,"Körnermais",880,14.13,90,2.5,1.8,3.8,3.2,0.7,23,612,17,15,0.4,3.1,0.5,2,0.2,3.6,40]
[5205,"Maiskornsilage (MKS), Ganzkorn",650,10.6,65,1.8,1.3,2.8,2.2999999999999998,0.5,16,421,5,12,0.3,2.2999999999999998,1.1000000000000001,1.5,0.1,2.7,27]
[4305,"Ackerbohnen",880,12.48,260,16.2,1.8,4.9000000000000004,8.9,2.2000000000000002,79,362,35,35,1.4,4.3,1.5,2.8,0.2,10.9,14]
[4345,"Erbsen",880,13.46,207,14.5,1.9,4.7,7.8,1.9,57,420,54,31,0.8,4.2,1.9,2.7,0.2,9.6999999999999993,13]
[6435,"Sojaextr.schrot 44 % XP",880,13.1,440,26.9,5.9,12.3,17.2,5.9,60,62,95,59,2.7,6.2,2.2000000000000002,4,0.2,19.399999999999999,12]
[6436,"Sojaextr.schrot 48 % XP",880,14.12,480,29.4,6.5,13.4,18.8,6.5,35,62,100,59,2.8,6.7,2.2999999999999998,4.3,0.3,20.2,12]
[6425,"Rapsextrationsschrot",880,9.93,340,17.5,6.6,14.6,14.4,4.5999999999999996,117,0,70,69,7.6,10.5,3.1,6.8,0.4,12.5,30]
[6175,"Weizenkleie",880,8.69,160,6.4,2.2999999999999998,5.6,5.0999999999999996,2.5,100,131,56,57,1.6,11.4,3.4,7.4,0.5,10.6,38]
[6505,"Trockenschnitzel",880,10.23,74,2.8,1.2,2,3.3,0.8,138,0,76,63,8.1,1,0.1,0.6,0.9,7.7,7]
[3074,"Grascobs, 1. Schnitt, Blattst.",880,7.44,169,7.6,2.6,4.4000000000000004,6.7,2.6,146,0,88,101,6.2,4,2,2.6,0.5,22.9,33]
[4674,"Fasermix, 20 % XF",880,8.58,88,3.5,1.3,2.2000000000000002,2.6,0.9,196,34,64,39,3.9,2.9,0.7,1.9,1,8.8000000000000007,24]
[4680]
[7735,"Labmolke",50,0.71,7,0.5,0.1,0.2,0.4,0.1,0,0,36,4,0.4,0.4,0.3,0.3,0.3,1.3,1]
[5435,"Sojaöl",880,34.99,0,0,0,0,0,0,0,0,0,1,0,0,0,0,0,0,879]
[5436]
[8284,"Mineralf. Ferkel 4 AS (4%)",880,3.9,190,111,27.8,27.8,46.3,4.5999999999999996,0,0,0,694,162,23.1,20.8,20.8,37,0,0]
[8295,"Mineralf. Anfangsmast (3,0%)",880,3.03,185,111,27.8,27.8,46.3,0,0,0,0,759,176,9.1999999999999993,8.3000000000000007,8.3000000000000007,37,0,0]
[8296,"Mineralf. Endmast (3,0%)",880,2.27,162,111,27.8,27.8,23.2,0,0,0,0,796,153,0,0,0,37,0,0]
[8385,"Mineralf. Zuchtsau säug. (3,0%)",880,2.4700000000000002,130,83.4,23.2,23.2,23.2,0,0,0,0,757,195,27.8,25,25,55.6,0,0]
[8386,"Mineralf. Zuchtsau trag. (2,5%)",880,1.8,88,64.8,9.3000000000000007,9.3000000000000007,13.9,0,0,0,0,796,185,9.1999999999999993,8.3000000000000007,8.3000000000000007,55.6,0,0]
[null,"1. Grünfutter"]
[1205,"Grünmais",300,3.03,24,0.7,0.4,0.7,0.8,0.2,62,60,36,14,0.6,0.7,0.3,0.5,0.1,3.6,9]
[1714,"Luzerne, 1. Schnitt, in d. Knospe",180,1.69,39,1.9,0.5,0.9,1.6,0.6,41,0,3,23,3.2,0.5,0.3,0.4,0.1,5.4,6]
[1614,"Rotklee, 1. Schnitt, vor d. Knospe",150,1.44,32,1.5,0.5,0.8,1.3,0.6,29,0,11,18,2.4,0.4,0.2,0.3,0.1,4.8,6]
[1014,"Wiesengras, 1. Schn., i. Schossen",160,1.53,31,1.5,0.5,0.8,1.3,0.6,33,0,16,15,0.9,0.6,0.3,0.4,0.2,4.2,6]
[1634,"Kleegras, 1. Schnitt, in der Knospe",160,1.44,34,1.6,0.6,0.9,1.4,0.6,36,0,13,18,1.6,0.7,0.4,0.5,0.1,5.6,5]
[1020]
[null,"2. Silagen"]
[5205,"Maiskornsilage (MKS), Ganzkorn",650,10.6,65,1.8,1.3,2.8,2.2999999999999998,0.5,16,421,5,12,0.3,2.2999999999999998,1.1000000000000001,1.5,0.1,2.7,27]
[5206,"Maiskornsilage (MKS), Schrot",650,10.66,65,1.8,1.3,2.8,2.2999999999999998,0.5,16,421,5,10,0.3,2.2999999999999998,1.1000000000000001,1.5,0.1,2.7,27]
[5224,"CCM-Kornspindelgem. 3,5 % XF",650,9.9499999999999993,65,1.7,1.3,2.8,2.2999999999999998,0.5,23,413,5,10,0.3,2.2999999999999998,1.1000000000000001,1.5,0.1,2.7,28]
[5245,"LKS-Lieschkolbensilage",500,7.04,48,1.3,1,2,1.7,0.4,45,270,3,10,0.2,1.8,0.9,1.1000000000000001,0.1,2.1,20]
[2225,"Maissilage körnerreich",330,3.49,27,0.7,0.4,0.7,0.9,0.2,61,102,5,13,0.7,0.7,0.4,0.5,0.1,3.3,12]
[2014,"Grassilage, 1. Schn., Rispensch.",350,2.83,63,2.7,1,1.4,2.4,0.7,78,0,9,38,2.2999999999999998,1.4,0.7,0.9,0.2,10.9,14]
[2634,"Kleegrassilage, 1. Schn, i. d. Kn.",350,3.12,68,2.9,1.1000000000000001,1.5,2.7,0.7,79,0,9,40,2.8,1.3,0.7,0.9,0.2,11.6,13]
[2640]
[null,"3. Heu, Stroh, Cobs, Grünmehl"]
[3014,"Heu, Wiese, 1. Schn., Rispensch.",860,6.05,114,5.0999999999999996,1.8,2.9,4.5999999999999996,1.7,211,0,103,77,4.5,2.9,0.3,1.9,0.3,21.5,26]
[3075,"Grascobs, 1. Schnitt",890,7.45,165,7.4,2.5,4.3,6.6,2.5,178,0,89,98,5.8,3.4,1.7,2.2000000000000002,0.5,23.1,30]
[3074,"Grascobs, 1. Schnitt i. Blattst.",880,7.44,169,7.6,2.6,4.4000000000000004,6.7,2.6,146,0,88,101,6.2,4,2,2.6,0.5,22.9,33]
[3076,"Grascobs, 1. Schnitt i. Rispen.",880,7.29,141,6.3,2.2000000000000002,3.7,5.7,2.1,211,0,88,92,5.7,3.3,1.7,2.2000000000000002,0.5,23.8,30]
[3776,"Luzernecobs, Beg. Blüte",880,6.59,154,7.4,2.1,3.8,6.2,2.2999999999999998,224,0,35,106,13.2,2.6,1.3,1.7,0.4,19.399999999999999,26]
[3774,"Luzernecobs, v. d. Knospe",880,8.57,185,8.9,2.5,4.5,7.4,2.7,163,0,44,119,15.8,3.3,1.7,2.2000000000000002,0.4,23.8,27]
[3125,"Gerstenstroh",860,1.9,39,0.8,0.2,0.4,1.5,0.2,374,0,6,52,4.3,0.7,0.1,0.4,1.7,14.6,14]
[3145,"Haferstroh",860,1.86,31,0.6,0.2,0.3,1.2,0.2,378,0,12,56,3.4,1.2,0.1,0.8,1.7,18.100000000000001,13]
[3165,"Roggenstroh",860,1.7,32,0.6,0.2,0.3,1.3,0.2,404,0,7,50,2.6,0.9,0.1,0.6,1.3,8.6,11]
[3185,"Weizenstroh",860,1.88,34,0.7,0.2,0.3,1.4,0.2,370,0,7,65,2.6,0.7,0.1,0.4,1.3,9.5,11]
[3777]
[3778]
[null,"4. Typische Eiweißfutter"]
[4305,"Ackerbohnen",880,12.48,260,16.2,1.8,4.9000000000000004,8.9,2.2000000000000002,79,362,35,35,1.4,4.3,1.5,2.8,0.2,10.9,14]
[6015,"Bierhefe, trocken",880,12.57,459,30.4,6.9,11.3,21.6,5.2,22,0,17,71,1.8,10,5,6.5,0.3,12.9,20]
[7015,"Bierhefe, frisch",100,1.43,53,3.5,0.8,1.3,2.5,0.6,2,0,1,8,0.2,1.1000000000000001,0.6,0.7,0,1.5,3]
[4345,"Erbsen",880,13.46,207,14.5,1.9,4.7,7.8,1.9,57,420,54,31,0.8,4.2,1.9,2.7,0.2,9.6999999999999993,13]
[6456,"Erdnussextr.schrot, 5 % XF",880,13.59,500,16.100000000000001,5.3,11.6,12.8,4.9000000000000004,50,84,103,57,1.4,5.9,1.8,3.8,0.4,11.4,12]
[6455,"Erdnussextr.schrot, 10 % XF",880,12.82,466,15,4.9000000000000004,10.8,12,4.5999999999999996,101,67,91,57,2.2000000000000002,5.0999999999999996,1.5,3.3,0.3,12.3,14]
[4845,"Fischmehl, 60-65 % XP",880,13.04,594,41.5,15.3,20.2,23.4,5.9,9,0,0,190,41.8,24.8,21.1,21.1,8.6,7,60]
[4846,"Fischmehl, 65-70 % XP",880,13.46,634,45.8,16.8,22.1,25.5,6.5,7,0,0,156,37.6,23.9,20.3,20.3,7.5,6.6,50]
[6625,"Kartoffeleiweiß",880,15.73,739,57.4,16.3,26.6,42.8,10.4,7,8,5,28,0.6,4.5999999999999996,3.2,3.2,0.1,6.5,17]
[6465,"Kokosextraktionsschrot",880,10.36,209,5.0999999999999996,2.7,5.5,6,1.6,142,0,105,66,1.5,5.6,1.7,3.7,0.9,20.2,25]
[6405,"Leinextraktionsschrot",880,10.88,339,13.8,6,11.7,12.4,5.2,91,0,40,58,4,8.4,0.8,5.4,1,10.6,24]
[6406,"Leinkuchen, -Expeller",880,11.2,328,13.4,5.8,11.3,12,5,94,0,38,56,3.7,7.2,0.7,4.7,0.9,10.6,55]
[6235,"Maiskleber",880,16.260000000000002,623,10.3,14.8,25.5,20.7,3.4,11,128,5,18,0.8,3.6,0.9,2.2999999999999998,0.4,0.9,46]
[7205,"Maisschlempe, flüssig",70,1.03,20,0.6,0.4,0.8,0.8,0.2,6,6,2,4,0.2,0.6,0.2,0.4,0.1,0.6,8]
[6475,"Palmkernextraktionsschrot",880,8.68,165,4.5,3,4.9000000000000004,4.9000000000000004,1.2,175,0,30,38,2.6,6.3,1.9,4.0999999999999996,0.1,7,18]
[6425,"Rapsextraktionsschrot",880,9.93,340,17.5,6.6,14.6,14.4,4.5999999999999996,117,0,70,69,7.6,10.5,3.1,6.8,0.4,12.5,30]
[6426,"Rapskuchen, 8 % XL",880,12.3,326,18,6.4,14,14.4,4.4000000000000004,119,0,66,64,7.3,10.5,3.1,6.8,0.4,12.9,77]
[6427,"Rapskuchen, 15 % XL",880,13.09,299,16.5,5.8,12.8,13.2,4,108,0,60,58,6.6,10.199999999999999,3.1,6.6,0.4,11.8,145]
[6445,"So-blu.extr.schrot 20 % XF",880,10,337,11.8,7.4,12.9,12.2,4.4000000000000004,195,0,70,62,3.5,9.4,3.3,6.1,0.4,11.4,22]
[6446,"So-blu.extr.schrot 11 % XF",880,10.95,402,14.1,8.8000000000000007,15.4,14.6,5.2,113,0,91,71,3.9,8.6999999999999993,3.1,5.7,0.1,11.4,15]
[4435,"Sojabohnen, getoastet",880,15.69,352,21.6,4.8,10,13.7,4.7,55,50,71,47,2.6,6.2,2.2000000000000002,4.0999999999999996,0.2,17.5,179]
[6434,"Sojaextr.schrot 42 % XP",880,12.5,420,25.7,5.7,11.7,16.399999999999999,5.7,80,60,93,61,3.2,6.5,2.2999999999999998,4.2,0.3,22,15]
[6435,"Sojaextr.schrot 44 % XP",880,13.1,440,26.9,5.9,12.3,17.2,5.9,60,62,95,59,2.7,6.2,2.2000000000000002,4,0.2,19.399999999999999,12]
[6436,"Sojaextr.schrot 48 % XP",880,14.12,480,29.4,6.5,13.4,18.8,6.5,35,62,100,59,2.8,6.7,2.2999999999999998,4.3,0.3,20.2,12]
[6439,"Sojakuchen, 8 % XL",880,13.8,396,23.6,5.5,11.4,15.6,5.5,57,44,61,57,2.6,6.2,2.2000000000000002,4,0.1,17.600000000000001,81]
[6447,"Sonnenblumenkuchen",880,12.93,219,7.9,4.9000000000000004,8.5,8.1,2.9,278,0,91,71,3.4,8.3000000000000007,2.9,5.4,0.1,11.4,150]
[4365,"Süßlupine",880,14.01,331,15.9,2.1,7,11.4,2.6,120,65,64,36,2.5,4.5,2.2000000000000002,2.9,0.5,8.4,77]
[7145,"Weizenschlempe, flüssig",60,0.74,22,0.5,0.3,0.7,0.7,0.2,6,10,2,4,0.2,0.6,0.2,0.4,0.2,0.8,4]
[7176]
[7177]
[7178]
[7179]
[7180]
[null,"5. Getreide- und Nebenprodukte"]
[4025,"Gerste, 2-zeilig",880,12.63,110,3.9,1.8,4.0999999999999996,3.6,1.4,44,530,22,22,0.6,3.5,1.6,2.2999999999999998,0.3,4.4000000000000004,22]
[4026,"Gerste, mehrzeilig",880,12.54,110,3.9,1.8,4.0999999999999996,3.6,1.4,46,528,23,22,0.6,3.5,1.6,2.2999999999999998,0.3,4.4000000000000004,20]
[4065,"Hafer",880,11.49,108,4.4000000000000004,1.7,4.8,3.6,1.5,99,393,14,26,1.1000000000000001,3.2,0.8,2.1,0.3,4.4000000000000004,46]
[4075,"Haferflocken",910,15.02,117,4.7,1.9,5.2,3.9,1.6,16,592,17,17,0.9,4,0.96699999999999997,2.6,0.3,3.8,50]
[6065,"Haferfuttermehl",880,13.79,134,5.4,2.2000000000000002,6,4.5,1.8,52,490,15,23,1,5,1,3.3,0.1,7,71]
[6075,"Haferschälkleie",880,5.5,66,2.6,0.9,2.2999999999999998,2.6,1.1000000000000001,223,145,10,52,1.2,1.5,0.4,1,0.4,8.8000000000000007,29]
[4205,"Körnermais",880,14.13,90,2.5,1.8,3.8,3.2,0.7,23,612,17,15,0.4,3.1,0.5,2,0.2,3.6,40]
[6215,"Maisfuttermehl",880,13.12,104,4.5,1.9,4.0999999999999996,4,1,52,355,40,26,0.7,4.4000000000000004,0.9,2.9,0.4,1.8,63]
[6225,"Maiskeimextraktionsschrot",880,10.89,116,5.3,2.1,4.4000000000000004,4.4000000000000004,1.3,71,384,49,38,0.4,6.6,1.3,4.3,0.8,7,15]
[6235,"Maiskleber",880,16.260000000000002,623,10.3,14.8,25.5,20.7,3.4,11,128,5,18,0.8,3.6,0.9,2.2999999999999998,0.4,0.9,46]
[6246,"Maiskleberfutter, 23-30 % XP",880,11.09,227,7,3.6,8.3000000000000007,8.1,1.1000000000000001,79,177,20,53,1.3,8.4,1.7,5.4,2.4,12.3,36]
[4285,"Milokorn, Hirse",880,12.87,114,2.6,1.9,3.9,3.6,1.2,46,519,8,30,0.8,2.8,0.8,1.8,0.6,2.7,30]
[4105,"Roggen",880,13.3,92,3.4,1.5,3.6,3,1,20,568,55,18,0.8,2.9,1.5,1.9,0.2,5.3,16]
[6125,"Roggengrießkleie",880,10.29,140,5.0999999999999996,2.2999999999999998,5.4,4.5999999999999996,1.5,58,220,77,40,1.5,9.9,3,6.5,0.7,12.3,33]
[6135,"Roggenkleie",880,9.4499999999999993,143,5.2,2.4,5.5,4.7,1.5,73,113,92,53,1.5,9.9,3,6.5,0.7,12.3,32]
[6136]
[4125,"Triticale",880,13.57,106,3.5,1.8,4.2,3.3,1.2,22,587,35,18,0.4,3.4,1.7,2.2000000000000002,0.3,4.9000000000000004,16]
[4145,"Weizen",880,13.71,121,3.4,1.9,4.5,3.4,1.5,26,594,28,17,0.6,3.3,2.2000000000000002,2.2000000000000002,0.2,4.4000000000000004,18]
[6137]
[4155,"Weizenflocken",880,13.52,121,3.4,1.9,4.5,3.4,1.5,20,596,20,15,0.6,3.3,1,2.2000000000000002,0.1,4.4000000000000004,16]
[6145,"Weizennachmehl",880,14.2,160,6.4,2.4,5.6,5.0999999999999996,2.4,20,480,53,30,0.8,6.5,2,4.2,0.1,7.94,40]
[6155,"Weizenfuttermehl",880,12.67,160,6.4,2.4,5.6,5.0999999999999996,2.4,40,370,55,35,1.1000000000000001,7.1,2.1,4.5999999999999996,0.3,11.4,40]
[6165,"Weizengrießkleie",880,10.57,160,6.4,2.2999999999999998,5.6,5.0999999999999996,2.5,80,215,59,49,1.2,9.1,2.7,5.9,0.5,10.6,40]
[6175,"Weizenkleie",880,8.69,160,6.4,2.2999999999999998,5.6,5.0999999999999996,2.5,100,131,56,57,1.6,11.4,3.4,7.4,0.5,10.6,38]
[6138]
[null,"6. Brauerei- u. Brennereiprodukte"]
[6015,"Bierhefe, trocken",880,12.57,459,30.4,6.9,11.3,21.6,5.2,22,0,17,71,1.8,10,5,6.5,0.3,12.9,20]
[7015,"Bierhefe, frisch",100,1.43,53,3.5,0.8,1.3,2.5,0.6,2,0,1,8,0.2,1.1000000000000001,0.6,0.7,0,1.5,3]
[6025,"Biertreber, trocken",880,8.59,233,8.3000000000000007,4.9000000000000004,9.5,8.4,3.3,149,34,9,42,3.2,5.3,1.8,3.4,0.4,0.7,75]
[7025,"Biertreber, frisch",240,2.31,61,2.2000000000000002,1.3,2.5,2.2000000000000002,0.9,43,12,3,11,0.9,1.4,0.5,0.9,0.1,0.2,20]
[7026,"Biertreber, siliert",247,2.37,62,2.2000000000000002,1.3,2.5,2.2000000000000002,0.9,40,4,1,11,0.9,1.5,0.5,1,0.1,0.2,21]
[6035,"Malzkeime",880,7.94,260,9.1,3.4,7.5,8.3000000000000007,2.6,127,48,120,61,2.2999999999999998,7.1,2.5,4.5999999999999996,0.5,18.5,10]
[6036]
[null,"7. Rüben und Nebenprodukte"]
[5505,"Zuckerrübe",230,3.02,18,0.8,0,0.7,0.3,0.1,20,0,149,18,0.5,0.3,0,0.2,0.2,1.8,1]
[5560]
[4505,"Zuckerrübenschnitzel",880,10.96,70,3.1,1.1000000000000001,1.9,3.1,0.8,75,0,584,66,6,0.9,0.1,0.6,2.2999999999999998,10.6,6]
[7515,"Naßschnitzel",127,1.35,14,0.8,0.2,0.4,0.6,0.2,32,0,4,10,1.2,0.1,0,0.1,0.5,0.9,3]
[7525,"Pressschnitzel, siliert",270,3.05,25,1.5,0.4,0.7,1.1000000000000001,0.3,54,0,9,18,3.3,0.3,0,0.2,0.2,1.4,1]
[6505,"Trockenschnitzel",880,10.23,74,2.8,1.2,2,3.3,0.8,138,0,76,63,8.1,1,0.1,0.6,0.9,7.7,7]
[6515,"Melasseschnitzel, 18% Zucker",880,10.96,7,3.3,1.3,2.2999999999999998,3.8,0.9,0,176,11,85,9.3000000000000007,0.7,0.1,0.4,1.5,12.7,128]
[7545,"Melasse (Zuckerrübe)",780,10.28,105,2.6,1.7,3.1,5.4,0.8,0,0,509,90,2,0.4,0,0.3,5.9,42.1,0]
[7560]
[null,"8. Kartoffeln und Nebenprodukte"]
[5605,"Kartoffel (roh) ",220,2.78,21,1.1000000000000001,0.4,0.7,0.9,0.3,6,156,7,14,0.1,0.6,0.3,0.4,0.1,4.8,1]
[5615,"Kartoffel, roh sil. 16 % Stärke",300,4.08,27,1.4,0.5,0.9,1.1000000000000001,0.4,8,218,8,20,0.1,0.8,0.4,0.5,0.2,6.6,1]
[5625,"Kartoffel, ged. 15 % Stärke",220,3.3,22,1.1000000000000001,0.3,0.6,0.8,0.2,6,147,1,15,0.2,0.6,0.3,0.4,0,4.8,1]
[5635,"Kartoffel, ged. sil. 16 % Stärke",220,3.33,24,1.2,0.4,0.8,0.9,0.3,8,166,1,16,0.2,0.4,0.2,0.3,0,4.8,1]
[7605,"Kartoffelschälabfälle, roh",110,1.36,12,0.6,0.2,0.4,0.4,0.1,5,33,3,7,0,0.3,0.1,0.2,0.1,2.4,0]
[7625,"Kartoffelschälabfälle, ged.",108,1.52,17,0.9,0.3,0.5,0.6,0.2,7,70,2,9,0.1,0.3,0.1,0.2,0,2.4,1]
[7645,"Kartoffelschlempe, frisch",60,0.72,18,1,0.2,0.5,0.8,0.1,4,1,1,8,0.2,0.4,0.2,0.3,0,3.3,1]
[7635,"Kartoffelpresspülpe, siliert",180,2.2599999999999998,9,0.5,0.1,0.3,0.3,0.1,37,70,1,6,0.1,0.5,0.2,0.3,0,4,1]
[6635,"Kartoffelpülpe, getrocknet",880,10.9,61,3.2,1,1.9,2.2999999999999998,0.7,166,372,2,32,0.2,2.2000000000000002,1.1000000000000001,1.4,0.1,19.399999999999999,5]
[7561]
[4615,"Kartoffelflocken",880,13.34,78,4.0999999999999996,1.4,2.2999999999999998,3.1,1.5,26,650,35,47,0.4,2.2999999999999998,1.1000000000000001,1.5,1,21.1,4]
[4625,"Kartoffelstärke",880,14.46,3,0.2,0.1,0.1,0.1,0,4,834,0,4,0.2,0.5,0.3,0.3,0.2,0.9,1]
[6625,"Kartoffeleiweiß",880,15.73,739,57.4,16.3,26.6,42.8,10.4,7,8,5,28,0.6,4.5999999999999996,3.2,3.2,0.1,6.5,17]
[4664,"Maniokmehl Typ 55",880,12.84,24,0.9,0.3,0.6,0.9,0.2,49,602,28,51,1.7,0.7,0.1,0.5,0.2,7.9,6]
[4665,"Maniokmehl, -schnitzel",880,13.42,23,0.9,0.3,0.6,0.8,0.2,28,665,26,33,1.4,1,0.1,0.6,0.4,7,5]
[4666]
[4667]
[null,"9. Molkereiprodukte"]
[7715,"Buttermilch",80,1.34,30,2.2999999999999998,0.7,1,1.3,0.4,0,0,37,6,0.9,0.7,0.6,0.6,0.3,1.4,5]
[7735,"Labmolke",50,0.71,7,0.5,0.1,0.2,0.4,0.1,0,0,36,4,0.4,0.4,0.3,0.3,0.3,1.3,1]
[7736,"Labmolke, eingedickt",120,1.7,16,1.2,0.2,0.6,1,0.3,0,0,87,9,1,1,0.8,0.8,0.8,3,2]
[7725,"Magermilch",86,1.34,31,2.2999999999999998,0.8,1,1.3,0.4,0,0,41,7,1.2,0.9,0.7,0.7,0.3,1,1]
[6725,"Magermilchpulver",880,13.75,321,23,7.7,10.3,13.9,4.4000000000000004,0,0,424,73,12.3,9.5,7.6,7.6,4.8,12.3,5]
[7765,"Milchzuckermelasse",300,3.4,68,4.8,1,2.2999999999999998,4.0999999999999996,1.1000000000000001,0,0,105,77,10.199999999999999,5.4,4.3,4.3,4.8,12,5]
[7766,"Milchzuckermelasse, proteinarm",225,2.59,24,1.2,0.1,0.4,1.4,0.1,0,3,101,51,11,7.1,5.7,5.7,4.7,11.3,3]
[6765,"Molke, entzuckert",880,10.37,211,14.6,2.9,6.9,11.4,3.2,0,0,332,210,34.200000000000003,13.6,10.8,10.8,16.600000000000001,42.2,11]
[6735,"Molkenpulver (Labmolke)",880,12.41,116,8.4,1.7,4,7.1,1.8,0,0,653,75,7.2,7.5,6,6,5.7,22,10]
[7755,"Permeatmolke",50,0.65,2,0.1,0,0,0.1,0,0,0,36,8,1.2,0.7,0.5,0.5,0.4,1.3,1]
[5715,"Sauermilcherz. (Jogurt, Quark)",160,3.18,64,5.0999999999999996,1.9,2.4,2.9,0.8,0,0,0,8,1.1000000000000001,1.2,1.1000000000000001,1.1000000000000001,0.4,1.4,29]
[7745,"Sauermolke",56,0.76,9,0.6,0.1,0.3,0.5,0.1,0,0,34,6,1.1000000000000001,0.9,0.7,0.7,0.4,1.4,1]
[7746,"Sauermolke, eingedickt",120,1.63,19,1.3,0.3,0.7,1.1000000000000001,0.3,0,0,72,13,2.4,1.9,1.5,1.5,0.8,3,1]
[5705,"Vollmilch, Kuh",135,3.11,35,2.7,1,1.4,1.7,0.5,0,0,47,7,1.2,1,0.9,0.9,0.4,1.5,44]
[5706]
[5707]
[null,"10. Weitere Nebenprodukte aus der Lebensmittelverarbeitung und Energiegewinnung"]
[5185,"Altbrot",650,10.85,80,2.1,1.2,2.8,2.4,0.9,9,417,39,18,0.6,1.6,0.5,1,2.7,3.3,20]
[6185,"Backabfälle",880,14.79,106,2.8,1.5,3.7,3.2,1.2,11,574,107,26,0.1,2.2999999999999998,0.7,1.5,10.9,8.8000000000000007,28]
[5655,"Kartoffel (fritiert)",500,10.38,38,2,0.6,1,1.3,0.4,11,250,2,26,0.3,1,0.5,0.6,1,8.3000000000000007,125]
[7145,"Weizenschlempe, flüssig",60,0.74,22,0.5,0.3,0.7,0.7,0.2,6,10,2,4,0.2,0.6,0.2,0.4,0.2,0.8,4]
[6144,"Weizenschlempe, trocken",880,10.46,336,7,5,11.4,10.3,3.4,66,26,13,49,3.1,9.5,2.9,6.2,2.7,11.8,54]
[7205,"Maisschlempe, flüssig",70,1.03,20,0.6,0.4,0.8,0.8,0.2,6,6,2,4,0.2,0.6,0.2,0.4,0.1,0.6,8]
[6204,"Maisschlempe, trocken",880,10.62,317,8.9,6.2,12,11.8,2.5,90,81,14,53,3.1,7.6,2.2999999999999998,4.9000000000000004,2.7,7,63]
[4535,"Futterzucker",880,13.92,1,0,0,0,0,0,0,0,875,1,0,0,0,0,0,0,0]
[null,"11. Typische Faserträger"]
[4674,"Fasermix, 20 % XF",880,8.58,88,3.5,1.3,2.2000000000000002,2.6,0.9,196,34,64,39,3.9,2.9,0.7,1.9,1,8.8000000000000007,24]
[4675,"Fasermix, 30 % XF",880,8.18,78,3.1,1.2,2,2.2999999999999998,0.8,293,29,59,34,4.9000000000000004,4.9000000000000004,1.2,3.2,1,8.8000000000000007,20]
[7685,"Obsttrester, Apfeltrester",220,2.3199999999999998,15,0.4,0.1,0.3,0.4,0.1,48,0,24,5,0.4,0.2,0.1,0.1,0.2,1.5,9]
[6432,"Sojaschalen",880,7.12,115,7.3,1.3,3.1,4.0999999999999996,1.4,336,32,22,43,5.3,1.3,0.4,0.8,0.2,12.6,22]
[6075,"Haferschälkleie",880,5.5,66,2.6,0.9,2.2999999999999998,2.6,1.1000000000000001,223,145,10,52,1.2,1.5,0.4,1,0.4,8.8000000000000007,29]
[6175,"Weizenkleie",880,8.69,160,6.4,2.2999999999999998,5.6,5.0999999999999996,2.5,100,131,56,57,1.6,11.4,3.4,7.4,0.5,10.6,38]
[6505,"Trockenschnitzel",880,10.23,74,2.8,1.2,2,3.3,0.8,138,0,76,63,8.1,1,0.1,0.6,0.9,7.7,7]
[3076,"Grascobs, 1. Schnitt i. Rispen.",880,7.29,141,6.3,2.2000000000000002,3.7,5.7,2.1,211,0,88,92,5.7,3.3,1.7,2.2000000000000002,0.5,23.8,30]
[4685,"Lignozellulose",880,2.29,13,0.5,0.2,0.3,0.4,0.1,665,0,38,4,0.9,0.2,0,0.1,0.5,10.5,2]
[4676]
[null,"12. Mineral- und Ergänzungsfutter"]
[8284,"Mineralfutter Ferkel, 4 AS (4%)",880,3.9,190,111,27.8,27.8,46.3,4.5999999999999996,0,0,0,694,162,23.1,20.8,20.8,37,0,0]
[8295,"Mineralfutter Anfangsm. (3,0%)",880,3.03,185,111,27.8,27.8,46.3,0,0,0,0,759,176,9.1999999999999993,8.3000000000000007,8.3000000000000007,37,0,0]
[8296,"Mineralfutter Endmast (2,5%)",880,2.27,162,111,27.8,27.8,23.2,0,0,0,0,796,153,0,0,0,37,0,0]
[8294,"Mineralf., Mast, Molke (2,5%)",880,1.51,144,92.6,27.8,27.8,23.2,0,0,0,0,788,157,0,0,0,18.600000000000001,0,0]
[8385,"Mineralf. Zuchtsau säug. (3,0%)",880,2.4700000000000002,130,83.4,23.2,23.2,23.2,0,0,0,0,757,195,27.8,25,25,55.6,0,0]
[8386,"Mineralf. Zuchtsau trag. (2,5%)",880,1.8,88,64.8,9.3000000000000007,9.3000000000000007,13.9,0,0,0,0,796,185,9.1999999999999993,8.3000000000000007,8.3000000000000007,55.6,0,0]
[4915,"Monokalziumphosphat",880,0,0,0,0,0,0,0,0,0,0,880,152,212,191,191,0,0,0]
[4905,"Dikalziumphosphat",880,0,0,0,0,0,0,0,0,0,0,880,211,163,114,114,0,0,0]
[4925,"Kohlensaurer Kalk",880,0,0,0,0,0,0,0,0,0,0,880,336,0.4,0.2,0.2,0,0,0]
[4945,"Viehsalz",880,0,0,0,0,0,0,0,0,0,0,880,0,0,0,0,321,0,0]
[4946,"Mineralf. Tragend Eigenm.",880,null,null,50,null,10,null,null,null,null,null,null,220,35,31,null,80]
[4947]
[null,"13. Aminosäuren"]
[6905,"L-Lysin-HCI",880,14.28,697,697,0,0,0,0,0,0,0,183,0,0,0,0,0,0,0]
[6925,"DL-Methionin",880,17.920000000000002,874,0,874,874,0,0,0,0,0,6,0,0,0,0,0,0,0]
[6935,"L-Threonin",880,17.86,871,0,0,0,871,0,0,0,0,9,0,0,0,0,0,0,0]
[6945,"Tryptophan",880,17.86,871,0,0,0,0,871,0,0,0,9,0,0,0,0,0,0,0]
[6947]
[6948]
[6949]
[6950]
[6951]
[6952]
[6953]
[6954]
[null,"14. Ölsaaten"]
[4435,"Sojabohnen getoastet",880,15.69,352,21.6,4.8,10,13.7,4.7,55,50,71,47,2.6,6.2,2.2000000000000002,4.0999999999999996,0.2,17.5,179]
[4405,"Leinsamen",880,15.32,199,8.1,3.5,6.9,7.2,7.2,58,0,30,40,2.2000000000000002,4.3,1.9,3.1,0.7,6.4,292]
[4425,"Rapssamen",880,16.170000000000002,179,10.7,3.5,7.8,7.9,2.4,65,0,36,35,4,6.2,2.7,4.5,0.2,7,352]
[4445,"Sonnenblumensamen",880,13.81,169,6.1,3.8,6.6,6.3,2.2000000000000002,215,0,0,30,2.5,3.3,1.2,2.2000000000000002,0.2,5.5,316]
[4406]
[null,"15. Öle"]
[5435,"Sojaöl",880,34.99,0,0,0,0,0,0,0,0,0,1,0,0,0,0,0,0,879]
[5425,"Rapsöl",880,34.28,0,0,0,0,0,0,0,0,0,1,0,0,0,0,0,0,879]
[5445,"Sonnenblumenöl",880,34.28,0,0,0,0,0,0,0,0,0,1,0,0,0,0,0,0,879]
[5405,"Leinöl",880,34.28,0,0,0,0,0,0,0,0,0,1,0,0,0,0,0,0,879]
[5406]
[5971]
[0,null,0,0,null,0,0,0,null,0,0,0,0,0,0,0,0,0,0,0,0,0]

{"sheet":"Ration","index":3,"n_rows":35,"n_cols":24,"rows_kept":35,"cut":false,"hidden":false,"merged":[[1,1,1,4],[3,1,3,4],[4,1,4,4],[5,1,5,4],[2,0,2,4],[0,0,0,23],[34,16,35,16],[6,1,6,4],[7,1,7,4],[8,1,8,4],[9,1,9,4],[10,1,10,4],[25,0,25,1],[11,1,11,4],[12,1,12,4],[24,0,24,1],[13,0,13,1],[34,17,35,17],[28,0,28,4],[32,17,33,17],[26,0,26,1],[27,0,27,1],[30,0,30,16383],[31,0,31,4],[32,0,32,4],[33,0,33,4],[32,16,33,16],[29,0,29,4],[34,5,35,5],[34,6,35,6],[34,7,35,7],[34,8,35,8],[34,0,35,4]]}
[]
[{"$f":"VLOOKUP(B2,Sollwerte!$A$5:$J$68,2,0)","v":0},"Bitte Richtwerte auswählen  >>",null,null,null,"ME","XP","Lys","Met","M+C","Thr","Trp","XF","St","Z","XA","Ca","P","vP","vPph","Na","K","XL","Kosten"]
["Trockenfuttermischung - Zusammenstellung",null,null,null,null,"MJ","g","g","g","g","g","g","g","g","g","g","g","g","g","g","g","g","g","€ / dt FM"]
[null,{"$f":"VLOOKUP(A4,'Gruber Tabelle'!$A$7:$V$231,2,0)","v":0},null,null,null,{"$f":"VLOOKUP(A4,'Gruber Tabelle'!$A$7:$V$231,4,0)","v":0},{"$f":"VLOOKUP(A4,'Gruber Tabelle'!$A$7:$V$231,5,0)","v":0},{"$f":"VLOOKUP(A4,'Gruber Tabelle'!$A$7:$V$231,6,0)","v":0},{"$f":"VLOOKUP(A4,'Gruber Tabelle'!$A$7:$V$231,7,0)","v":0},{"$f":"VLOOKUP(A4,'Gruber Tabelle'!$A$7:$V$231,8,0)","v":0},{"$f":"VLOOKUP(A4,'Gruber Tabelle'!$A$7:$V$231,9,0)","v":0},{"$f":"VLOOKUP(A4,'Gruber Tabelle'!$A$7:$V$231,10,0)","v":0},{"$f":"VLOOKUP(A4,'Gruber Tabelle'!$A$7:$V$231,11,0)","v":0},{"$f":"VLOOKUP(A4,'Gruber Tabelle'!$A$7:$V$231,12,0)","v":0},{"$f":"VLOOKUP(A4,'Gruber Tabelle'!$A$7:$V$231,13,0)","v":0},{"$f":"VLOOKUP(A4,'Gruber Tabelle'!$A$7:$V$231,14,0)","v":0},{"$f":"VLOOKUP(A4,'Gruber Tabelle'!$A$7:$V$231,15,0)","v":0},{"$f":"VLOOKUP(A4,'Gruber Tabelle'!$A$7:$V$231,16,0)","v":0},{"$f":"VLOOKUP(A4,'Gruber Tabelle'!$A$7:$V$231,17,0)","v":0},{"$f":"VLOOKUP(A4,'Gruber Tabelle'!$A$7:$V$231,18,0)","v":0},{"$f":"VLOOKUP(A4,'Gruber Tabelle'!$A$7:$V$231,19,0)","v":0},{"$f":"VLOOKUP(A4,'Gruber Tabelle'!$A$7:$V$231,20,0)","v":0},{"$f":"VLOOKUP(A4,'Gruber Tabelle'!$A$7:$V$231,21,0)","v":0},{"$f":"VLOOKUP(A4,'Gruber Tabelle'!$A$7:$V$231,22,0)","v":0}]
[null,{"$f":"VLOOKUP(A5,'Gruber Tabelle'!$A$7:$V$231,2,0)","v":0},null,null,null,{"$f":"VLOOKUP(A5,'Gruber Tabelle'!$A$7:$V$231,4,0)","v":0},{"$f":"VLOOKUP(A5,'Gruber Tabelle'!$A$7:$V$231,5,0)","v":0},{"$f":"VLOOKUP(A5,'Gruber Tabelle'!$A$7:$V$231,6,0)","v":0},{"$f":"VLOOKUP(A5,'Gruber Tabelle'!$A$7:$V$231,7,0)","v":0},{"$f":"VLOOKUP(A5,'Gruber Tabelle'!$A$7:$V$231,8,0)","v":0},{"$f":"VLOOKUP(A5,'Gruber Tabelle'!$A$7:$V$231,9,0)","v":0},{"$f":"VLOOKUP(A5,'Gruber Tabelle'!$A$7:$V$231,10,0)","v":0},{"$f":"VLOOKUP(A5,'Gruber Tabelle'!$A$7:$V$231,11,0)","v":0},{"$f":"VLOOKUP(A5,'Gruber Tabelle'!$A$7:$V$231,12,0)","v":0},{"$f":"VLOOKUP(A5,'Gruber Tabelle'!$A$7:$V$231,13,0)","v":0},{"$f":"VLOOKUP(A5,'Gruber Tabelle'!$A$7:$V$231,14,0)","v":0},{"$f":"VLOOKUP(A5,'Gruber Tabelle'!$A$7:$V$231,15,0)","v":0},{"$f":"VLOOKUP(A5,'Gruber Tabelle'!$A$7:$V$231,16,0)","v":0},{"$f":"VLOOKUP(A5,'Gruber Tabelle'!$A$7:$V$231,17,0)","v":0},{"$f":"VLOOKUP(A5,'Gruber Tabelle'!$A$7:$V$231,18,0)","v":0},{"$f":"VLOOKUP(A5,'Gruber Tabelle'!$A$7:$V$231,19,0)","v":0},{"$f":"VLOOKUP(A5,'Gruber Tabelle'!$A$7:$V$231,20,0)","v":0},{"$f":"VLOOKUP(A5,'Gruber Tabelle'!$A$7:$V$231,21,0)","v":0},{"$f":"VLOOKUP(A5,'Gruber Tabelle'!$A$7:$V$231,22,0)","v":0}]
[null,{"$f":"VLOOKUP(A6,'Gruber Tabelle'!$A$7:$V$231,2,0)","v":0},null,null,null,{"$f":"VLOOKUP(A6,'Gruber Tabelle'!$A$7:$V$231,4,0)","v":0},{"$f":"VLOOKUP(A6,'Gruber Tabelle'!$A$7:$V$231,5,0)","v":0},{"$f":"VLOOKUP(A6,'Gruber Tabelle'!$A$7:$V$231,6,0)","v":0},{"$f":"VLOOKUP(A6,'Gruber Tabelle'!$A$7:$V$231,7,0)","v":0},{"$f":"VLOOKUP(A6,'Gruber Tabelle'!$A$7:$V$231,8,0)","v":0},{"$f":"VLOOKUP(A6,'Gruber Tabelle'!$A$7:$V$231,9,0)","v":0},{"$f":"VLOOKUP(A6,'Gruber Tabelle'!$A$7:$V$231,10,0)","v":0},{"$f":"VLOOKUP(A6,'Gruber Tabelle'!$A$7:$V$231,11,0)","v":0},{"$f":"VLOOKUP(A6,'Gruber Tabelle'!$A$7:$V$231,12,0)","v":0},{"$f":"VLOOKUP(A6,'Gruber Tabelle'!$A$7:$V$231,13,0)","v":0},{"$f":"VLOOKUP(A6,'Gruber Tabelle'!$A$7:$V$231,14,0)","v":0},{"$f":"VLOOKUP(A6,'Gruber Tabelle'!$A$7:$V$231,15,0)","v":0},{"$f":"VLOOKUP(A6,'Gruber Tabelle'!$A$7:$V$231,16,0)","v":0},{"$f":"VLOOKUP(A6,'Gruber Tabelle'!$A$7:$V$231,17,0)","v":0},{"$f":"VLOOKUP(A6,'Gruber Tabelle'!$A$7:$V$231,18,0)","v":0},{"$f":"VLOOKUP(A6,'Gruber Tabelle'!$A$7:$V$231,19,0)","v":0},{"$f":"VLOOKUP(A6,'Gruber Tabelle'!$A$7:$V$231,20,0)","v":0},{"$f":"VLOOKUP(A6,'Gruber Tabelle'!$A$7:$V$231,21,0)","v":0},{"$f":"VLOOKUP(A6,'Gruber Tabelle'!$A$7:$V$231,22,0)","v":0}]
[null,{"$f":"VLOOKUP(A7,'Gruber Tabelle'!$A$7:$V$231,2,0)","v":0},null,null,null,{"$f":"VLOOKUP(A7,'Gruber Tabelle'!$A$7:$V$231,4,0)","v":0},{"$f":"VLOOKUP(A7,'Gruber Tabelle'!$A$7:$V$231,5,0)","v":0},{"$f":"VLOOKUP(A7,'Gruber Tabelle'!$A$7:$V$231,6,0)","v":0},{"$f":"VLOOKUP(A7,'Gruber Tabelle'!$A$7:$V$231,7,0)","v":0},{"$f":"VLOOKUP(A7,'Gruber Tabelle'!$A$7:$V$231,8,0)","v":0},{"$f":"VLOOKUP(A7,'Gruber Tabelle'!$A$7:$V$231,9,0)","v":0},{"$f":"VLOOKUP(A7,'Gruber Tabelle'!$A$7:$V$231,10,0)","v":0},{"$f":"VLOOKUP(A7,'Gruber Tabelle'!$A$7:$V$231,11,0)","v":0},{"$f":"VLOOKUP(A7,'Gruber Tabelle'!$A$7:$V$231,12,0)","v":0},{"$f":"VLOOKUP(A7,'Gruber Tabelle'!$A$7:$V$231,13,0)","v":0},{"$f":"VLOOKUP(A7,'Gruber Tabelle'!$A$7:$V$231,14,0)","v":0},{"$f":"VLOOKUP(A7,'Gruber Tabelle'!$A$7:$V$231,15,0)","v":0},{"$f":"VLOOKUP(A7,'Gruber Tabelle'!$A$7:$V$231,16,0)","v":0},{"$f":"VLOOKUP(A7,'Gruber Tabelle'!$A$7:$V$231,17,0)","v":0},{"$f":"VLOOKUP(A7,'Gruber Tabelle'!$A$7:$V$231,18,0)","v":0},{"$f":"VLOOKUP(A7,'Gruber Tabelle'!$A$7:$V$231,19,0)","v":0},{"$f":"VLOOKUP(A7,'Gruber Tabelle'!$A$7:$V$231,20,0)","v":0},{"$f":"VLOOKUP(A7,'Gruber Tabelle'!$A$7:$V$231,21,0)","v":0},{"$f":"VLOOKUP(A7,'Gruber Tabelle'!$A$7:$V$231,22,0)","v":0}]
[null,{"$f":"VLOOKUP(A8,'Gruber Tabelle'!$A$7:$V$231,2,0)","v":0},null,null,null,{"$f":"VLOOKUP(A8,'Gruber Tabelle'!$A$7:$V$231,4,0)","v":0},{"$f":"VLOOKUP(A8,'Gruber Tabelle'!$A$7:$V$231,5,0)","v":0},{"$f":"VLOOKUP(A8,'Gruber Tabelle'!$A$7:$V$231,6,0)","v":0},{"$f":"VLOOKUP(A8,'Gruber Tabelle'!$A$7:$V$231,7,0)","v":0},{"$f":"VLOOKUP(A8,'Gruber Tabelle'!$A$7:$V$231,8,0)","v":0},{"$f":"VLOOKUP(A8,'Gruber Tabelle'!$A$7:$V$231,9,0)","v":0},{"$f":"VLOOKUP(A8,'Gruber Tabelle'!$A$7:$V$231,10,0)","v":0},{"$f":"VLOOKUP(A8,'Gruber Tabelle'!$A$7:$V$231,11,0)","v":0},{"$f":"VLOOKUP(A8,'Gruber Tabelle'!$A$7:$V$231,12,0)","v":0},{"$f":"VLOOKUP(A8,'Gruber Tabelle'!$A$7:$V$231,13,0)","v":0},{"$f":"VLOOKUP(A8,'Gruber Tabelle'!$A$7:$V$231,14,0)","v":0},{"$f":"VLOOKUP(A8,'Gruber Tabelle'!$A$7:$V$231,15,0)","v":0},{"$f":"VLOOKUP(A8,'Gruber Tabelle'!$A$7:$V$231,16,0)","v":0},{"$f":"VLOOKUP(A8,'Gruber Tabelle'!$A$7:$V$231,17,0)","v":0},{"$f":"VLOOKUP(A8,'Gruber Tabelle'!$A$7:$V$231,18,0)","v":0},{"$f":"VLOOKUP(A8,'Gruber Tabelle'!$A$7:$V$231,19,0)","v":0},{"$f":"VLOOKUP(A8,'Gruber Tabelle'!$A$7:$V$231,20,0)","v":0},{"$f":"VLOOKUP(A8,'Gruber Tabelle'!$A$7:$V$231,21,0)","v":0},{"$f":"VLOOKUP(A8,'Gruber Tabelle'!$A$7:$V$231,22,0)","v":0}]
[null,{"$f":"VLOOKUP(A9,'Gruber Tabelle'!$A$7:$V$231,2,0)","v":0},null,null,null,{"$f":"VLOOKUP(A9,'Gruber Tabelle'!$A$7:$V$231,4,0)","v":0},{"$f":"VLOOKUP(A9,'Gruber Tabelle'!$A$7:$V$231,5,0)","v":0},{"$f":"VLOOKUP(A9,'Gruber Tabelle'!$A$7:$V$231,6,0)","v":0},{"$f":"VLOOKUP(A9,'Gruber Tabelle'!$A$7:$V$231,7,0)","v":0},{"$f":"VLOOKUP(A9,'Gruber Tabelle'!$A$7:$V$231,8,0)","v":0},{"$f":"VLOOKUP(A9,'Gruber Tabelle'!$A$7:$V$231,9,0)","v":0},{"$f":"VLOOKUP(A9,'Gruber Tabelle'!$A$7:$V$231,10,0)","v":0},{"$f":"VLOOKUP(A9,'Gruber Tabelle'!$A$7:$V$231,11,0)","v":0},{"$f":"VLOOKUP(A9,'Gruber Tabelle'!$A$7:$V$231,12,0)","v":0},{"$f":"VLOOKUP(A9,'Gruber Tabelle'!$A$7:$V$231,13,0)","v":0},{"$f":"VLOOKUP(A9,'Gruber Tabelle'!$A$7:$V$231,14,0)","v":0},{"$f":"VLOOKUP(A9,'Gruber Tabelle'!$A$7:$V$231,15,0)","v":0},{"$f":"VLOOKUP(A9,'Gruber Tabelle'!$A$7:$V$231,16,0)","v":0},{"$f":"VLOOKUP(A9,'Gruber Tabelle'!$A$7:$V$231,17,0)","v":0},{"$f":"VLOOKUP(A9,'Gruber Tabelle'!$A$7:$V$231,18,0)","v":0},{"$f":"VLOOKUP(A9,'Gruber Tabelle'!$A$7:$V$231,19,0)","v":0},{"$f":"VLOOKUP(A9,'Gruber Tabelle'!$A$7:$V$231,20,0)","v":0},{"$f":"VLOOKUP(A9,'Gruber Tabelle'!$A$7:$V$231,21,0)","v":0},{"$f":"VLOOKUP(A9,'Gruber Tabelle'!$A$7:$V$231,22,0)","v":0}]
[null,{"$f":"VLOOKUP(A10,'Gruber Tabelle'!$A$7:$V$231,2,0)","v":0},null,null,null,{"$f":"VLOOKUP(A10,'Gruber Tabelle'!$A$7:$V$231,4,0)","v":0},{"$f":"VLOOKUP(A10,'Gruber Tabelle'!$A$7:$V$231,5,0)","v":0},{"$f":"VLOOKUP(A10,'Gruber Tabelle'!$A$7:$V$231,6,0)","v":0},{"$f":"VLOOKUP(A10,'Gruber Tabelle'!$A$7:$V$231,7,0)","v":0},{"$f":"VLOOKUP(A10,'Gruber Tabelle'!$A$7:$V$231,8,0)","v":0},{"$f":"VLOOKUP(A10,'Gruber Tabelle'!$A$7:$V$231,9,0)","v":0},{"$f":"VLOOKUP(A10,'Gruber Tabelle'!$A$7:$V$231,10,0)","v":0},{"$f":"VLOOKUP(A10,'Gruber Tabelle'!$A$7:$V$231,11,0)","v":0},{"$f":"VLOOKUP(A10,'Gruber Tabelle'!$A$7:$V$231,12,0)","v":0},{"$f":"VLOOKUP(A10,'Gruber Tabelle'!$A$7:$V$231,13,0)","v":0},{"$f":"VLOOKUP(A10,'Gruber Tabelle'!$A$7:$V$231,14,0)","v":0},{"$f":"VLOOKUP(A10,'Gruber Tabelle'!$A$7:$V$231,15,0)","v":0},{"$f":"VLOOKUP(A10,'Gruber Tabelle'!$A$7:$V$231,16,0)","v":0},{"$f":"VLOOKUP(A10,'Gruber Tabelle'!$A$7:$V$231,17,0)","v":0},{"$f":"VLOOKUP(A10,'Gruber Tabelle'!$A$7:$V$231,18,0)","v":0},{"$f":"VLOOKUP(A10,'Gruber Tabelle'!$A$7:$V$231,19,0)","v":0},{"$f":"VLOOKUP(A10,'Gruber Tabelle'!$A$7:$V$231,20,0)","v":0},{"$f":"VLOOKUP(A10,'Gruber Tabelle'!$A$7:$V$231,21,0)","v":0},{"$f":"VLOOKUP(A10,'Gruber Tabelle'!$A$7:$V$231,22,0)","v":0}]
[null,{"$f":"VLOOKUP(A11,'Gruber Tabelle'!$A$7:$V$231,2,0)","v":0},null,null,null,{"$f":"VLOOKUP(A11,'Gruber Tabelle'!$A$7:$V$231,4,0)","v":0},{"$f":"VLOOKUP(A11,'Gruber Tabelle'!$A$7:$V$231,5,0)","v":0},{"$f":"VLOOKUP(A11,'Gruber Tabelle'!$A$7:$V$231,6,0)","v":0},{"$f":"VLOOKUP(A11,'Gruber Tabelle'!$A$7:$V$231,7,0)","v":0},{"$f":"VLOOKUP(A11,'Gruber Tabelle'!$A$7:$V$231,8,0)","v":0},{"$f":"VLOOKUP(A11,'Gruber Tabelle'!$A$7:$V$231,9,0)","v":0},{"$f":"VLOOKUP(A11,'Gruber Tabelle'!$A$7:$V$231,10,0)","v":0},{"$f":"VLOOKUP(A11,'Gruber Tabelle'!$A$7:$V$231,11,0)","v":0},{"$f":"VLOOKUP(A11,'Gruber Tabelle'!$A$7:$V$231,12,0)","v":0},{"$f":"VLOOKUP(A11,'Gruber Tabelle'!$A$7:$V$231,13,0)","v":0},{"$f":"VLOOKUP(A11,'Gruber Tabelle'!$A$7:$V$231,14,0)","v":0},{"$f":"VLOOKUP(A11,'Gruber Tabelle'!$A$7:$V$231,15,0)","v":0},{"$f":"VLOOKUP(A11,'Gruber Tabelle'!$A$7:$V$231,16,0)","v":0},{"$f":"VLOOKUP(A11,'Gruber Tabelle'!$A$7:$V$231,17,0)","v":0},{"$f":"VLOOKUP(A11,'Gruber Tabelle'!$A$7:$V$231,18,0)","v":0},{"$f":"VLOOKUP(A11,'Gruber Tabelle'!$A$7:$V$231,19,0)","v":0},{"$f":"VLOOKUP(A11,'Gruber Tabelle'!$A$7:$V$231,20,0)","v":0},{"$f":"VLOOKUP(A11,'Gruber Tabelle'!$A$7:$V$231,21,0)","v":0},{"$f":"VLOOKUP(A11,'Gruber Tabelle'!$A$7:$V$231,22,0)","v":0}]
[null,{"$f":"VLOOKUP(A12,'Gruber Tabelle'!$A$7:$V$231,2,0)","v":0},null,null,null,{"$f":"VLOOKUP(A12,'Gruber Tabelle'!$A$7:$V$231,4,0)","v":0},{"$f":"VLOOKUP(A12,'Gruber Tabelle'!$A$7:$V$231,5,0)","v":0},{"$f":"VLOOKUP(A12,'Gruber Tabelle'!$A$7:$V$231,6,0)","v":0},{"$f":"VLOOKUP(A12,'Gruber Tabelle'!$A$7:$V$231,7,0)","v":0},{"$f":"VLOOKUP(A12,'Gruber Tabelle'!$A$7:$V$231,8,0)","v":0},{"$f":"VLOOKUP(A12,'Gruber Tabelle'!$A$7:$V$231,9,0)","v":0},{"$f":"VLOOKUP(A12,'Gruber Tabelle'!$A$7:$V$231,10,0)","v":0},{"$f":"VLOOKUP(A12,'Gruber Tabelle'!$A$7:$V$231,11,0)","v":0},{"$f":"VLOOKUP(A12,'Gruber Tabelle'!$A$7:$V$231,12,0)","v":0},{"$f":"VLOOKUP(A12,'Gruber Tabelle'!$A$7:$V$231,13,0)","v":0},{"$f":"VLOOKUP(A12,'Gruber Tabelle'!$A$7:$V$231,14,0)","v":0},{"$f":"VLOOKUP(A12,'Gruber Tabelle'!$A$7:$V$231,15,0)","v":0},{"$f":"VLOOKUP(A12,'Gruber Tabelle'!$A$7:$V$231,16,0)","v":0},{"$f":"VLOOKUP(A12,'Gruber Tabelle'!$A$7:$V$231,17,0)","v":0},{"$f":"VLOOKUP(A12,'Gruber Tabelle'!$A$7:$V$231,18,0)","v":0},{"$f":"VLOOKUP(A12,'Gruber Tabelle'!$A$7:$V$231,19,0)","v":0},{"$f":"VLOOKUP(A12,'Gruber Tabelle'!$A$7:$V$231,20,0)","v":0},{"$f":"VLOOKUP(A12,'Gruber Tabelle'!$A$7:$V$231,21,0)","v":0},{"$f":"VLOOKUP(A12,'Gruber Tabelle'!$A$7:$V$231,22,0)","v":0}]
[null,{"$f":"VLOOKUP(A13,'Gruber Tabelle'!$A$7:$V$231,2,0)","v":0},null,null,null,{"$f":"VLOOKUP(A13,'Gruber Tabelle'!$A$7:$V$231,4,0)","v":0},{"$f":"VLOOKUP(A13,'Gruber Tabelle'!$A$7:$V$231,5,0)","v":0},{"$f":"VLOOKUP(A13,'Gruber Tabelle'!$A$7:$V$231,6,0)","v":0},{"$f":"VLOOKUP(A13,'Gruber Tabelle'!$A$7:$V$231,7,0)","v":0},{"$f":"VLOOKUP(A13,'Gruber Tabelle'!$A$7:$V$231,8,0)","v":0},{"$f":"VLOOKUP(A13,'Gruber Tabelle'!$A$7:$V$231,9,0)","v":0},{"$f":"VLOOKUP(A13,'Gruber Tabelle'!$A$7:$V$231,10,0)","v":0},{"$f":"VLOOKUP(A13,'Gruber Tabelle'!$A$7:$V$231,11,0)","v":0},{"$f":"VLOOKUP(A13,'Gruber Tabelle'!$A$7:$V$231,12,0)","v":0},{"$f":"VLOOKUP(A13,'Gruber Tabelle'!$A$7:$V$231,13,0)","v":0},{"$f":"VLOOKUP(A13,'Gruber Tabelle'!$A$7:$V$231,14,0)","v":0},{"$f":"VLOOKUP(A13,'Gruber Tabelle'!$A$7:$V$231,15,0)","v":0},{"$f":"VLOOKUP(A13,'Gruber Tabelle'!$A$7:$V$231,16,0)","v":0},{"$f":"VLOOKUP(A13,'Gruber Tabelle'!$A$7:$V$231,17,0)","v":0},{"$f":"VLOOKUP(A13,'Gruber Tabelle'!$A$7:$V$231,18,0)","v":0},{"$f":"VLOOKUP(A13,'Gruber Tabelle'!$A$7:$V$231,19,0)","v":0},{"$f":"VLOOKUP(A13,'Gruber Tabelle'!$A$7:$V$231,20,0)","v":0},{"$f":"VLOOKUP(A13,'Gruber Tabelle'!$A$7:$V$231,21,0)","v":0},{"$f":"VLOOKUP(A13,'Gruber Tabelle'!$A$7:$V$231,22,0)","v":0}]
["Ration - Berechnung",null,"Ant. %","FM g","TM g","ME","XP","Lys","Met","M+C","Thr","Trp","XF","St","Z","XA","Ca","P","vP","vPph","Na","K","XL","Kosten"]
[{"$f":"A4","v":0},0,null,{"$f":"IF(C15>0,1000*C15,0)","v":0},{"$f":"VLOOKUP(A4,'Gruber Tabelle'!$A$7:$V$231,3,0)*C15","v":0},{"$f":"IF(C15>0,C15*F4,0)","v":0},{"$f":"IF(C15>0,G4*C15,0)","v":0},{"$f":"IF(C15>0,H4*C15,0)","v":0},{"$f":"IF(C15>0,I4*C15,0)","v":0},{"$f":"IF(C15>0,J4*C15,0)","v":0},{"$f":"IF(C15>0,K4*C15,0)","v":0},{"$f":"IF(C15>0,L4*C15,0)","v":0},{"$f":"IF(C15>0,M4*C15,0)","v":0},{"$f":"IF(C15>0,N4*C15,0)","v":0},{"$f":"IF(C15>0,O4*C15,0)","v":0},{"$f":"IF(C15>0,P4*C15,0)","v":0},{"$f":"IF(C15>0,Q4*C15,0)","v":0},{"$f":"IF(C15>0,R4*C15,0)","v":0},{"$f":"IF(C15>0,S4*C15,0)","v":0},{"$f":"IF(C15>0,T4*C15,0)","v":0},{"$f":"IF(C15>0,U4*C15,0)","v":0},{"$f":"IF(C15>0,V4*C15,0)","v":0},{"$f":"IF(C15>0,W4*C15,0)","v":0},{"$f":"IF(C15>0,X4*D15/100000,0)","v":0}]
[0,0,null,{"$f":"IF(C16>0,1000*C16,0)","v":0},{"$f":"VLOOKUP(A5,'Gruber Tabelle'!$A$7:$V$231,3,0)*C16","v":0},0,0,0,0,0,0,0,0,0,0,0,0,0,0,0,0,0,0,{"$f":"IF(C16>0,X5*D16/100000,0)","v":0}]
[0,0,null,0,{"$f":"VLOOKUP(A6,'Gruber Tabelle'!$A$7:$V$231,3,0)*C17","v":0},0,0,0,0,0,0,0,0,0,0,0,0,0,0,0,0,0,0,0]
[0,0,null,0,{"$f":"VLOOKUP(A7,'Gruber Tabelle'!$A$7:$V$231,3,0)*C18","v":0},0,0,0,0,0,0,0,0,0,0,0,0,0,0,0,0,0,0,0]
[0,0,null,0,{"$f":"VLOOKUP(A8,'Gruber Tabelle'!$A$7:$V$231,3,0)*C19","v":0},0,0,0,0,0,0,0,0,0,0,0,0,0,0,0,0,0,0,0]
[0,0,null,0,{"$f":"VLOOKUP(A9,'Gruber Tabelle'!$A$7:$V$231,3,0)*C20","v":0},0,0,0,0,0,0,0,0,0,0,0,0,0,0,0,0,0,0,0]
[0,0,null,0,{"$f":"VLOOKUP(A10,'Gruber Tabelle'!$A$7:$V$231,3,0)*C21","v":0},0,0,0,0,0,0,0,0,0,0,0,0,0,0,0,0,0,0,0]
[0,0,null,0,{"$f":"VLOOKUP(A11,'Gruber Tabelle'!$A$7:$V$231,3,0)*C22","v":0},0,0,0,0,0,0,0,0,0,0,0,0,0,0,0,0,0,0,0]
[0,0,null,0,{"$f":"VLOOKUP(A12,'Gruber Tabelle'!$A$7:$V$231,3,0)*C23","v":0},0,0,0,0,0,0,0,0,0,0,0,0,0,0,0,0,0,0,0]
[0,0,null,0,{"$f":"VLOOKUP(A13,'Gruber Tabelle'!$A$7:$V$231,3,0)*C24","v":0},0,0,0,0,0,0,0,0,0,0,0,0,0,0,0,0,0,0,0]
["Summen:",null,{"$f":"SUM(C15:C24)","v":0},{"$f":"SUM(D15:D24)","v":0},{"$f":"SUM(E15:E24)","v":0},{"$f":"SUM(F15:F24)","v":0},0,0,0,0,0,0,0,0,0,0,0,0,0,0,0,0,0,0]
["% Ant. Basis-Ration an Gesamtmischung",null,null,{"$f":"IF(C26>0,D25*C26,0)","v":0},{"$f":"IF(C26>0,E25*C26,0)","v":0},{"$f":"IF(C26>0,F25*C26,0)","v":0},{"$f":"IF(C26>0,G25*C26,0)","v":0},{"$f":"IF(C26>0,H25*C26,0)","v":0},{"$f":"IF(C26>0,I25*C26,0)","v":0},{"$f":"IF(C26>0,J25*C26,0)","v":0},{"$f":"IF(C26>0,K25*C26,0)","v":0},{"$f":"IF(C26>0,L25*C26,0)","v":0},{"$f":"IF(C26>0,M25*C26,0)","v":0},{"$f":"IF(C26>0,N25*C26,0)","v":0},{"$f":"IF(C26>0,O25*C26,0)","v":0},{"$f":"IF(C26>0,P25*C26,0)","v":0},{"$f":"IF(C26>0,Q25*C26,0)","v":0},{"$f":"IF(C26>0,R25*C26,0)","v":0},{"$f":"IF(C26>0,S25*C26,0)","v":0},{"$f":"IF(C26>0,T25*C26,0)","v":0},{"$f":"IF(C26>0,U25*C26,0)","v":0},{"$f":"IF(C26>0,V25*C26,0)","v":0},{"$f":"IF(C26>0,W25*C26,0)","v":0},{"$f":"IF(C26>0,X25*C26,0)","v":0}]
["% Ant. Mischung 1 an der Gesamtm.",null,null,{"$f":"IF(C27>0,D25*C27,0)","v":0},{"$f":"IF(C27>0,'Mischung 1'!E25*C27,0)","v":0},{"$f":"IF(C27>0,'Mischung 1'!F25*C27,0)","v":0},{"$f":"IF(C27>0,'Mischung 1'!G25*C27,0)","v":0},{"$f":"IF(C27>0,'Mischung 1'!H25*C27,0)","v":0},{"$f":"IF(C27>0,'Mischung 1'!I25*FA27,0)","v":0},{"$f":"IF(C27>0,'Mischung 1'!J25*C27,0)","v":0},{"$f":"IF(C27>0,'Mischung 1'!K25*C27,0)","v":0},{"$f":"IF(C27>0,'Mischung 1'!L25*C27,0)","v":0},{"$f":"IF(C27>0,'Mischung 1'!M25*C27,0)","v":0},{"$f":"IF(C27>0,'Mischung 1'!N25*C27,0)","v":0},{"$f":"IF(C27>0,'Mischung 1'!O25*C27,0)","v":0},{"$f":"IF(C27>0,'Mischung 1'!P25*C27,0)","v":0},{"$f":"IF(C27>0,'Mischung 1'!Q25*C27,0)","v":0},{"$f":"IF(C27>0,'Mischung 1'!R25*C27,0)","v":0},{"$f":"IF(C27>0,'Mischung 1'!S25*C27,0)","v":0},{"$f":"IF(C27>0,'Mischung 1'!T25*C27,0)","v":0},{"$f":"IF(C27>0,'Mischung 1'!U25*C27,0)","v":0},{"$f":"IF(C27>0,'Mischung 1'!V25*C27,0)","v":0},{"$f":"IF(C27>0,'Mischung 1'!W25*C27,0)","v":0},{"$f":"IF(C27>0,'Mischung 1'!X25*C27,0)","v":0}]
["Summe Ration + Mischung 1:",null,{"$f":"SUM(C26:C27)","v":0},{"$f":"D26+D27","v":0},{"$f":"E26+E27","v":0},0,0,0,0,0,0,0,0,0,0,0,0,0,0,0,0,0,0,0]
[{"$f":"B2","v":"Bitte Richtwerte auswählen  >>"},null,null,null,null,{"$f":"VLOOKUP(B2,Sollwerte!$A$5:$U$68,4,0)","v":0},{"$f":"VLOOKUP(B2,Sollwerte!$A$5:$U$68,5,0)","v":0},{"$f":"VLOOKUP(B2,Sollwerte!$A$5:$U$68,6,0)","v":0},{"$f":"VLOOKUP(B2,Sollwerte!$A$5:$U$68,7,0)","v":0},{"$f":"VLOOKUP(B2,Sollwerte!$A$5:$U$68,8,0)","v":0},{"$f":"VLOOKUP(B2,Sollwerte!$A$5:$U$68,9,0)","v":0},{"$f":"VLOOKUP(B2,Sollwerte!$A$5:$U$68,10,0)","v":0},{"$f":"VLOOKUP(B2,Sollwerte!$A$5:$U$68,11,0)","v":0},{"$f":"VLOOKUP(B2,Sollwerte!$A$5:$U$68,12,0)","v":0},{"$f":"VLOOKUP(B2,Sollwerte!$A$5:$U$68,13,0)","v":0},{"$f":"VLOOKUP(B2,Sollwerte!$A$5:$U$68,14,0)","v":0},{"$f":"VLOOKUP(B2,Sollwerte!$A$5:$U$68,15,0)","v":0},{"$f":"VLOOKUP(B2,Sollwerte!$A$5:$U$68,16,0)","v":0},{"$f":"VLOOKUP(B2,Sollwerte!$A$5:$U$68,17,0)","v":0},{"$f":"VLOOKUP(B2,Sollwerte!$A$5:$U$68,18,0)","v":0},{"$f":"VLOOKUP(B2,Sollwerte!$A$5:$U$68,19,0)","v":0},{"$f":"VLOOKUP(B2,Sollwerte!$A$5:$U$68,20,0)","v":0},{"$f":"VLOOKUP(B2,Sollwerte!$A$5:$U$68,21,0)","v":0}]
["Differenz zum Sollwert",null,null,null,null,{"$f":"IF(F29>0,F28-F29,0)","v":0},{"$f":"IF(G29>0,G28-G29,0)","v":0},0,0,0,0,0,0,0,0,0,0,0,0,0,0,0,0]
[]
["Sollwerte - Aminosäurenrelation",null,null,null,null,"Lys",":  M+C",":  Thr",":  Trp",null,null,null,null,null,null,null,"Ca",":     v P"]
[{"$f":"B2","v":"Bitte Richtwerte auswählen  >>"},null,null,null,null,{"$f":"VLOOKUP(B2,Sollwerte!$A$5:$AC$68,22,0)","v":0},{"$f":"VLOOKUP(B2,Sollwerte!$A$5:$AC$68,24,0)","v":0},{"$f":"VLOOKUP(B2,Sollwerte!$A$5:$AC$68,25,0)","v":0},{"$f":"VLOOKUP(B2,Sollwerte!$A$5:$AC$68,26,0)","v":0},null,null,null,null,null,null,null,{"$f":"VLOOKUP(B2,Sollwerte!$A$5:$AE$68,30,0)","v":0},{"$f":"VLOOKUP(B2,Sollwerte!$A$5:$AE$68,31,0)","v":0}]
["Summe Aminosäuren in g",null,null,null,null,{"$f":"H28","v":0},{"$f":"J28","v":0},{"$f":"K28","v":0},{"$f":"L28","v":0}]
["Relation  von    Lys : M+C : Thr : Trp",null,null,null,null,{"$f":"IF(H28>0,1,0)","v":0},{"$f":"IFERROR(J28/H28,0)","v":0},{"$f":"IFERROR(K28/H28,0)","v":0},{"$f":"IFERROR(L28/H28,0)","v":0},null,null,null,null,null,null,null,{"$f":"IF(S28>0,Q28/S28,0)","v":0},{"$f":"R33","v":0}]

{"sheet":"Mischung 1","index":4,"n_rows":25,"n_cols":24,"rows_kept":25,"cut":false,"hidden":false,"merged":[[12,1,12,4],[13,0,13,1],[2,0,2,4],[24,0,24,1],[0,0,0,23],[1,0,1,4],[3,1,3,4],[4,1,4,4],[5,1,5,4],[6,1,6,4],[7,1,7,4],[8,1,8,4],[9,1,9,4],[10,1,10,4],[11,1,11,4]]}
[]
["Kraftfutter – Mischung 1",null,null,null,null,"ME","XP","Lys","Met","M+C","Thr","Trp","XF","St","Z","XA","Ca","P","vP","vPph","Na","K","XL","Kosten"]
["Zusatzmischung zu Basis-Ration,  nur für Trockenfutter",null,null,null,null,"MJ","g","g","g","g","g","g","g","g","g","g","g","g","g","g","g","g","g","€ / dt FM"]
[null,{"$f":"VLOOKUP(A4,'Gruber Tabelle'!$A$7:$V$231,2,0)","v":0},null,null,null,{"$f":"VLOOKUP(A4,'Gruber Tabelle'!$A$7:$V$231,4,0)","v":0},{"$f":"VLOOKUP(A4,'Gruber Tabelle'!$A$7:$V$231,5,0)","v":0},{"$f":"VLOOKUP(A4,'Gruber Tabelle'!$A$7:$V$231,6,0)","v":0},{"$f":"VLOOKUP(A4,'Gruber Tabelle'!$A$7:$V$231,7,0)","v":0},{"$f":"VLOOKUP(A4,'Gruber Tabelle'!$A$7:$V$231,8,0)","v":0},{"$f":"VLOOKUP(A4,'Gruber Tabelle'!$A$7:$V$231,9,0)","v":0},{"$f":"VLOOKUP(A4,'Gruber Tabelle'!$A$7:$V$231,10,0)","v":0},{"$f":"VLOOKUP(A4,'Gruber Tabelle'!$A$7:$V$231,11,0)","v":0},{"$f":"VLOOKUP(A4,'Gruber Tabelle'!$A$7:$V$231,12,0)","v":0},{"$f":"VLOOKUP(A4,'Gruber Tabelle'!$A$7:$V$231,13,0)","v":0},{"$f":"VLOOKUP(A4,'Gruber Tabelle'!$A$7:$V$231,14,0)","v":0},{"$f":"VLOOKUP(A4,'Gruber Tabelle'!$A$7:$V$231,15,0)","v":0},{"$f":"VLOOKUP(A4,'Gruber Tabelle'!$A$7:$V$231,16,0)","v":0},{"$f":"VLOOKUP(A4,'Gruber Tabelle'!$A$7:$V$231,17,0)","v":0},{"$f":"VLOOKUP(A4,'Gruber Tabelle'!$A$7:$V$231,18,0)","v":0},{"$f":"VLOOKUP(A4,'Gruber Tabelle'!$A$7:$V$231,19,0)","v":0},{"$f":"VLOOKUP(A4,'Gruber Tabelle'!$A$7:$V$231,20,0)","v":0},{"$f":"VLOOKUP(A4,'Gruber Tabelle'!$A$7:$V$231,21,0)","v":0},{"$f":"VLOOKUP(A4,'Gruber Tabelle'!$A$7:$V$231,22,0)","v":0}]
[null,{"$f":"VLOOKUP(A5,'Gruber Tabelle'!$A$7:$V$231,2,0)","v":0},null,null,null,{"$f":"VLOOKUP(A5,'Gruber Tabelle'!$A$7:$V$231,4,0)","v":0},{"$f":"VLOOKUP(A5,'Gruber Tabelle'!$A$7:$V$231,5,0)","v":0},{"$f":"VLOOKUP(A5,'Gruber Tabelle'!$A$7:$V$231,6,0)","v":0},{"$f":"VLOOKUP(A5,'Gruber Tabelle'!$A$7:$V$231,7,0)","v":0},{"$f":"VLOOKUP(A5,'Gruber Tabelle'!$A$7:$V$231,8,0)","v":0},{"$f":"VLOOKUP(A5,'Gruber Tabelle'!$A$7:$V$231,9,0)","v":0},{"$f":"VLOOKUP(A5,'Gruber Tabelle'!$A$7:$V$231,10,0)","v":0},{"$f":"VLOOKUP(A5,'Gruber Tabelle'!$A$7:$V$231,11,0)","v":0},{"$f":"VLOOKUP(A5,'Gruber Tabelle'!$A$7:$V$231,12,0)","v":0},{"$f":"VLOOKUP(A5,'Gruber Tabelle'!$A$7:$V$231,13,0)","v":0},{"$f":"VLOOKUP(A5,'Gruber Tabelle'!$A$7:$V$231,14,0)","v":0},{"$f":"VLOOKUP(A5,'Gruber Tabelle'!$A$7:$V$231,15,0)","v":0},{"$f":"VLOOKUP(A5,'Gruber Tabelle'!$A$7:$V$231,16,0)","v":0},{"$f":"VLOOKUP(A5,'Gruber Tabelle'!$A$7:$V$231,17,0)","v":0},{"$f":"VLOOKUP(A5,'Gruber Tabelle'!$A$7:$V$231,18,0)","v":0},{"$f":"VLOOKUP(A5,'Gruber Tabelle'!$A$7:$V$231,19,0)","v":0},{"$f":"VLOOKUP(A5,'Gruber Tabelle'!$A$7:$V$231,20,0)","v":0},{"$f":"VLOOKUP(A5,'Gruber Tabelle'!$A$7:$V$231,21,0)","v":0},{"$f":"VLOOKUP(A5,'Gruber Tabelle'!$A$7:$V$231,22,0)","v":0}]
[null,{"$f":"VLOOKUP(A6,'Gruber Tabelle'!$A$7:$V$231,2,0)","v":0},null,null,null,{"$f":"VLOOKUP(A6,'Gruber Tabelle'!$A$7:$V$231,4,0)","v":0},{"$f":"VLOOKUP(A6,'Gruber Tabelle'!$A$7:$V$231,5,0)","v":0},{"$f":"VLOOKUP(A6,'Gruber Tabelle'!$A$7:$V$231,6,0)","v":0},{"$f":"VLOOKUP(A6,'Gruber Tabelle'!$A$7:$V$231,7,0)","v":0},{"$f":"VLOOKUP(A6,'Gruber Tabelle'!$A$7:$V$231,8,0)","v":0},{"$f":"VLOOKUP(A6,'Gruber Tabelle'!$A$7:$V$231,9,0)","v":0},{"$f":"VLOOKUP(A6,'Gruber Tabelle'!$A$7:$V$231,10,0)","v":0},{"$f":"VLOOKUP(A6,'Gruber Tabelle'!$A$7:$V$231,11,0)","v":0},{"$f":"VLOOKUP(A6,'Gruber Tabelle'!$A$7:$V$231,12,0)","v":0},{"$f":"VLOOKUP(A6,'Gruber Tabelle'!$A$7:$V$231,13,0)","v":0},{"$f":"VLOOKUP(A6,'Gruber Tabelle'!$A$7:$V$231,14,0)","v":0},{"$f":"VLOOKUP(A6,'Gruber Tabelle'!$A$7:$V$231,15,0)","v":0},{"$f":"VLOOKUP(A6,'Gruber Tabelle'!$A$7:$V$231,16,0)","v":0},{"$f":"VLOOKUP(A6,'Gruber Tabelle'!$A$7:$V$231,17,0)","v":0},{"$f":"VLOOKUP(A6,'Gruber Tabelle'!$A$7:$V$231,18,0)","v":0},{"$f":"VLOOKUP(A6,'Gruber Tabelle'!$A$7:$V$231,19,0)","v":0},{"$f":"VLOOKUP(A6,'Gruber Tabelle'!$A$7:$V$231,20,0)","v":0},{"$f":"VLOOKUP(A6,'Gruber Tabelle'!$A$7:$V$231,21,0)","v":0},{"$f":"VLOOKUP(A6,'Gruber Tabelle'!$A$7:$V$231,22,0)","v":0}]
[null,{"$f":"VLOOKUP(A7,'Gruber Tabelle'!$A$7:$V$231,2,0)","v":0},null,null,null,{"$f":"VLOOKUP(A7,'Gruber Tabelle'!$A$7:$V$231,4,0)","v":0},{"$f":"VLOOKUP(A7,'Gruber Tabelle'!$A$7:$V$231,5,0)","v":0},{"$f":"VLOOKUP(A7,'Gruber Tabelle'!$A$7:$V$231,6,0)","v":0},{"$f":"VLOOKUP(A7,'Gruber Tabelle'!$A$7:$V$231,7,0)","v":0},{"$f":"VLOOKUP(A7,'Gruber Tabelle'!$A$7:$V$231,8,0)","v":0},{"$f":"VLOOKUP(A7,'Gruber Tabelle'!$A$7:$V$231,9,0)","v":0},{"$f":"VLOOKUP(A7,'Gruber Tabelle'!$A$7:$V$231,10,0)","v":0},{"$f":"VLOOKUP(A7,'Gruber Tabelle'!$A$7:$V$231,11,0)","v":0},{"$f":"VLOOKUP(A7,'Gruber Tabelle'!$A$7:$V$231,12,0)","v":0},{"$f":"VLOOKUP(A7,'Gruber Tabelle'!$A$7:$V$231,13,0)","v":0},{"$f":"VLOOKUP(A7,'Gruber Tabelle'!$A$7:$V$231,14,0)","v":0},{"$f":"VLOOKUP(A7,'Gruber Tabelle'!$A$7:$V$231,15,0)","v":0},{"$f":"VLOOKUP(A7,'Gruber Tabelle'!$A$7:$V$231,16,0)","v":0},{"$f":"VLOOKUP(A7,'Gruber Tabelle'!$A$7:$V$231,17,0)","v":0},{"$f":"VLOOKUP(A7,'Gruber Tabelle'!$A$7:$V$231,18,0)","v":0},{"$f":"VLOOKUP(A7,'Gruber Tabelle'!$A$7:$V$231,19,0)","v":0},{"$f":"VLOOKUP(A7,'Gruber Tabelle'!$A$7:$V$231,20,0)","v":0},{"$f":"VLOOKUP(A7,'Gruber Tabelle'!$A$7:$V$231,21,0)","v":0},{"$f":"VLOOKUP(A7,'Gruber Tabelle'!$A$7:$V$231,22,0)","v":0}]
[null,{"$f":"VLOOKUP(A8,'Gruber Tabelle'!$A$7:$V$231,2,0)","v":0},null,null,null,{"$f":"VLOOKUP(A8,'Gruber Tabelle'!$A$7:$V$231,4,0)","v":0},{"$f":"VLOOKUP(A8,'Gruber Tabelle'!$A$7:$V$231,5,0)","v":0},{"$f":"VLOOKUP(A8,'Gruber Tabelle'!$A$7:$V$231,6,0)","v":0},{"$f":"VLOOKUP(A8,'Gruber Tabelle'!$A$7:$V$231,7,0)","v":0},{"$f":"VLOOKUP(A8,'Gruber Tabelle'!$A$7:$V$231,8,0)","v":0},{"$f":"VLOOKUP(A8,'Gruber Tabelle'!$A$7:$V$231,9,0)","v":0},{"$f":"VLOOKUP(A8,'Gruber Tabelle'!$A$7:$V$231,10,0)","v":0},{"$f":"VLOOKUP(A8,'Gruber Tabelle'!$A$7:$V$231,11,0)","v":0},{"$f":"VLOOKUP(A8,'Gruber Tabelle'!$A$7:$V$231,12,0)","v":0},{"$f":"VLOOKUP(A8,'Gruber Tabelle'!$A$7:$V$231,13,0)","v":0},{"$f":"VLOOKUP(A8,'Gruber Tabelle'!$A$7:$V$231,14,0)","v":0},{"$f":"VLOOKUP(A8,'Gruber Tabelle'!$A$7:$V$231,15,0)","v":0},{"$f":"VLOOKUP(A8,'Gruber Tabelle'!$A$7:$V$231,16,0)","v":0},{"$f":"VLOOKUP(A8,'Gruber Tabelle'!$A$7:$V$231,17,0)","v":0},{"$f":"VLOOKUP(A8,'Gruber Tabelle'!$A$7:$V$231,18,0)","v":0},{"$f":"VLOOKUP(A8,'Gruber Tabelle'!$A$7:$V$231,19,0)","v":0},{"$f":"VLOOKUP(A8,'Gruber Tabelle'!$A$7:$V$231,20,0)","v":0},{"$f":"VLOOKUP(A8,'Gruber Tabelle'!$A$7:$V$231,21,0)","v":0},{"$f":"VLOOKUP(A8,'Gruber Tabelle'!$A$7:$V$231,22,0)","v":0}]
[null,{"$f":"VLOOKUP(A9,'Gruber Tabelle'!$A$7:$V$231,2,0)","v":0},null,null,null,{"$f":"VLOOKUP(A9,'Gruber Tabelle'!$A$7:$V$231,4,0)","v":0},{"$f":"VLOOKUP(A9,'Gruber Tabelle'!$A$7:$V$231,5,0)","v":0},{"$f":"VLOOKUP(A9,'Gruber Tabelle'!$A$7:$V$231,6,0)","v":0},{"$f":"VLOOKUP(A9,'Gruber Tabelle'!$A$7:$V$231,7,0)","v":0},{"$f":"VLOOKUP(A9,'Gruber Tabelle'!$A$7:$V$231,8,0)","v":0},{"$f":"VLOOKUP(A9,'Gruber Tabelle'!$A$7:$V$231,9,0)","v":0},{"$f":"VLOOKUP(A9,'Gruber Tabelle'!$A$7:$V$231,10,0)","v":0},{"$f":"VLOOKUP(A9,'Gruber Tabelle'!$A$7:$V$231,11,0)","v":0},{"$f":"VLOOKUP(A9,'Gruber Tabelle'!$A$7:$V$231,12,0)","v":0},{"$f":"VLOOKUP(A9,'Gruber Tabelle'!$A$7:$V$231,13,0)","v":0},{"$f":"VLOOKUP(A9,'Gruber Tabelle'!$A$7:$V$231,14,0)","v":0},{"$f":"VLOOKUP(A9,'Gruber Tabelle'!$A$7:$V$231,15,0)","v":0},{"$f":"VLOOKUP(A9,'Gruber Tabelle'!$A$7:$V$231,16,0)","v":0},{"$f":"VLOOKUP(A9,'Gruber Tabelle'!$A$7:$V$231,17,0)","v":0},{"$f":"VLOOKUP(A9,'Gruber Tabelle'!$A$7:$V$231,18,0)","v":0},{"$f":"VLOOKUP(A9,'Gruber Tabelle'!$A$7:$V$231,19,0)","v":0},{"$f":"VLOOKUP(A9,'Gruber Tabelle'!$A$7:$V$231,20,0)","v":0},{"$f":"VLOOKUP(A9,'Gruber Tabelle'!$A$7:$V$231,21,0)","v":0},{"$f":"VLOOKUP(A9,'Gruber Tabelle'!$A$7:$V$231,22,0)","v":0}]
[null,{"$f":"VLOOKUP(A10,'Gruber Tabelle'!$A$7:$V$231,2,0)","v":0},null,null,null,{"$f":"VLOOKUP(A10,'Gruber Tabelle'!$A$7:$V$231,4,0)","v":0},{"$f":"VLOOKUP(A10,'Gruber Tabelle'!$A$7:$V$231,5,0)","v":0},{"$f":"VLOOKUP(A10,'Gruber Tabelle'!$A$7:$V$231,6,0)","v":0},{"$f":"VLOOKUP(A10,'Gruber Tabelle'!$A$7:$V$231,7,0)","v":0},{"$f":"VLOOKUP(A10,'Gruber Tabelle'!$A$7:$V$231,8,0)","v":0},{"$f":"VLOOKUP(A10,'Gruber Tabelle'!$A$7:$V$231,9,0)","v":0},{"$f":"VLOOKUP(A10,'Gruber Tabelle'!$A$7:$V$231,10,0)","v":0},{"$f":"VLOOKUP(A10,'Gruber Tabelle'!$A$7:$V$231,11,0)","v":0},{"$f":"VLOOKUP(A10,'Gruber Tabelle'!$A$7:$V$231,12,0)","v":0},{"$f":"VLOOKUP(A10,'Gruber Tabelle'!$A$7:$V$231,13,0)","v":0},{"$f":"VLOOKUP(A10,'Gruber Tabelle'!$A$7:$V$231,14,0)","v":0},{"$f":"VLOOKUP(A10,'Gruber Tabelle'!$A$7:$V$231,15,0)","v":0},{"$f":"VLOOKUP(A10,'Gruber Tabelle'!$A$7:$V$231,16,0)","v":0},{"$f":"VLOOKUP(A10,'Gruber Tabelle'!$A$7:$V$231,17,0)","v":0},{"$f":"VLOOKUP(A10,'Gruber Tabelle'!$A$7:$V$231,18,0)","v":0},{"$f":"VLOOKUP(A10,'Gruber Tabelle'!$A$7:$V$231,19,0)","v":0},{"$f":"VLOOKUP(A10,'Gruber Tabelle'!$A$7:$V$231,20,0)","v":0},{"$f":"VLOOKUP(A10,'Gruber Tabelle'!$A$7:$V$231,21,0)","v":0},{"$f":"VLOOKUP(A10,'Gruber Tabelle'!$A$7:$V$231,22,0)","v":0}]
[null,{"$f":"VLOOKUP(A11,'Gruber Tabelle'!$A$7:$V$231,2,0)","v":0},null,null,null,{"$f":"VLOOKUP(A11,'Gruber Tabelle'!$A$7:$V$231,4,0)","v":0},{"$f":"VLOOKUP(A11,'Gruber Tabelle'!$A$7:$V$231,5,0)","v":0},{"$f":"VLOOKUP(A11,'Gruber Tabelle'!$A$7:$V$231,6,0)","v":0},{"$f":"VLOOKUP(A11,'Gruber Tabelle'!$A$7:$V$231,7,0)","v":0},{"$f":"VLOOKUP(A11,'Gruber Tabelle'!$A$7:$V$231,8,0)","v":0},{"$f":"VLOOKUP(A11,'Gruber Tabelle'!$A$7:$V$231,9,0)","v":0},{"$f":"VLOOKUP(A11,'Gruber Tabelle'!$A$7:$V$231,10,0)","v":0},{"$f":"VLOOKUP(A11,'Gruber Tabelle'!$A$7:$V$231,11,0)","v":0},{"$f":"VLOOKUP(A11,'Gruber Tabelle'!$A$7:$V$231,12,0)","v":0},{"$f":"VLOOKUP(A11,'Gruber Tabelle'!$A$7:$V$231,13,0)","v":0},{"$f":"VLOOKUP(A11,'Gruber Tabelle'!$A$7:$V$231,14,0)","v":0},{"$f":"VLOOKUP(A11,'Gruber Tabelle'!$A$7:$V$231,15,0)","v":0},{"$f":"VLOOKUP(A11,'Gruber Tabelle'!$A$7:$V$231,16,0)","v":0},{"$f":"VLOOKUP(A11,'Gruber Tabelle'!$A$7:$V$231,17,0)","v":0},{"$f":"VLOOKUP(A11,'Gruber Tabelle'!$A$7:$V$231,18,0)","v":0},{"$f":"VLOOKUP(A11,'Gruber Tabelle'!$A$7:$V$231,19,0)","v":0},{"$f":"VLOOKUP(A11,'Gruber Tabelle'!$A$7:$V$231,20,0)","v":0},{"$f":"VLOOKUP(A11,'Gruber Tabelle'!$A$7:$V$231,21,0)","v":0},{"$f":"VLOOKUP(A11,'Gruber Tabelle'!$A$7:$V$231,22,0)","v":0}]
[null,{"$f":"VLOOKUP(A12,'Gruber Tabelle'!$A$7:$V$231,2,0)","v":0},null,null,null,{"$f":"VLOOKUP(A12,'Gruber Tabelle'!$A$7:$V$231,4,0)","v":0},{"$f":"VLOOKUP(A12,'Gruber Tabelle'!$A$7:$V$231,5,0)","v":0},{"$f":"VLOOKUP(A12,'Gruber Tabelle'!$A$7:$V$231,6,0)","v":0},{"$f":"VLOOKUP(A12,'Gruber Tabelle'!$A$7:$V$231,7,0)","v":0},{"$f":"VLOOKUP(A12,'Gruber Tabelle'!$A$7:$V$231,8,0)","v":0},{"$f":"VLOOKUP(A12,'Gruber Tabelle'!$A$7:$V$231,9,0)","v":0},{"$f":"VLOOKUP(A12,'Gruber Tabelle'!$A$7:$V$231,10,0)","v":0},{"$f":"VLOOKUP(A12,'Gruber Tabelle'!$A$7:$V$231,11,0)","v":0},{"$f":"VLOOKUP(A12,'Gruber Tabelle'!$A$7:$V$231,12,0)","v":0},{"$f":"VLOOKUP(A12,'Gruber Tabelle'!$A$7:$V$231,13,0)","v":0},{"$f":"VLOOKUP(A12,'Gruber Tabelle'!$A$7:$V$231,14,0)","v":0},{"$f":"VLOOKUP(A12,'Gruber Tabelle'!$A$7:$V$231,15,0)","v":0},{"$f":"VLOOKUP(A12,'Gruber Tabelle'!$A$7:$V$231,16,0)","v":0},{"$f":"VLOOKUP(A12,'Gruber Tabelle'!$A$7:$V$231,17,0)","v":0},{"$f":"VLOOKUP(A12,'Gruber Tabelle'!$A$7:$V$231,18,0)","v":0},{"$f":"VLOOKUP(A12,'Gruber Tabelle'!$A$7:$V$231,19,0)","v":0},{"$f":"VLOOKUP(A12,'Gruber Tabelle'!$A$7:$V$231,20,0)","v":0},{"$f":"VLOOKUP(A12,'Gruber Tabelle'!$A$7:$V$231,21,0)","v":0},{"$f":"VLOOKUP(A12,'Gruber Tabelle'!$A$7:$V$231,22,0)","v":0}]
[null,{"$f":"VLOOKUP(A13,'Gruber Tabelle'!$A$7:$V$231,2,0)","v":0},null,null,null,{"$f":"VLOOKUP(A13,'Gruber Tabelle'!$A$7:$V$231,4,0)","v":0},{"$f":"VLOOKUP(A13,'Gruber Tabelle'!$A$7:$V$231,5,0)","v":0},{"$f":"VLOOKUP(A13,'Gruber Tabelle'!$A$7:$V$231,6,0)","v":0},{"$f":"VLOOKUP(A13,'Gruber Tabelle'!$A$7:$V$231,7,0)","v":0},{"$f":"VLOOKUP(A13,'Gruber Tabelle'!$A$7:$V$231,8,0)","v":0},{"$f":"VLOOKUP(A13,'Gruber Tabelle'!$A$7:$V$231,9,0)","v":0},{"$f":"VLOOKUP(A13,'Gruber Tabelle'!$A$7:$V$231,10,0)","v":0},{"$f":"VLOOKUP(A13,'Gruber Tabelle'!$A$7:$V$231,11,0)","v":0},{"$f":"VLOOKUP(A13,'Gruber Tabelle'!$A$7:$V$231,12,0)","v":0},{"$f":"VLOOKUP(A13,'Gruber Tabelle'!$A$7:$V$231,13,0)","v":0},{"$f":"VLOOKUP(A13,'Gruber Tabelle'!$A$7:$V$231,14,0)","v":0},{"$f":"VLOOKUP(A13,'Gruber Tabelle'!$A$7:$V$231,15,0)","v":0},{"$f":"VLOOKUP(A13,'Gruber Tabelle'!$A$7:$V$231,16,0)","v":0},{"$f":"VLOOKUP(A13,'Gruber Tabelle'!$A$7:$V$231,17,0)","v":0},{"$f":"VLOOKUP(A13,'Gruber Tabelle'!$A$7:$V$231,18,0)","v":0},{"$f":"VLOOKUP(A13,'Gruber Tabelle'!$A$7:$V$231,19,0)","v":0},{"$f":"VLOOKUP(A13,'Gruber Tabelle'!$A$7:$V$231,20,0)","v":0},{"$f":"VLOOKUP(A13,'Gruber Tabelle'!$A$7:$V$231,21,0)","v":0},{"$f":"VLOOKUP(A13,'Gruber Tabelle'!$A$7:$V$231,22,0)","v":0}]
["Mischung 1 berechnen",null,"Mischungs- Anteil","FM g","TM g","ME","XP","Lys","Met","M+C","Thr","Trp","XF g","St","Z","XA","Ca","P","vP","vPph","Na","K","XL","Preis"]
[{"$f":"A4","v":0},0,null,{"$f":"IF(C15>0,1000*C15,0)","v":0},{"$f":"IF(C15>0,VLOOKUP(A4,'Gruber Tabelle'!$A$7:$V$231,3,0)*C15,0)","v":0},{"$f":"IF(C15>0,F4*C15,0)","v":0},{"$f":"IF(C15>0,G4*C15,0)","v":0},{"$f":"IF(C15>0,H4*C15,0)","v":0},{"$f":"IF(C15>0,I4*C15,0)","v":0},{"$f":"IF(C15>0,J4*C15,0)","v":0},{"$f":"IF(C15>0,K4*C15,0)","v":0},{"$f":"IF(C15>0,L4*C15,0)","v":0},{"$f":"IF(C15>0,M4*C15,0)","v":0},{"$f":"IF(C15>0,N4*C15,0)","v":0},{"$f":"IF(C15>0,O4*C15,0)","v":0},{"$f":"IF(C15>0,P4*C15,0)","v":0},{"$f":"IF(C15>0,Q4*C15,0)","v":0},{"$f":"IF(C15>0,R4*C15,0)","v":0},{"$f":"IF(C15>0,S4*C15,0)","v":0},{"$f":"IF(C15>0,T4*C15,0)","v":0},{"$f":"IF(C15>0,U4*C15,0)","v":0},{"$f":"IF(C15>0,V4*C15,0)","v":0},{"$f":"IF(C15>0,W4*C15,0)","v":0},{"$f":"IF(C15>0,X4*D15/100000,0)","v":0}]
[0,0,null,{"$f":"IF(C16>0,1000*C16,0)","v":0},{"$f":"IF(C16>0,VLOOKUP(A5,'Gruber Tabelle'!$A$7:$V$231,3,0)*C16,0)","v":0},{"$f":"IF(C16>0,F5*C16,0)","v":0},{"$f":"IF(C16>0,G5*C16,0)","v":0},{"$f":"IF(C16>0,H5*C16,0)","v":0},{"$f":"IF(C16>0,I5*C16,0)","v":0},{"$f":"IF(C16>0,J5*C16,0)","v":0},{"$f":"IF(C16>0,K5*C16,0)","v":0},{"$f":"IF(C16>0,L5*C16,0)","v":0},{"$f":"IF(M5>0,M5*C16,\" \")","v":" "},0,0,0,0,0,0,0,0,0,0,{"$f":"IF(C16>0,X5*D16/100000,0)","v":0}]
[0,0,null,0,{"$f":"IF(C17>0,VLOOKUP(A6,'Gruber Tabelle'!$A$7:$V$231,3,0)*C17,0)","v":0},0,0,0,0,0,0,0," ",0,0,0,0,0,0,0,0,0,0,0]
[0,0,null,0,{"$f":"IF(C18>0,VLOOKUP(A7,'Gruber Tabelle'!$A$7:$V$231,3,0)*C18,0)","v":0},0,0,0,0,0,0,0," ",0,0,0,0,0,0,0,0,0,0,0]
[0,0,null,0,{"$f":"IF(C19>0,VLOOKUP(A8,'Gruber Tabelle'!$A$7:$V$231,3,0)*C19,0)","v":0},0,0,0,0,0,0,0," ",0,0,0,0,0,0,0,0,0,0,0]
[0,0,null,0,{"$f":"IF(C20>0,VLOOKUP(A9,'Gruber Tabelle'!$A$7:$V$231,3,0)*C20,0)","v":0},0,0,0,0,0,0,0," ",0,0,0,0,0,0,0,0,0,0,0]
[0,0,null,0,{"$f":"IF(C21>0,VLOOKUP(A10,'Gruber Tabelle'!$A$7:$V$231,3,0)*C21,0)","v":0},0,0,0,0,0,0,0," ",0,0,0,0,0,0,0,0,0,0,0]
[0,0,null,0,{"$f":"IF(C22>0,VLOOKUP(A11,'Gruber Tabelle'!$A$7:$V$231,3,0)*C22,0)","v":0},0,0,0,0,0,0,0," ",0,0,0,0,0,0,0,0,0,0,0]
[0,0,null,0,{"$f":"IF(C23>0,VLOOKUP(A12,'Gruber Tabelle'!$A$7:$V$231,3,0)*C23,0)","v":0},0,0,0,0,0,0,0," ",0,0,0,0,0,0,0,0,0,0,0]
[0,0,null,0,{"$f":"IF(C24>0,VLOOKUP(A13,'Gruber Tabelle'!$A$7:$V$231,3,0)*C24,0)","v":0},0,0,0,0,0,0,0," ",0,0,0,0,0,0,0,0,0,0,0]
["Summe:",null,{"$f":"SUM(C15:C24)","v":0},{"$f":"SUM(D15:D24)","v":0},{"$f":"SUM(E15:E24)","v":0},0,0,0,0,0,0,0,0,0,0,0,0,0,0,0,0,0,0,0]

{"sheet":"Grundfutter","index":5,"n_rows":36,"n_cols":24,"rows_kept":36,"cut":false,"hidden":false,"merged":[[23,1,23,2],[13,0,13,2],[8,1,8,2],[9,1,9,2],[10,1,10,2],[11,1,11,2],[18,1,18,2],[19,1,19,2],[20,1,20,2],[21,1,21,2],[22,1,22,2],[12,1,12,2],[14,1,14,2],[15,1,15,2],[16,1,16,2],[17,1,17,2],[6,1,6,2],[7,1,7,2],[2,1,2,2],[0,0,0,23],[3,1,3,2],[4,1,4,2],[5,1,5,2],[1,0,1,3],[24,0,24,2],[26,0,26,2],[27,0,27,2],[25,0,25,23],[28,0,28,23],[31,0,31,23],[32,0,32,4],[33,0,33,4],[34,0,34,4],[29,0,29,3],[30,0,30,3],[35,0,36,4],[38,0,38,4],[33,16,34,16],[33,17,34,17],[35,16,36,16],[35,17,36,17],[35,5,36,5],[35,6,36,6],[35,7,36,7],[35,8,36,8]]}
[]
["Grundfutter, Heu, Stroh, Silagen",null,null,null,null,"ME","XP","Lys","Met","M+C","Thr","Trp","XF","St","Z","XA","Ca","P","vP","vPph","Na","K","XL","Kosten"]
[null,"Futter",null,"TM g",null,"MJ","g","g","g","g","g","g","g","g","g","g","g","g","g","g","g","g","g","€ / dt FM"]
[null,{"$f":"VLOOKUP(A4,'Gruber Tabelle'!$A$7:$V$231,2,0)","v":0},null,{"$f":"VLOOKUP(A4,'Gruber Tabelle'!$A$7:$V$231,3,0)","v":0},null,{"$f":"VLOOKUP(A4,'Gruber Tabelle'!$A$7:$V$231,4,0)","v":0},{"$f":"VLOOKUP(A4,'Gruber Tabelle'!$A$7:$V$231,5,0)","v":0},{"$f":"VLOOKUP(A4,'Gruber Tabelle'!$A$7:$V$231,6,0)","v":0},{"$f":"VLOOKUP(A4,'Gruber Tabelle'!$A$7:$V$231,7,0)","v":0},{"$f":"VLOOKUP(A4,'Gruber Tabelle'!$A$7:$V$231,8,0)","v":0},{"$f":"VLOOKUP(A4,'Gruber Tabelle'!$A$7:$V$231,9,0)","v":0},{"$f":"VLOOKUP(A4,'Gruber Tabelle'!$A$7:$V$231,10,0)","v":0},{"$f":"VLOOKUP(A4,'Gruber Tabelle'!$A$7:$V$231,11,0)","v":0},{"$f":"VLOOKUP(A4,'Gruber Tabelle'!$A$7:$V$231,12,0)","v":0},{"$f":"VLOOKUP(A4,'Gruber Tabelle'!$A$7:$V$231,13,0)","v":0},{"$f":"VLOOKUP(A4,'Gruber Tabelle'!$A$7:$V$231,14,0)","v":0},{"$f":"VLOOKUP(A4,'Gruber Tabelle'!$A$7:$V$231,15,0)","v":0},{"$f":"VLOOKUP(A4,'Gruber Tabelle'!$A$7:$V$231,16,0)","v":0},{"$f":"VLOOKUP(A4,'Gruber Tabelle'!$A$7:$V$231,17,0)","v":0},{"$f":"VLOOKUP(A4,'Gruber Tabelle'!$A$7:$V$231,18,0)","v":0},{"$f":"VLOOKUP(A4,'Gruber Tabelle'!$A$7:$V$231,19,0)","v":0},{"$f":"VLOOKUP(A4,'Gruber Tabelle'!$A$7:$V$231,20,0)","v":0},{"$f":"VLOOKUP(A4,'Gruber Tabelle'!$A$7:$V$231,21,0)","v":0},{"$f":"VLOOKUP(A4,'Gruber Tabelle'!$A$7:$V$231,22,0)","v":0}]
[null,{"$f":"VLOOKUP(A5,'Gruber Tabelle'!$A$7:$V$231,2,0)","v":0},null,{"$f":"VLOOKUP(A5,'Gruber Tabelle'!$A$7:$V$231,3,0)","v":0},null,{"$f":"VLOOKUP(A5,'Gruber Tabelle'!$A$6:$V$231,4,0)","v":0},{"$f":"VLOOKUP(A5,'Gruber Tabelle'!$A$7:$V$231,5,0)","v":0},{"$f":"VLOOKUP(A5,'Gruber Tabelle'!$A$7:$V$231,6,0)","v":0},{"$f":"VLOOKUP(A5,'Gruber Tabelle'!$A$7:$V$231,7,0)","v":0},{"$f":"VLOOKUP(A5,'Gruber Tabelle'!$A$7:$V$231,8,0)","v":0},{"$f":"VLOOKUP(A5,'Gruber Tabelle'!$A$7:$V$231,9,0)","v":0},{"$f":"VLOOKUP(A5,'Gruber Tabelle'!$A$7:$V$231,10,0)","v":0},{"$f":"VLOOKUP(A5,'Gruber Tabelle'!$A$7:$V$231,11,0)","v":0},{"$f":"VLOOKUP(A5,'Gruber Tabelle'!$A$7:$V$231,12,0)","v":0},{"$f":"VLOOKUP(A5,'Gruber Tabelle'!$A$7:$V$231,13,0)","v":0},{"$f":"VLOOKUP(A5,'Gruber Tabelle'!$A$7:$V$231,14,0)","v":0},{"$f":"VLOOKUP(A5,'Gruber Tabelle'!$A$7:$V$231,15,0)","v":0},{"$f":"VLOOKUP(A5,'Gruber Tabelle'!$A$7:$V$231,16,0)","v":0},{"$f":"VLOOKUP(A5,'Gruber Tabelle'!$A$7:$V$231,17,0)","v":0},{"$f":"VLOOKUP(A5,'Gruber Tabelle'!$A$7:$V$231,18,0)","v":0},{"$f":"VLOOKUP(A5,'Gruber Tabelle'!$A$7:$V$231,19,0)","v":0},{"$f":"VLOOKUP(A5,'Gruber Tabelle'!$A$7:$V$231,20,0)","v":0},{"$f":"VLOOKUP(A5,'Gruber Tabelle'!$A$7:$V$231,21,0)","v":0},{"$f":"VLOOKUP(A5,'Gruber Tabelle'!$A$7:$V$231,22,0)","v":0}]
[null,{"$f":"VLOOKUP(A6,'Gruber Tabelle'!$A$7:$V$231,2,0)","v":0},null,{"$f":"VLOOKUP(A6,'Gruber Tabelle'!$A$7:$V$231,3,0)","v":0},null,{"$f":"VLOOKUP(A6,'Gruber Tabelle'!$A$6:$V$231,4,0)","v":0},{"$f":"VLOOKUP(A6,'Gruber Tabelle'!$A$7:$V$231,5,0)","v":0},{"$f":"VLOOKUP(A6,'Gruber Tabelle'!$A$7:$V$231,6,0)","v":0},{"$f":"VLOOKUP(A6,'Gruber Tabelle'!$A$7:$V$231,7,0)","v":0},{"$f":"VLOOKUP(A6,'Gruber Tabelle'!$A$7:$V$231,8,0)","v":0},{"$f":"VLOOKUP(A6,'Gruber Tabelle'!$A$7:$V$231,9,0)","v":0},{"$f":"VLOOKUP(A6,'Gruber Tabelle'!$A$7:$V$231,10,0)","v":0},{"$f":"VLOOKUP(A6,'Gruber Tabelle'!$A$7:$V$231,11,0)","v":0},{"$f":"VLOOKUP(A6,'Gruber Tabelle'!$A$7:$V$231,12,0)","v":0},{"$f":"VLOOKUP(A6,'Gruber Tabelle'!$A$7:$V$231,13,0)","v":0},{"$f":"VLOOKUP(A6,'Gruber Tabelle'!$A$7:$V$231,14,0)","v":0},{"$f":"VLOOKUP(A6,'Gruber Tabelle'!$A$7:$V$231,15,0)","v":0},{"$f":"VLOOKUP(A6,'Gruber Tabelle'!$A$7:$V$231,16,0)","v":0},{"$f":"VLOOKUP(A6,'Gruber Tabelle'!$A$7:$V$231,17,0)","v":0},{"$f":"VLOOKUP(A6,'Gruber Tabelle'!$A$7:$V$231,18,0)","v":0},{"$f":"VLOOKUP(A6,'Gruber Tabelle'!$A$7:$V$231,19,0)","v":0},{"$f":"VLOOKUP(A6,'Gruber Tabelle'!$A$7:$V$231,20,0)","v":0},{"$f":"VLOOKUP(A6,'Gruber Tabelle'!$A$7:$V$231,21,0)","v":0},{"$f":"VLOOKUP(A6,'Gruber Tabelle'!$A$7:$V$231,22,0)","v":0}]
[null,{"$f":"VLOOKUP(A7,'Gruber Tabelle'!$A$7:$V$231,2,0)","v":0},null,{"$f":"VLOOKUP(A7,'Gruber Tabelle'!$A$7:$V$231,3,0)","v":0},null,{"$f":"VLOOKUP(A7,'Gruber Tabelle'!$A$6:$V$231,4,0)","v":0},{"$f":"VLOOKUP(A7,'Gruber Tabelle'!$A$7:$V$231,5,0)","v":0},{"$f":"VLOOKUP(A7,'Gruber Tabelle'!$A$7:$V$231,6,0)","v":0},{"$f":"VLOOKUP(A7,'Gruber Tabelle'!$A$7:$V$231,7,0)","v":0},{"$f":"VLOOKUP(A7,'Gruber Tabelle'!$A$7:$V$231,8,0)","v":0},{"$f":"VLOOKUP(A7,'Gruber Tabelle'!$A$7:$V$231,9,0)","v":0},{"$f":"VLOOKUP(A7,'Gruber Tabelle'!$A$7:$V$231,10,0)","v":0},{"$f":"VLOOKUP(A7,'Gruber Tabelle'!$A$7:$V$231,11,0)","v":0},{"$f":"VLOOKUP(A7,'Gruber Tabelle'!$A$7:$V$231,12,0)","v":0},{"$f":"VLOOKUP(A7,'Gruber Tabelle'!$A$7:$V$231,13,0)","v":0},{"$f":"VLOOKUP(A7,'Gruber Tabelle'!$A$7:$V$231,14,0)","v":0},{"$f":"VLOOKUP(A7,'Gruber Tabelle'!$A$7:$V$231,15,0)","v":0},{"$f":"VLOOKUP(A7,'Gruber Tabelle'!$A$7:$V$231,16,0)","v":0},{"$f":"VLOOKUP(A7,'Gruber Tabelle'!$A$7:$V$231,17,0)","v":0},{"$f":"VLOOKUP(A7,'Gruber Tabelle'!$A$7:$V$231,18,0)","v":0},{"$f":"VLOOKUP(A7,'Gruber Tabelle'!$A$7:$V$231,19,0)","v":0},{"$f":"VLOOKUP(A7,'Gruber Tabelle'!$A$7:$V$231,20,0)","v":0},{"$f":"VLOOKUP(A7,'Gruber Tabelle'!$A$7:$V$231,21,0)","v":0},{"$f":"VLOOKUP(A7,'Gruber Tabelle'!$A$7:$V$231,22,0)","v":0}]
[null,{"$f":"VLOOKUP(A8,'Gruber Tabelle'!$A$7:$V$231,2,0)","v":0},null,{"$f":"VLOOKUP(A8,'Gruber Tabelle'!$A$7:$V$231,3,0)","v":0},null,{"$f":"VLOOKUP(A8,'Gruber Tabelle'!$A$6:$V$231,4,0)","v":0},{"$f":"VLOOKUP(A8,'Gruber Tabelle'!$A$7:$V$231,5,0)","v":0},{"$f":"VLOOKUP(A8,'Gruber Tabelle'!$A$7:$V$231,6,0)","v":0},{"$f":"VLOOKUP(A8,'Gruber Tabelle'!$A$7:$V$231,7,0)","v":0},{"$f":"VLOOKUP(A8,'Gruber Tabelle'!$A$7:$V$231,8,0)","v":0},{"$f":"VLOOKUP(A8,'Gruber Tabelle'!$A$7:$V$231,9,0)","v":0},{"$f":"VLOOKUP(A8,'Gruber Tabelle'!$A$7:$V$231,10,0)","v":0},{"$f":"VLOOKUP(A8,'Gruber Tabelle'!$A$7:$V$231,11,0)","v":0},{"$f":"VLOOKUP(A8,'Gruber Tabelle'!$A$7:$V$231,12,0)","v":0},{"$f":"VLOOKUP(A8,'Gruber Tabelle'!$A$7:$V$231,13,0)","v":0},{"$f":"VLOOKUP(A8,'Gruber Tabelle'!$A$7:$V$231,14,0)","v":0},{"$f":"VLOOKUP(A8,'Gruber Tabelle'!$A$7:$V$231,15,0)","v":0},{"$f":"VLOOKUP(A8,'Gruber Tabelle'!$A$7:$V$231,16,0)","v":0},{"$f":"VLOOKUP(A8,'Gruber Tabelle'!$A$7:$V$231,17,0)","v":0},{"$f":"VLOOKUP(A8,'Gruber Tabelle'!$A$7:$V$231,18,0)","v":0},{"$f":"VLOOKUP(A8,'Gruber Tabelle'!$A$7:$V$231,19,0)","v":0},{"$f":"VLOOKUP(A8,'Gruber Tabelle'!$A$7:$V$231,20,0)","v":0},{"$f":"VLOOKUP(A8,'Gruber Tabelle'!$A$7:$V$231,21,0)","v":0},{"$f":"VLOOKUP(A8,'Gruber Tabelle'!$A$7:$V$231,22,0)","v":0}]
[null,{"$f":"VLOOKUP(A9,'Gruber Tabelle'!$A$7:$V$231,2,0)","v":0},null,{"$f":"VLOOKUP(A9,'Gruber Tabelle'!$A$7:$V$231,3,0)","v":0},null,{"$f":"VLOOKUP(A9,'Gruber Tabelle'!$A$6:$V$231,4,0)","v":0},{"$f":"VLOOKUP(A9,'Gruber Tabelle'!$A$7:$V$231,5,0)","v":0},{"$f":"VLOOKUP(A9,'Gruber Tabelle'!$A$7:$V$231,6,0)","v":0},{"$f":"VLOOKUP(A9,'Gruber Tabelle'!$A$7:$V$231,7,0)","v":0},{"$f":"VLOOKUP(A9,'Gruber Tabelle'!$A$7:$V$231,8,0)","v":0},{"$f":"VLOOKUP(A9,'Gruber Tabelle'!$A$7:$V$231,9,0)","v":0},{"$f":"VLOOKUP(A9,'Gruber Tabelle'!$A$7:$V$231,10,0)","v":0},{"$f":"VLOOKUP(A9,'Gruber Tabelle'!$A$7:$V$231,11,0)","v":0},{"$f":"VLOOKUP(A9,'Gruber Tabelle'!$A$7:$V$231,12,0)","v":0},{"$f":"VLOOKUP(A9,'Gruber Tabelle'!$A$7:$V$231,13,0)","v":0},{"$f":"VLOOKUP(A9,'Gruber Tabelle'!$A$7:$V$231,14,0)","v":0},{"$f":"VLOOKUP(A9,'Gruber Tabelle'!$A$7:$V$231,15,0)","v":0},{"$f":"VLOOKUP(A9,'Gruber Tabelle'!$A$7:$V$231,16,0)","v":0},{"$f":"VLOOKUP(A9,'Gruber Tabelle'!$A$7:$V$231,17,0)","v":0},{"$f":"VLOOKUP(A9,'Gruber Tabelle'!$A$7:$V$231,18,0)","v":0},{"$f":"VLOOKUP(A9,'Gruber Tabelle'!$A$7:$V$231,19,0)","v":0},{"$f":"VLOOKUP(A9,'Gruber Tabelle'!$A$7:$V$231,20,0)","v":0},{"$f":"VLOOKUP(A9,'Gruber Tabelle'!$A$7:$V$231,21,0)","v":0},{"$f":"VLOOKUP(A9,'Gruber Tabelle'!$A$7:$V$231,22,0)","v":0}]
[null,{"$f":"VLOOKUP(A10,'Gruber Tabelle'!$A$7:$V$231,2,0)","v":0},null,{"$f":"VLOOKUP(A10,'Gruber Tabelle'!$A$7:$V$231,3,0)","v":0},null,{"$f":"VLOOKUP(A10,'Gruber Tabelle'!$A$6:$V$231,4,0)","v":0},{"$f":"VLOOKUP(A10,'Gruber Tabelle'!$A$7:$V$231,5,0)","v":0},{"$f":"VLOOKUP(A10,'Gruber Tabelle'!$A$7:$V$231,6,0)","v":0},{"$f":"VLOOKUP(A10,'Gruber Tabelle'!$A$7:$V$231,7,0)","v":0},{"$f":"VLOOKUP(A10,'Gruber Tabelle'!$A$7:$V$231,8,0)","v":0},{"$f":"VLOOKUP(A10,'Gruber Tabelle'!$A$7:$V$231,9,0)","v":0},{"$f":"VLOOKUP(A10,'Gruber Tabelle'!$A$7:$V$231,10,0)","v":0},{"$f":"VLOOKUP(A10,'Gruber Tabelle'!$A$7:$V$231,11,0)","v":0},{"$f":"VLOOKUP(A10,'Gruber Tabelle'!$A$7:$V$231,12,0)","v":0},{"$f":"VLOOKUP(A10,'Gruber Tabelle'!$A$7:$V$231,13,0)","v":0},{"$f":"VLOOKUP(A10,'Gruber Tabelle'!$A$7:$V$231,14,0)","v":0},{"$f":"VLOOKUP(A10,'Gruber Tabelle'!$A$7:$V$231,15,0)","v":0},{"$f":"VLOOKUP(A10,'Gruber Tabelle'!$A$7:$V$231,16,0)","v":0},{"$f":"VLOOKUP(A10,'Gruber Tabelle'!$A$7:$V$231,17,0)","v":0},{"$f":"VLOOKUP(A10,'Gruber Tabelle'!$A$7:$V$231,18,0)","v":0},{"$f":"VLOOKUP(A10,'Gruber Tabelle'!$A$7:$V$231,19,0)","v":0},{"$f":"VLOOKUP(A10,'Gruber Tabelle'!$A$7:$V$231,20,0)","v":0},{"$f":"VLOOKUP(A10,'Gruber Tabelle'!$A$7:$V$231,21,0)","v":0},{"$f":"VLOOKUP(A10,'Gruber Tabelle'!$A$7:$V$231,22,0)","v":0}]
[null,{"$f":"VLOOKUP(A11,'Gruber Tabelle'!$A$7:$V$231,2,0)","v":0},null,{"$f":"VLOOKUP(A11,'Gruber Tabelle'!$A$7:$V$231,3,0)","v":0},null,{"$f":"VLOOKUP(A11,'Gruber Tabelle'!$A$6:$V$231,4,0)","v":0},{"$f":"VLOOKUP(A11,'Gruber Tabelle'!$A$7:$V$231,5,0)","v":0},{"$f":"VLOOKUP(A11,'Gruber Tabelle'!$A$7:$V$231,6,0)","v":0},{"$f":"VLOOKUP(A11,'Gruber Tabelle'!$A$7:$V$231,7,0)","v":0},{"$f":"VLOOKUP(A11,'Gruber Tabelle'!$A$7:$V$231,8,0)","v":0},{"$f":"VLOOKUP(A11,'Gruber Tabelle'!$A$7:$V$231,9,0)","v":0},{"$f":"VLOOKUP(A11,'Gruber Tabelle'!$A$7:$V$231,10,0)","v":0},{"$f":"VLOOKUP(A11,'Gruber Tabelle'!$A$7:$V$231,11,0)","v":0},{"$f":"VLOOKUP(A11,'Gruber Tabelle'!$A$7:$V$231,12,0)","v":0},{"$f":"VLOOKUP(A11,'Gruber Tabelle'!$A$7:$V$231,13,0)","v":0},{"$f":"VLOOKUP(A11,'Gruber Tabelle'!$A$7:$V$231,14,0)","v":0},{"$f":"VLOOKUP(A11,'Gruber Tabelle'!$A$7:$V$231,15,0)","v":0},{"$f":"VLOOKUP(A11,'Gruber Tabelle'!$A$7:$V$231,16,0)","v":0},{"$f":"VLOOKUP(A11,'Gruber Tabelle'!$A$7:$V$231,17,0)","v":0},{"$f":"VLOOKUP(A11,'Gruber Tabelle'!$A$7:$V$231,18,0)","v":0},{"$f":"VLOOKUP(A11,'Gruber Tabelle'!$A$7:$V$231,19,0)","v":0},{"$f":"VLOOKUP(A11,'Gruber Tabelle'!$A$7:$V$231,20,0)","v":0},{"$f":"VLOOKUP(A11,'Gruber Tabelle'!$A$7:$V$231,21,0)","v":0},{"$f":"VLOOKUP(A11,'Gruber Tabelle'!$A$7:$V$231,22,0)","v":0}]
[null,{"$f":"VLOOKUP(A12,'Gruber Tabelle'!$A$7:$V$231,2,0)","v":0},null,{"$f":"VLOOKUP(A12,'Gruber Tabelle'!$A$7:$V$231,3,0)","v":0},null,{"$f":"VLOOKUP(A12,'Gruber Tabelle'!$A$6:$V$231,4,0)","v":0},{"$f":"VLOOKUP(A12,'Gruber Tabelle'!$A$7:$V$231,5,0)","v":0},{"$f":"VLOOKUP(A12,'Gruber Tabelle'!$A$7:$V$231,6,0)","v":0},{"$f":"VLOOKUP(A12,'Gruber Tabelle'!$A$7:$V$231,7,0)","v":0},{"$f":"VLOOKUP(A12,'Gruber Tabelle'!$A$7:$V$231,8,0)","v":0},{"$f":"VLOOKUP(A12,'Gruber Tabelle'!$A$7:$V$231,9,0)","v":0},{"$f":"VLOOKUP(A12,'Gruber Tabelle'!$A$7:$V$231,10,0)","v":0},{"$f":"VLOOKUP(A12,'Gruber Tabelle'!$A$7:$V$231,11,0)","v":0},{"$f":"VLOOKUP(A12,'Gruber Tabelle'!$A$7:$V$231,12,0)","v":0},{"$f":"VLOOKUP(A12,'Gruber Tabelle'!$A$7:$V$231,13,0)","v":0},{"$f":"VLOOKUP(A12,'Gruber Tabelle'!$A$7:$V$231,14,0)","v":0},{"$f":"VLOOKUP(A12,'Gruber Tabelle'!$A$7:$V$231,15,0)","v":0},{"$f":"VLOOKUP(A12,'Gruber Tabelle'!$A$7:$V$231,16,0)","v":0},{"$f":"VLOOKUP(A12,'Gruber Tabelle'!$A$7:$V$231,17,0)","v":0},{"$f":"VLOOKUP(A12,'Gruber Tabelle'!$A$7:$V$231,18,0)","v":0},{"$f":"VLOOKUP(A12,'Gruber Tabelle'!$A$7:$V$231,19,0)","v":0},{"$f":"VLOOKUP(A12,'Gruber Tabelle'!$A$7:$V$231,20,0)","v":0},{"$f":"VLOOKUP(A12,'Gruber Tabelle'!$A$7:$V$231,21,0)","v":0},{"$f":"VLOOKUP(A12,'Gruber Tabelle'!$A$7:$V$231,22,0)","v":0}]
[null,{"$f":"VLOOKUP(A13,'Gruber Tabelle'!$A$7:$V$231,2,0)","v":0},null,{"$f":"VLOOKUP(A13,'Gruber Tabelle'!$A$7:$V$231,3,0)","v":0},null,{"$f":"VLOOKUP(A13,'Gruber Tabelle'!$A$6:$V$231,4,0)","v":0},{"$f":"VLOOKUP(A13,'Gruber Tabelle'!$A$7:$V$231,5,0)","v":0},{"$f":"VLOOKUP(A13,'Gruber Tabelle'!$A$7:$V$231,6,0)","v":0},{"$f":"VLOOKUP(A13,'Gruber Tabelle'!$A$7:$V$231,7,0)","v":0},{"$f":"VLOOKUP(A13,'Gruber Tabelle'!$A$7:$V$231,8,0)","v":0},{"$f":"VLOOKUP(A13,'Gruber Tabelle'!$A$7:$V$231,9,0)","v":0},{"$f":"VLOOKUP(A13,'Gruber Tabelle'!$A$7:$V$231,10,0)","v":0},{"$f":"VLOOKUP(A13,'Gruber Tabelle'!$A$7:$V$231,11,0)","v":0},{"$f":"VLOOKUP(A13,'Gruber Tabelle'!$A$7:$V$231,12,0)","v":0},{"$f":"VLOOKUP(A13,'Gruber Tabelle'!$A$7:$V$231,13,0)","v":0},{"$f":"VLOOKUP(A13,'Gruber Tabelle'!$A$7:$V$231,14,0)","v":0},{"$f":"VLOOKUP(A13,'Gruber Tabelle'!$A$7:$V$231,15,0)","v":0},{"$f":"VLOOKUP(A13,'Gruber Tabelle'!$A$7:$V$231,16,0)","v":0},{"$f":"VLOOKUP(A13,'Gruber Tabelle'!$A$7:$V$231,17,0)","v":0},{"$f":"VLOOKUP(A13,'Gruber Tabelle'!$A$7:$V$231,18,0)","v":0},{"$f":"VLOOKUP(A13,'Gruber Tabelle'!$A$7:$V$231,19,0)","v":0},{"$f":"VLOOKUP(A13,'Gruber Tabelle'!$A$7:$V$231,20,0)","v":0},{"$f":"VLOOKUP(A13,'Gruber Tabelle'!$A$7:$V$231,21,0)","v":0},{"$f":"VLOOKUP(A13,'Gruber Tabelle'!$A$7:$V$231,22,0)","v":0}]
["Futtermengen in kg FM eingeben",null,null,"FM kg","TM g","ME","XP","Lys","Met","M+C","Thr","Trp","XF g","St","Z","XA","Ca","P","vP","vPph","Na","K","XL","Preis"]
[{"$f":"A4","v":0},0,null,null,{"$f":"IF(D15>0,VLOOKUP(A4,'Gruber Tabelle'!$A$6:$V$231,3,0)*D15,0)","v":0},{"$f":"IF(D15>0,F4*D15,0)","v":0},{"$f":"IF(D15>0,G4*D15,0)","v":0},{"$f":"IF(D15>0,H4*D15,0)","v":0},{"$f":"IF(D15>0,I4*D15,0)","v":0},{"$f":"IF(D15>0,J4*D15,0)","v":0},{"$f":"IF(D15>0,K4*D15,0)","v":0},{"$f":"IF(D15>0,L4*D15,0)","v":0},{"$f":"IF(D15>0,M4*D15,0)","v":0},{"$f":"IF(D15>0,N4*D15,0)","v":0},{"$f":"IF(D15>0,O4*D15,0)","v":0},{"$f":"IF(D15>0,P4*D15,0)","v":0},{"$f":"IF(D15>0,Q4*D15,0)","v":0},{"$f":"IF(D15>0,R4*D15,0)","v":0},{"$f":"IF(D15>0,S4*D15,0)","v":0},{"$f":"IF(D15>0,T4*D15,0)","v":0},{"$f":"IF(D15>0,U4*D15,0)","v":0},{"$f":"IF(D15>0,V4*D15,0)","v":0},{"$f":"IF(D15>0,W4*D15,0)","v":0},{"$f":"IF(D15>0,X4*D15/100,0)","v":0}]
[0,0,null,null,{"$f":"IF(D16>0,VLOOKUP(A5,'Gruber Tabelle'!$A$6:$V$231,3,0)*D16,0)","v":0},0,0,0,0,0,0,0,{"$f":"IF(M5>0,M5*D16,\" \")","v":" "},0,0,0,0,0,0,0,0,0,0,{"$f":"IF(D16>0,X5*D16/100,0)","v":0}]
[0,0,null,null,{"$f":"IF(D17>0,VLOOKUP(A6,'Gruber Tabelle'!$A$6:$V$231,3,0)*D17,0)","v":0},0,0,0,0,0,0,0," ",0,0,0,0,0,0,0,0,0,0,0]
[0,0,null,null,{"$f":"IF(D18>0,VLOOKUP(A7,'Gruber Tabelle'!$A$6:$V$231,3,0)*D18,0)","v":0},0,0,0,0,0,0,0," ",0,0,0,0,0,0,0,0,0,0,0]
[0,0,null,null,{"$f":"IF(D19>0,VLOOKUP(A8,'Gruber Tabelle'!$A$6:$V$231,3,0)*D19,0)","v":0},0,0,0,0,0,0,0," ",0,0,0,0,0,0,0,0,0,0,0]
[0,0,null,null,{"$f":"IF(D20>0,VLOOKUP(A9,'Gruber Tabelle'!$A$6:$V$231,3,0)*D20,0)","v":0},0,0,0,0,0,0,0," ",0,0,0,0,0,0,0,0,0,0,0]
[0,0,null,null,{"$f":"IF(D21>0,VLOOKUP(A10,'Gruber Tabelle'!$A$6:$V$231,3,0)*D21,0)","v":0},0,0,0,0,0,0,0," ",0,0,0,0,0,0,0,0,0,0,0]
[0,0,null,null,null,0,0,0,0,0,0,0," ",0,0,0,0,0,0,0,0,0,0,0]
[0,0,null,null,{"$f":"IF(D23>0,VLOOKUP(A12,'Gruber Tabelle'!$A$6:$V$231,3,0)*D23,0)","v":0},0,0,0,0,0,0,0," ",0,0,0,0,0,0,0,0,0,0,0]
[0,0,null,null,{"$f":"IF(D24>0,VLOOKUP(A13,'Gruber Tabelle'!$A$6:$V$231,3,0)*D24,0)","v":0},0,0,0,0,0,0,0," ",0,0,0,0,0,0,0,0,0,0,0]
["Summe Silage / Grundfutter:",null,null,{"$f":"SUM(D15:D24)","v":0},{"$f":"SUM(E15:E24)","v":0},0,0,0,0,0,0,0,0,0,0,0,0,0,0,0,0,0,0,0]
[]
["Menge Trockenfutter in kg / Tag hier eintragen",null,null,null,{"$f":"IF($D$27>0,Ration!E28*Grundfutter!$D$27,0)","v":0},{"$f":"IF($D$27>0,Ration!F28*Grundfutter!$D$27,0)","v":0},{"$f":"IF($D$27>0,Ration!G28*Grundfutter!$D$27,0)","v":0},{"$f":"IF($D$27>0,Ration!H28*Grundfutter!$D$27,0)","v":0},{"$f":"IF($D$27>0,Ration!I28*Grundfutter!$D$27,0)","v":0},{"$f":"IF($D$27>0,Ration!J28*Grundfutter!$D$27,0)","v":0},{"$f":"IF($D$27>0,Ration!K28*Grundfutter!$D$27,0)","v":0},{"$f":"IF($D$27>0,Ration!L28*Grundfutter!$D$27,0)","v":0},{"$f":"IF($D$27>0,Ration!M28*Grundfutter!$D$27,0)","v":0},{"$f":"IF($D$27>0,Ration!N28*Grundfutter!$D$27,0)","v":0},{"$f":"IF($D$27>0,Ration!O28*Grundfutter!$D$27,0)","v":0},{"$f":"IF($D$27>0,Ration!P28*Grundfutter!$D$27,0)","v":0},{"$f":"IF($D$27>0,Ration!Q28*Grundfutter!$D$27,0)","v":0},{"$f":"IF($D$27>0,Ration!R28*Grundfutter!$D$27,0)","v":0},{"$f":"IF($D$27>0,Ration!S28*Grundfutter!$D$27,0)","v":0},{"$f":"IF($D$27>0,Ration!T28*Grundfutter!$D$27,0)","v":0},{"$f":"IF($D$27>0,Ration!U28*Grundfutter!$D$27,0)","v":0},{"$f":"IF($D$27>0,Ration!V28*Grundfutter!$D$27,0)","v":0},{"$f":"IF($D$27>0,Ration!W28*Grundfutter!$D$27,0)","v":0},{"$f":"IF($D$27>0,Ration!X28*Grundfutter!$D$27,0)","v":0}]
["Grundfutter + Trockenfutter gesamt - kg/FM",null,null,{"$f":"IFERROR(D25+D27,0)","v":0},{"$f":"IFERROR(E25+E27,0)","v":0},0,0,0,0,0,0,0,0,0,0,0,0,0,0,0,0,0,0,0]
[]
[{"$f":"Ration!B2","v":"Bitte Richtwerte auswählen  >>"},null,null,null,{"$f":"IFERROR(VLOOKUP(A30,Sollwerte!$A$5:$U$68,3,0),0)","v":0},{"$f":"IFERROR(VLOOKUP(A30,Sollwerte!$A$5:$U$68,4,0)*E30/1000,0)","v":0},{"$f":"IFERROR(VLOOKUP(A30,Sollwerte!$A$5:$U$68,5,0)*E30/1000,0)","v":0},{"$f":"IFERROR(VLOOKUP($A$30,Sollwerte!$A$5:$U$68,6,0)*E30/1000,0)","v":0},{"$f":"IFERROR(VLOOKUP($A$30,Sollwerte!$A$5:$U$68,7,0)*$E$30/1000,0)","v":0},{"$f":"IFERROR(VLOOKUP($A$30,Sollwerte!$A$5:$U$68,8,0)*$E$30/1000,0)","v":0},{"$f":"IFERROR(VLOOKUP($A$30,Sollwerte!$A$5:$U$68,9,0)*$E$30/1000,0)","v":0},{"$f":"IFERROR(VLOOKUP($A$30,Sollwerte!$A$5:$U$68,10,0)*$E$30/1000,0)","v":0},{"$f":"IFERROR(VLOOKUP($A$30,Sollwerte!$A$5:$U$68,11,0)*$E$30/1000,0)","v":0},{"$f":"IFERROR(VLOOKUP($A$30,Sollwerte!$A$5:$U$68,12,0)*$E$30/1000,0)","v":0},{"$f":"IFERROR(VLOOKUP($A$30,Sollwerte!$A$5:$U$68,13,0)*$E$30/1000,0)","v":0},{"$f":"IFERROR(VLOOKUP($A$30,Sollwerte!$A$5:$U$68,14,0)*$E$30/1000,0)","v":0},{"$f":"IFERROR(VLOOKUP($A$30,Sollwerte!$A$5:$U$68,15,0)*$E$30/1000,0)","v":0},{"$f":"IFERROR(VLOOKUP($A$30,Sollwerte!$A$5:$U$68,16,0)*$E$30/1000,0)","v":0},{"$f":"IFERROR(VLOOKUP($A$30,Sollwerte!$A$5:$U$68,17,0)*$E$30/1000,0)","v":0},{"$f":"IFERROR(VLOOKUP($A$30,Sollwerte!$A$5:$U$68,18,0)*$E$30/1000,0)","v":0},{"$f":"IFERROR(VLOOKUP($A$30,Sollwerte!$A$5:$U$68,19,0)*$E$30/1000,0)","v":0},{"$f":"IFERROR(VLOOKUP($A$30,Sollwerte!$A$5:$U$68,20,0)*$E$30/1000,0)","v":0},{"$f":"IFERROR(VLOOKUP($A$30,Sollwerte!$A$5:$U$68,21,0)*$E$30/1000,0)","v":0}]
["Vergleich Sollwert/Tagesbedarf mit Gesamtsumme",null,null,null,{"$f":"IF(E30>0,E28-E30,0)","v":0},{"$f":"IF(F30>0,F28-F30,0)","v":0},0,0,0,0,0,0,0,0,0,0,0,0,0,0,0,0,0]
[]
["Sollwerte - Aminosäurenrelation",null,null,null,null,"Lys",":  M+C",":  Thr",":  Trp",null,null,null,null,null,null,null,"Ca",":     v P"]
[{"$f":"Ration!B2","v":"Bitte Richtwerte auswählen  >>"},null,null,null,null,{"$f":"VLOOKUP(A34,Sollwerte!$A$5:$AC$68,22,0)","v":0},{"$f":"VLOOKUP(A34,Sollwerte!$A$5:$AC$68,24,0)","v":0},{"$f":"VLOOKUP(A34,Sollwerte!$A$5:$AC$68,25,0)","v":0},{"$f":"VLOOKUP(A34,Sollwerte!$A$5:$AC$68,26,0)","v":0},null,null,null,null,null,null,null,{"$f":"VLOOKUP(A34,Sollwerte!$A$5:$AE$68,30,0)","v":0},{"$f":"VLOOKUP(A34,Sollwerte!$A$5:$AE$68,31,0)","v":0}]
["Summe Aminosäuren in g",null,null,null,null,{"$f":"IF(H28>0,H28,0)","v":0},{"$f":"IF(J28>0,J28,0)","v":0},{"$f":"IF(K28>0,K28,0)","v":0},{"$f":"IF(L28>0,L28,0)","v":0}]
["Relation  von    Lys : M+C : Thr : Trp",null,null,null,null,{"$f":"IF(H28>0,1,0)","v":0},{"$f":"IFERROR(J28/H28,0)","v":0},{"$f":"IFERROR(K28/H28,0)","v":0},{"$f":"IFERROR(L28/H28,0)","v":0},null,null,null,null,null,null,null,{"$f":"IF(S28>0,Q28/S28,0)","v":0},{"$f":"R34","v":0}]

{"sheet":"Mengenberechnung","index":6,"n_rows":25,"n_cols":7,"rows_kept":25,"cut":false,"hidden":false,"merged":[[21,1,21,3],[21,5,24,6],[22,1,22,3],[23,1,23,3],[24,1,24,3],[17,1,17,3],[17,5,20,6],[18,1,18,3],[19,1,19,3],[20,1,20,3],[13,0,13,4],[14,1,14,3],[14,5,14,6],[15,1,15,3],[16,1,16,3],[9,1,9,3],[5,5,8,6],[9,5,12,6],[10,1,10,3],[11,1,11,3],[12,1,12,3],[4,1,4,3],[5,1,5,3],[6,1,6,3],[7,1,7,3],[8,1,8,3],[0,0,0,6],[1,0,1,4],[2,1,2,3],[2,5,2,6],[3,1,3,3]]}
[]
["Basis – Ration             Mischergröße",null,null,null,null,1000,"kg"]
["Kenn Nr.","Futtermittel",null,null,"kg."]
[{"$f":"Ration!A15","v":0},{"$f":"Ration!B15","v":0},null,null,{"$f":"IF(F2>0,F2*Ration!D15/1000,0)","v":0},"Tiere gesamt:",0]
[{"$f":"Ration!A16","v":0},{"$f":"Ration!B16","v":0},null,null,{"$f":"IF(F2>0,F2*Ration!D16/1000,0)","v":0},"kg je Tier/Tag:",0]
[{"$f":"Ration!A17","v":0},{"$f":"Ration!B17","v":0},null,null,{"$f":"IF(F2>0,F2*Ration!D17/1000,0)","v":0},"Die Mischung reicht für Tage :"]
[{"$f":"Ration!A18","v":0},{"$f":"Ration!B18","v":0},null,null,{"$f":"IF(F2>0,F2*Ration!D18/1000,0)","v":0}]
[{"$f":"Ration!A19","v":0},{"$f":"Ration!B19","v":0},null,null,{"$f":"IF(F2>0,F2*Ration!D19/1000,0)","v":0}]
[{"$f":"Ration!A20","v":0},{"$f":"Ration!B20","v":0},null,null,{"$f":"IF(F2>0,F2*Ration!D20/1000,0)","v":0}]
[{"$f":"Ration!A21","v":0},{"$f":"Ration!B21","v":0},null,null,{"$f":"IF(F2>0,F2*Ration!D21/1000,0)","v":0},{"$f":"IFERROR(F2/(G4*G5),\" \")","v":" "}]
[{"$f":"Ration!A22","v":0},{"$f":"Ration!B22","v":0},null,null,{"$f":"IF(F2>0,F2*Ration!D22/1000,0)","v":0}]
[{"$f":"Ration!A23","v":0},{"$f":"Ration!B23","v":0},null,null,{"$f":"IF(F2>0,F2*Ration!D23/1000,0)","v":0}]
[{"$f":"Ration!A24","v":0},{"$f":"Ration!B24","v":0},null,null,{"$f":"IF(F2>0,F2*Ration!D24/1000,0)","v":0}]
["Kraftfutter – Mischung 1          Mischergröße:",null,null,null,null,1000,"kg"]
["Kenn Nr.","Futtermittel",null,null,"kg."]
[{"$f":"'Mischung 1'!A15","v":0},{"$f":"'Mischung 1'!B15","v":0},null,null,{"$f":"IF(F14>0,F14*'Mischung 1'!D15/1000,0)","v":0},"Tiere gesamt:",0]
[{"$f":"'Mischung 1'!A16","v":0},{"$f":"'Mischung 1'!B16","v":0},null,null,{"$f":"IF(F14>0,F14*'Mischung 1'!D16/1000,0)","v":0},"kg je Tier/Tag:",0]
[{"$f":"'Mischung 1'!A17","v":0},{"$f":"'Mischung 1'!B17","v":0},null,null,{"$f":"IF(F14>0,F14*'Mischung 1'!D17/1000,0)","v":0},"Die Mischung reicht für Tage :"]
[{"$f":"'Mischung 1'!A18","v":0},{"$f":"'Mischung 1'!B18","v":0},null,null,{"$f":"IF(F14>0,F14*'Mischung 1'!D18/1000,0)","v":0}]
[{"$f":"'Mischung 1'!A19","v":0},{"$f":"'Mischung 1'!B19","v":0},null,null,{"$f":"IF(F14>0,F14*'Mischung 1'!D19/1000,0)","v":0}]
[{"$f":"'Mischung 1'!A20","v":0},{"$f":"'Mischung 1'!B20","v":0},null,null,{"$f":"IF(F14>0,F14*'Mischung 1'!D20/1000,0)","v":0}]
[{"$f":"'Mischung 1'!A21","v":0},{"$f":"'Mischung 1'!B21","v":0},null,null,{"$f":"IF(F14>0,F14*'Mischung 1'!D21/1000,0)","v":0},{"$f":"IFERROR(F14/(G16*G17),\" \")","v":" "}]
[{"$f":"'Mischung 1'!A22","v":0},{"$f":"'Mischung 1'!B22","v":0},null,null,{"$f":"IF(F14>0,F14*'Mischung 1'!D22/1000,0)","v":0}]
[{"$f":"'Mischung 1'!A23","v":0},{"$f":"'Mischung 1'!B23","v":0},null,null,{"$f":"IF(F14>0,F14*'Mischung 1'!D23/1000,0)","v":0}]
[{"$f":"'Mischung 1'!A24","v":0},{"$f":"'Mischung 1'!B24","v":0},null,null,{"$f":"IF(F14>0,F14*'Mischung 1'!D24/1000,0)","v":0}]

{"sheet":"Ausdruck","index":7,"n_rows":37,"n_cols":33,"rows_kept":37,"cut":false,"hidden":false,"merged":[[36,0,36,10],[36,11,36,21],[36,22,36,24],[35,22,35,24],[32,0,32,2],[33,0,33,2],[31,7,33,8],[34,0,34,10],[35,0,35,10],[35,11,35,21],[32,11,32,21],[31,11,31,21],[33,11,33,21],[34,11,34,21],[10,4,10,7],[11,4,11,7],[12,4,12,7],[25,0,25,10],[27,0,27,10],[7,1,7,3],[6,0,6,3],[4,0,4,3],[2,4,2,7],[3,4,3,7],[4,4,4,7],[5,4,5,7],[6,4,6,7],[7,4,7,7],[1,0,3,3],[1,4,1,10],[2,9,2,10],[3,9,3,10],[0,0,0,10],[7,9,7,10],[1,11,1,14],[2,11,2,14],[0,11,0,21],[30,0,30,10],[31,0,31,2],[5,9,5,10],[6,9,6,10],[4,9,4,10],[5,0,5,3],[9,0,9,3],[9,9,9,10],[8,0,8,1],[8,2,8,3],[8,9,8,10],[8,4,8,7],[9,4,9,7],[10,0,11,2],[10,3,11,3],[12,9,12,10],[10,9,10,10],[11,9,11,10],[12,0,12,3],[1,15,1,21],[6,11,6,14],[7,12,7,14],[8,11,8,12],[8,13,8,14],[9,11,9,14],[10,11,11,13],[10,14,11,14],[12,11,12,14],[12,15,12,18],[12,20,12,21],[29,11,29,21],[30,11,30,21],[11,15,11,18],[11,20,11,21],[9,15,9,18],[9,20,9,21],[10,15,10,18],[10,20,10,21],[7,15,7,18],[7,20,7,21],[8,15,8,18],[3,26,3,29],[4,22,4,25],[4,26,4,29],[1,22,1,25],[1,26,1,32],[2,22,2,25],[2,26,2,29],[2,31,2,32],[25,11,28,21],[8,20,8,21],[5,11,5,14],[5,15,5,18],[5,20,5,21],[6,15,6,18],[6,20,6,21],[3,15,3,18],[3,20,3,21],[4,11,4,14],[4,15,4,18],[4,20,4,21],[2,15,2,18],[2,20,2,21],[7,23,7,25],[7,26,7,29],[5,22,5,25],[5,26,5,29],[6,22,6,25],[6,26,6,29],[25,22,25,32],[33,22,33,32],[32,22,32,32],[12,22,12,25],[12,26,12,29],[29,22,29,32],[34,29,36,30],[34,22,34,24],[9,22,9,25],[9,26,9,29],[10,22,11,24],[10,25,11,25],[10,26,10,29],[11,26,11,29],[8,22,8,23],[8,24,8,25],[8,26,8,29]]}
[]
[null,null,null,null,{"$f":"Ration!B2","v":"Bitte Richtwerte auswählen  >>"},null,null,null,null,null,null,"Mischung 1",null,null,null,{"$f":"Ration!B2","v":"Bitte Richtwerte auswählen  >>"},null,null,null,null,null,null,"Grundfutter",null,null,null,{"$f":"Ration!B2","v":"Bitte Richtwerte auswählen  >>"}]
[null,null,null,null,"Futtermittelbezeichnung",null,null,null,"Anteil %","Mischungsanteil kg",null,"Ergänzung zur Grundration",null,null,null,"Futtermittelbezeichnung",null,null,null,"Anteil %","Mischungsanteil kg",null,"Gras, Silage, Heu usw.  + TF",null,null,null,"Futtermittelbezeichnung",null,null,null,"kg FM",{"$f":"Mengenberechnung!P16","v":0}]
[null,null,null,null,{"$f":"Ration!B15","v":0},null,null,null,{"$f":"Ration!C15","v":0},{"$f":"Mengenberechnung!E4","v":0},null,null,null,null,null,{"$f":"'Mischung 1'!B4","v":0},null,null,null,{"$f":"'Mischung 1'!C15","v":0},{"$f":"Mengenberechnung!E16","v":0},null,null,null,null,null,{"$f":"Grundfutter!B4","v":0},null,null,null,{"$f":"Grundfutter!D15","v":0}]
[{"$f":"Einstellung!C6","v":"Tierhaltungsschule"},null,null,null,{"$f":"Ration!B16","v":0},null,null,null,{"$f":"Ration!C16","v":0},{"$f":"Mengenberechnung!E5","v":0},null,{"$f":"Einstellung!C6","v":"Tierhaltungsschule"},null,null,null,{"$f":"'Mischung 1'!B5","v":0},null,null,null,{"$f":"'Mischung 1'!C16","v":0},{"$f":"Mengenberechnung!E17","v":0},null,{"$f":"Einstellung!C6","v":"Tierhaltungsschule"},null,null,null,{"$f":"Grundfutter!B5","v":0},null,null,null,{"$f":"Grundfutter!D16","v":0}]
[{"$f":"Einstellung!E6","v":"Triesdorf"},null,null,null,{"$f":"Ration!B17","v":0},null,null,null,{"$f":"Ration!C17","v":0},{"$f":"Mengenberechnung!E6","v":0},null,{"$f":"Einstellung!E6","v":"Triesdorf"},null,null,null,{"$f":"'Mischung 1'!B6","v":0},null,null,null,{"$f":"'Mischung 1'!C17","v":0},{"$f":"Mengenberechnung!E18","v":0},null,{"$f":"Einstellung!E6","v":"Triesdorf"},null,null,null,{"$f":"Grundfutter!B6","v":0},null,null,null,{"$f":"Grundfutter!D17","v":0}]
[{"$f":"Einstellung!C7","v":"Markgrafenstraße 1"},null,null,null,{"$f":"Ration!B18","v":0},null,null,null,{"$f":"Ration!C18","v":0},{"$f":"Mengenberechnung!E7","v":0},null,{"$f":"Einstellung!C7","v":"Markgrafenstraße 1"},null,null,null,{"$f":"'Mischung 1'!B7","v":0},null,null,null,{"$f":"'Mischung 1'!C18","v":0},{"$f":"Mengenberechnung!E19","v":0},null,{"$f":"Einstellung!C7","v":"Markgrafenstraße 1"},null,null,null,{"$f":"Grundfutter!B7","v":0},null,null,null,{"$f":"Grundfutter!D18","v":0}]
[{"$f":"Einstellung!C8","v":91746},{"$f":"Einstellung!D8","v":"Weidenbach"},null,null,{"$f":"Ration!B19","v":0},null,null,null,{"$f":"Ration!C19","v":0},{"$f":"Mengenberechnung!E8","v":0},null,{"$f":"Einstellung!C8","v":91746},{"$f":"Einstellung!D8","v":"Weidenbach"},null,null,{"$f":"'Mischung 1'!B8","v":0},null,null,null,{"$f":"'Mischung 1'!C19","v":0},{"$f":"Mengenberechnung!E20","v":0},null,{"$f":"Einstellung!C8","v":91746},{"$f":"Einstellung!D8","v":"Weidenbach"},null,null,{"$f":"Grundfutter!B8","v":0},null,null,null,{"$f":"Grundfutter!D19","v":0}]
["Betriebs - Nr. :",null,{"$f":"Einstellung!D10","v":"09 111 222 1234"},null,{"$f":"Ration!B20","v":0},null,null,null,{"$f":"Ration!C20","v":0},{"$f":"Mengenberechnung!E9","v":0},null,"Betriebs - Nr. :",null,{"$f":"Einstellung!D10","v":"09 111 222 1234"},null,{"$f":"'Mischung 1'!B9","v":0},null,null,null,{"$f":"'Mischung 1'!C20","v":0},{"$f":"Mengenberechnung!E21","v":0},null,"Betriebs - Nr. :",null,{"$f":"Einstellung!D10","v":"09 111 222 1234"},null,{"$f":"Grundfutter!B9","v":0},null,null,null,{"$f":"Grundfutter!D20","v":0}]
[null,null,null,null,{"$f":"Ration!B21","v":0},null,null,null,{"$f":"Ration!C21","v":0},{"$f":"Mengenberechnung!E10","v":0},null,null,null,null,null,{"$f":"'Mischung 1'!B10","v":0},null,null,null,{"$f":"'Mischung 1'!C21","v":0},{"$f":"Mengenberechnung!E22","v":0},null,null,null,null,null,{"$f":"Grundfutter!B10","v":0},null,null,null,{"$f":"Grundfutter!D21","v":0}]
[" Mischung in kg :",null,null,{"$f":"Mengenberechnung!F2","v":1000},{"$f":"Ration!B22","v":0},null,null,null,{"$f":"Ration!C22","v":0},{"$f":"Mengenberechnung!E11","v":0},null," Mischung in kg :",null,null,{"$f":"Mengenberechnung!F14","v":1000},{"$f":"'Mischung 1'!B11","v":0},null,null,null,{"$f":"'Mischung 1'!C22","v":0},{"$f":"Mengenberechnung!E23","v":0},null," + TF Basisration kg :",null,null,{"$f":"Grundfutter!D27","v":0},{"$f":"Grundfutter!B11","v":0},null,null,null,{"$f":"Grundfutter!D22","v":0}]
[null,null,null,null,{"$f":"Ration!B23","v":0},null,null,null,{"$f":"Ration!C23","v":0},{"$f":"Mengenberechnung!E12","v":0},null,null,null,null,null,{"$f":"'Mischung 1'!B12","v":0},null,null,null,{"$f":"'Mischung 1'!C23","v":0},{"$f":"Mengenberechnung!E24","v":0},null,null,null,null,null,{"$f":"Grundfutter!B12","v":0},null,null,null,{"$f":"Grundfutter!D23","v":0}]
[null,null,null,null,{"$f":"Ration!B24","v":0},null,null,null,{"$f":"Ration!C24","v":0},{"$f":"Mengenberechnung!E13","v":0},null,null,null,null,null,{"$f":"'Mischung 1'!B13","v":0},null,null,null,{"$f":"'Mischung 1'!C24","v":0},{"$f":"Mengenberechnung!E25","v":0},null,null,null,null,null,{"$f":"Grundfutter!B13","v":0},null,null,null,{"$f":"Grundfutter!D24","v":0}]
["Nr.","ME","XP g","Lys g","M+C g","Thr g","Trp g","XF g","Ca g","vP g","Na","Nr.","ME","XP g","Lys g","M+C g","Thr g","Trp g","XF g","Ca g","vP g","Na","Nr.","ME","XP g","Lys g","M+C g","Thr g","Trp g","XF g","Ca g","vP g","Na"]
[{"$f":"Ration!A15","v":0},{"$f":"Ration!F15","v":0},{"$f":"Ration!G15","v":0},{"$f":"Ration!H15","v":0},{"$f":"Ration!J15","v":0},{"$f":"Ration!K15","v":0},{"$f":"Ration!L15","v":0},{"$f":"Ration!M15","v":0},{"$f":"Ration!Q15","v":0},{"$f":"Ration!S15","v":0},{"$f":"Ration!U15","v":0},{"$f":"'Mischung 1'!A4","v":0},{"$f":"'Mischung 1'!F15","v":0},{"$f":"'Mischung 1'!G15","v":0},{"$f":"'Mischung 1'!H15","v":0},{"$f":"'Mischung 1'!J15","v":0},{"$f":"'Mischung 1'!K15","v":0},{"$f":"'Mischung 1'!L15","v":0},{"$f":"'Mischung 1'!M15","v":0},{"$f":"'Mischung 1'!Q15","v":0},{"$f":"'Mischung 1'!S15","v":0},{"$f":"'Mischung 1'!U15","v":0},{"$f":"Grundfutter!A4","v":0},{"$f":"Grundfutter!F15","v":0},{"$f":"Grundfutter!G15","v":0},{"$f":"Grundfutter!H15","v":0},{"$f":"Grundfutter!J15","v":0},{"$f":"Grundfutter!K15","v":0},{"$f":"Grundfutter!L15","v":0},{"$f":"Grundfutter!M15","v":0},{"$f":"Grundfutter!Q15","v":0},{"$f":"Grundfutter!S15","v":0},{"$f":"Grundfutter!U15","v":0}]
[{"$f":"Ration!A16","v":0},{"$f":"Ration!F16","v":0},{"$f":"Ration!G16","v":0},{"$f":"Ration!H16","v":0},{"$f":"Ration!J16","v":0},{"$f":"Ration!K16","v":0},{"$f":"Ration!L16","v":0},{"$f":"Ration!M16","v":0},{"$f":"Ration!Q16","v":0},{"$f":"Ration!S16","v":0},{"$f":"Ration!U16","v":0},{"$f":"'Mischung 1'!A5","v":0},{"$f":"'Mischung 1'!F16","v":0},{"$f":"'Mischung 1'!G16","v":0},{"$f":"'Mischung 1'!H16","v":0},{"$f":"'Mischung 1'!J16","v":0},{"$f":"'Mischung 1'!K16","v":0},{"$f":"'Mischung 1'!L16","v":0},{"$f":"'Mischung 1'!M16","v":" "},{"$f":"'Mischung 1'!Q16","v":0},{"$f":"'Mischung 1'!S16","v":0},{"$f":"'Mischung 1'!U16","v":0},{"$f":"Grundfutter!A5","v":0},{"$f":"Grundfutter!F16","v":0},{"$f":"Grundfutter!G16","v":0},{"$f":"Grundfutter!H16","v":0},{"$f":"Grundfutter!J16","v":0},{"$f":"Grundfutter!K16","v":0},{"$f":"Grundfutter!L16","v":0},{"$f":"Grundfutter!M16","v":" "},{"$f":"Grundfutter!Q16","v":0},{"$f":"Grundfutter!S16","v":0},{"$f":"Grundfutter!U16","v":0}]
[{"$f":"Ration!A17","v":0},{"$f":"Ration!F17","v":0},{"$f":"Ration!G17","v":0},{"$f":"Ration!H17","v":0},{"$f":"Ration!J17","v":0},{"$f":"Ration!K17","v":0},{"$f":"Ration!L17","v":0},{"$f":"Ration!M17","v":0},{"$f":"Ration!Q17","v":0},{"$f":"Ration!S17","v":0},{"$f":"Ration!U17","v":0},{"$f":"'Mischung 1'!A6","v":0},{"$f":"'Mischung 1'!F17","v":0},{"$f":"'Mischung 1'!G17","v":0},{"$f":"'Mischung 1'!H17","v":0},{"$f":"'Mischung 1'!J17","v":0},{"$f":"'Mischung 1'!K17","v":0},{"$f":"'Mischung 1'!L17","v":0},{"$f":"'Mischung 1'!M17","v":" "},{"$f":"'Mischung 1'!Q17","v":0},{"$f":"'Mischung 1'!S17","v":0},{"$f":"'Mischung 1'!U17","v":0},{"$f":"Grundfutter!A6","v":0},{"$f":"Grundfutter!F17","v":0},{"$f":"Grundfutter!G17","v":0},{"$f":"Grundfutter!H17","v":0},{"$f":"Grundfutter!J17","v":0},{"$f":"Grundfutter!K17","v":0},{"$f":"Grundfutter!L17","v":0},{"$f":"Grundfutter!M17","v":" "},{"$f":"Grundfutter!Q17","v":0},{"$f":"Grundfutter!S17","v":0},{"$f":"Grundfutter!U17","v":0}]
[{"$f":"Ration!A18","v":0},{"$f":"Ration!F18","v":0},{"$f":"Ration!G18","v":0},{"$f":"Ration!H18","v":0},{"$f":"Ration!J18","v":0},{"$f":"Ration!K18","v":0},{"$f":"Ration!L18","v":0},{"$f":"Ration!M18","v":0},{"$f":"Ration!Q18","v":0},{"$f":"Ration!S18","v":0},{"$f":"Ration!U18","v":0},{"$f":"'Mischung 1'!A7","v":0},{"$f":"'Mischung 1'!F18","v":0},{"$f":"'Mischung 1'!G18","v":0},{"$f":"'Mischung 1'!H18","v":0},{"$f":"'Mischung 1'!J18","v":0},{"$f":"'Mischung 1'!K18","v":0},{"$f":"'Mischung 1'!L18","v":0},{"$f":"'Mischung 1'!M18","v":" "},{"$f":"'Mischung 1'!Q18","v":0},{"$f":"'Mischung 1'!S18","v":0},{"$f":"'Mischung 1'!U18","v":0},{"$f":"Grundfutter!A7","v":0},{"$f":"Grundfutter!F18","v":0},{"$f":"Grundfutter!G18","v":0},{"$f":"Grundfutter!H18","v":0},{"$f":"Grundfutter!J18","v":0},{"$f":"Grundfutter!K18","v":0},{"$f":"Grundfutter!L18","v":0},{"$f":"Grundfutter!M18","v":" "},{"$f":"Grundfutter!Q18","v":0},{"$f":"Grundfutter!S18","v":0},{"$f":"Grundfutter!U18","v":0}]
[{"$f":"Ration!A19","v":0},{"$f":"Ration!F19","v":0},{"$f":"Ration!G19","v":0},{"$f":"Ration!H19","v":0},{"$f":"Ration!J19","v":0},{"$f":"Ration!K19","v":0},{"$f":"Ration!L19","v":0},{"$f":"Ration!M19","v":0},{"$f":"Ration!Q19","v":0},{"$f":"Ration!S19","v":0},{"$f":"Ration!U19","v":0},{"$f":"'Mischung 1'!A8","v":0},{"$f":"'Mischung 1'!F19","v":0},{"$f":"'Mischung 1'!G19","v":0},{"$f":"'Mischung 1'!H19","v":0},{"$f":"'Mischung 1'!J19","v":0},{"$f":"'Mischung 1'!K19","v":0},{"$f":"'Mischung 1'!L19","v":0},{"$f":"'Mischung 1'!M19","v":" "},{"$f":"'Mischung 1'!Q19","v":0},{"$f":"'Mischung 1'!S19","v":0},{"$f":"'Mischung 1'!U19","v":0},{"$f":"Grundfutter!A8","v":0},{"$f":"Grundfutter!F19","v":0},{"$f":"Grundfutter!G19","v":0},{"$f":"Grundfutter!H19","v":0},{"$f":"Grundfutter!J19","v":0},{"$f":"Grundfutter!K19","v":0},{"$f":"Grundfutter!L19","v":0},{"$f":"Grundfutter!M19","v":" "},{"$f":"Grundfutter!Q19","v":0},{"$f":"Grundfutter!S19","v":0},{"$f":"Grundfutter!U19","v":0}]
[{"$f":"Ration!A20","v":0},{"$f":"Ration!F20","v":0},{"$f":"Ration!G20","v":0},{"$f":"Ration!H20","v":0},{"$f":"Ration!J20","v":0},{"$f":"Ration!K20","v":0},{"$f":"Ration!L20","v":0},{"$f":"Ration!M20","v":0},{"$f":"Ration!Q20","v":0},{"$f":"Ration!S20","v":0},{"$f":"Ration!U20","v":0},{"$f":"'Mischung 1'!A9","v":0},{"$f":"'Mischung 1'!F20","v":0},{"$f":"'Mischung 1'!G20","v":0},{"$f":"'Mischung 1'!H20","v":0},{"$f":"'Mischung 1'!J20","v":0},{"$f":"'Mischung 1'!K20","v":0},{"$f":"'Mischung 1'!L20","v":0},{"$f":"'Mischung 1'!M20","v":" "},{"$f":"'Mischung 1'!Q20","v":0},{"$f":"'Mischung 1'!S20","v":0},{"$f":"'Mischung 1'!U20","v":0},{"$f":"Grundfutter!A9","v":0},{"$f":"Grundfutter!F20","v":0},{"$f":"Grundfutter!G20","v":0},{"$f":"Grundfutter!H20","v":0},{"$f":"Grundfutter!J20","v":0},{"$f":"Grundfutter!K20","v":0},{"$f":"Grundfutter!L20","v":0},{"$f":"Grundfutter!M20","v":" "},{"$f":"Grundfutter!Q20","v":0},{"$f":"Grundfutter!S20","v":0},{"$f":"Grundfutter!U20","v":0}]
[{"$f":"Ration!A21","v":0},{"$f":"Ration!F21","v":0},{"$f":"Ration!G21","v":0},{"$f":"Ration!H21","v":0},{"$f":"Ration!J21","v":0},{"$f":"Ration!K21","v":0},{"$f":"Ration!L21","v":0},{"$f":"Ration!M21","v":0},{"$f":"Ration!Q21","v":0},{"$f":"Ration!S21","v":0},{"$f":"Ration!U21","v":0},{"$f":"'Mischung 1'!A10","v":0},{"$f":"'Mischung 1'!F21","v":0},{"$f":"'Mischung 1'!G21","v":0},{"$f":"'Mischung 1'!H21","v":0},{"$f":"'Mischung 1'!J21","v":0},{"$f":"'Mischung 1'!K21","v":0},{"$f":"'Mischung 1'!L21","v":0},{"$f":"'Mischung 1'!M21","v":" "},{"$f":"'Mischung 1'!Q21","v":0},{"$f":"'Mischung 1'!S21","v":0},{"$f":"'Mischung 1'!U21","v":0},{"$f":"Grundfutter!A10","v":0},{"$f":"Grundfutter!F21","v":0},{"$f":"Grundfutter!G21","v":0},{"$f":"Grundfutter!H21","v":0},{"$f":"Grundfutter!J21","v":0},{"$f":"Grundfutter!K21","v":0},{"$f":"Grundfutter!L21","v":0},{"$f":"Grundfutter!M21","v":" "},{"$f":"Grundfutter!Q21","v":0},{"$f":"Grundfutter!S21","v":0},{"$f":"Grundfutter!U21","v":0}]
[{"$f":"Ration!A22","v":0},{"$f":"Ration!F22","v":0},{"$f":"Ration!G22","v":0},{"$f":"Ration!H22","v":0},{"$f":"Ration!J22","v":0},{"$f":"Ration!K22","v":0},{"$f":"Ration!L22","v":0},{"$f":"Ration!M22","v":0},{"$f":"Ration!Q22","v":0},{"$f":"Ration!S22","v":0},{"$f":"Ration!U22","v":0},{"$f":"'Mischung 1'!A11","v":0},{"$f":"'Mischung 1'!F22","v":0},{"$f":"'Mischung 1'!G22","v":0},{"$f":"'Mischung 1'!H22","v":0},{"$f":"'Mischung 1'!J22","v":0},{"$f":"'Mischung 1'!K22","v":0},{"$f":"'Mischung 1'!L22","v":0},{"$f":"'Mischung 1'!M22","v":" "},{"$f":"'Mischung 1'!Q22","v":0},{"$f":"'Mischung 1'!S22","v":0},{"$f":"'Mischung 1'!U22","v":0},{"$f":"Grundfutter!A11","v":0},{"$f":"Grundfutter!F22","v":0},{"$f":"Grundfutter!G22","v":0},{"$f":"Grundfutter!H22","v":0},{"$f":"Grundfutter!J22","v":0},{"$f":"Grundfutter!K22","v":0},{"$f":"Grundfutter!L22","v":0},{"$f":"Grundfutter!M22","v":" "},{"$f":"Grundfutter!Q22","v":0},{"$f":"Grundfutter!S22","v":0},{"$f":"Grundfutter!U22","v":0}]
[{"$f":"Ration!A23","v":0},{"$f":"Ration!F23","v":0},{"$f":"Ration!G23","v":0},{"$f":"Ration!H23","v":0},{"$f":"Ration!J23","v":0},{"$f":"Ration!K23","v":0},{"$f":"Ration!L23","v":0},{"$f":"Ration!M23","v":0},{"$f":"Ration!Q23","v":0},{"$f":"Ration!S23","v":0},{"$f":"Ration!U23","v":0},{"$f":"'Mischung 1'!A12","v":0},{"$f":"'Mischung 1'!F23","v":0},{"$f":"'Mischung 1'!G23","v":0},{"$f":"'Mischung 1'!H23","v":0},{"$f":"'Mischung 1'!J23","v":0},{"$f":"'Mischung 1'!K23","v":0},{"$f":"'Mischung 1'!L23","v":0},{"$f":"'Mischung 1'!M23","v":" "},{"$f":"'Mischung 1'!Q23","v":0},{"$f":"'Mischung 1'!S23","v":0},{"$f":"'Mischung 1'!U23","v":0},{"$f":"Grundfutter!A12","v":0},{"$f":"Grundfutter!F23","v":0},{"$f":"Grundfutter!G23","v":0},{"$f":"Grundfutter!H23","v":0},{"$f":"Grundfutter!J23","v":0},{"$f":"Grundfutter!K23","v":0},{"$f":"Grundfutter!L23","v":0},{"$f":"Grundfutter!M23","v":" "},{"$f":"Grundfutter!Q23","v":0},{"$f":"Grundfutter!S23","v":0},{"$f":"Grundfutter!U23","v":0}]
[{"$f":"Ration!A24","v":0},{"$f":"Ration!F24","v":0},{"$f":"Ration!G24","v":0},{"$f":"Ration!H24","v":0},{"$f":"Ration!J24","v":0},{"$f":"Ration!K24","v":0},{"$f":"Ration!L24","v":0},{"$f":"Ration!M24","v":0},{"$f":"Ration!Q24","v":0},{"$f":"Ration!S24","v":0},{"$f":"Ration!U24","v":0},{"$f":"'Mischung 1'!A13","v":0},{"$f":"'Mischung 1'!F24","v":0},{"$f":"'Mischung 1'!G24","v":0},{"$f":"'Mischung 1'!H24","v":0},{"$f":"'Mischung 1'!J24","v":0},{"$f":"'Mischung 1'!K24","v":0},{"$f":"'Mischung 1'!L24","v":0},{"$f":"'Mischung 1'!M24","v":" "},{"$f":"'Mischung 1'!Q24","v":0},{"$f":"'Mischung 1'!S24","v":0},{"$f":"'Mischung 1'!U24","v":0},{"$f":"Grundfutter!A13","v":0},{"$f":"Grundfutter!F24","v":0},{"$f":"Grundfutter!G24","v":0},{"$f":"Grundfutter!H24","v":0},{"$f":"Grundfutter!J24","v":0},{"$f":"Grundfutter!K24","v":0},{"$f":"Grundfutter!L24","v":0},{"$f":"Grundfutter!M24","v":" "},{"$f":"Grundfutter!Q24","v":0},{"$f":"Grundfutter!S24","v":0},{"$f":"Grundfutter!U24","v":0}]
["Ges.",{"$f":"Ration!F28","v":0},{"$f":"Ration!G28","v":0},{"$f":"Ration!H28","v":0},{"$f":"Ration!J28","v":0},{"$f":"Ration!K28","v":0},{"$f":"Ration!L28","v":0},{"$f":"Ration!M28","v":0},{"$f":"Ration!Q28","v":0},{"$f":"Ration!S28","v":0},{"$f":"Ration!U28","v":0},"Ges.",{"$f":"SUM(M15:M24)","v":0},{"$f":"SUM(N15:N24)","v":0},{"$f":"SUM(O15:O24)","v":0},0,0,0,0,0,0,0,"GF",{"$f":"SUM(X15:X24)","v":0},{"$f":"SUM(Y15:Y24)","v":0},{"$f":"SUM(Z15:Z24)","v":0},0,0,0,0,0,0,0]
[null,null,null,null,null,null,null,null,null,null,null,"Diese Mischung ist eine Ergänzung zur Grundration. Im Tabellenblatt Grundration wird der Anteil von Mischung 1 am Gesamtfutter festgelegt. Zur Berechnung von Grundration und Mischung 1 dürfen nur Trockenfutter eingesetzt werden. Alle Inhaltsangaben beziehen sich auf 1 kg TF."]
["Sollwerte",{"$f":"Ration!F29","v":0},{"$f":"Ration!G29","v":0},{"$f":"Ration!H29","v":0},{"$f":"Ration!J29","v":0},{"$f":"Ration!K29","v":0},{"$f":"Ration!L29","v":0},{"$f":"Ration!M29","v":0},{"$f":"Ration!Q29","v":0},{"$f":"Ration!S29","v":0},{"$f":"Ration!U29","v":0},null,null,null,null,null,null,null,null,null,null,null," + TF",{"$f":"Grundfutter!F27","v":0},{"$f":"Grundfutter!G27","v":0},{"$f":"Grundfutter!H27","v":0},{"$f":"Grundfutter!J27","v":0},{"$f":"Grundfutter!K27","v":0},{"$f":"Grundfutter!L27","v":0},{"$f":"Grundfutter!M27","v":0},{"$f":"Grundfutter!Q27","v":0},{"$f":"Grundfutter!S27","v":0},{"$f":"Grundfutter!U27","v":0}]
[]
[" + / - ",{"$f":"Ration!F30","v":0},{"$f":"Ration!G30","v":0},{"$f":"Ration!H30","v":0},{"$f":"Ration!J30","v":0},{"$f":"Ration!K30","v":0},{"$f":"Ration!L30","v":0},{"$f":"Ration!M30","v":0},{"$f":"Ration!Q30","v":0},{"$f":"Ration!S30","v":0},{"$f":"Ration!U30","v":0},null,null,null,null,null,null,null,null,null,null,null,"Gesamt",{"$f":"Grundfutter!F28","v":0},{"$f":"Grundfutter!G28","v":0},{"$f":"Grundfutter!H28","v":0},{"$f":"Grundfutter!J28","v":0},{"$f":"Grundfutter!K28","v":0},{"$f":"Grundfutter!L28","v":0},{"$f":"Grundfutter!M28","v":0},{"$f":"Grundfutter!Q28","v":0},{"$f":"Grundfutter!S28","v":0},{"$f":"Grundfutter!U28","v":0}]
[]
["Aminosäuren Relation Lys : M+C : Thr : Trp   und Verhältnis  Ca : vP ",null,null,null,null,null,null,null,null,null,null,null,null,null,null,null,null,null,null,null,null,null,"Sollwerte",{"$f":"Grundfutter!F30","v":0},{"$f":"Grundfutter!G30","v":0},{"$f":"Grundfutter!H30","v":0},{"$f":"Grundfutter!J30","v":0},{"$f":"Grundfutter!K30","v":0},{"$f":"Grundfutter!L30","v":0},{"$f":"Grundfutter!M30","v":0},{"$f":"Grundfutter!Q30","v":0},{"$f":"Grundfutter!S30","v":0},{"$f":"Grundfutter!U30","v":0}]
[null,null,null,"Lys","M+C","Thr","Trp",null,null,"Ca","vP",null,null,null,null,null,null,null,null,null,null,null," + / - ",{"$f":"Grundfutter!F31","v":0},{"$f":"Grundfutter!G31","v":0},{"$f":"Grundfutter!H31","v":0},{"$f":"Grundfutter!J31","v":0},{"$f":"Grundfutter!K31","v":0},{"$f":"Grundfutter!L31","v":0},{"$f":"Grundfutter!M31","v":0},{"$f":"Grundfutter!Q31","v":0},{"$f":"Grundfutter!S31","v":0},{"$f":"Grundfutter!U31","v":0}]
["Basis - Ration",null,null,{"$f":"Ration!F35","v":0},{"$f":"Ration!G35","v":0},{"$f":"Ration!H35","v":0},{"$f":"Ration!I35","v":0},null,null,{"$f":"Ration!Q35","v":0},{"$f":"Ration!R35","v":0}]
["Sollwert laut Tabelle",null,null,{"$f":"Ration!F33","v":0},{"$f":"Ration!G33","v":0},{"$f":"Ration!H33","v":0},{"$f":"Ration!I33","v":0},null,null,{"$f":"Ration!Q33","v":0},{"$f":"Ration!R33","v":0},null,null,null,null,null,null,null,null,null,null,null,"Aminosäuren Relation Lys : M+C : Thr : Trp   und Verhältnis  Ca : vP "]
[null,null,null,null,null,null,null,null,null,null,null,null,null,null,null,null,null,null,null,null,null,null,null,null,null,"Lys","M+C","Thr","Trp",null,null,"Ca","vP"]
[null,null,null,null,null,null,null,null,null,null,null,null,null,null,null,null,null,null,null,null,null,null,"Grundfutter + Trockenfutter",null,null,{"$f":"Grundfutter!F36","v":0},{"$f":"Grundfutter!G36","v":0},{"$f":"Grundfutter!H36","v":0},{"$f":"Grundfutter!I36","v":0},null,null,{"$f":"Grundfutter!Q36","v":0},{"$f":"Grundfutter!R36","v":0}]
[null,null,null,null,null,null,null,null,null,null,null,null,null,null,null,null,null,null,null,null,null,null,"Sollwert laut Tabelle",null,null,{"$f":"Grundfutter!F34","v":0},{"$f":"Grundfutter!G34","v":0},{"$f":"Grundfutter!H34","v":0},{"$f":"Grundfutter!I34","v":0},null,null,{"$f":"Grundfutter!Q34","v":0},{"$f":"Grundfutter!R34","v":0}]