{"text_format":"1","workbook":"xlsx","n_sheets":8,"sheets":["Einstellung","Sollwerte","Ration","Mischung 1","Mischung 2","Gruber Tabelle","Mengenberechnung","Ausdruck"],"not_rendered":{"charts":0,"images":17,"macros":1,"external_links":0,"defined_names":4,"comments":2,"pivot_tables":0},"unopened":[],"bounds":{"document_bytes":16777216,"sheet_cells":100000,"rows_first":2000,"rows_last":500,"rows_between":2000,"halvings":0,"cell_chars":16384,"cell_head_chars":4096},"cells_cut":0,"cells_raw":0,"read":"whole","date_system":"1900"}

{"sheet":"Einstellung","index":0,"n_rows":17,"n_cols":6,"rows_kept":17,"cut":false,"hidden":false,"merged":[[1,1,1,16],[15,1,15,4],[16,1,16,4],[4,5,23,16],[6,2,6,4],[7,1,7,4],[10,1,10,4],[11,1,11,4],[12,1,12,4],[13,1,13,4],[2,5,2,16],[3,5,3,16],[2,1,3,4],[14,1,14,4],[8,1,9,4],[24,1,24,12],[4,3,4,4],[4,1,4,2],[5,1,5,4]]}
[]
[]
[null,"Adressfelder bitte bearbeiten. Diese sind zur Dokumentation von Futtermischungen nötig.",null,null,null,"Futterberechnung zur Fütterung in der Rindermast"]
[null,null,null,null,null,"Gruber Tabelle, 28. Auflage / Januar 2024        www.LfL.bayern.de"]
[null,"Tierhaltungsschule",null,"Triesdorf"]
[null,"Markgrafenstraße 12"]
[null,91746,"Weidenbach"]
[null,"09 111 111 1111"]
[]
[]
[null,"Freie Software  -  Keinerlei Gewährleistung !"]
[null,"10. Mai 2024"]
[null,"Tierhaltungsschule Triesdorf"]
[]
[null,"ths@triesdorf.de"]
[]
[null,"www.triesdorf.de"]

{"sheet":"Sollwerte","index":1,"n_rows":80,"n_cols":16,"rows_kept":80,"cut":false,"hidden":false,"merged":[[1,1,2,13],[0,1,0,13]]}
[]
[null,"Richtwerte zur Futteraufnahme (TM-Tag) , Empfehlungen zur Energieversorgung (MJ ME) und Rohproteinversorgung (XP) pro Tag"]
[]
[null,"Tiere zur Mast","Kenn - Nr.","TM g","aNDF %","XP g","XP/kg TM","ME/MJ","ME/kgTM"," Ca g","P g","Mg g","Na g","K g","LM","Faktor"]
[null,"Bitte Sollwerte auswählen  !!!",0,0,null,0,null,0,null,0,0,0,0,0,null,"zur Ber. von pabKH und NDF"]
[null,"Fresserfütterung  LM 100  - mittl. ZN 1000 g  ",1,1700,25,264,152,20.399999999999999,11.77,16.600000000000001,7.7,3,2.5,17.5,100,{"$f":"IF(O6>0,700^0.62/O6^0.62,0)","v":3.3416486480802288}]
[null,"Fresserfütterung  LM 100  - mittl. ZN 1150 g ",2,1800,25,296,162,22.5,12.3,18.5,8.6,3.3,2.8,18.5,100,{"$f":"IF(O7>0,700^0.62/O7^0.62,0)","v":3.3416486480802288}]
[null,"Fresserfütterung  LM 100  - mittl. ZN 1300 g ",3,1900,25,330,171,24.7,12.78,20.399999999999999,9.5,3.6,3,19.5,100,3.3416486480802288]
[null,"Fresserfütterung  LM 140  - mittl. ZN 1000 g ",4,3300,25,478,145,37.799999999999997,11.47,31.9,13.3,5.4,4.5,31.5,140,2.7124478848111053]
[null,"Fresserfütterung  LM 140  - mittl. ZN 1150 g ",5,3500,25,540,154,42,11.97,35.1,14.6,5.8,4.9000000000000004,33.4,140,2.7124478848111053]
[null,"Fresserfütterung  LM 140  - mittl. ZN 1300 g ",6,3700,25,606,162,46.4,12.43,38.299999999999997,16,6.2,5.2,35.299999999999997,140,2.7124478848111053]
[null,"Fresserfütterung  LM 200  - mittl. ZN 1000 g ",7,4500,25,603,134,49.8,11.06,43.8,17,7.4,6.3,46.8,200,2.1743136259638773]
[null,"Fresserfütterung  LM 200  - mittl. ZN 1150 g ",8,4900,25,713,146,57.6,11.76,49.4,19.100000000000001,8.1,6.9,50.6,200,2.1743136259638773]
[null,"Fresserfütterung  LM 200  - mittl. ZN 1300 g ",9,5300,25,830,156,65.7,12.34,55,21.1,8.9,7.5,54.5,200,2.1743136259638773]
[null,10,10,null,null,null,null,null,null,null,null,null,null,null,null,0]
[null,"Mastbullen LM 200 - mittlere ZN 1250 g",11,4900,25,666,137,55.4,11.4,41,18.899999999999999,6.9,5.9,43.8,200,2.1743136259638773]
[null,"Mastbullen LM 200 - mittlere ZN 1350 g",12,5000,25,702,141,57.7,11.6,43.4,20,7.3,6.1,45.4,200,2.1743136259638773]
[null,"Mastbullen LM 200 - mittlere ZN 1450 g",13,5100,25,738,144,60,11.73,45.9,21.1,7.6,6.4,47.1,200,2.1743136259638773]
[null,"Mastbullen LM 300 - mittlere ZN 1250 g",14,6600,25,861,131,75.099999999999994,11.4,47.4,22.6,8.9,7.6,60,300,1.691007784576364]
[null,"Mastbullen LM 300 - mittlere ZN 1350 g",15,6700,25,900,133,77.8,11.53,49.9,23.7,9.3000000000000007,7.9,61.8,300,1.691007784576364]
[null,"Mastbullen LM 300 - mittlere ZN 1450 g",16,6900,25,938,136,80.5,11.65,52.4,24.9,9.6,8.1999999999999993,63.7,300,1.691007784576364]
[null,"Mastbullen LM 400 - mittlere ZN 1250 g",17,8000,25,1009,126,91.1,11.36,50.4,24.7,10.4,8.9,72.900000000000006,400,1.414762664162255]
[null,"Mastbullen LM 400 - mittlere ZN 1350 g",18,8200,25,1050,128,94.2,11.48,52.9,25.8,10.8,9.1999999999999993,74.8,400,1.414762664162255]
[null,"Mastbullen LM 400 - mittlere ZN 1450 g",19,8400,25,1091,130,97.3,11.59,55.4,27,11.1,9.5,76.8,400,1.414762664162255]
[null,"Mastbullen LM 500 - mittlere ZN 1250 g",20,9100,25,1119,122,103.5,11.31,50.9,25.6,11.4,9.8000000000000007,82.8,500,1.2319678718225184]
[null,"Mastbullen LM 500 - mittlere ZN 1350 g",21,9400,25,1161,124,106.9,11.42,53.4,26.7,11.8,10.1,84.8,500,1.2319678718225184]
[null,"Mastbullen LM 500 - mittlere ZN 1450 g",22,9600,25,1204,126,110.4,11.53,55.9,27.9,12.1,10.4,86.8,500,1.2319678718225184]
[null,"Mastbullen LM 600 - mittlere ZN 1250 g",23,10000,25,1204,120,112.7,11.23,50,25.8,12.1,10.4,90.3,600,1.1002896039736794]
[null,"Mastbullen LM 600 - mittlere ZN 1350 g",24,10300,25,1248,122,116.6,11.36,52.4,26.9,12.4,10.7,92.3,600,1.1002896039736794]
[null,"Mastbullen LM 600 - mittlere ZN 1450 g",25,10500,25,1292,123,120.5,11.47,54.9,28.1,12.8,11,94.4,600,1.1002896039736794]
[null,"Mastbullen LM 700 - mittlere ZN 1250 g",26,10800,25,1281,119,120.1,11.17,48.8,25.7,12.5,10.8,96.2,700,1]
[null,"Mastbullen LM 700 - mittlere ZN 1350 g",27,11000,25,1326,120,124.4,11.3,51.1,26.8,12.9,11.1,98.3,700,1]
[null,"Mastbullen LM 700 - mittlere ZN 1450 g",28,11300,25,1372,122,128.6,11.41,53.5,27.9,13.3,11.4,100.5,700,1]
[null,"Mastbullen LM 800 - mittlere ZN 1250 g",29,11400,25,1368,119,127.5,11.14,48,25.8,13,11.2,101.5,800,0.92054493519544134]
[null,"Mastbullen LM 800 - mittlere ZN 1350 g",30,11700,25,1415,121,132.19999999999999,11.27,50.4,26.9,13.4,11.5,103.6,800,0.92054493519544134]
[null,"Mastbullen LM 800 - mittlere ZN 1450 g",31,12000,25,1462,122,136.80000000000001,11.39,52.7,28,13.8,11.9,105.8,800,0.92054493519544134]
[null,32,32,null,null,null,null,null,null,null,null,null,null,null,null,0]
[null,"Ochsenmast LM 250 - mittlere ZN   800 g",33,5000,25,629,126,55.5,11.1,33.1,15.8,6.5,4.7,45.8,250,1.8933808463482398]
[null,"Ochsenmast LM 250 - mittlere ZN 1000 g",34,5400,25,697,129,61.1,11.33,39.6,18.5,7.3,5.2,49.7,250,1.8933808463482398]
[null,"Ochsenmast LM 250 - mittlere ZN 1200 g",35,5800,25,766,133,66.7,11.56,46.1,21.2,8.1,5.8,53.4,250,1.8933808463482398]
[null,"Ochsenmast LM 350 - mittlere ZN   800 g",36,6600,25,812,124,71,10.84,37.5,18.5,8.1999999999999993,5.9,59.6,350,1.5368751812880119]
[null,"Ochsenmast LM 350 - mittlere ZN 1000 g",37,7000,25,888,127,77.5,11.04,44.2,21.3,9,6.5,64.2,350,1.5368751812880119]
[null,"Ochsenmast LM 350 - mittlere ZN 1200 g",38,7500,25,964,129,84.1,11.26,50.8,24.1,9.9,7.1,68.5,350,1.5368751812880119]
[null,"Ochsenmast LM 450 - mittlere ZN   800 g",39,7800,25,958,123,83.3,10.67,39.299999999999997,20,9.4,6.8,70.7,450,1.3151310341580724]
[null,"Ochsenmast LM 450 - mittlere ZN 1000 g",40,8400,25,1042,125,90.8,10.87,46.2,23,10.3,7.5,75.900000000000006,450,1.3151310341580724]
[null,"Ochsenmast LM 450 - mittlere ZN 1200 g",41,8900,25,1127,127,98.3,11.07,52.9,25.9,11.2,8.1,81,450,1.3151310341580724]
[null,"Ochsenmast LM 550 - mittlere ZN   800 g",42,8700,25,1060,122,91.5,10.55,38.200000000000003,20.2,10.1,7.3,78.2,550,1.1612772479832225]
[null,"Ochsenmast LM 550 - mittlere ZN 1000 g",43,9300,25,1152,124,99.9,10.73,45.2,23.3,11.1,8,84.2,550,1.1612772479832225]
[null,"Ochsenmast LM 550 - mittlere ZN 1200 g",44,9900,25,1244,125,108.4,10.92,52.2,26.3,12.1,8.6999999999999993,90,550,1.1612772479832225]
[null,"Ochsenmast LM 650 - mittlere ZN   800 g",45,9100,25,1109,122,94.4,10.41,34.1,18.899999999999999,10.1,7.4,81.3,650,1.0470188575265318]
[null,"Ochsenmast LM 650 - mittlere ZN 1000 g",46,9800,25,1209,123,103.8,10.6,41.3,22.1,11.2,8.1999999999999993,88.1,650,1.0470188575265318]
[null,"Ochsenmast LM 650 - mittlere ZN 1200 g",47,10500,25,1308,125,113.2,10.78,48.4,25.3,12.3,9,94.8,650,1.0470188575265318]
[null,48,48,null,null,null,null,null,null,null,null,null,null,null,null,0]
[null,"Färsenmast LM 200 - mittlere ZN    800 g",49,4400,25,559,127,49.2,11.14,31.7,14.9,5.9,4.3,40.9,200,2.1743136259638773]
[null,"Färsenmast LM 200 - mittlere ZN  950 g",50,4700,25,609,129,53.4,11.3,36.6,16.899999999999999,6.5,4.7,44,200,2.1743136259638773]
[null,"Färsenmast LM 200 - mittlere ZN  1100 g",51,5000,25,658,131,57.6,11.47,41.5,19,7.1,5.0999999999999996,46.9,200,2.1743136259638773]
[null,"Färsenmast LM 300 - mittlere ZN    800 g",52,6200,25,767,124,67,10.83,37.1,18.100000000000001,7.8,5.7,56.8,300,1.691007784576364]
[null,"Färsenmast LM 300 - mittlere ZN  950 g",53,6600,25,826,126,72,10.97,42.2,20.3,8.5,6.1,60.4,300,1.691007784576364]
[null,"Färsenmast LM 300 - mittlere ZN  1100 g",54,6900,25,885,128,77,11.12,47.2,22.4,9.1,6.6,63.8,300,1.691007784576364]
[null,"Färsenmast LM 400 - mittlere ZN    800 g",55,7600,25,927,122,80.599999999999994,10.57,39.299999999999997,19.899999999999999,9.1999999999999993,6.7,69.400000000000006,400,1.414762664162255]
[null,"Färsenmast LM 400 - mittlere ZN  950 g",56,8100,25,994,123,86.5,10.73,44.5,22.1,9.9,7.2,73.599999999999994,400,1.414762664162255]
[null,"Färsenmast LM 400 - mittlere ZN  1100 g",57,8500,25,1062,125,92.3,10.87,49.6,24.4,10.7,7.7,77.7,400,1.414762664162255]
[null,"Färsenmast LM 500 - mittlere ZN    800 g",58,8600,25,1021,119,88.7,10.33,38,20.100000000000001,10,7.2,77.7,500,1.2319678718225184]
[null,"Färsenmast LM 500 - mittlere ZN  950 g",59,9100,25,1097,120,95.4,10.47,43.3,22.4,10.8,7.8,82.6,500,1.2319678718225184]
[null,"Färsenmast LM 500 - mittlere ZN  1100 g",60,9600,25,1174,122,102,10.61,48.6,24.7,11.6,8.4,87.4,500,1.2319678718225184]
[null,"Färsenmast LM 600 - mittlere ZN    800 g",61,9000,25,1035,116,89.8,10.029999999999999,32.9,18.399999999999999,9.9,7.3,80.599999999999994,600,1.1002896039736794]
[null,"Färsenmast LM 600 - mittlere ZN  950 g",62,9600,25,1120,117,97.3,10.18,38.4,20.9,10.8,7.9,86.2,600,1.1002896039736794]
[null,"Färsenmast LM 600 - mittlere ZN  1100 g",63,10200,25,1205,119,104.8,10.32,43.9,23.3,11.7,8.5,91.7,600,1.1002896039736794]
[null,64,64,null,null,null,null,null,null,null,null,null,null,null,null,0]
[null,65,65,null,null,null,null,null,null,null,null,null,null,null,null,0]
[null,"Aufzuchtrinder LM 200 - mittlere ZN 700 g",66,4600,25,561,121,46.5,10.01,33.1,15.4,6.1,4.4000000000000004,41.6,200,2.1743136259638773]
[null,"Aufzuchtrinder LM 200 - mittlere ZN 850 g",67,4900,25,605,123,49.9,10.119999999999999,37.9,17.399999999999999,6.7,4.8,44.4,200,2.1743136259638773]
[null,"Aufzuchtrinder LM 400 - mittlere ZN 700 g",68,7200,25,846,117,66.5,9.23,33,17.2,8.4,6,64.3,400,1.414762664162255]
[null,"Aufzuchtrinder LM 400 - mittlere ZN 850 g",69,7400,25,889,120,70.599999999999994,9.49,38,19.2,9,6.5,67.599999999999994,400,{"$f":"IF(O74>0,700^0.62/O74^0.62,0)","v":1.414762664162255}]
[null,"Aufzuchtrinder LM 600 - mittlere ZN 700 g",70,8700,25,1035,119,84.2,9.7200000000000006,36.200000000000003,19.399999999999999,10,7.2,78.099999999999994,600,1.1002896039736794]
[null,"Aufzuchtrinder LM 600 - mittlere ZN 850 g",71,8900,25,1081,122,89,10.02,41.2,21.6,10.6,7.7,81.900000000000006,600,1.1002896039736794]
[null,72,72,null,null,null,null,null,null,null,null,null,null,null,null,0]
[null,73,73,null,null,null,null,null,null,null,null,null,null,null,null,0]
[null,74,74,null,null,null,null,null,null,null,null,null,null,null,null,0]
[null,75,75,null,null,null,null,null,null,null,null,null,null,null,null,0]

{"sheet":"Ration","index":2,"n_rows":35,"n_cols":18,"rows_kept":35,"cut":false,"hidden":false,"merged":[[29,0,30,2],[25,0,25,2],[26,0,26,2],[0,0,0,16],[24,0,24,2],[28,0,28,2],[27,0,27,2],[1,0,1,4],[1,6,1,16],[3,5,12,5]]}
[]
["Bitte Sollwerte auswählen  !!!"]
["Nr ","Futterart","TM %","TM g","FM kg Ration",null,"aNDF om g","Rohprotein g","ME MJ","XS+XZ","bXS","Ca","P","Mg","Na","K","Preis / dt FM","Typ"]
[null,{"$f":"IFERROR(VLOOKUP(A4,'Gruber Tabelle'!$A$6:$U$336,2,0),0)","v":0},{"$f":"IFERROR(VLOOKUP(A4,'Gruber Tabelle'!$A$6:$U$336,3,0)/1000,0)","v":0},{"$f":"IFERROR(VLOOKUP(A4,'Gruber Tabelle'!$A$6:$U$336,3,0),0)","v":0},{"$f":"IFERROR(F15/C15,0)","v":0},"in 1000 g Trockenmasse",{"$f":"IFERROR(VLOOKUP(A4,'Gruber Tabelle'!$A$6:$U$336,5,0),0)","v":0},{"$f":"IFERROR(VLOOKUP(A4,'Gruber Tabelle'!$A$6:$U$336,7,0),0)","v":0},{"$f":"IFERROR(VLOOKUP(A4,'Gruber Tabelle'!$A$6:$U$336,12,0),0)","v":0},{"$f":"IFERROR(VLOOKUP(A4,'Gruber Tabelle'!$A$6:$U$336,13,0),0)","v":0},{"$f":"IFERROR(VLOOKUP(A4,'Gruber Tabelle'!$A$6:$U$336,14,0),0)","v":0},{"$f":"IFERROR(VLOOKUP(A4,'Gruber Tabelle'!$A$6:$U$336,16,0),0)","v":0},{"$f":"IFERROR(VLOOKUP(A4,'Gruber Tabelle'!$A$6:$U$336,17,0),0)","v":0},{"$f":"IFERROR(VLOOKUP(A4,'Gruber Tabelle'!$A$6:$U$336,18,0),0)","v":0},{"$f":"IFERROR(VLOOKUP(A4,'Gruber Tabelle'!$A$6:$U$336,19,0),0)","v":0},{"$f":"IFERROR(VLOOKUP(A4,'Gruber Tabelle'!$A$6:$U$336,20,0),0)","v":0},{"$f":"IFERROR(VLOOKUP(A4,'Gruber Tabelle'!$A$6:$U$336,21,0),0)","v":0},{"$f":"IFERROR(VLOOKUP(A4,'Gruber Tabelle'!$A$6:$V$336,22,0),0)","v":0}]
[null,{"$f":"IFERROR(VLOOKUP(A5,'Gruber Tabelle'!$A$6:$U$336,2,0),0)","v":0},{"$f":"IFERROR(VLOOKUP(A5,'Gruber Tabelle'!$A$6:$U$336,3,0)/1000,0)","v":0},{"$f":"IFERROR(VLOOKUP(A5,'Gruber Tabelle'!$A$6:$U$336,3,0),0)","v":0},0,null,{"$f":"IFERROR(VLOOKUP(A5,'Gruber Tabelle'!$A$6:$U$336,5,0),0)","v":0},{"$f":"IFERROR(VLOOKUP(A5,'Gruber Tabelle'!$A$6:$U$336,7,0),0)","v":0},{"$f":"IFERROR(VLOOKUP(A5,'Gruber Tabelle'!$A$6:$U$336,12,0),0)","v":0},{"$f":"IFERROR(VLOOKUP(A5,'Gruber Tabelle'!$A$6:$U$336,13,0),0)","v":0},{"$f":"IFERROR(VLOOKUP(A5,'Gruber Tabelle'!$A$6:$U$336,14,0),0)","v":0},{"$f":"IFERROR(VLOOKUP(A5,'Gruber Tabelle'!$A$6:$U$336,16,0),0)","v":0},{"$f":"IFERROR(VLOOKUP(A5,'Gruber Tabelle'!$A$6:$U$336,17,0),0)","v":0},{"$f":"IFERROR(VLOOKUP(A5,'Gruber Tabelle'!$A$6:$U$336,18,0),0)","v":0},{"$f":"IFERROR(VLOOKUP(A5,'Gruber Tabelle'!$A$6:$U$336,19,0),0)","v":0},{"$f":"IFERROR(VLOOKUP(A5,'Gruber Tabelle'!$A$6:$U$336,20,0),0)","v":0},{"$f":"IFERROR(VLOOKUP(A5,'Gruber Tabelle'!$A$6:$U$336,21,0),0)","v":0},{"$f":"IFERROR(VLOOKUP(A5,'Gruber Tabelle'!$A$6:$V$336,22,0),0)","v":0}]
[null,{"$f":"IFERROR(VLOOKUP(A6,'Gruber Tabelle'!$A$6:$U$336,2,0),0)","v":0},{"$f":"IFERROR(VLOOKUP(A6,'Gruber Tabelle'!$A$6:$U$336,3,0)/1000,0)","v":0},{"$f":"IFERROR(VLOOKUP(A6,'Gruber Tabelle'!$A$6:$U$336,3,0),0)","v":0},0,null,{"$f":"IFERROR(VLOOKUP(A6,'Gruber Tabelle'!$A$6:$U$336,5,0),0)","v":0},{"$f":"IFERROR(VLOOKUP(A6,'Gruber Tabelle'!$A$6:$U$336,7,0),0)","v":0},{"$f":"IFERROR(VLOOKUP(A6,'Gruber Tabelle'!$A$6:$U$336,12,0),0)","v":0},{"$f":"IFERROR(VLOOKUP(A6,'Gruber Tabelle'!$A$6:$U$336,13,0),0)","v":0},{"$f":"IFERROR(VLOOKUP(A6,'Gruber Tabelle'!$A$6:$U$336,14,0),0)","v":0},{"$f":"IFERROR(VLOOKUP(A6,'Gruber Tabelle'!$A$6:$U$336,16,0),0)","v":0},{"$f":"IFERROR(VLOOKUP(A6,'Gruber Tabelle'!$A$6:$U$336,17,0),0)","v":0},{"$f":"IFERROR(VLOOKUP(A6,'Gruber Tabelle'!$A$6:$U$336,18,0),0)","v":0},{"$f":"IFERROR(VLOOKUP(A6,'Gruber Tabelle'!$A$6:$U$336,19,0),0)","v":0},{"$f":"IFERROR(VLOOKUP(A6,'Gruber Tabelle'!$A$6:$U$336,20,0),0)","v":0},{"$f":"IFERROR(VLOOKUP(A6,'Gruber Tabelle'!$A$6:$U$336,21,0),0)","v":0},{"$f":"IFERROR(VLOOKUP(A6,'Gruber Tabelle'!$A$6:$V$336,22,0),0)","v":0}]
[null,{"$f":"IFERROR(VLOOKUP(A7,'Gruber Tabelle'!$A$6:$U$336,2,0),0)","v":0},{"$f":"IFERROR(VLOOKUP(A7,'Gruber Tabelle'!$A$6:$U$336,3,0)/1000,0)","v":0},{"$f":"IFERROR(VLOOKUP(A7,'Gruber Tabelle'!$A$6:$U$336,3,0),0)","v":0},0,null,{"$f":"IFERROR(VLOOKUP(A7,'Gruber Tabelle'!$A$6:$U$336,5,0),0)","v":0},{"$f":"IFERROR(VLOOKUP(A7,'Gruber Tabelle'!$A$6:$U$336,7,0),0)","v":0},{"$f":"IFERROR(VLOOKUP(A7,'Gruber Tabelle'!$A$6:$U$336,12,0),0)","v":0},{"$f":"IFERROR(VLOOKUP(A7,'Gruber Tabelle'!$A$6:$U$336,13,0),0)","v":0},{"$f":"IFERROR(VLOOKUP(A7,'Gruber Tabelle'!$A$6:$U$336,14,0),0)","v":0},{"$f":"IFERROR(VLOOKUP(A7,'Gruber Tabelle'!$A$6:$U$336,16,0),0)","v":0},{"$f":"IFERROR(VLOOKUP(A7,'Gruber Tabelle'!$A$6:$U$336,17,0),0)","v":0},{"$f":"IFERROR(VLOOKUP(A7,'Gruber Tabelle'!$A$6:$U$336,18,0),0)","v":0},{"$f":"IFERROR(VLOOKUP(A7,'Gruber Tabelle'!$A$6:$U$336,19,0),0)","v":0},{"$f":"IFERROR(VLOOKUP(A7,'Gruber Tabelle'!$A$6:$U$336,20,0),0)","v":0},{"$f":"IFERROR(VLOOKUP(A7,'Gruber Tabelle'!$A$6:$U$336,21,0),0)","v":0},{"$f":"IFERROR(VLOOKUP(A7,'Gruber Tabelle'!$A$6:$V$336,22,0),0)","v":0}]
[null,{"$f":"IFERROR(VLOOKUP(A8,'Gruber Tabelle'!$A$6:$U$336,2,0),0)","v":0},{"$f":"IFERROR(VLOOKUP(A8,'Gruber Tabelle'!$A$6:$U$336,3,0)/1000,0)","v":0},{"$f":"IFERROR(VLOOKUP(A8,'Gruber Tabelle'!$A$6:$U$336,3,0),0)","v":0},0,null,{"$f":"IFERROR(VLOOKUP(A8,'Gruber Tabelle'!$A$6:$U$336,5,0),0)","v":0},{"$f":"IFERROR(VLOOKUP(A8,'Gruber Tabelle'!$A$6:$U$336,7,0),0)","v":0},{"$f":"IFERROR(VLOOKUP(A8,'Gruber Tabelle'!$A$6:$U$336,12,0),0)","v":0},{"$f":"IFERROR(VLOOKUP(A8,'Gruber Tabelle'!$A$6:$U$336,13,0),0)","v":0},{"$f":"IFERROR(VLOOKUP(A8,'Gruber Tabelle'!$A$6:$U$336,14,0),0)","v":0},{"$f":"IFERROR(VLOOKUP(A8,'Gruber Tabelle'!$A$6:$U$336,16,0),0)","v":0},{"$f":"IFERROR(VLOOKUP(A8,'Gruber Tabelle'!$A$6:$U$336,17,0),0)","v":0},{"$f":"IFERROR(VLOOKUP(A8,'Gruber Tabelle'!$A$6:$U$336,18,0),0)","v":0},{"$f":"IFERROR(VLOOKUP(A8,'Gruber Tabelle'!$A$6:$U$336,19,0),0)","v":0},{"$f":"IFERROR(VLOOKUP(A8,'Gruber Tabelle'!$A$6:$U$336,20,0),0)","v":0},{"$f":"IFERROR(VLOOKUP(A8,'Gruber Tabelle'!$A$6:$U$336,21,0),0)","v":0},{"$f":"IFERROR(VLOOKUP(A8,'Gruber Tabelle'!$A$6:$V$336,22,0),0)","v":0}]
[null,{"$f":"IFERROR(VLOOKUP(A9,'Gruber Tabelle'!$A$6:$U$336,2,0),0)","v":0},{"$f":"IFERROR(VLOOKUP(A9,'Gruber Tabelle'!$A$6:$U$336,3,0)/1000,0)","v":0},{"$f":"IFERROR(VLOOKUP(A9,'Gruber Tabelle'!$A$6:$U$336,3,0),0)","v":0},0,null,{"$f":"IFERROR(VLOOKUP(A9,'Gruber Tabelle'!$A$6:$U$336,5,0),0)","v":0},{"$f":"IFERROR(VLOOKUP(A9,'Gruber Tabelle'!$A$6:$U$336,7,0),0)","v":0},{"$f":"IFERROR(VLOOKUP(A9,'Gruber Tabelle'!$A$6:$U$336,12,0),0)","v":0},{"$f":"IFERROR(VLOOKUP(A9,'Gruber Tabelle'!$A$6:$U$336,13,0),0)","v":0},{"$f":"IFERROR(VLOOKUP(A9,'Gruber Tabelle'!$A$6:$U$336,14,0),0)","v":0},{"$f":"IFERROR(VLOOKUP(A9,'Gruber Tabelle'!$A$6:$U$336,16,0),0)","v":0},{"$f":"IFERROR(VLOOKUP(A9,'Gruber Tabelle'!$A$6:$U$336,17,0),0)","v":0},{"$f":"IFERROR(VLOOKUP(A9,'Gruber Tabelle'!$A$6:$U$336,18,0),0)","v":0},{"$f":"IFERROR(VLOOKUP(A9,'Gruber Tabelle'!$A$6:$U$336,19,0),0)","v":0},{"$f":"IFERROR(VLOOKUP(A9,'Gruber Tabelle'!$A$6:$U$336,20,0),0)","v":0},{"$f":"IFERROR(VLOOKUP(A9,'Gruber Tabelle'!$A$6:$U$336,21,0),0)","v":0},{"$f":"IFERROR(VLOOKUP(A9,'Gruber Tabelle'!$A$6:$V$336,22,0),0)","v":0}]
[null,{"$f":"IFERROR(VLOOKUP(A10,'Gruber Tabelle'!$A$6:$U$336,2,0),0)","v":0},{"$f":"IFERROR(VLOOKUP(A10,'Gruber Tabelle'!$A$6:$U$336,3,0)/1000,0)","v":0},{"$f":"IFERROR(VLOOKUP(A10,'Gruber Tabelle'!$A$6:$U$336,3,0),0)","v":0},0,null,{"$f":"IFERROR(VLOOKUP(A10,'Gruber Tabelle'!$A$6:$U$336,5,0),0)","v":0},{"$f":"IFERROR(VLOOKUP(A10,'Gruber Tabelle'!$A$6:$U$336,7,0),0)","v":0},{"$f":"IFERROR(VLOOKUP(A10,'Gruber Tabelle'!$A$6:$U$336,12,0),0)","v":0},{"$f":"IFERROR(VLOOKUP(A10,'Gruber Tabelle'!$A$6:$U$336,13,0),0)","v":0},{"$f":"IFERROR(VLOOKUP(A10,'Gruber Tabelle'!$A$6:$U$336,14,0),0)","v":0},{"$f":"IFERROR(VLOOKUP(A10,'Gruber Tabelle'!$A$6:$U$336,16,0),0)","v":0},{"$f":"IFERROR(VLOOKUP(A10,'Gruber Tabelle'!$A$6:$U$336,17,0),0)","v":0},{"$f":"IFERROR(VLOOKUP(A10,'Gruber Tabelle'!$A$6:$U$336,18,0),0)","v":0},{"$f":"IFERROR(VLOOKUP(A10,'Gruber Tabelle'!$A$6:$U$336,19,0),0)","v":0},{"$f":"IFERROR(VLOOKUP(A10,'Gruber Tabelle'!$A$6:$U$336,20,0),0)","v":0},{"$f":"IFERROR(VLOOKUP(A10,'Gruber Tabelle'!$A$6:$U$336,21,0),0)","v":0},{"$f":"IFERROR(VLOOKUP(A10,'Gruber Tabelle'!$A$6:$V$336,22,0),0)","v":0}]
[null,{"$f":"IFERROR(VLOOKUP(A11,'Gruber Tabelle'!$A$6:$U$336,2,0),0)","v":0},{"$f":"IFERROR(VLOOKUP(A11,'Gruber Tabelle'!$A$6:$U$336,3,0)/1000,0)","v":0},{"$f":"IFERROR(VLOOKUP(A11,'Gruber Tabelle'!$A$6:$U$336,3,0),0)","v":0},0,null,{"$f":"IFERROR(VLOOKUP(A11,'Gruber Tabelle'!$A$6:$U$336,5,0),0)","v":0},{"$f":"IFERROR(VLOOKUP(A11,'Gruber Tabelle'!$A$6:$U$336,7,0),0)","v":0},{"$f":"IFERROR(VLOOKUP(A11,'Gruber Tabelle'!$A$6:$U$336,12,0),0)","v":0},{"$f":"IFERROR(VLOOKUP(A11,'Gruber Tabelle'!$A$6:$U$336,13,0),0)","v":0},{"$f":"IFERROR(VLOOKUP(A11,'Gruber Tabelle'!$A$6:$U$336,14,0),0)","v":0},{"$f":"IFERROR(VLOOKUP(A11,'Gruber Tabelle'!$A$6:$U$336,16,0),0)","v":0},{"$f":"IFERROR(VLOOKUP(A11,'Gruber Tabelle'!$A$6:$U$336,17,0),0)","v":0},{"$f":"IFERROR(VLOOKUP(A11,'Gruber Tabelle'!$A$6:$U$336,18,0),0)","v":0},{"$f":"IFERROR(VLOOKUP(A11,'Gruber Tabelle'!$A$6:$U$336,19,0),0)","v":0},{"$f":"IFERROR(VLOOKUP(A11,'Gruber Tabelle'!$A$6:$U$336,20,0),0)","v":0},{"$f":"IFERROR(VLOOKUP(A11,'Gruber Tabelle'!$A$6:$U$336,21,0),0)","v":0},{"$f":"IFERROR(VLOOKUP(A11,'Gruber Tabelle'!$A$6:$V$336,22,0),0)","v":0}]
[null,{"$f":"IFERROR(VLOOKUP(A12,'Gruber Tabelle'!$A$6:$U$336,2,0),0)","v":0},{"$f":"IFERROR(VLOOKUP(A12,'Gruber Tabelle'!$A$6:$U$336,3,0)/1000,0)","v":0},{"$f":"IFERROR(VLOOKUP(A12,'Gruber Tabelle'!$A$6:$U$336,3,0),0)","v":0},0,null,{"$f":"IFERROR(VLOOKUP(A12,'Gruber Tabelle'!$A$6:$U$336,5,0),0)","v":0},{"$f":"IFERROR(VLOOKUP(A12,'Gruber Tabelle'!$A$6:$U$336,7,0),0)","v":0},{"$f":"IFERROR(VLOOKUP(A12,'Gruber Tabelle'!$A$6:$U$336,12,0),0)","v":0},{"$f":"IFERROR(VLOOKUP(A12,'Gruber Tabelle'!$A$6:$U$336,13,0),0)","v":0},{"$f":"IFERROR(VLOOKUP(A12,'Gruber Tabelle'!$A$6:$U$336,14,0),0)","v":0},{"$f":"IFERROR(VLOOKUP(A12,'Gruber Tabelle'!$A$6:$U$336,16,0),0)","v":0},{"$f":"IFERROR(VLOOKUP(A12,'Gruber Tabelle'!$A$6:$U$336,17,0),0)","v":0},{"$f":"IFERROR(VLOOKUP(A12,'Gruber Tabelle'!$A$6:$U$336,18,0),0)","v":0},{"$f":"IFERROR(VLOOKUP(A12,'Gruber Tabelle'!$A$6:$U$336,19,0),0)","v":0},{"$f":"IFERROR(VLOOKUP(A12,'Gruber Tabelle'!$A$6:$U$336,20,0),0)","v":0},{"$f":"IFERROR(VLOOKUP(A12,'Gruber Tabelle'!$A$6:$U$336,21,0),0)","v":0},{"$f":"IFERROR(VLOOKUP(A12,'Gruber Tabelle'!$A$6:$V$336,22,0),0)","v":0}]
[null,{"$f":"IFERROR(VLOOKUP(A13,'Gruber Tabelle'!$A$6:$U$336,2,0),0)","v":0},{"$f":"IFERROR(VLOOKUP(A13,'Gruber Tabelle'!$A$6:$U$336,3,0)/1000,0)","v":0},{"$f":"IFERROR(VLOOKUP(A13,'Gruber Tabelle'!$A$6:$U$336,3,0),0)","v":0},0,null,{"$f":"IFERROR(VLOOKUP(A13,'Gruber Tabelle'!$A$6:$U$336,5,0),0)","v":0},{"$f":"IFERROR(VLOOKUP(A13,'Gruber Tabelle'!$A$6:$U$336,7,0),0)","v":0},{"$f":"IFERROR(VLOOKUP(A13,'Gruber Tabelle'!$A$6:$U$336,12,0),0)","v":0},{"$f":"IFERROR(VLOOKUP(A13,'Gruber Tabelle'!$A$6:$U$336,13,0),0)","v":0},{"$f":"IFERROR(VLOOKUP(A13,'Gruber Tabelle'!$A$6:$U$336,14,0),0)","v":0},{"$f":"IFERROR(VLOOKUP(A13,'Gruber Tabelle'!$A$6:$U$336,16,0),0)","v":0},{"$f":"IFERROR(VLOOKUP(A13,'Gruber Tabelle'!$A$6:$U$336,17,0),0)","v":0},{"$f":"IFERROR(VLOOKUP(A13,'Gruber Tabelle'!$A$6:$U$336,18,0),0)","v":0},{"$f":"IFERROR(VLOOKUP(A13,'Gruber Tabelle'!$A$6:$U$336,19,0),0)","v":0},{"$f":"IFERROR(VLOOKUP(A13,'Gruber Tabelle'!$A$6:$U$336,20,0),0)","v":0},{"$f":"IFERROR(VLOOKUP(A13,'Gruber Tabelle'!$A$6:$U$336,21,0),0)","v":0},{"$f":"IFERROR(VLOOKUP(A13,'Gruber Tabelle'!$A$6:$V$336,22,0),0)","v":0}]
["Nr ","Futterart","TM %","TM kg","FM kg","TM kg","aNDF om g","Rohprotein g","ME MJ","XS+XZ","bXS","Ca","P","Mg","Na","K","Preis","NDFomGF"]
[{"$f":"A4","v":0},{"$f":"IFERROR(VLOOKUP(A15,'Gruber Tabelle'!$A$6:$U$336,2,0),0)","v":0},null,null,null,{"$f":"IF(A15=0,0,IF(AND(D15>0,E15=0),D15,IF(AND(E15>0,D15=0),E15*C15,IF(AND(D15>=0,E15>=0),\"TM o. FM?\"))))","v":0},{"$f":"IFERROR(G4*F15,0)","v":0},{"$f":"IFERROR(H4*F15,0)","v":0},{"$f":"IFERROR(I4*F15,0)","v":0},{"$f":"IFERROR(J4*F15,0)","v":0},{"$f":"IFERROR(K4*F15,0)","v":0},{"$f":"IFERROR(L4*F15,0)","v":0},{"$f":"IFERROR(M4*F15,0)","v":0},{"$f":"IFERROR(N4*F15,0)","v":0},{"$f":"IFERROR(O4*F15,0)","v":0},{"$f":"IFERROR(P4*F15,0)","v":0},{"$f":"IF(C15>0,Q4*E15/100,0)","v":0},{"$f":"IFERROR(IF(R4=\"GF\",G4*F15,0),0)","v":0}]
[0,{"$f":"IFERROR(VLOOKUP(A16,'Gruber Tabelle'!$A$6:$U$336,2,0),0)","v":0},null,null,null,0,0,0,0,0,0,0,0,0,0,0,0,{"$f":"IFERROR(IF(R5=\"GF\",G5*F16,0),0)","v":0}]
[0,{"$f":"IFERROR(VLOOKUP(A17,'Gruber Tabelle'!$A$6:$U$336,2,0),0)","v":0},null,null,null,{"$f":"IF(A17=0,0,IF(AND(D17>0,E17=0),D17,IF(AND(E17>0,D17=0),E17*C17,IF(AND(D17>=0,E17>=0),\"TM o. FM?\"))))","v":0},0,0,0,0,0,0,0,0,0,0,0,0]
[0,{"$f":"IFERROR(VLOOKUP(A18,'Gruber Tabelle'!$A$6:$U$336,2,0),0)","v":0},null,null,null,0,0,0,0,0,0,0,0,0,0,0,0,0]
[0,{"$f":"IFERROR(VLOOKUP(A19,'Gruber Tabelle'!$A$6:$U$336,2,0),0)","v":0},null,null,null,0,0,0,0,0,0,0,0,0,0,0,0,0]
[0,{"$f":"IFERROR(VLOOKUP(A20,'Gruber Tabelle'!$A$6:$U$336,2,0),0)","v":0},null,null,null,0,0,0,0,0,0,0,0,0,0,0,0,0]
[0,{"$f":"IFERROR(VLOOKUP(A21,'Gruber Tabelle'!$A$6:$U$336,2,0),0)","v":0},null,null,null,0,0,0,0,0,0,0,0,0,0,0,0,0]
[0,{"$f":"IFERROR(VLOOKUP(A22,'Gruber Tabelle'!$A$6:$U$336,2,0),0)","v":0},null,null,null,0,0,0,0,0,0,0,0,0,0,0,0,0]
[0,{"$f":"IFERROR(VLOOKUP(A23,'Gruber Tabelle'!$A$6:$U$336,2,0),0)","v":0},null,null,null,0,0,0,0,0,0,0,0,0,0,0,0,0]
[0,{"$f":"IFERROR(VLOOKUP(A24,'Gruber Tabelle'!$A$6:$U$336,2,0),0)","v":0},null,null,null,0,0,0,0,0,0,0,0,0,0,0,0,0]
["Summen TM und Gehaltswerte:",null,null,{"$f":"SUM(F15:F24)","v":0},{"$f":"SUM(E4:E13)","v":0},null,{"$f":"SUM(G15:G24)","v":0},{"$f":"SUM(H15:H24)","v":0},0,{"$f":"SUM(J15:J24)","v":0},{"$f":"SUM(K15:K24)","v":0},0,0,0,0,0,0,{"$f":"SUM(R15:R24)","v":0}]
["Mischung 1 kg:",null,null,{"$f":"IF('Mischung 1'!E25>0,E26/'Mischung 1'!E25,0)","v":0},null,null,{"$f":"IF('Mischung 1'!F25>0,'Mischung 1'!F25*D26,0)","v":0},{"$f":"IF('Mischung 1'!G25>0,'Mischung 1'!G25*D26,0)","v":0},{"$f":"IF('Mischung 1'!H25>0,'Mischung 1'!H25*D26,0)","v":0},{"$f":"IF('Mischung 1'!I25>0,'Mischung 1'!I25*D26,0)","v":0},{"$f":"IF('Mischung 1'!J25>0,'Mischung 1'!J25*D26,0)","v":0},{"$f":"IF('Mischung 1'!K25>0,'Mischung 1'!K25*D26,0)","v":0},{"$f":"IF('Mischung 1'!L25>0,'Mischung 1'!L25*D26,0)","v":0},{"$f":"IF('Mischung 1'!M25>0,'Mischung 1'!M25*D26,0)","v":0},{"$f":"IF('Mischung 1'!N25>0,'Mischung 1'!N25*D26,0)","v":0},{"$f":"IF('Mischung 1'!O25>0,'Mischung 1'!O25*D26,0)","v":0},{"$f":"IF('Mischung 1'!P25>0,'Mischung 1'!P25*D26,0)","v":0}]
["Mischung 2 kg:",null,null,{"$f":"IF('Mischung 2'!E25>0,E27/'Mischung 2'!E25,0)","v":0},null,null,{"$f":"IF('Mischung 2'!F25>0,'Mischung 2'!F25*D27,0)","v":0},{"$f":"IF('Mischung 2'!G25>0,'Mischung 2'!G25*D27,0)","v":0},{"$f":"IF('Mischung 2'!H25>0,'Mischung 2'!H25*D27,0)","v":0},{"$f":"IF('Mischung 2'!I25>0,'Mischung 2'!I25*D27,0)","v":0},{"$f":"IF('Mischung 2'!J25>0,'Mischung 2'!J25*D27,0)","v":0},{"$f":"IF('Mischung 2'!K25>0,'Mischung 2'!K25*D27,0)","v":0},{"$f":"IF('Mischung 2'!L25>0,'Mischung 2'!L25*D27,0)","v":0},{"$f":"IF('Mischung 2'!M25>0,'Mischung 2'!M25*D27,0)","v":0},{"$f":"IF('Mischung 2'!N25>0,'Mischung 2'!N25*D27,0)","v":0},{"$f":"IF('Mischung 2'!O25>0,'Mischung 2'!O25*D27,0)","v":0},{"$f":"IF('Mischung 2'!P25>0,'Mischung 2'!P25*D27,0)","v":0}]
["Gesamtfutter GF+ KF TM und Gehaltsw.:",null,null,{"$f":"SUM(D25:D27)","v":0},{"$f":"SUM(E25+E26+E27)","v":0},null,{"$f":"SUM(G25+G26+G27)","v":0},0,0,0,0,0,0,0,0,0,0]
[{"$f":"A2","v":"Bitte Sollwerte auswählen  !!!"},null,null,{"$f":"IFERROR(VLOOKUP($A$2,Sollwerte!$B$6:$P$80,3,0)/1000,0)","v":0},null,null,{"$f":"IFERROR(VLOOKUP($A$2,Sollwerte!$B$6:$P$80,4,0)/100,0)","v":0},{"$f":"IFERROR(VLOOKUP($A$2,Sollwerte!$B$6:$P$80,5,0),0)","v":0},{"$f":"IFERROR(VLOOKUP($A$2,Sollwerte!$B$6:$P$80,7,0),0)","v":0},null,null,{"$f":"IFERROR(VLOOKUP($A$2,Sollwerte!$B$6:$P$80,9,0),0)","v":0},{"$f":"IFERROR(VLOOKUP($A$2,Sollwerte!$B$6:$P$80,10,0),0)","v":0},{"$f":"IFERROR(VLOOKUP($A$2,Sollwerte!$B$6:$P$80,11,0),0)","v":0},{"$f":"IFERROR(VLOOKUP($A$2,Sollwerte!$B$6:$P$80,12,0),0)","v":0},{"$f":"IFERROR(VLOOKUP($A$2,Sollwerte!$B$6:$P$80,13,0),0)","v":0}]
["Differenz zu Sollwert -  % Anteil aNDF GF an TM",null,null,{"$f":"IF(D29>0,D28-D29,0)","v":0},"TM %","Strukturindex","% aNDF om",{"$f":"IF(H29>0,H28-H29,0)","v":0},{"$f":"IF(I29>0,I28-I29,0)","v":0},"kg  pabKH",null,0,0,0,0,0]
[null,null,null,{"$f":"IF(D30=0,0,D30/D29)","v":0},{"$f":"IF(D28>0,D28/E28,0)","v":0},{"$f":"IF(L35>100,100,L35)","v":0},{"$f":"IF(D28>0,R25/D28/1000,0)","v":0},{"$f":"IF(H30=0,0,H30/H29)","v":0},{"$f":"IF(I30=0,0,I30/I29)","v":0},{"$f":"(J28-K28)/1000","v":0},null,0,0,0,0,0]
[null,null,null,null,null,{"$f":"IFERROR(VLOOKUP($A$2,Sollwerte!$B$6:$P$80,15,0),0)","v":0},{"$f":"R25/1000","v":0},null,null,{"$f":"J31","v":0}]
[null,null,null,null,null,null,{"$f":"G32*F32","v":0},null,null,{"$f":"J32*F32","v":0}]
[null,null,null,null,null,null,null,null,{"$f":"J33-1.32","v":-1.32},{"$f":"I34/0.5","v":-2.64}]
[null,null,null,null,null,null,{"$f":"G33","v":0},null,{"$f":"J34+G35","v":-2.64},null,{"$f":"G35/I35","v":0},{"$f":"K35*100","v":0}]

{"sheet":"Mischung 1","index":3,"n_rows":26,"n_cols":16,"rows_kept":26,"cut":false,"hidden":false,"merged":[[24,0,24,1],[25,0,25,3],[0,0,0,15],[1,0,1,4],[1,5,1,15],[3,2,12,4],[2,2,2,4]]}
[]
[]
["Nr ","Futterart","Kraftfutter",null,null,"aNDFom g","XP g","ME MJ","XS+XZ","bXS","Ca","P","Mg","Na","K","Preis / dt FM"]
[null,{"$f":"IFERROR(VLOOKUP(A4,'Gruber Tabelle'!$A$6:$U$336,2,0),0)","v":0},"%",null,null,{"$f":"IFERROR(VLOOKUP(A4,'Gruber Tabelle'!$A$6:$U$336,5,0),0)","v":0},{"$f":"IFERROR(VLOOKUP(A4,'Gruber Tabelle'!$A$6:$U$336,7,0),0)","v":0},{"$f":"IFERROR(VLOOKUP(A4,'Gruber Tabelle'!$A$6:$U$336,12,0),0)","v":0},{"$f":"IFERROR(VLOOKUP(A4,'Gruber Tabelle'!$A$6:$U$336,13,0),0)","v":0},{"$f":"IFERROR(VLOOKUP(A4,'Gruber Tabelle'!$A$6:$U$336,14,0),0)","v":0},{"$f":"IFERROR(VLOOKUP(A4,'Gruber Tabelle'!$A$6:$U$336,16,0),0)","v":0},{"$f":"IFERROR(VLOOKUP(A4,'Gruber Tabelle'!$A$6:$U$336,17,0),0)","v":0},{"$f":"IFERROR(VLOOKUP(A4,'Gruber Tabelle'!$A$6:$U$336,18,0),0)","v":0},{"$f":"IFERROR(VLOOKUP(A4,'Gruber Tabelle'!$A$6:$U$336,19,0),0)","v":0},{"$f":"IFERROR(VLOOKUP(A4,'Gruber Tabelle'!$A$6:$U$336,20,0),0)","v":0},{"$f":"IFERROR(VLOOKUP(A4,'Gruber Tabelle'!$A$6:$U$336,21,0),0)","v":0}]
[null,{"$f":"IFERROR(VLOOKUP(A5,'Gruber Tabelle'!$A$6:$U$336,2,0),0)","v":0},null,null,null,{"$f":"IFERROR(VLOOKUP(A5,'Gruber Tabelle'!$A$6:$U$336,5,0),0)","v":0},{"$f":"IFERROR(VLOOKUP(A5,'Gruber Tabelle'!$A$6:$U$336,7,0),0)","v":0},{"$f":"IFERROR(VLOOKUP(A5,'Gruber Tabelle'!$A$6:$U$336,12,0),0)","v":0},{"$f":"IFERROR(VLOOKUP(A5,'Gruber Tabelle'!$A$6:$U$336,13,0),0)","v":0},{"$f":"IFERROR(VLOOKUP(A5,'Gruber Tabelle'!$A$6:$U$336,14,0),0)","v":0},{"$f":"IFERROR(VLOOKUP(A5,'Gruber Tabelle'!$A$6:$U$336,16,0),0)","v":0},{"$f":"IFERROR(VLOOKUP(A5,'Gruber Tabelle'!$A$6:$U$336,17,0),0)","v":0},{"$f":"IFERROR(VLOOKUP(A5,'Gruber Tabelle'!$A$6:$U$336,18,0),0)","v":0},{"$f":"IFERROR(VLOOKUP(A5,'Gruber Tabelle'!$A$6:$U$336,19,0),0)","v":0},{"$f":"IFERROR(VLOOKUP(A5,'Gruber Tabelle'!$A$6:$U$336,20,0),0)","v":0},{"$f":"IFERROR(VLOOKUP(A5,'Gruber Tabelle'!$A$6:$U$336,21,0),0)","v":0}]
[null,{"$f":"IFERROR(VLOOKUP(A6,'Gruber Tabelle'!$A$6:$U$336,2,0),0)","v":0},null,null,null,{"$f":"IFERROR(VLOOKUP(A6,'Gruber Tabelle'!$A$6:$U$336,5,0),0)","v":0},{"$f":"IFERROR(VLOOKUP(A6,'Gruber Tabelle'!$A$6:$U$336,7,0),0)","v":0},{"$f":"IFERROR(VLOOKUP(A6,'Gruber Tabelle'!$A$6:$U$336,12,0),0)","v":0},{"$f":"IFERROR(VLOOKUP(A6,'Gruber Tabelle'!$A$6:$U$336,13,0),0)","v":0},{"$f":"IFERROR(VLOOKUP(A6,'Gruber Tabelle'!$A$6:$U$336,14,0),0)","v":0},{"$f":"IFERROR(VLOOKUP(A6,'Gruber Tabelle'!$A$6:$U$336,16,0),0)","v":0},{"$f":"IFERROR(VLOOKUP(A6,'Gruber Tabelle'!$A$6:$U$336,17,0),0)","v":0},{"$f":"IFERROR(VLOOKUP(A6,'Gruber Tabelle'!$A$6:$U$336,18,0),0)","v":0},{"$f":"IFERROR(VLOOKUP(A6,'Gruber Tabelle'!$A$6:$U$336,19,0),0)","v":0},{"$f":"IFERROR(VLOOKUP(A6,'Gruber Tabelle'!$A$6:$U$336,20,0),0)","v":0},{"$f":"IFERROR(VLOOKUP(A6,'Gruber Tabelle'!$A$6:$U$336,21,0),0)","v":0}]
[null,{"$f":"IFERROR(VLOOKUP(A7,'Gruber Tabelle'!$A$6:$U$336,2,0),0)","v":0},null,null,null,{"$f":"IFERROR(VLOOKUP(A7,'Gruber Tabelle'!$A$6:$U$336,5,0),0)","v":0},{"$f":"IFERROR(VLOOKUP(A7,'Gruber Tabelle'!$A$6:$U$336,7,0),0)","v":0},{"$f":"IFERROR(VLOOKUP(A7,'Gruber Tabelle'!$A$6:$U$336,12,0),0)","v":0},{"$f":"IFERROR(VLOOKUP(A7,'Gruber Tabelle'!$A$6:$U$336,13,0),0)","v":0},{"$f":"IFERROR(VLOOKUP(A7,'Gruber Tabelle'!$A$6:$U$336,14,0),0)","v":0},{"$f":"IFERROR(VLOOKUP(A7,'Gruber Tabelle'!$A$6:$U$336,16,0),0)","v":0},{"$f":"IFERROR(VLOOKUP(A7,'Gruber Tabelle'!$A$6:$U$336,17,0),0)","v":0},{"$f":"IFERROR(VLOOKUP(A7,'Gruber Tabelle'!$A$6:$U$336,18,0),0)","v":0},{"$f":"IFERROR(VLOOKUP(A7,'Gruber Tabelle'!$A$6:$U$336,19,0),0)","v":0},{"$f":"IFERROR(VLOOKUP(A7,'Gruber Tabelle'!$A$6:$U$336,20,0),0)","v":0},{"$f":"IFERROR(VLOOKUP(A7,'Gruber Tabelle'!$A$6:$U$336,21,0),0)","v":0}]
[null,{"$f":"IFERROR(VLOOKUP(A8,'Gruber Tabelle'!$A$6:$U$336,2,0),0)","v":0},null,null,null,{"$f":"IFERROR(VLOOKUP(A8,'Gruber Tabelle'!$A$6:$U$336,5,0),0)","v":0},{"$f":"IFERROR(VLOOKUP(A8,'Gruber Tabelle'!$A$6:$U$336,7,0),0)","v":0},{"$f":"IFERROR(VLOOKUP(A8,'Gruber Tabelle'!$A$6:$U$336,12,0),0)","v":0},{"$f":"IFERROR(VLOOKUP(A8,'Gruber Tabelle'!$A$6:$U$336,13,0),0)","v":0},{"$f":"IFERROR(VLOOKUP(A8,'Gruber Tabelle'!$A$6:$U$336,14,0),0)","v":0},{"$f":"IFERROR(VLOOKUP(A8,'Gruber Tabelle'!$A$6:$U$336,16,0),0)","v":0},{"$f":"IFERROR(VLOOKUP(A8,'Gruber Tabelle'!$A$6:$U$336,17,0),0)","v":0},{"$f":"IFERROR(VLOOKUP(A8,'Gruber Tabelle'!$A$6:$U$336,18,0),0)","v":0},{"$f":"IFERROR(VLOOKUP(A8,'Gruber Tabelle'!$A$6:$U$336,19,0),0)","v":0},{"$f":"IFERROR(VLOOKUP(A8,'Gruber Tabelle'!$A$6:$U$336,20,0),0)","v":0},{"$f":"IFERROR(VLOOKUP(A8,'Gruber Tabelle'!$A$6:$U$336,21,0),0)","v":0}]
[null,{"$f":"IFERROR(VLOOKUP(A9,'Gruber Tabelle'!$A$6:$U$336,2,0),0)","v":0},null,null,null,{"$f":"IFERROR(VLOOKUP(A9,'Gruber Tabelle'!$A$6:$U$336,5,0),0)","v":0},{"$f":"IFERROR(VLOOKUP(A9,'Gruber Tabelle'!$A$6:$U$336,7,0),0)","v":0},{"$f":"IFERROR(VLOOKUP(A9,'Gruber Tabelle'!$A$6:$U$336,12,0),0)","v":0},{"$f":"IFERROR(VLOOKUP(A9,'Gruber Tabelle'!$A$6:$U$336,13,0),0)","v":0},{"$f":"IFERROR(VLOOKUP(A9,'Gruber Tabelle'!$A$6:$U$336,14,0),0)","v":0},{"$f":"IFERROR(VLOOKUP(A9,'Gruber Tabelle'!$A$6:$U$336,16,0),0)","v":0},{"$f":"IFERROR(VLOOKUP(A9,'Gruber Tabelle'!$A$6:$U$336,17,0),0)","v":0},{"$f":"IFERROR(VLOOKUP(A9,'Gruber Tabelle'!$A$6:$U$336,18,0),0)","v":0},{"$f":"IFERROR(VLOOKUP(A9,'Gruber Tabelle'!$A$6:$U$336,19,0),0)","v":0},{"$f":"IFERROR(VLOOKUP(A9,'Gruber Tabelle'!$A$6:$U$336,20,0),0)","v":0},{"$f":"IFERROR(VLOOKUP(A9,'Gruber Tabelle'!$A$6:$U$336,21,0),0)","v":0}]
[null,{"$f":"IFERROR(VLOOKUP(A10,'Gruber Tabelle'!$A$6:$U$336,2,0),0)","v":0},null,null,null,{"$f":"IFERROR(VLOOKUP(A10,'Gruber Tabelle'!$A$6:$U$336,5,0),0)","v":0},{"$f":"IFERROR(VLOOKUP(A10,'Gruber Tabelle'!$A$6:$U$336,7,0),0)","v":0},{"$f":"IFERROR(VLOOKUP(A10,'Gruber Tabelle'!$A$6:$U$336,12,0),0)","v":0},{"$f":"IFERROR(VLOOKUP(A10,'Gruber Tabelle'!$A$6:$U$336,13,0),0)","v":0},{"$f":"IFERROR(VLOOKUP(A10,'Gruber Tabelle'!$A$6:$U$336,14,0),0)","v":0},{"$f":"IFERROR(VLOOKUP(A10,'Gruber Tabelle'!$A$6:$U$336,16,0),0)","v":0},{"$f":"IFERROR(VLOOKUP(A10,'Gruber Tabelle'!$A$6:$U$336,17,0),0)","v":0},{"$f":"IFERROR(VLOOKUP(A10,'Gruber Tabelle'!$A$6:$U$336,18,0),0)","v":0},{"$f":"IFERROR(VLOOKUP(A10,'Gruber Tabelle'!$A$6:$U$336,19,0),0)","v":0},{"$f":"IFERROR(VLOOKUP(A10,'Gruber Tabelle'!$A$6:$U$336,20,0),0)","v":0},{"$f":"IFERROR(VLOOKUP(A10,'Gruber Tabelle'!$A$6:$U$336,21,0),0)","v":0}]
[null,{"$f":"IFERROR(VLOOKUP(A11,'Gruber Tabelle'!$A$6:$U$336,2,0),0)","v":0},null,null,null,{"$f":"IFERROR(VLOOKUP(A11,'Gruber Tabelle'!$A$6:$U$336,5,0),0)","v":0},{"$f":"IFERROR(VLOOKUP(A11,'Gruber Tabelle'!$A$6:$U$336,7,0),0)","v":0},{"$f":"IFERROR(VLOOKUP(A11,'Gruber Tabelle'!$A$6:$U$336,12,0),0)","v":0},{"$f":"IFERROR(VLOOKUP(A11,'Gruber Tabelle'!$A$6:$U$336,13,0),0)","v":0},{"$f":"IFERROR(VLOOKUP(A11,'Gruber Tabelle'!$A$6:$U$336,14,0),0)","v":0},{"$f":"IFERROR(VLOOKUP(A11,'Gruber Tabelle'!$A$6:$U$336,16,0),0)","v":0},{"$f":"IFERROR(VLOOKUP(A11,'Gruber Tabelle'!$A$6:$U$336,17,0),0)","v":0},{"$f":"IFERROR(VLOOKUP(A11,'Gruber Tabelle'!$A$6:$U$336,18,0),0)","v":0},{"$f":"IFERROR(VLOOKUP(A11,'Gruber Tabelle'!$A$6:$U$336,19,0),0)","v":0},{"$f":"IFERROR(VLOOKUP(A11,'Gruber Tabelle'!$A$6:$U$336,20,0),0)","v":0},{"$f":"IFERROR(VLOOKUP(A11,'Gruber Tabelle'!$A$6:$U$336,21,0),0)","v":0}]
[null,{"$f":"IFERROR(VLOOKUP(A12,'Gruber Tabelle'!$A$6:$U$336,2,0),0)","v":0},null,null,null,{"$f":"IFERROR(VLOOKUP(A12,'Gruber Tabelle'!$A$6:$U$336,5,0),0)","v":0},{"$f":"IFERROR(VLOOKUP(A12,'Gruber Tabelle'!$A$6:$U$336,7,0),0)","v":0},{"$f":"IFERROR(VLOOKUP(A12,'Gruber Tabelle'!$A$6:$U$336,12,0),0)","v":0},{"$f":"IFERROR(VLOOKUP(A12,'Gruber Tabelle'!$A$6:$U$336,13,0),0)","v":0},{"$f":"IFERROR(VLOOKUP(A12,'Gruber Tabelle'!$A$6:$U$336,14,0),0)","v":0},{"$f":"IFERROR(VLOOKUP(A12,'Gruber Tabelle'!$A$6:$U$336,16,0),0)","v":0},{"$f":"IFERROR(VLOOKUP(A12,'Gruber Tabelle'!$A$6:$U$336,17,0),0)","v":0},{"$f":"IFERROR(VLOOKUP(A12,'Gruber Tabelle'!$A$6:$U$336,18,0),0)","v":0},{"$f":"IFERROR(VLOOKUP(A12,'Gruber Tabelle'!$A$6:$U$336,19,0),0)","v":0},{"$f":"IFERROR(VLOOKUP(A12,'Gruber Tabelle'!$A$6:$U$336,20,0),0)","v":0},{"$f":"IFERROR(VLOOKUP(A12,'Gruber Tabelle'!$A$6:$U$336,21,0),0)","v":0}]
[null,{"$f":"IFERROR(VLOOKUP(A13,'Gruber Tabelle'!$A$6:$U$336,2,0),0)","v":0},null,null,null,{"$f":"IFERROR(VLOOKUP(A13,'Gruber Tabelle'!$A$6:$U$336,5,0),0)","v":0},{"$f":"IFERROR(VLOOKUP(A13,'Gruber Tabelle'!$A$6:$U$336,7,0),0)","v":0},{"$f":"IFERROR(VLOOKUP(A13,'Gruber Tabelle'!$A$6:$U$336,12,0),0)","v":0},{"$f":"IFERROR(VLOOKUP(A13,'Gruber Tabelle'!$A$6:$U$336,13,0),0)","v":0},{"$f":"IFERROR(VLOOKUP(A13,'Gruber Tabelle'!$A$6:$U$336,14,0),0)","v":0},{"$f":"IFERROR(VLOOKUP(A13,'Gruber Tabelle'!$A$6:$U$336,16,0),0)","v":0},{"$f":"IFERROR(VLOOKUP(A13,'Gruber Tabelle'!$A$6:$U$336,17,0),0)","v":0},{"$f":"IFERROR(VLOOKUP(A13,'Gruber Tabelle'!$A$6:$U$336,18,0),0)","v":0},{"$f":"IFERROR(VLOOKUP(A13,'Gruber Tabelle'!$A$6:$U$336,19,0),0)","v":0},{"$f":"IFERROR(VLOOKUP(A13,'Gruber Tabelle'!$A$6:$U$336,20,0),0)","v":0},{"$f":"IFERROR(VLOOKUP(A13,'Gruber Tabelle'!$A$6:$U$336,21,0),0)","v":0}]
["Nr ","Futterart","Mischungs- Anteil in %","TM %","FM kg","aNDFom g","XP g","ME MJ","XS+XZ","bXS","Ca","P","Mg","Na","K","Preis"]
[{"$f":"A4","v":0},{"$f":"IFERROR(VLOOKUP(A15,'Gruber Tabelle'!$A$6:$U$336,2,0),0)","v":0},null,{"$f":"IFERROR(VLOOKUP(A4,'Gruber Tabelle'!$A$6:$U$388,3,0),0)/1000","v":0},{"$f":"IF(D15>0,(1/D15*C15),\" \")","v":" "},{"$f":"IF(F4>0,F4*C15,\" \")","v":" "},{"$f":"IF(G4>0,G4*C15,\" \")","v":" "},{"$f":"IF(H4>0,H4*C15,\" \")","v":" "},{"$f":"IF(I4>0,I4*C15,\" \")","v":" "},{"$f":"IF(J4>0,J4*C15,\" \")","v":" "},{"$f":"IF(K4>0,K4*C15,\" \")","v":" "},{"$f":"IF(L4>0,L4*C15,\" \")","v":" "},{"$f":"IF(M4>0,M4*C15,\" \")","v":" "},{"$f":"IF(N4>0,N4*C15,\" \")","v":" "},{"$f":"IF(O4>0,O4*C15,\" \")","v":" "},{"$f":"IF(C15>0,P4*E15/100,0)","v":0}]
[0,{"$f":"IFERROR(VLOOKUP(A16,'Gruber Tabelle'!$A$6:$U$336,2,0),0)","v":0},null,{"$f":"IFERROR(VLOOKUP(A5,'Gruber Tabelle'!$A$6:$U$388,3,0),0)/1000","v":0}," "," "," "," "," "," "," "," "," "," "," ",0]
[0,{"$f":"IFERROR(VLOOKUP(A17,'Gruber Tabelle'!$A$6:$U$336,2,0),0)","v":0},null,{"$f":"IFERROR(VLOOKUP(A6,'Gruber Tabelle'!$A$6:$U$388,3,0),0)/1000","v":0}," "," "," "," "," "," "," "," "," "," "," ",0]
[0,{"$f":"IFERROR(VLOOKUP(A18,'Gruber Tabelle'!$A$6:$U$336,2,0),0)","v":0},null,{"$f":"IFERROR(VLOOKUP(A7,'Gruber Tabelle'!$A$6:$U$388,3,0),0)/1000","v":0}," "," "," "," "," "," "," "," "," "," "," ",0]
[0,{"$f":"IFERROR(VLOOKUP(A19,'Gruber Tabelle'!$A$6:$U$336,2,0),0)","v":0},null,{"$f":"IFERROR(VLOOKUP(A8,'Gruber Tabelle'!$A$6:$U$388,3,0),0)/1000","v":0}," "," "," "," "," "," "," "," "," "," "," ",0]
[0,{"$f":"IFERROR(VLOOKUP(A20,'Gruber Tabelle'!$A$6:$U$336,2,0),0)","v":0},null,{"$f":"IFERROR(VLOOKUP(A9,'Gruber Tabelle'!$A$6:$U$388,3,0),0)/1000","v":0}," "," "," "," "," "," "," "," "," "," "," ",0]
[0,{"$f":"IFERROR(VLOOKUP(A21,'Gruber Tabelle'!$A$6:$U$336,2,0),0)","v":0},null,{"$f":"IFERROR(VLOOKUP(A10,'Gruber Tabelle'!$A$6:$U$388,3,0),0)/1000","v":0}," "," "," "," "," "," "," "," "," "," "," ",0]
[0,{"$f":"IFERROR(VLOOKUP(A22,'Gruber Tabelle'!$A$6:$U$336,2,0),0)","v":0},null,{"$f":"IFERROR(VLOOKUP(A11,'Gruber Tabelle'!$A$6:$U$388,3,0),0)/1000","v":0}," "," "," "," "," "," "," "," "," "," "," ",0]
[0,{"$f":"IFERROR(VLOOKUP(A23,'Gruber Tabelle'!$A$6:$U$336,2,0),0)","v":0},null,{"$f":"IFERROR(VLOOKUP(A12,'Gruber Tabelle'!$A$6:$U$388,3,0),0)/1000","v":0}," "," "," "," "," "," "," "," "," "," "," ",0]
[0,{"$f":"IFERROR(VLOOKUP(A24,'Gruber Tabelle'!$A$6:$U$336,2,0),0)","v":0},null,{"$f":"IFERROR(VLOOKUP(A13,'Gruber Tabelle'!$A$6:$U$388,3,0),0)/1000","v":0}," "," "," "," "," "," "," "," "," "," "," ",0]
["Summe je kg Trockenmasse ( TM )",null,{"$f":"SUM(C15:C24)","v":0},{"$f":"IF(C25=100%,100/E25/100,0)","v":0},{"$f":"SUM(E15:E24)","v":0},0,0,0,0,0,0,0,0,0,0,0]
["Summe je kg Frischmasse ( FM )",null,null,null,{"$f":"SUM(E15:E24)*$D$25","v":0},{"$f":"SUM(F15:F24)*$D$25","v":0},{"$f":"SUM(G15:G24)*$D$25","v":0},0,0,0,0,0,0,0,0,0]

{"sheet":"Mischung 2","index":4,"n_rows":26,"n_cols":16,"rows_kept":26,"cut":false,"hidden":false,"merged":[[25,0,25,3],[24,0,24,1],[0,0,0,15],[1,0,1,4],[1,5,1,15],[3,2,12,4],[2,2,2,4]]}
[]
[]
["Nr ","Futterart","Kraftfutter",null,null,"aNDFom g","XP g","ME Mj","XS+XZ","bXS","Ca","P","Mg","Na","K","Preis / dt FM"]
[null,{"$f":"IFERROR(VLOOKUP(A4,'Gruber Tabelle'!$A$6:$U$336,2,0),0)","v":0},null,null,null,{"$f":"IFERROR(VLOOKUP(A4,'Gruber Tabelle'!$A$6:$U$336,5,0),0)","v":0},{"$f":"IFERROR(VLOOKUP(A4,'Gruber Tabelle'!$A$6:$U$336,7,0),0)","v":0},{"$f":"IFERROR(VLOOKUP(A4,'Gruber Tabelle'!$A$6:$U$336,12,0),0)","v":0},{"$f":"IFERROR(VLOOKUP(A4,'Gruber Tabelle'!$A$6:$U$336,13,0),0)","v":0},{"$f":"IFERROR(VLOOKUP(A4,'Gruber Tabelle'!$A$6:$U$336,14,0),0)","v":0},{"$f":"IFERROR(VLOOKUP(A4,'Gruber Tabelle'!$A$6:$U$336,16,0),0)","v":0},{"$f":"IFERROR(VLOOKUP(A4,'Gruber Tabelle'!$A$6:$U$336,17,0),0)","v":0},{"$f":"IFERROR(VLOOKUP(A4,'Gruber Tabelle'!$A$6:$U$336,18,0),0)","v":0},{"$f":"IFERROR(VLOOKUP(A4,'Gruber Tabelle'!$A$6:$U$336,19,0),0)","v":0},{"$f":"IFERROR(VLOOKUP(A4,'Gruber Tabelle'!$A$6:$U$336,20,0),0)","v":0},{"$f":"IFERROR(VLOOKUP(A4,'Gruber Tabelle'!$A$6:$U$336,21,0),0)","v":0}]
[null,{"$f":"IFERROR(VLOOKUP(A5,'Gruber Tabelle'!$A$6:$U$336,2,0),0)","v":0},null,null,null,{"$f":"IFERROR(VLOOKUP(A5,'Gruber Tabelle'!$A$6:$U$336,5,0),0)","v":0},{"$f":"IFERROR(VLOOKUP(A5,'Gruber Tabelle'!$A$6:$U$336,7,0),0)","v":0},{"$f":"IFERROR(VLOOKUP(A5,'Gruber Tabelle'!$A$6:$U$336,12,0),0)","v":0},{"$f":"IFERROR(VLOOKUP(A5,'Gruber Tabelle'!$A$6:$U$336,13,0),0)","v":0},{"$f":"IFERROR(VLOOKUP(A5,'Gruber Tabelle'!$A$6:$U$336,14,0),0)","v":0},{"$f":"IFERROR(VLOOKUP(A5,'Gruber Tabelle'!$A$6:$U$336,16,0),0)","v":0},{"$f":"IFERROR(VLOOKUP(A5,'Gruber Tabelle'!$A$6:$U$336,17,0),0)","v":0},{"$f":"IFERROR(VLOOKUP(A5,'Gruber Tabelle'!$A$6:$U$336,18,0),0)","v":0},{"$f":"IFERROR(VLOOKUP(A5,'Gruber Tabelle'!$A$6:$U$336,19,0),0)","v":0},{"$f":"IFERROR(VLOOKUP(A5,'Gruber Tabelle'!$A$6:$U$336,20,0),0)","v":0},{"$f":"IFERROR(VLOOKUP(A5,'Gruber Tabelle'!$A$6:$U$336,21,0),0)","v":0}]
[null,{"$f":"IFERROR(VLOOKUP(A6,'Gruber Tabelle'!$A$6:$U$336,2,0),0)","v":0},null,null,null,{"$f":"IFERROR(VLOOKUP(A6,'Gruber Tabelle'!$A$6:$U$336,5,0),0)","v":0},{"$f":"IFERROR(VLOOKUP(A6,'Gruber Tabelle'!$A$6:$U$336,7,0),0)","v":0},{"$f":"IFERROR(VLOOKUP(A6,'Gruber Tabelle'!$A$6:$U$336,12,0),0)","v":0},{"$f":"IFERROR(VLOOKUP(A6,'Gruber Tabelle'!$A$6:$U$336,13,0),0)","v":0},{"$f":"IFERROR(VLOOKUP(A6,'Gruber Tabelle'!$A$6:$U$336,14,0),0)","v":0},{"$f":"IFERROR(VLOOKUP(A6,'Gruber Tabelle'!$A$6:$U$336,16,0),0)","v":0},{"$f":"IFERROR(VLOOKUP(A6,'Gruber Tabelle'!$A$6:$U$336,17,0),0)","v":0},{"$f":"IFERROR(VLOOKUP(A6,'Gruber Tabelle'!$A$6:$U$336,18,0),0)","v":0},{"$f":"IFERROR(VLOOKUP(A6,'Gruber Tabelle'!$A$6:$U$336,19,0),0)","v":0},{"$f":"IFERROR(VLOOKUP(A6,'Gruber Tabelle'!$A$6:$U$336,20,0),0)","v":0},{"$f":"IFERROR(VLOOKUP(A6,'Gruber Tabelle'!$A$6:$U$336,21,0),0)","v":0}]
[null,{"$f":"IFERROR(VLOOKUP(A7,'Gruber Tabelle'!$A$6:$U$336,2,0),0)","v":0},null,null,null,{"$f":"IFERROR(VLOOKUP(A7,'Gruber Tabelle'!$A$6:$U$336,5,0),0)","v":0},{"$f":"IFERROR(VLOOKUP(A7,'Gruber Tabelle'!$A$6:$U$336,7,0),0)","v":0},{"$f":"IFERROR(VLOOKUP(A7,'Gruber Tabelle'!$A$6:$U$336,12,0),0)","v":0},{"$f":"IFERROR(VLOOKUP(A7,'Gruber Tabelle'!$A$6:$U$336,13,0),0)","v":0},{"$f":"IFERROR(VLOOKUP(A7,'Gruber Tabelle'!$A$6:$U$336,14,0),0)","v":0},{"$f":"IFERROR(VLOOKUP(A7,'Gruber Tabelle'!$A$6:$U$336,16,0),0)","v":0},{"$f":"IFERROR(VLOOKUP(A7,'Gruber Tabelle'!$A$6:$U$336,17,0),0)","v":0},{"$f":"IFERROR(VLOOKUP(A7,'Gruber Tabelle'!$A$6:$U$336,18,0),0)","v":0},{"$f":"IFERROR(VLOOKUP(A7,'Gruber Tabelle'!$A$6:$U$336,19,0),0)","v":0},{"$f":"IFERROR(VLOOKUP(A7,'Gruber Tabelle'!$A$6:$U$336,20,0),0)","v":0},{"$f":"IFERROR(VLOOKUP(A7,'Gruber Tabelle'!$A$6:$U$336,21,0),0)","v":0}]
[null,{"$f":"IFERROR(VLOOKUP(A8,'Gruber Tabelle'!$A$6:$U$336,2,0),0)","v":0},null,null,null,{"$f":"IFERROR(VLOOKUP(A8,'Gruber Tabelle'!$A$6:$U$336,5,0),0)","v":0},{"$f":"IFERROR(VLOOKUP(A8,'Gruber Tabelle'!$A$6:$U$336,7,0),0)","v":0},{"$f":"IFERROR(VLOOKUP(A8,'Gruber Tabelle'!$A$6:$U$336,12,0),0)","v":0},{"$f":"IFERROR(VLOOKUP(A8,'Gruber Tabelle'!$A$6:$U$336,13,0),0)","v":0},{"$f":"IFERROR(VLOOKUP(A8,'Gruber Tabelle'!$A$6:$U$336,14,0),0)","v":0},{"$f":"IFERROR(VLOOKUP(A8,'Gruber Tabelle'!$A$6:$U$336,16,0),0)","v":0},{"$f":"IFERROR(VLOOKUP(A8,'Gruber Tabelle'!$A$6:$U$336,17,0),0)","v":0},{"$f":"IFERROR(VLOOKUP(A8,'Gruber Tabelle'!$A$6:$U$336,18,0),0)","v":0},{"$f":"IFERROR(VLOOKUP(A8,'Gruber Tabelle'!$A$6:$U$336,19,0),0)","v":0},{"$f":"IFERROR(VLOOKUP(A8,'Gruber Tabelle'!$A$6:$U$336,20,0),0)","v":0},{"$f":"IFERROR(VLOOKUP(A8,'Gruber Tabelle'!$A$6:$U$336,21,0),0)","v":0}]
[null,{"$f":"IFERROR(VLOOKUP(A9,'Gruber Tabelle'!$A$6:$U$336,2,0),0)","v":0},null,null,null,{"$f":"IFERROR(VLOOKUP(A9,'Gruber Tabelle'!$A$6:$U$336,5,0),0)","v":0},{"$f":"IFERROR(VLOOKUP(A9,'Gruber Tabelle'!$A$6:$U$336,7,0),0)","v":0},{"$f":"IFERROR(VLOOKUP(A9,'Gruber Tabelle'!$A$6:$U$336,12,0),0)","v":0},{"$f":"IFERROR(VLOOKUP(A9,'Gruber Tabelle'!$A$6:$U$336,13,0),0)","v":0},{"$f":"IFERROR(VLOOKUP(A9,'Gruber Tabelle'!$A$6:$U$336,14,0),0)","v":0},{"$f":"IFERROR(VLOOKUP(A9,'Gruber Tabelle'!$A$6:$U$336,16,0),0)","v":0},{"$f":"IFERROR(VLOOKUP(A9,'Gruber Tabelle'!$A$6:$U$336,17,0),0)","v":0},{"$f":"IFERROR(VLOOKUP(A9,'Gruber Tabelle'!$A$6:$U$336,18,0),0)","v":0},{"$f":"IFERROR(VLOOKUP(A9,'Gruber Tabelle'!$A$6:$U$336,19,0),0)","v":0},{"$f":"IFERROR(VLOOKUP(A9,'Gruber Tabelle'!$A$6:$U$336,20,0),0)","v":0},{"$f":"IFERROR(VLOOKUP(A9,'Gruber Tabelle'!$A$6:$U$336,21,0),0)","v":0}]
[null,{"$f":"IFERROR(VLOOKUP(A10,'Gruber Tabelle'!$A$6:$U$336,2,0),0)","v":0},null,null,null,{"$f":"IFERROR(VLOOKUP(A10,'Gruber Tabelle'!$A$6:$U$336,5,0),0)","v":0},{"$f":"IFERROR(VLOOKUP(A10,'Gruber Tabelle'!$A$6:$U$336,7,0),0)","v":0},{"$f":"IFERROR(VLOOKUP(A10,'Gruber Tabelle'!$A$6:$U$336,12,0),0)","v":0},{"$f":"IFERROR(VLOOKUP(A10,'Gruber Tabelle'!$A$6:$U$336,13,0),0)","v":0},{"$f":"IFERROR(VLOOKUP(A10,'Gruber Tabelle'!$A$6:$U$336,14,0),0)","v":0},{"$f":"IFERROR(VLOOKUP(A10,'Gruber Tabelle'!$A$6:$U$336,16,0),0)","v":0},{"$f":"IFERROR(VLOOKUP(A10,'Gruber Tabelle'!$A$6:$U$336,17,0),0)","v":0},{"$f":"IFERROR(VLOOKUP(A10,'Gruber Tabelle'!$A$6:$U$336,18,0),0)","v":0},{"$f":"IFERROR(VLOOKUP(A10,'Gruber Tabelle'!$A$6:$U$336,19,0),0)","v":0},{"$f":"IFERROR(VLOOKUP(A10,'Gruber Tabelle'!$A$6:$U$336,20,0),0)","v":0},{"$f":"IFERROR(VLOOKUP(A10,'Gruber Tabelle'!$A$6:$U$336,21,0),0)","v":0}]
[null,{"$f":"IFERROR(VLOOKUP(A11,'Gruber Tabelle'!$A$6:$U$336,2,0),0)","v":0},null,null,null,{"$f":"IFERROR(VLOOKUP(A11,'Gruber Tabelle'!$A$6:$U$336,5,0),0)","v":0},{"$f":"IFERROR(VLOOKUP(A11,'Gruber Tabelle'!$A$6:$U$336,7,0),0)","v":0},{"$f":"IFERROR(VLOOKUP(A11,'Gruber Tabelle'!$A$6:$U$336,12,0),0)","v":0},{"$f":"IFERROR(VLOOKUP(A11,'Gruber Tabelle'!$A$6:$U$336,13,0),0)","v":0},{"$f":"IFERROR(VLOOKUP(A11,'Gruber Tabelle'!$A$6:$U$336,14,0),0)","v":0},{"$f":"IFERROR(VLOOKUP(A11,'Gruber Tabelle'!$A$6:$U$336,16,0),0)","v":0},{"$f":"IFERROR(VLOOKUP(A11,'Gruber Tabelle'!$A$6:$U$336,17,0),0)","v":0},{"$f":"IFERROR(VLOOKUP(A11,'Gruber Tabelle'!$A$6:$U$336,18,0),0)","v":0},{"$f":"IFERROR(VLOOKUP(A11,'Gruber Tabelle'!$A$6:$U$336,19,0),0)","v":0},{"$f":"IFERROR(VLOOKUP(A11,'Gruber Tabelle'!$A$6:$U$336,20,0),0)","v":0},{"$f":"IFERROR(VLOOKUP(A11,'Gruber Tabelle'!$A$6:$U$336,21,0),0)","v":0}]
[null,{"$f":"IFERROR(VLOOKUP(A12,'Gruber Tabelle'!$A$6:$U$336,2,0),0)","v":0},null,null,null,{"$f":"IFERROR(VLOOKUP(A12,'Gruber Tabelle'!$A$6:$U$336,5,0),0)","v":0},{"$f":"IFERROR(VLOOKUP(A12,'Gruber Tabelle'!$A$6:$U$336,7,0),0)","v":0},{"$f":"IFERROR(VLOOKUP(A12,'Gruber Tabelle'!$A$6:$U$336,12,0),0)","v":0},{"$f":"IFERROR(VLOOKUP(A12,'Gruber Tabelle'!$A$6:$U$336,13,0),0)","v":0},{"$f":"IFERROR(VLOOKUP(A12,'Gruber Tabelle'!$A$6:$U$336,14,0),0)","v":0},{"$f":"IFERROR(VLOOKUP(A12,'Gruber Tabelle'!$A$6:$U$336,16,0),0)","v":0},{"$f":"IFERROR(VLOOKUP(A12,'Gruber Tabelle'!$A$6:$U$336,17,0),0)","v":0},{"$f":"IFERROR(VLOOKUP(A12,'Gruber Tabelle'!$A$6:$U$336,18,0),0)","v":0},{"$f":"IFERROR(VLOOKUP(A12,'Gruber Tabelle'!$A$6:$U$336,19,0),0)","v":0},{"$f":"IFERROR(VLOOKUP(A12,'Gruber Tabelle'!$A$6:$U$336,20,0),0)","v":0},{"$f":"IFERROR(VLOOKUP(A12,'Gruber Tabelle'!$A$6:$U$336,21,0),0)","v":0}]
[null,{"$f":"IFERROR(VLOOKUP(A13,'Gruber Tabelle'!$A$6:$U$336,2,0),0)","v":0},null,null,null,{"$f":"IFERROR(VLOOKUP(A13,'Gruber Tabelle'!$A$6:$U$336,5,0),0)","v":0},{"$f":"IFERROR(VLOOKUP(A13,'Gruber Tabelle'!$A$6:$U$336,7,0),0)","v":0},{"$f":"IFERROR(VLOOKUP(A13,'Gruber Tabelle'!$A$6:$U$336,12,0),0)","v":0},{"$f":"IFERROR(VLOOKUP(A13,'Gruber Tabelle'!$A$6:$U$336,13,0),0)","v":0},{"$f":"IFERROR(VLOOKUP(A13,'Gruber Tabelle'!$A$6:$U$336,14,0),0)","v":0},{"$f":"IFERROR(VLOOKUP(A13,'Gruber Tabelle'!$A$6:$U$336,16,0),0)","v":0},{"$f":"IFERROR(VLOOKUP(A13,'Gruber Tabelle'!$A$6:$U$336,17,0),0)","v":0},{"$f":"IFERROR(VLOOKUP(A13,'Gruber Tabelle'!$A$6:$U$336,18,0),0)","v":0},{"$f":"IFERROR(VLOOKUP(A13,'Gruber Tabelle'!$A$6:$U$336,19,0),0)","v":0},{"$f":"IFERROR(VLOOKUP(A13,'Gruber Tabelle'!$A$6:$U$336,20,0),0)","v":0},{"$f":"IFERROR(VLOOKUP(A13,'Gruber Tabelle'!$A$6:$U$336,21,0),0)","v":0}]
["Nr ","Futterart","Mischungs- Anteil in %","TM %","FM kg","aNDFom g","XP g","ME Mj","XS+XZ","bXS","Ca","P","Mg","Na","K","Preis"]
[{"$f":"A4","v":0},{"$f":"IFERROR(VLOOKUP(A15,'Gruber Tabelle'!$A$6:$U$336,2,0),0)","v":0},null,{"$f":"IFERROR(VLOOKUP(A4,'Gruber Tabelle'!$A$6:$U$336,3,0),0)/1000","v":0},{"$f":"IF(D15>0,(1/D15*C15),\" \")","v":" "},{"$f":"IF(F4>0,F4*C15,\" \")","v":" "},{"$f":"IF(G4>0,G4*C15,\" \")","v":" "},{"$f":"IF(H4>0,H4*C15,\" \")","v":" "},{"$f":"IF(I4>0,I4*C15,\" \")","v":" "},{"$f":"IF(J4>0,J4*C15,\" \")","v":" "},{"$f":"IF(K4>0,K4*C15,\" \")","v":" "},{"$f":"IF(L4>0,L4*C15,\" \")","v":" "},{"$f":"IF(M4>0,M4*C15,\" \")","v":" "},{"$f":"IF(N4>0,N4*C15,\" \")","v":" "},{"$f":"IF(O4>0,O4*C15,\" \")","v":" "},{"$f":"IF(C15>0,P4*E15/100,0)","v":0}]
[0,{"$f":"IFERROR(VLOOKUP(A16,'Gruber Tabelle'!$A$6:$U$336,2,0),0)","v":0},null,{"$f":"IFERROR(VLOOKUP(A5,'Gruber Tabelle'!$A$6:$U$336,3,0),0)/1000","v":0}," "," "," "," "," "," "," "," "," "," "," ",0]
[0,{"$f":"IFERROR(VLOOKUP(A17,'Gruber Tabelle'!$A$6:$U$336,2,0),0)","v":0},null,{"$f":"IFERROR(VLOOKUP(A6,'Gruber Tabelle'!$A$6:$U$336,3,0),0)/1000","v":0}," "," "," "," "," "," "," "," "," "," "," ",0]
[0,{"$f":"IFERROR(VLOOKUP(A18,'Gruber Tabelle'!$A$6:$U$336,2,0),0)","v":0},null,{"$f":"IFERROR(VLOOKUP(A7,'Gruber Tabelle'!$A$6:$U$336,3,0),0)/1000","v":0}," "," "," "," "," "," "," "," "," "," "," ",0]
[0,{"$f":"IFERROR(VLOOKUP(A19,'Gruber Tabelle'!$A$6:$U$336,2,0),0)","v":0},null,{"$f":"IFERROR(VLOOKUP(A8,'Gruber Tabelle'!$A$6:$U$336,3,0),0)/1000","v":0}," "," "," "," "," "," "," "," "," "," "," ",0]
[0,{"$f":"IFERROR(VLOOKUP(A20,'Gruber Tabelle'!$A$6:$U$336,2,0),0)","v":0},null,{"$f":"IFERROR(VLOOKUP(A9,'Gruber Tabelle'!$A$6:$U$336,3,0),0)/1000","v":0}," "," "," "," "," "," "," "," "," "," "," ",0]
[0,{"$f":"IFERROR(VLOOKUP(A21,'Gruber Tabelle'!$A$6:$U$336,2,0),0)","v":0},null,{"$f":"IFERROR(VLOOKUP(A10,'Gruber Tabelle'!$A$6:$U$336,3,0),0)/1000","v":0}," "," "," "," "," "," "," "," "," "," "," ",0]
[0,{"$f":"IFERROR(VLOOKUP(A22,'Gruber Tabelle'!$A$6:$U$336,2,0),0)","v":0},null,{"$f":"IFERROR(VLOOKUP(A11,'Gruber Tabelle'!$A$6:$U$336,3,0),0)/1000","v":0}," "," "," "," "," "," "," "," "," "," "," ",0]
[0,{"$f":"IFERROR(VLOOKUP(A23,'Gruber Tabelle'!$A$6:$U$336,2,0),0)","v":0},null,{"$f":"IFERROR(VLOOKUP(A12,'Gruber Tabelle'!$A$6:$U$336,3,0),0)/1000","v":0}," "," "," "," "," "," "," "," "," "," "," ",0]
[0,{"$f":"IFERROR(VLOOKUP(A24,'Gruber Tabelle'!$A$6:$U$336,2,0),0)","v":0},null,{"$f":"IFERROR(VLOOKUP(A13,'Gruber Tabelle'!$A$6:$U$336,3,0),0)/1000","v":0}," "," "," "," "," "," "," "," "," "," "," ",0]
["Summe je kg Trockenmasse ( TM )",null,{"$f":"SUM(C15:C24)","v":0},{"$f":"IF(C25=100%,100/E25/100,0)","v":0},{"$f":"SUM(E15:E24)","v":0},0,0,0,0,0,0,0,0,0,0,0]
["Summe je kg Frischmasse ( FM )",null,null,null,{"$f":"SUM(E15:E24)*$D$25","v":0},{"$f":"SUM(F15:F24)*$D$25","v":0},0,0,0,0,0,0,0,0,0,0]

{"sheet":"Gruber Tabelle","index":5,"n_rows":336,"n_cols":22,"rows_kept":336,"cut":false,"hidden":false,"merged":[[3,21,4,21],[1,7,1,21],[0,0,0,21],[1,2,1,6],[1,0,4,1],[2,3,2,19]]}
["Mischung 1"]
[null,null,"www.LfL.bayern.de",null,null,null,null,"Gruber Tabelle zur Fütterung in der Rindermast      - Fresser - Mastfärsen - Bullen - Mastkühe - Ochsen"]
[null,null,null,"in 1000 g Trockenmasse TM",null,null,null,null,null,null,null,null,null,null,null,null,null,null,null,null,"Preis","Typ"]
[null,null,"TM","XF","aNDF","ADF","XP","nXP","UDP","RNB","Nel","ME","XS+XZ","bXS","XL","Ca","P","Mg","Na","K","FM"]
[null,null,"g","g","om  g","om  g","g","g","%","g","MJ","MJ","g","g","g","g","g","g","g","g","€ / dt"]
[null," 7.1 Grünfutter",null,null,null,null,null,null,null,{"$f":"(G6-H6)/6.25","v":0}]
[null,"Wiesengras 1. Schnitt",null,null,null,null,null,null,null,0]
[1013,"Wiesengr. 1. S. Blattstadium",175,173,433,209,228,154,10,11.84,7.12,11.57,137,null,33,6.9,3.8,2.4,0.9,32,null,"GF"]
[1014,"Wiesengr. 1. S. Schossen",180,185,439,222,192,146,10,7.36,6.86,11.21,137,null,32,6.7,3.6,2.4,0.8,31,null,"GF"]
[1015,"Wiesengr. 1. S. Rispensch.",185,204,457,241,167,144,15,3.68,6.56,10.82,137,null,30,6.5,3.4,2.2000000000000002,0.7,30,null,"GF"]
[1016,"Wiesengr. 1. S. Beginn Blüte",190,224,486,260,146,136,15,1.6,6.28,10.45,137,null,28,6.4,3.3,2.1,0.5,29,null,"GF"]
[1017,"Wiesengr. 1. S. Ende Blüte",200,246,515,281,120,127,15,-1.1200000000000001,5.94,9.98,137,null,25,6,3.1,2,0.5,28,null,"GF"]
[1018,null,null,null,null,null,null,null,null,0,null,null,null,null,null,null,null,null,null,null,null,"GF"]
[null,"Wiesengr. 2. u. folg. Schnitte",null,null,null,null,null,null,null,0]
[1023,"Wiesengr. 2. S. Blattstadium",200,227,488,270,179,140,10,6.24,6.51,10.78,63,null,40,7.6,3.7,2.8,0.9,29,0,"GF"]
[1024,"Wiesengr. 2. S. Schossen",200,233,491,275,159,135,10,3.84,6.32,10.51,63,null,37,7.6,3.5,2.8,0.8,28,0,"GF"]
[1025,"Wiesengr. 2. S. Rispensch.",200,241,510,285,144,134,15,1.6,6.1,10.210000000000001,63,null,35,7.3,3.4,2.6,0.6,27,0,"GF"]
[1026,"Wiesengr. 2. S. Beginn Blüte",200,259,537,304,124,127,15,-0.48,5.85,9.84,63,null,31,6.9,3.2,2.4,0.6,26,0,"GF"]
[1027,null,null,null,null,null,null,null,null,0,null,null,null,null,null,null,null,null,null,null,null,"GF"]
[null,"Rotklee 1. Schnitt",null,null,null,null,null,null,null,0]
[1614,"Rotklee 1. S. vor der Knospe",140,200,355,275,261,157,20,16.64,5.77,9.75,80,null,34,10,3.7,2.5,0.5,32,0,"GF"]
[1615,"Rotklee 1. S. in der Knospe",155,215,385,305,219,144,20,12,5.52,9.39,80,null,28,10,3.7,2.5,0.5,32,0,"GF"]
[1616,"Rotklee 1. S. Mitte der Blüte",160,230,425,345,166,128,20,6.08,5.16,8.8699999999999992,80,null,24,10,3.7,2.5,0.5,32,0,"GF"]
[1617,null,null,null,null,null,null,null,null,0,null,null,null,null,null,null,null,null,null,null,null,"GF"]
[null,"Rotklee 2. u. folg. Schnitte",null,null,null,null,null,null,null,0]
[1624,"Rotklee 2. S. vor der Knospe",170,210,370,290,235,151,20,13.44,5.71,9.66,60,null,29,14,3.9,3,0.5,35,null,"GF"]
[1625,"Rotklee 2. S. in der Knospe",190,217,410,330,211,140,20,11.36,5.35,9.15,60,null,27,14,3.9,3,0.5,35,null,"GF"]
[1626,"Rotklee 2. S. Mitte der Blüte",210,282,450,370,164,124,20,6.4,4.9000000000000004,8.5,60,null,25,14,3.9,3,0.5,35,null,"GF"]
[1627,null,null,null,null,null,null,null,null,0,null,null,null,null,null,null,null,null,null,null,null,"GF"]
[null,"Kleegras  1. Schnitt",null,null,null,null,null,null,null,0]
[1633,"Kleegras 1. S. vor der Knospe",150,215,380,220,200,144,15,8.9600000000000009,6.23,10.36,80,null,29,8.3000000000000007,3.9,2.7,0.6,35,null,"GF"]
[1634,"Kleegras 1. S. in der Knospe",160,225,410,250,180,137,15,6.88,5.95,9.98,80,null,28,8.3000000000000007,3.8,2.2000000000000002,0.6,33,null,"GF"]
[1635,"Kleegras 1. S. Beginn Blüte",175,235,440,280,160,129,15,4.96,5.67,9.59,80,null,27,8.3000000000000007,3.5,2.1,0.6,32,null,"GF"]
[1636,"Kleegras 1. S. Ende der Blüte",200,245,470,310,140,126,20,2.2400000000000002,5.4,9.1999999999999993,80,null,26,7,3.5,2,0.3,30,null,"GF"]
[null,"Kleegras 2. u. folg. Schnitte",null,null,null,null,null,null,null,0]
[1644,"Kleegras 2. S. vor der Knospe",150,218,430,283,220,140,15,12.8,5.76,9.73,53,null,29,9.4,3.9,2.8,0.4,36,null,"GF"]
[1645,"Kleegras 2. S. Knospe",175,248,466,306,180,131,15,7.84,5.55,9.43,61,null,28,9.4,3.9,2.7,0.4,32,null,"GF"]
[1646,"Kleegras 2. S. Mitte der Blüte",190,271,509,328,150,128,20,3.52,5.41,9.23,73,null,25,9.4,3.9,2.2999999999999998,0.3,35,null,"GF"]
[1647,null,null,null,null,null,null,null,null,0,null,null,null,null,null,null,null,null,null,null,null,"GF"]
[1655,"Jurakleegras 1.Schn.Beg.Blü.",170,245,500,290,185,139,15,7.36,6.03,10.1,50,null,30,10,3.7,1.9,0.8,35,null,"GF"]
[1656,null,null,null,null,null,null,null,null,{"$f":"(G41-H41)/6.25","v":0},null,null,null,null,null,null,null,null,null,null,null,"GF"]
[null,"Luzerne 1.Schnitt",null,null,null,null,null,null,null,0]
[1714,"Luzerne 1. S. Knospe",150,233,368,310,236,138,15,15.68,5.49,9.36,50,null,26,16,3.8,3.1,0.5,32,null,"GF"]
[1715,"Luzerne 1. S. Beginn Blüte",180,246,400,320,203,139,20,10.24,5.4,9.2200000000000006,50,null,23,14.5,3.5,2.8,0.5,31,null,"GF"]
[1716,"Luzerne 1. S. Ende Blüte",210,283,465,350,160,131,25,4.6399999999999997,5.0999999999999996,8.8000000000000007,50,null,22,13,3,2.5,0.5,30,null,"GF"]
[1717,null,null,null,null,null,null,null,null,0,null,null,null,null,null,null,null,null,null,null,null,"GF"]
[null,"Luzerne 2. u. folg. Schnitte",null,null,null,null,null,null,null,0]
[1724,"Luzerne 2. S. Knospe",180,223,357,264,244,147,15,15.52,5.94,9.98,55,null,27,16,4.0999999999999996,3.2,0.5,31,null,"GF"]
[1725,"Luzerne 2. S. Beginn Blüte",195,280,421,331,208,139,20,11.04,5.28,9.06,55,null,24,15,3.7,2.8,0.5,30,null,"GF"]
[1726,"Luzerne 2. S. Ende Blüte",210,327,473,379,177,125,20,8.32,4.84,8.42,55,null,22,14,3.4,2.2000000000000002,0.5,29,null,"GF"]
[1727,null,null,null,null,null,null,null,null,0,null,null,null,null,null,null,null,null,null,null,null,"GF"]
[null,"Luzernegras 1. Schnitt",null,null,null,null,null,null,null,0]
[1734,"Luzernegr. 1. S. vor d. Knospe",160,205,385,238,195,142,15,8.48,6.13,10.220000000000001,75,null,25,10.4,3.9,2.2000000000000002,0.6,33,null,"GF"]
[1735,"Luzernegr. 1. S. Knospe",170,243,432,288,183,133,15,8,5.67,9.61,61,null,25,8.9,3.6,2.2000000000000002,0.3,32,null,"GF"]
[1736,"Luzernegr. 1. S. Mitte d. Blüte",180,300,503,346,161,121,15,6.4,5.12,8.82,47,null,24,8.6999999999999993,3.5,2.2000000000000002,0.1,28,null,"GF"]
[1737,null,null,null,null,null,null,null,null,0,null,null,null,null,null,null,null,null,null,null,null,"GF"]
[null,"Luzernegras 2. u. folg. Schnitte",null,null,null,null,null,null,null,0]
[1744,"Luzernegr. 2. S. vor d. Knospe",190,213,381,256,229,145,15,13.44,6.01,10.07,46,null,29,14.5,4.2,3.1,0.4,33,null,"GF"]
[1745,"Luzernegr. 2. S. Knospe",195,259,431,307,196,132,15,10.24,5.5,9.3699999999999992,40,null,27,14.5,3.6,2.8,0.4,31,null,"GF"]
[1746,"Luzernegr. 2. S. Mitte d. Blüte",200,315,485,367,177,121,15,8.9600000000000009,4.93,8.56,28,null,24,14.5,3.3,2.6,0.4,29,null,"GF"]
[1747,null,null,null,null,null,null,null,null,null,null,null,null,null,null,null,null,null,null,null,null,"GF"]
[1665,"Alexandrinerklee  Beg. Blüte",125,237,485,285,200,149,25,8,5.65,9.56,80,null,43,16,3.9,3.2,1.3,33,null,"GF"]
[1685,"Perserklee",118,218,455,265,203,143,20,{"$f":"(G63-H63)/6.25","v":9.6},5.71,9.6,80,null,24,16,3.5,2,1.4,28,null,"GF"]
[null,"Weidelgras 1. Schnitt",null,null,null,null,null,null,null,0]
[1814,"Weidelgras 1. S. Schossen",170,190,420,200,171,152,15,3.04,7.07,11.49,180,null,31,5.5,3.8,1.8,0.4,37,null,"GF"]
[1815,"Weidelgras 1. S. Ährensch.",180,220,480,260,145,138,15,1.1200000000000001,6.43,10.62,150,null,27,5.5,3.3,1.8,0.4,33,null,"GF"]
[1816,"Weidelgras 1. S. Beginn Blüte",190,260,530,310,110,123,15,-2.08,5.77,9.7100000000000009,105,null,24,5.5,3.2,1.8,0.4,32,null,"GF"]
[1817,null,null,null,null,null,null,null,null,0,null,null,null,null,null,null,null,null,null,null,null,"GF"]
[null,"Weidelgras 2. u. folg. Schnitte",null,null,null,null,null,null,null,0]
[1824,"Weidelgras 2. S. Schossen",180,210,447,218,195,157,15,6.08,7.13,11.61,120,null,43,5.5,3.8,1.8,0.4,37,null,"GF"]
[1825,"Weidelgras 2. S. Ährensch.",190,229,496,251,175,145,15,4.8,6.55,10.82,90,null,38,5.5,3.3,1.8,0.4,33,null,"GF"]
[1826,"Weidelgras 2. S. Beginn Blüte",200,261,538,311,160,132,15,4.4800000000000004,5.82,9.82,60,null,32,5.5,3.2,1.8,0.4,32,null,"GF"]
[1827,null,null,null,null,null,null,null,null,0,null,null,null,null,null,null,null,null,null,null,null,"GF"]
[1865,"Landsberger Gemenge",190,202,442,254,190,119,0,11.36,5.96,9.98,105,null,26,7.3,3,1.7,0.5,26,null,"GF"]
[1866,0,0,0,0,0,0,0,0,0,0,0,0,null,0,0,0,0,0,0,null,"GF"]
[1125,"Gerste im Ährenschieben",290,235,580,320,108,138,20,-4.8,6.62,10.92,90,0,25,4.8,2.6,1.5,0.3,24,null,"GF"]
[null,"Grünhafer / Grünroggen",null,null,null,null,null,null,null,0]
[1145,"Grünhafer im Rispensch.",290,285,530,340,111,133,15,-3.52,6.38,10.6,104,null,32,5.7,3.4,2.2000000000000002,0.7,27,null,"GF"]
[1165,"Grünroggen",260,300,520,330,115,133,15,-2.88,6.38,10.6,93,0,32,4.3,3.7,1.6,0.3,30,null,"GF"]
[1166,0,0,0,0,0,0,0,0,0,0,0,0,null,0,0,0,0,0,0,null,"GF"]
[1305,"Ackerbohnen Ganzpflanze",200,330,506,386,150,121,15,{"$f":"(G81-H81)/6.25","v":4.6399999999999997},5.22,8.99,47,null,20,15.5,3.5,3.3,2,23,null,"GF"]
[1306,"Sojabohnen Ganzpflanze",300,274,453,349,186,127,15,9.44,5.28,9.0500000000000007,44,null,22,15.8,3.9,4.3,0.4,27,null,"GF"]
[null,"Hülsenfruchtgemenge",null,null,null,null,null,null,null,0]
[1315,"Hülsenfruchtg. getreidebetont",200,265,607,330,120,122,15,-0.32,5.58,9.5,101,null,22,7,4,1.8,0.4,30,null,"GF"]
[1335,"Hülsenfruchtg. leguminosenb.",180,269,571,342,169,137,15,{"$f":"(G85-H85)/6.25","v":5.12},6.07,10.18,52,null,28,7.7,4.8,2,0.3,29,null,"GF"]
[1317,null,null,null,null,null,null,null,null,0,null,null,null,null,null,null,null,null,null,null,null,"GF"]
[1355,"Hülsenfr.-Sonnenbl.gem.",240,398,575,461,130,119,15,1.76,5.33,9.1199999999999992,59,null,22,12,3,2.2000000000000002,0.3,28,null,"GF"]
[1455,"Sonnenblumen Beg. Blüte",190,220,430,290,120,121,15,-0.16,5.52,9.35,110,null,50,14,4.4000000000000004,2.2999999999999998,0,30,null,"GF"]
[1424,"Raps jung, blattreich",120,134,367,209,180,152,15,4.4800000000000004,7.05,11.38,120,null,39,17,4.5,2.6,1.3,32,null,"GF"]
[1425,"Raps alt, stängelreich",180,215,435,283,150,124,15,4.16,5.48,9.25,180,null,24,19,5,2.6,1.4,32,null,"GF"]
[1435,"Perko",100,127,320,190,216,145,15,11.36,6.27,10.23,110,null,38,13,6,1.2,1.1000000000000001,30,null,"GF"]
[1436,null,null,null,null,null,null,null,null,0,null,null,null,null,null,null,null,null,null,null,null,"GF"]
[1444,"Rübsen jung, blattreich",110,107,290,170,180,148,15,5.12,6.84,11.02,90,null,42,16,3.6,2.4,0.9,30,null,"GF"]
[1445,"Rübsen alt, stengelreich",120,146,350,205,189,146,15,6.88,6.62,10.74,70,null,37,16,4.5999999999999996,2.7,1.4,30,null,"GF"]
[1465,"Senf vor der Blüte",140,210,430,250,215,138,15,12.32,5.74,9.6199999999999992,110,null,26,15.5,4,3.4,0,25,null,"GF"]
[1505,"Zuckerrübenblatt",160,109,295,175,160,139,15,3.36,6.44,10.46,220,null,21,12.4,2.5,4.8,9.5,35,null,"GF"]
[1555,"Futterrübenblatt",120,114,300,180,138,126,15,1.92,5.86,9.6300000000000008,100,null,22,20,2.5,6.1,6.1,45,null,"GF"]
[1885,"Sudangras/Zuckerhirse grün",200,280,600,350,105,116,15,-1.76,5.36,9.1300000000000008,60,null,27,5,2,4,0.8,25,null,"GF"]
[null,"Grünmais",null,null,null,null,null,null,null,0]
[1203,"Grünmais Kolbenbildung",200,248,501,284,82,124,25,-6.72,5.98,10.050000000000001,226,23,17,3,2.2000000000000002,1.7,0.2,12,null,"GF"]
[1204,"Grünmais Milchreife",225,230,475,266,76,125,25,-7.84,6.17,10.31,257,32,20,2.9,2.2000000000000002,1.7,0.2,12,null,"GF"]
[1205,"Grünmais Teigreife",240,210,430,245,74,128,25,-8.64,6.4,10.62,303,47,24,2.8,2.2000000000000002,1.7,0.2,12,null,"GF"]
[1206,0,0,0,0,0,0,0,0,0,0,0,0,0,0,0,0,0,0,0,null,"GF"]
[null,"7.2 Silagen",null,null,null,null,null,null,null,{"$f":"(G104-H104)/6.25","v":0}]
[null,"Grassilage angewelkt 1. Schnitt",null,null,null,null,null,null,null,0]
[2013,"Grassil. 1. S. Beg. Schossen",350,227,488,270,179,145,15,5.44,6.51,10.78,63,null,40,6.8,3.7,2.4,0.9,31,null,"GF"]
[2014,"Grassil. 1. S. Beg. Rispensch.",350,233,491,275,159,139,15,3.2,6.32,10.51,63,null,37,6.7,3.5,2.2999999999999998,0.7,30,null,"GF"]
[2015,"Grassil. 1. S. Rispenspreizen",350,241,510,285,144,134,15,1.6,6.1,10.210000000000001,63,null,35,6.5,3.4,2.2000000000000002,0.6,29,null,"GF"]
[2016,"Grassil. 1. S. Mitte der Blüte",350,259,537,304,124,127,15,-0.48,5.85,9.84,63,null,31,6.1,3.2,2,0.5,28,null,"GF"]
[2017,null,null,null,null,null,null,null,null,0,null,null,null,null,null,null,null,null,null,null,null,"GF"]
[2018,null,null,null,null,null,null,null,null,0,null,null,null,null,null,null,null,null,null,null,null,"GF"]
[null,"Grassilage angew. 2. u. f. Schnitte",null,null,null,null,null,null,null,0]
[2024,"Grassil. 2. S. Beg. Schossen ",350,255,495,270,169,139,15,{"$f":"(G113-H113)/6.25","v":4.8},6.19,10.34,50,null,40,7.6,3.6,2.7,0.9,29,null,"GF"]
[2025,"Grassil. 2. S. Beg. Rispensch.",350,275,510,285,148,131,15,2.72,5.9,9.93,50,null,37,7.4,3.5,2.6,0.8,27,null,"GF"]
[2026,"Grassil. 2. S. Rispenspreizen",350,297,535,305,128,124,15,0.64,5.63,9.5399999999999991,50,null,33,7,3.3,2.5,0.6,26,null,"GF"]
[2027,null,null,null,null,null,null,null,null,0,null,null,null,null,null,null,null,null,null,null,null,"GF"]
[null,"Kleegrassilage 1. Schnitt",null,null,null,null,null,null,null,0]
[2634,"KlGr.-Sil. 1. S. Beginn Knospe",330,221,401,270,184,136,15,7.68,5.83,9.86,50,null,41,8.1,3.7,2.6,0.6,34,null,"GF"]
[2635,"KlGr.-Sil. 1. S. Knospenöffnen",330,231,422,283,161,129,15,5.12,5.65,9.58,50,0,37,8.1,3.6,2.5,0.6,31,null,"GF"]
[2636,"KlGr.-Sil. 1. S. Mitte der Blüte",330,243,449,295,143,128,20,2.4,5.48,9.34,50,null,35,8.1,3,2,1,31,null,"GF"]
[2637,null,null,null,null,null,null,null,null,{"$f":"(G121-H121)/6.25","v":0},null,null,null,null,null,null,null,null,null,null,null,"GF"]
[null,"Kleegrassilage 2.u.folg. Schnitt",null,null,null,null,null,null,null,0]
[2644,"KlGr.-Sil. 2. S. vor der Knospe",340,240,422,298,178,131,15,7.52,5.58,9.49,42,null,37,10.7,3.6,2.7,0.6,32,null,"GF"]
[2645,"KlGr.-Sil. 2. S. in der Knospe",340,256,457,316,155,124,15,4.96,5.39,9.2100000000000009,44,null,35,9.4,3.5,2.6,0.6,31,null,"GF"]
[2646,"KlGr.-Sil. 2. S. Beg. der Blüte",340,273,483,327,130,118,15,1.92,5.22,8.9600000000000009,50,null,32,8.9,3.3,2.4,0.6,28,null,"GF"]
[2647,null,null,null,null,null,null,null,null,0,null,null,null,null,null,null,null,null,null,null,null,"GF"]
[null,"Luzernesilage",null,null,null,null,null,null,null,0]
[2714,"Luz-Sil. 1. S. in der Knospe",350,235,374,319,190,129,15,9.76,5.32,9.11,40,null,32,16,3.5,2.9,0.5,31,null,"GF"]
[2715,"Luz-Sil. 1. S. Beginn der Blüte",350,253,406,330,175,130,20,7.2,5.17,8.89,40,null,29,14.5,3.3,2.7,0.5,30,null,"GF"]
[2716,"Luz-Sil. 1. S. Ende der Blüte",350,270,456,344,150,127,25,3.68,4.9800000000000004,8.61,40,null,28,13,3.2,2.5,0.5,29,null,"GF"]
[2725,"ab 2. Schnitt",350,280,420,352,176,128,20,7.68,5.05,8.7200000000000006,45,null,29,14.7,3.2,2.5,0.5,29,null,"GF"]
[null,"Luzernegrassilage",null,null,null,null,null,null,null,0]
[2734,"Luz.Gr.-Sil. 1. S. Beg. Knospe",350,233,408,302,186,131,15,8.8000000000000007,5.48,9.34,48,null,35,13,3.4,2.6,0.5,31,null,"GF"]
[2735,"Luz Gr.-Sil. 1. S. Knospenöff.",350,261,454,329,162,122,15,6.4,5.19,8.92,44,null,31,12,3.2,2.2999999999999998,0.4,29,null,"GF"]
[2736,"Luz Gr.-Sil. 1. S. in d. Blüte",350,279,484,344,138,116,15,3.52,5.05,8.7200000000000006,42,null,29,10,2.9,2.2999999999999998,0.4,27,null,"GF"]
[2745,"ab 2. Schnitt",350,251,447,334,172,123,15,7.84,5.16,8.8800000000000008,47,null,33,12.3,3.2,2.7,0.6,28,null,"GF"]
[null,"Weidelgrassilage",null,null,null,null,null,null,null,0]
[2814,"Weidelgrassil. i. Schossen",350,196,384,223,170,149,15,3.36,6.91,11.27,102,null,38,5.8,3.8,1.8,0.5,37,null,"GF"]
[2815,"Weidelgrassil. im Ährensch.",350,227,431,262,150,138,15,1.92,6.33,10.49,67,null,36,5.8,3.3,1.8,0.5,34,null,"GF"]
[2816,"Weidelgrassil. in d. Blüte",350,259,482,304,125,124,15,0.16,5.68,9.59,41,null,34,5.8,3.2,1.8,0.5,33,null,"GF"]
[2817,null,null,null,null,null,null,null,null,0,null,null,null,null,null,null,null,null,null,null,null,"GF"]
[2865,"Landsb. Gemenge",320,234,427,278,143,130,15,2.08,5.9,9.9,44,null,34,6.2,3.9,1.9,0.4,33,null,"GF"]
[2866,0,0,0,0,0,0,0,0,0,0,0,0,0,0,0,0,0,0,0,null,"GF"]
[2424,"Rapssilage jung, blattreich",170,150,283,239,165,144,15,3,6.69,10.84,13,null,41,18,3.5,2.7,0.4,25,null,"GF"]
[2425,"Rapssilage alt stängelreich",200,225,373,284,150,123,15,{"$f":"(G145-H145)/6.25","v":4.32},5.44,9.14,13,null,37,18,3.5,2.7,0.4,25,null,"GF"]
[2445,"Rübsensilage",170,226,334,318,114,143,15,-4.6399999999999997,7.11,11.47,73,null,30,16,4.5999999999999996,2.7,1.4,30,null,"GF"]
[2446,null,null,null,null,null,null,null,null,0,null,null,null,null,null,null,null,null,null,null,null,"GF"]
[null,"Grünhafersilage ",null,null,null,null,null,null,null,0]
[2144,"Grünhafersil. Rispenschieben",325,260,485,302,118,133,15,-2.4,6.37,10.57,51,null,36,5.7,3.4,2.2000000000000002,0.7,27,null,"GF"]
[2145,"Grünhafersil. Mitte d. Blüte",325,286,529,338,105,124,15,-3.04,5.9,9.93,45,null,32,5.7,3.4,2.2000000000000002,0.7,27,null,"GF"]
[2146,"Grünhafersil. abgeblüht",325,313,583,370,101,118,20,-2.72,5.39,9.2200000000000006,36,null,29,5.7,3.4,2.2000000000000002,0.7,27,null,"GF"]
[null,"Grünroggensilage",null,null,null,null,null,null,null,0]
[2164,"Grünroggensil. Ährensch.",270,259,481,295,130,138,15,-1.28,6.54,10.79,41,null,35,4.3,3.7,1.6,0.3,30,null,"GF"]
[2165,"Grünroggensil. Mitte d. Blüte",270,305,541,337,110,130,15,-3.2,6.23,10.39,30,null,33,4.3,3.7,1.6,0.3,30,null,"GF"]
[2166,"Grünroggensil. abgeblüht",270,335,596,378,98,123,15,-4,5.89,9.93,23,null,30,4.3,3.7,1.6,0.3,30,null,"GF"]
[2167,null,null,null,null,null,null,null,null,0,null,null,null,null,null,null,null,null,null,null,null,"GF"]
[null,"GPS Gerste/Weizen",null,null,null,null,null,null,null,0]
[2134,"GPS WG/WW körnerarm",340,300,630,347,91,110,15,-3.04,5.09,8.7799999999999994,210,15,22,4.5,2.6,1.3,0.3,18,null,"GF"]
[2135,"GPS WG/WW mittl. Körnerant.",360,270,590,315,87,114,15,-4.32,5.41,9.26,270,22,23,4.3,2.6,1.3,0.3,18,null,"GF"]
[2136,"GPS WG/WW körnerreich",380,240,550,294,81,118,15,-5.92,5.68,9.6300000000000008,330,29,24,4.0999999999999996,2.6,1.3,0.3,18,null,"GF"]
[2305,"GPS Sojabohnen",310,272,373,315,163,125,15,6.08,5.37,9.15,32,0,28,15.8,3.9,4.3,0.4,27,null,"GF"]
[2885,"Zuckerhirse/Sudangras siliert",300,315,614,380,73,105,0,{"$f":"(G162-H162)/6.25","v":-5.12},5.09,8.7899999999999991,20,null,20,5.2,2.2999999999999998,2,0.2,16,null,"GF"]
[null,"Maissilage",null,null,null,null,null,null,null,0]
[2206,"Maissilage mittl. Kornant.",350,200,398,234,76,132,25,-8.9600000000000009,6.64,10.98,359,49,30,2.7,2.2999999999999998,1.5,0.2,12,null,"GF"]
[2216,"Maissilage körnerarm",350,221,430,253,77,129,25,-8.32,6.44,10.7,315,42,27,2.8,2.2000000000000002,1.6,0.2,13,null,"GF"]
[2226,"Maissilage körnerreich",350,183,369,216,75,134,25,{"$f":"(G166-H166)/6.25","v":-9.44},6.82,11.21,402,55,31,2.7,2.2000000000000002,1.5,0.2,11,null,"GF"]
[2227,null,null,null,null,null,null,null,null,0,null,null,null,null,null,null,null,null,null,null,null,"GF"]
[2245,"Maissilage Pflückhäcksel 2+4",400,180,365,215,80,136,25,-8.9600000000000009,6.85,11.26,396,54,33,2.7,2.4,1.4,0.2,10,null,"GF"]
[2246,"Maissilage Pflückhäcksel 2+2",410,151,313,175,78,140,25,-9.92,7.23,11.76,477,66,34,2.6,2.4,1.3,0.2,9,null,"GF"]
[2235,"Lieschkolbensilage LKS",480,140,321,215,95,149,35,-8.64,7.44,12.05,455,68,36,1,2.5,1.2,0.3,6,null,"GF"]
[5206,"Maiskornsilage Schrot",650,25,83,42,87,162,40,-12,8.7100000000000009,13.67,738,182,43,0.5,3.2,1.4,0.2,4,null,"GF"]
[5225,"CCM Kornspind.gem.",600,53,210,125,100,158,35,-9.2799999999999994,7.99,12.78,631,156,43,0.4,3.5,1.3,0.2,4,null,"GF"]
[2505,"Zuckerrübenblattsilage",180,145,350,205,150,130,15,3.2,5.98,9.83,16,null,32,10,2.4,4,7,27,null,"GF"]
[2555,"Futterrübenblattsilage",180,145,335,195,145,123,15,3.52,5.57,9.2100000000000009,20,null,29,20,2.4,5,3.5,33,null,"GF"]
[null,"7.3 Heu, Cobs, Grünmehl, Stroh",null,null,null,null,null,null,null,0]
[null,"Wiesenheu 1.Schnitt",null,null,null,null,null,null,null,0]
[3014,"Wiesenheu 1. S. Rispensch.",860,260,537,304,127,130,20,-0.48,5.86,9.8699999999999992,120,null,25,6.1,3,2,0.4,27,null,"GF"]
[3015,"Wiesenheu 1. S. Rispenspr.",860,297,594,346,97,114,20,-2.72,5.16,8.8800000000000008,118,null,18,5.8,2.7,2,0.4,23,null,"GF"]
[3016,"Wiesenheu 1. S. Mitte d. Blüte",860,331,624,380,82,105,25,-3.68,4.6900000000000004,8.1999999999999993,116,null,16,5.5,2.2000000000000002,2,0.4,21,null,"GF"]
[3017,"Wiesenheu 1. S. abgeblüht",860,345,636,391,64,97,25,-5.28,4.5,7.92,114,null,14,5.2,2.2000000000000002,2,0.4,18,null,"GF"]
[3018,null,null,null,null,null,null,null,null,0,null,null,null,null,null,null,null,null,null,null,null,"GF"]
[null,"Wiesenheu  2. u. folg. Schnitte",null,null,null,null,null,null,null,0]
[3024,"Wiesenheu 2. S. Schossen",860,230,485,272,145,138,20,1.1200000000000001,6.12,10.220000000000001,120,null,30,8,3.4,2.9,0.5,26,null,"GF"]
[3025,"Wiesenheu 2. S. Rispenspr.",860,256,527,304,131,129,20,0.32,5.72,9.66,106,null,26,7.8,3.3,2.8,0.5,25,null,"GF"]
[3026,"Wiesenheu 2. S. Mitte d. Blüte",860,288,581,340,113,119,20,-0.96,5.29,9.06,96,null,22,6.4,3.1,2.4,0.5,23,null,"GF"]
[null,"Heu U-Dachtr. 1. Schnitt",null,null,null,null,null,null,null,0]
[3034,"Heu U-D.Tr. 1. S. Rispensch.",870,236,498,281,142,139,20,0.48,6.2,10.34,142,null,27,6.6,3.2,2.1,0.5,28,null,"GF"]
[3035,"Heu U-D.Tr. 1. S. Rispenspr.",870,263,541,307,111,127,20,-2.56,5.87,9.8800000000000008,140,null,24,6.2,2.9,2.1,0.5,24,null,"GF"]
[3036,"Heu U-D.Tr. 1. S. Mitte d. Bl.",870,298,582,350,91,116,25,-4,5.29,9.07,138,null,19,5.8,2.4,2.1,5,23,null,"GF"]
[3037,null,null,null,null,null,null,null,null,0,null,null,null,null,null,null,null,null,null,null,null,"GF"]
[null,"Heu U-Dachtr. 2.u.f. Schnitte",null,null,null,null,null,null,null,0]
[3044,"Heu U-D.Tr. 2. S. Schossen",870,222,461,260,172,145,20,4.32,6.25,10.4,112,null,28,8.4,3.8,3,0.6,29,null,"GF"]
[3045,"Heu U-D.Tr. 2. S. Rispensch.",870,249,514,287,148,136,20,1.92,5.92,9.94,110,null,27,7.4,3.7,2.8,0.6,29,null,"GF"]
[3046,"Heu U-D.Tr. 2. S. Mitte d. Bl.",870,272,553,312,137,129,20,1.28,5.61,9.52,108,null,25,7.4,3.6,2.6,0.6,26,null,"GF"]
[null,"Luzerneheu 1. Schnitt",null,null,null,null,null,null,null,0]
[3714,"Luz-Heu 1. S. Beginn Blüte",860,278,461,332,174,136,25,6.08,5.22,8.9600000000000009,65,null,20,15,2.8,3,0.8,28,null,"GF"]
[3715,"Luz-Heu 1. S. Ende Blüte",860,320,515,379,166,135,30,{"$f":"(G197-H197)/6.25","v":4.96},4.84,8.43,40,null,19,15,2.8,2.7,0.6,27,null,"GF"]
[3716,"Luz-Heu 1. S. abgeblüht",860,347,536,406,148,125,30,3.68,4.57,8.0299999999999994,36,null,15,15,2.8,2.2999999999999998,0.5,26,null,"GF"]
[3717,null,null,null,null,null,null,null,null,0,null,null,null,null,null,null,null,null,null,null,null,"GF"]
[null,"Luzerneheu 2. u. folg. Schnitte",null,null,null,null,null,null,null,0]
[3724,"Luz-Heu 2. S. Beginn Blüte",860,271,456,318,185,141,25,7.04,5.37,9.18,54,null,21,15,3.1,2.6,0.5,30,null,"GF"]
[3725,"Luz-Heu 2. S. Ende  Blüte",860,305,488,362,173,133,25,6.4,4.99,8.6300000000000008,40,null,19,15,3.1,2.4,0.5,29,null,"GF"]
[3726,"Luz-Heu 2. S. abgeblüht",860,348,522,398,149,126,30,3.68,4.6500000000000004,8.1300000000000008,33,null,16,15,3.1,2.2000000000000002,0.4,28,null,"GF"]
[3815,"Weidelgrasheu",860,210,471,238,144,141,20,0.48,6.36,10.53,133,null,28,5.5,3.3,1.8,0.4,33,null,"GF"]
[3816,null,null,null,null,null,null,null,null,0,null,null,null,null,null,null,null,null,null,null,null,"GF"]
[null,"Graskobs 1. Schnitt",null,null,null,null,null,null,null,0]
[3074,"Grascobs 1. S. Blattstadium",900,172,425,208,174,175,40,-0.16,6.91,11.28,154,null,30,6.9,3.9,2.9,1.1000000000000001,26,null,"KF"]
[3075,"Grascobs 1. S. Schossen",900,209,464,253,152,161,40,-1.44,6.44,10.65,135,null,30,6.9,3.9,2.9,1.1000000000000001,26,null,"KF"]
[3076,"Grascobs 1. S. Rispensch.",900,228,499,274,131,148,40,-2.72,6.1,10.18,120,null,30,6.7,3.6,2.9,1.1000000000000001,26,null,"KF"]
[3077,null,null,null,null,null,null,null,null,0,null,null,null,null,null,null,null,null,null,null,null,"KF"]
[null,"Graskobs 2. u. folg. Schnitte",null,null,null,null,null,null,null,0]
[3084,"Grascobs 2. S. Blattstadium",900,177,393,220,183,177,40,0.96,6.74,11.06,111,null,37,9.8000000000000007,3.7,3.4,1,24,null,"KF"]
[3085,"Grascobs 2. S. Schossen",900,201,448,252,173,169,40,0.64,6.38,10.58,95,null,34,9.8000000000000007,3.7,3.4,1,24,null,"KF"]
[3086,"Grascobs 2. S. Rispensch.",900,221,479,271,162,161,40,0.16,6.14,10.25,89,null,32,9.8000000000000007,3.7,3.4,1,24,null,"KF"]
[3205,"Maiskobs Ganzpflanze",890,188,432,219,75,90,30,-2.4,3.76,6.81,356,115,28,3.1,2.5,2.1,0.2,11,null,"KF"]
[null,"Luzernekobs, -Grünmehl",null,null,null,null,null,null,null,0]
[3774,"Luzernecobs vor Knospe",900,225,427,301,209,173,40,5.76,5.52,9.39,55,null,31,15,3.7,2.9,0.6,28,null,"KF"]
[3775,"Luzernecobs in Knospe",900,238,449,310,184,160,40,3.84,5.39,9.19,55,null,29,15,3.7,2.9,0.6,28,null,"KF"]
[3776,"Luzernecobs Beginn Blüte",900,267,480,338,153,144,40,1.44,5.09,8.76,55,null,25,15,3.7,2.9,0.6,28,null,"KF"]
[3777,null,null,null,null,null,null,null,null,0,null,null,null,null,null,null,null,null,null,null,null,"KF"]
[3778,null,null,null,null,null,null,null,null,null,null,null,null,null,null,null,null,null,null,null,null,"KF"]
[3125,"Gerstenstroh",880,452,847,542,30,74,45,{"$f":"(G222-H222)/6.25","v":-7.04},3.72,6.75,12,null,15,4.4000000000000004,1,1.1000000000000001,0.4,15,null,"GF"]
[3145,"Haferstroh",880,454,790,516,36,76,45,-6.4,3.68,6.68,49,null,19,4,1.4,1,2,21,null,"GF"]
[3165,"Roggenstroh",880,470,850,550,37,71,45,-5.44,3.28,6.04,10,null,13,3,1,1,0.4,10,null,"GF"]
[3185,"Weizenstroh",880,453,835,527,40,75,45,-5.6,3.5,6.39,17,null,13,3.6,1.1000000000000001,0.9,0.3,10,null,"GF"]
[3186,null,null,null,null,null,null,null,null,0,null,null,null,null,null,null,null,null,null,null,null,"GF"]
[null,"7.4 Rüben und -Nebenprodukte",null,null,null,null,null,null,null,0]
[5505,"Zuckerrübe",230,85,210,125,80,142,20,-9.92,7.46,11.84,647,null,6,2.2999999999999998,1.5,1.6,1,8,null,"FF"]
[5555,"Gehaltsfutterrübe",146,70,230,135,80,141,20,-9.76,7.47,11.82,545,null,8,2.7,2.4,1.8,4.0999999999999996,30,null,"FF"]
[5565,null,null,null,null,null,null,null,null,0,null,null,null,null,null,null,null,null,null,null,null,"FF"]
[6505,"Trockenschnitzel",906,157,366,191,84,143,45,-10,7.39,11.8,86,null,8,9.1999999999999993,1.1000000000000001,1.8,1.1000000000000001,8.8000000000000007,null,"KF"]
[6514,"Melasseschnitzel, 14% XZ",910,160,330,220,90,145,30,{"$f":"(G232-H232)/6.25","v":-8.8000000000000007},7.45,11.88,150,null,9,11,0.8,1.8,1,12,null,"KF"]
[6515,"Melasseschnitzel, 18% XZ",896,146,315,184,97,151,30,{"$f":"(G233-H233)/6.25","v":-8.64},7.75,12.25,200,null,8,10.6,0.8,1.8,1.7,14,null,"KF"]
[6516,"Melasseschnitzel, 23% XZ",907,134,300,170,110,153,30,{"$f":"(G234-H234)/6.25","v":-6.88},7.58,12.02,250,null,8,10,0.8,1.8,2,15,null,"KF"]
[4535,"Futterzucker",990,0,null,null,1,159,10,{"$f":"(G235-H235)/6.25","v":-25.28},9.25,14.09,994,0,null,0,0,0,0,0,null,"KF"]
[7505,"Rübenkleinteile",170,102,282,136,75,137,25,-10,7.25,11.54,360,null,3,3.3,2.1,2.2999999999999998,1.4,11,null,"FF"]
[7525,"Preßschnitzel siliert",270,205,527,256,94,147,30,{"$f":"(G237-H237)/6.25","v":-8.48},7.46,11.91,15,null,6,12.7,1,2.4,0.5,4,null,"FF"]
[7545,"Melasse (Zuckerrü.)",780,0,null,null,135,157,20,-3,7.84,12.2,652,null,0,2.5,0.5,0.2,7.6,54,null,"FF"]
[null,"7.5 Nebenprod. a. Lebensmittel-",null,null,null,null,null,null,null,{"$f":"(G239-H239)/6.25","v":0}]
[null,"verarbeitung u. Energiegewinnung",null,null,null,null,null,null,null,0]
[5585,"Karotten, Gelbe Rüben",150,150,265,160,90,148,20,-9.2799999999999994,7.75,12.29,256,0,15,4.4000000000000004,3,1.9,2.2999999999999998,28,null,"FF"]
[5605,"Kartoffel roh, 16% XS",220,27,170,105,97,157,20,-9.6,8.39,13.01,741,178,4,0.4,2.5,1.4,0.6,22,null,"FF"]
[7635,"Kartoffelpreßpülpe siliert",180,208,440,260,49,130,25,-12.96,7.08,11.46,393,97,5,0.7,2.7,0.7,0.1,22,null,"FF"]
[7645,"Kartoffelschlempe frisch",60,72,240,140,307,213,30,15.04,7.5,11.98,27,4,17,2.8,7.3,0.5,0.6,55,null,"FF"]
[7145,"Weizenschlempe flüssig",60,102,285,170,360,240,35,19.2,7.91,12.9,199,17,71,3.5,10.8,3.6,3.1,13,null,"FF"]
[7205,"Maisschlempe flüssig",70,85,260,155,287,220,40,10.72,8.5,13.74,110,12,117,2.5,8.6,4.7,1.3,9,null,"FF"]
[6144,"Weizentrockenschlempe",900,76,285,170,382,269,40,{"$f":"(G247-H247)/6.25","v":18.079999999999998},7.29,12.07,44,3,61,1.4,10.8,3.6,1.3,13,null,"KF"]
[6204,"Maistrockenschlempe",900,102,260,155,360,251,40,17.440000000000001,7.62,12.51,108,14,71,3.5,8.6,2.4,3.1,8,null,"KF"]
[7685,"Apfeltrester",220,216,455,265,66,116,35,-8,5.67,9.69,111,null,42,2,1,2,0.8,7,null,"FF"]
[5584,null,null,null,null,null,null,null,null,null,null,null,null,null,null,null,null,null,null,null,null,"FF"]
[7689,null,null,null,null,null,null,null,null,0,null,null,null,null,null,null,null,null,null,null,null,"FF"]
[null,"weitere Nebenprodukte",null,null,null,null,null,null,null,0]
[7026,"Biertreber siliert",247,160,370,220,249,188,40,9.76,6.69,11.26,23,2,84,3.6,6,2,0.4,1,null,"FF"]
[7015,"Bierhefe frisch",100,2,16,10,53,27,25,4.16,0.84,1.34,1,null,3,0.2,1.1000000000000001,0.2,0,1.5,null,"FF"]
[6015,"Bierhefe trocken",900,24,165,100,521,329,40,30.72,7.59,12.4,19,null,22,2,11.4,1.8,0.3,15,null,"KF"]
[6035,"Malzkeime",930,118,400,150,220,148,15,11.52,6.22,10.42,255,31,16,2.5,7,1.6,0.5,17,null,"KF"]
[null,"Nebenprod. u. Müllereierzeugn.",null,null,null,null,null,null,null,0]
[6145,"Weizennachmehl",880,23,180,110,182,181,20,0.16,8.58,13.56,606,55,45,0.9,7.4,2.9,0.2,9,null,"KF"]
[6155,"Weizenfuttermehl",880,45,210,125,182,175,20,1.1200000000000001,8.1999999999999993,13.06,483,42,45,1.2,8.1,2.9,0.4,13,null,"KF"]
[6165,"Weizengrießkleie",880,91,275,160,182,155,20,4.32,6.75,11.17,311,24,45,1.4,10.3,4.3,0.5,12,null,"KF"]
[6175,"Weizenkleie",880,115,495,160,184,140,15,7.04,6.08,10.25,211,15,48,1.2,11.1,5,0.2,13,null,"KF"]
[6135,"Roggenkleie",880,83,255,150,162,142,15,3.2,6.42,10.67,233,13,36,1.7,11.3,3.6,0.8,14,null,"KF"]
[6215,"Maisfuttermehl",880,59,220,130,118,164,50,-7.36,8.39,13.37,449,101,72,0.8,5,3,0.5,2,null,"KF"]
[6235,null,null,null,null,null,null,null,null,0,null,null,null,null,null,null,null,null,null,null,null,"KF"]
[6246,"Maiskleberfutter 23-30% XP",880,90,265,155,258,194,25,10.24,7.69,12.43,224,42,41,1.5,9.5,4.8,2.8,14,null,"KF"]
[null,"7.6 Molkereiprodukte",null,null,null,null,null,null,null,0]
[5705,"Vollmilch Kuh, frisch",135,null,null,null,262,133,5,21,12.53,19.399999999999999,345,null,324,8.6,7.2,0.9,3.2,11,null,"FF"]
[6725,"Magermilch trocken",941,null,null,null,365,180,5,{"$f":"(G268-H268)/6.25","v":29.6},8.94,13.89,481,null,5,14,10.8,1.6,5.4,14,null,"KF"]
[7725,"Magermilch frisch",86,null,null,null,361,180,5,28.96,8.9700000000000006,13.95,481,null,11,13.6,10.9,1.6,3.6,12,null,"FF"]
[7735,"Labmolke frisch",50,null,null,null,137,163,5,-4.16,8.7200000000000006,13.43,727,null,13,8.1999999999999993,8.6,1.4,6.4,25,null,"FF"]
[7736,null,null,null,null,null,null,null,null,0,null,null,null,null,null,null,null,null,null,null,null,"FF"]
[null,"7.7 Getreide und Leguminosen",null,null,null,null,null,null,null,0]
[4025,"Gerste zweizeilig",880,50,162,63,117,163,25,-7.36,8.19,12.96,625,61,20,0.6,3.8,1.3,0.1,5,null,"KF"]
[4026,"Gerste vierzeilig",880,54,169,79,116,162,25,-7.36,8.1300000000000008,12.88,618,60,20,0.5,4.2,1.5,0.1,6,null,"KF"]
[4065,"Hafer",880,108,300,155,110,141,15,-4.96,6.91,11.36,479,47,40,1.2,3.7,1.3,0.2,5,null,"KF"]
[4105,"Roggen",880,27,139,42,100,160,15,-9.6,8.48,13.28,610,58,14,0.5,3,1.1000000000000001,0.1,6,null,"KF"]
[4125,"Triticale",880,28,121,51,118,162,15,-7.04,8.35,13.14,725,70,13,0.5,3.5,1.3,0.1,5,null,"KF"]
[4145,"Weizen",880,29,133,44,132,169,20,-5.92,8.5299999999999994,13.38,707,69,16,0.5,3.6,1.3,0.1,5,null,"KF"]
[4205,"Mais",880,23,104,44,88,159,50,-11.36,8.42,13.31,769,317,41,0.3,3.4,1.6,0.1,4,null,"KF"]
[4305,"Ackerbohnen",880,102,165,128,299,194,15,16.8,8.5399999999999991,13.51,444,105,12,1.6,6,1.7,0.2,13,null,"KF"]
[4345,"Erbsen",880,66,140,73,234,182,15,8.32,8.49,13.38,518,121,13,1.3,5,1.6,0.2,12,null,"KF"]
[4365,"Süßlupine weiß",880,131,207,167,350,229,20,19.36,9.33,14.86,126,23,101,2.8,5.9,2,0.1,13,null,"KF"]
[null,"7.8 Ölsaaten und Nebenprodukte",null,null,null,null,null,null,null,0]
[4405,"Leinsamen",910,73,240,140,248,127,15,19,10.72,17.3,37,null,365,2.8,5.4,5.6,0.9,8,null,"KF"]
[4425,"Rapssamen",900,82,194,117,226,98,15,{"$f":"(G285-H285)/6.25","v":20.48},10.73,17.53,46,null,444,5,7.8,3.3,0.3,9,null,"KF"]
[4426,null,null,null,null,null,null,null,null,0,null,null,null,null,null,null,null,null,null,null,null,"KF"]
[4427,null,null,null,null,null,null,null,null,{"$f":"(G287-H287)/6.25","v":0},null,null,null,null,null,null,null,null,null,null,null,"KF"]
[4435,"Sojabohnen",890,54,168,138,410,257,20,24.48,10.17,16.3,127,11,226,2.9,7.3,3,0.2,22,null,"KF"]
[6405,"Leinextraktionsschrot",880,103,285,170,385,238,30,23.52,7.33,12.02,45,null,27,4.5,9.5,5.7,1.1000000000000001,12,null,"KF"]
[6406,"Leinkuchen,-expeller",880,107,295,175,373,253,35,19.2,7.54,12.39,43,null,62,4.2,8.1999999999999993,5.3,1.1000000000000001,12,null,"KF"]
[6425,"Rapsextraktionsschrot",890,140,255,206,389,253,35,21.76,7.17,11.83,82,null,39,10.199999999999999,12.1,5.3,0.7,15,null,"KF"]
[6426,"Rapskuchen 8% Rohfett",910,135,320,191,370,180,15,30.4,7.89,12.9,75,null,88,8.1999999999999993,12.8,5.5,0.5,15,null,"KF"]
[6427,"Rapskuchen 15% Rohfett",910,123,292,176,340,165,15,28,8.7200000000000006,14.19,68,null,165,7.5,11.6,5.0999999999999996,0.4,13,null,"KF"]
[6435,"Sojaextraktionsschrot 43% XP",880,85,143,93,496,289,30,33.119999999999997,8.59,13.73,174,14,29,4.2,7.3,4,0.3,25,null,"KF"]
[6436,"Sojaextraktionsschrot 47% XP",880,58,109,68,532,301,30,36.96,8.68,13.85,176,15,29,4,7.7,4.2,0.4,26,null,"KF"]
[6437,0,0,0,null,null,0,0,0,{"$f":"(G296-H296)/6.25","v":0},0,0,0,0,0,0,0,0,0,0,null,"KF"]
[6438,"Sojaextr.schrot, pansenstabil",880,85,143,93,496,289,30,33.119999999999997,8.6199999999999992,13.76,174,14,29,4.2,7.3,4,0.3,25,null,"KF"]
[6439,"Sojakuchen 8% Rohfett",890,65,240,145,449,223,20,36.159999999999997,8.74,14.08,120,10,92,3,7,3,0.1,20,null,"KF"]
[6445,"Sonnenblu.extr.schrot 20% XF",880,222,465,270,383,203,25,28.8,6.01,10.24,80,null,25,4,10.7,5.2,0.5,13,null,"KF"]
[6447,null,null,null,null,null,null,null,null,0,null,null,null,null,null,null,null,null,null,null,null,"KF"]
[5435,"Sojaöl",999,null,null,null,null,null,null,0,19.78,30.55,null,null,999,null,null,null,null,null,null,"KF"]
[null,"7.9 Kälberaufzuchtfutter, Milchaust.",null,null,null,null,null,null,null,0]
[8035,"Kälberaufzuchtfutter 18% XP",880,102,285,136,205,179,25,4.16,7.67,12.31,505,68,45,9.1,5.7,2.1,2.2999999999999998,10,null,"KF"]
[8036,"Kälberaufzuchtfutter 24% XP",880,91,285,153,273,197,25,12.16,7.73,12.42,448,60,40,9.1,5.7,2.1,2.2999999999999998,10,null,"KF"]
[8015,"Milchaustauscher Aufz. 15% XL",940,1,1,0,223,161,10,9.92,10.23,15.87,495,2,160,9.6,6.4,2,5.3,20,null,"KF"]
[8025,"Milchaustauscher Mast 20% XL",940,1,1,null,234,154,10,12.8,10.92,16.93,444,7,213,9.6,6.4,2,5,20,null,"KF"]
[8027,null,null,null,null,null,null,null,null,0,null,null,null,null,null,null,null,null,null,null,null,"KF"]
[null,"7.10 Mischfuttermittel",null,null,null,null,null,null,null,0]
[8104,"MLF 12% XP Est. >3",880,68,250,91,136,168,25,-5.12,8.18,13,584,107,50,6.8,4.5999999999999996,2.2999999999999998,1.4,8,null,"KF"]
[8105,"MLF 14% XP Est. 3",880,85,285,118,159,166,25,-1.1200000000000001,7.61,12.19,497,68,45,8,4.5999999999999996,1.7,1.7,10,null,"KF"]
[8116,"MLF 16% XP Est. 3",880,91,285,125,182,172,25,1.6,7.62,12.21,483,67,43,8,4.5999999999999996,1.7,1.7,10,null,"KF"]
[8126,"MLF 18% XP Est. 3",880,105,300,141,205,184,30,3.36,7.61,12.24,478,66,43,8,4.5999999999999996,1.7,1.7,10,null,"KF"]
[8127,null,null,null,null,null,null,null,null,0,null,null,null,null,null,null,null,null,null,null,null,"KF"]
[8135,null,null,null,null,null,null,null,null,0,null,null,null,null,null,null,null,null,null,null,null,"KF"]
[8045,"Rindermastfutter I 20% XP",880,125,null,null,227,176,25,8.16,7.04,11.46,290,38,34,11.4,5.7,1.7,2.2999999999999998,10,null,"KF"]
[8055,"Rindermastfutter I 32% XP",880,142,null,null,364,213,25,24.16,7.16,11.69,170,20,34,22.7,8,2,4.5999999999999996,10,null,"KF"]
[8147,"Rindermastfutter III 40% XP",880,136,null,null,455,283,35,27.52,7.61,12.44,114,15,34,6.8,9.1,4,0.8,18,null,"KF"]
[8057,null,null,null,null,null,null,null,null,0,null,null,null,null,null,null,null,null,null,null,null,"KF"]
[8058,null,null,null,null,null,null,null,null,0,null,null,null,null,null,null,null,null,null,null,null,"KF"]
[null,"7.11 Mineral- u. Ergänzungsfutter",null,null,null,null,null,null,null,{"$f":"(G320-H320)/6.25","v":0}]
[8183,null,null,null,null,null,null,null,null,0,null,null,null,null,null,null,null,null,null,null,null,"MF"]
[8185,"Mineralf. Milchkuh lakt.",950,null,null,null,null,null,null,0,null,null,null,null,null,250,0,30,150,null,null,"MF"]
[8186,"Mineralf. Rindermast",950,null,null,null,null,null,null,0,null,null,null,null,null,220,0,20,80,null,null,"MF"]
[8187,"Mineralf. 22% Ca, 2% P",950,null,null,null,null,null,null,0,null,null,null,null,null,220,20,20,80,null,null,"MF"]
[8188,null,null,null,null,null,null,null,null,0,null,null,null,null,null,null,0,null,null,null,null,"MF"]
[8189,null,null,null,null,null,null,null,null,0,null,null,null,null,null,null,null,null,null,null,null,"MF"]
[8190,null,null,null,null,null,null,null,null,0,null,null,null,null,null,null,null,null,null,null,null,"MF"]
[4925,"Kohlensaurer Kalk",997,null,null,null,null,null,null,{"$f":"(G328-H328)/6.25","v":0},null,null,null,null,null,380.3,0.4,1.6,null,null,null,"MF"]
[4945,"Viehsalz",990,null,null,null,null,null,null,0,null,null,null,null,null,null,null,null,361.3,null,null,"MF"]
[4965,"Natriumhydr.carbonat",990,null,null,null,null,null,null,0,null,null,null,null,null,null,null,null,271.3,null,null,"MF"]
[5965,"Rohglycerin",880,null,null,null,null,0,0,{"$f":"(G331-H331)/6.25","v":0},7.4,11.6,0,null,0,null,null,null,15.8,null,null,"MF"]
[5825,"Futterfett",999,null,null,null,null,null,null,{"$f":"(G332-H332)/6.25","v":0},18.2,28.7,null,null,998,null,null,null,null,null,null,"MF"]
[5975,"Propylenglycol",990,null,null,null,null,0,0,0,9.6999999999999993,14.6,0,null,0,null,null,null,null,null,null,"MF"]
[6985,"Futterharnstoff",990,null,null,null,2886,null,0,461.76,null,null,null,null,null,null,null,null,null,null,null,"MF"]
[9000,null,null,null,null,null,null,null,null,0,null,null,null,null,null,null,null,null,null,null,null,"MF"]
[9001,null,null,null,null,null,null,null,null,0,null,null,null,null,null,null,null,null,null,null,null,"MF"]

{"sheet":"Mengenberechnung","index":6,"n_rows":39,"n_cols":8,"rows_kept":39,"cut":false,"hidden":false,"merged":[[35,2,35,4],[35,6,38,7],[36,2,36,4],[37,2,37,4],[38,2,38,4],[31,6,34,7],[32,2,32,4],[33,2,33,4],[34,2,34,4],[23,2,23,4],[23,6,26,7],[24,2,24,4],[25,2,25,4],[26,2,26,4],[27,1,27,5],[28,2,28,4],[28,6,28,7],[29,2,29,4],[30,2,30,4],[31,2,31,4],[19,2,19,4],[19,6,22,7],[20,2,20,4],[21,2,21,4],[22,2,22,4],[15,1,15,5],[16,2,16,4],[16,6,16,7],[17,2,17,4],[18,2,18,4],[10,2,10,4],[10,6,14,7],[11,2,11,4],[12,2,12,4],[13,2,13,4],[14,2,14,4],[0,1,0,7],[1,1,1,5],[2,2,2,4],[2,6,2,7],[3,2,3,4],[3,6,9,7],[4,2,4,4],[5,2,5,4],[6,2,6,4],[7,2,7,4],[8,2,8,4],[9,2,9,4]]}
[]
[null,"Basis – Ration für :",null,null,null,null,0,"Tiere"]
[null,"Kenn Nr.","Futtermittel",null,null,"kg."]
[null,{"$f":"Ration!A15","v":0},{"$f":"Ration!B15","v":0},null,null,{"$f":"IF(Ration!F15>0,$G$2*Ration!E4,0)","v":0},"Gesamtgewicht Grundfutter und Kraftfutter pro Mischung in kg:"]
[null,{"$f":"Ration!A16","v":0},{"$f":"Ration!B16","v":0},null,null,{"$f":"IF(Ration!F16>0,$G$2*Ration!E5,0)","v":0}]
[null,{"$f":"Ration!A17","v":0},{"$f":"Ration!B17","v":0},null,null,{"$f":"IF(Ration!F17>0,$G$2*Ration!E6,0)","v":0}]
[null,{"$f":"Ration!A18","v":0},{"$f":"Ration!B18","v":0},null,null,{"$f":"IF(Ration!F18>0,$G$2*Ration!E7,0)","v":0}]
[null,{"$f":"Ration!A19","v":0},{"$f":"Ration!B19","v":0},null,null,{"$f":"IF(Ration!F19>0,$G$2*Ration!E8,0)","v":0}]
[null,{"$f":"Ration!A20","v":0},{"$f":"Ration!B20","v":0},null,null,{"$f":"IF(Ration!F20>0,$G$2*Ration!E9,0)","v":0}]
[null,{"$f":"Ration!A21","v":0},{"$f":"Ration!B21","v":0},null,null,{"$f":"IF(Ration!F21>0,$G$2*Ration!E10,0)","v":0}]
[null,{"$f":"Ration!A22","v":0},{"$f":"Ration!B22","v":0},null,null,{"$f":"IF(Ration!F22>0,$G$2*Ration!E11,0)","v":0},{"$f":"SUM(F4:F15)","v":0}]
[null,{"$f":"Ration!A23","v":0},{"$f":"Ration!B23","v":0},null,null,{"$f":"IF(Ration!F23>0,$G$2*Ration!E12,0)","v":0}]
[null,{"$f":"Ration!A24","v":0},{"$f":"Ration!B24","v":0},null,null,{"$f":"IF(Ration!F24>0,$G$2*Ration!E13,0)","v":0}]
[null,"KF 1","Mischung 1",null,null,{"$f":"Ration!E26*$G$2","v":0}]
[null,"KF 2","Mischung 2",null,null,{"$f":"Ration!E27*$G$2","v":0}]
[null,"Kraftfutter – Mischung 1          Mischergröße:",null,null,null,null,0,"kg"]
[null,"Kenn Nr.","Futtermittel",null,null,"kg."]
[null,{"$f":"'Mischung 1'!A15","v":0},{"$f":"'Mischung 1'!B15","v":0},null,null,{"$f":"$G$16*'Mischung 1'!C15","v":0},"Tiere gesamt:",0]
[null,{"$f":"'Mischung 1'!A16","v":0},{"$f":"'Mischung 1'!B16","v":0},null,null,{"$f":"$G$16*'Mischung 1'!C16","v":0},"kg je Tier/Tag:",0]
[null,{"$f":"'Mischung 1'!A17","v":0},{"$f":"'Mischung 1'!B17","v":0},null,null,{"$f":"$G$16*'Mischung 1'!C17","v":0},"Die Mischung reicht für Tage :"]
[null,{"$f":"'Mischung 1'!A18","v":0},{"$f":"'Mischung 1'!B18","v":0},null,null,{"$f":"$G$16*'Mischung 1'!C18","v":0}]
[null,{"$f":"'Mischung 1'!A19","v":0},{"$f":"'Mischung 1'!B19","v":0},null,null,{"$f":"$G$16*'Mischung 1'!C19","v":0}]
[null,{"$f":"'Mischung 1'!A20","v":0},{"$f":"'Mischung 1'!B20","v":0},null,null,{"$f":"$G$16*'Mischung 1'!C20","v":0}]
[null,{"$f":"'Mischung 1'!A21","v":0},{"$f":"'Mischung 1'!B21","v":0},null,null,{"$f":"$G$16*'Mischung 1'!C21","v":0},{"$f":"IF(H19>0,G16/(H18*H19),\" \")","v":" "}]
[null,{"$f":"'Mischung 1'!A22","v":0},{"$f":"'Mischung 1'!B22","v":0},null,null,{"$f":"$G$16*'Mischung 1'!C22","v":0}]
[null,{"$f":"'Mischung 1'!A23","v":0},{"$f":"'Mischung 1'!B23","v":0},null,null,{"$f":"$G$16*'Mischung 1'!C23","v":0}]
[null,{"$f":"'Mischung 1'!A24","v":0},{"$f":"'Mischung 1'!B24","v":0},null,null,{"$f":"$G$16*'Mischung 1'!C24","v":0}]
[null,"Kraftfutter – Mischung 2          Mischergröße:",null,null,null,null,0,"kg"]
[null,"Kenn Nr.","Futtermittel",null,null,"kg."]
[null,{"$f":"'Mischung 2'!A15","v":0},{"$f":"'Mischung 2'!B15","v":0},null,null,{"$f":"$G$28*'Mischung 2'!C15","v":0},"Tiere gesamt:",0]
[null,{"$f":"'Mischung 2'!A16","v":0},{"$f":"'Mischung 2'!B16","v":0},null,null,{"$f":"$G$28*'Mischung 2'!C16","v":0},"kg je Tier/Tag:",0]
[null,{"$f":"'Mischung 2'!A17","v":0},{"$f":"'Mischung 2'!B17","v":0},null,null,{"$f":"$G$28*'Mischung 2'!C17","v":0},"Die Mischung reicht für Tage :"]
[null,{"$f":"'Mischung 2'!A18","v":0},{"$f":"'Mischung 2'!B18","v":0},null,null,{"$f":"$G$28*'Mischung 2'!C18","v":0}]
[null,{"$f":"'Mischung 2'!A19","v":0},{"$f":"'Mischung 2'!B19","v":0},null,null,{"$f":"$G$28*'Mischung 2'!C19","v":0}]
[null,{"$f":"'Mischung 2'!A20","v":0},{"$f":"'Mischung 2'!B20","v":0},null,null,{"$f":"$G$28*'Mischung 2'!C20","v":0}]
[null,{"$f":"'Mischung 2'!A21","v":0},{"$f":"'Mischung 2'!B21","v":0},null,null,{"$f":"$G$28*'Mischung 2'!C21","v":0},{"$f":"IF(H31>0,G28/(H30*H31),\" \")","v":" "}]
[null,{"$f":"'Mischung 2'!A22","v":0},{"$f":"'Mischung 2'!B22","v":0},null,null,{"$f":"$G$28*'Mischung 2'!C22","v":0}]
[null,{"$f":"'Mischung 2'!A23","v":0},{"$f":"'Mischung 2'!B23","v":0},null,null,{"$f":"$G$28*'Mischung 2'!C23","v":0}]
[null,{"$f":"'Mischung 2'!A24","v":0},{"$f":"'Mischung 2'!B24","v":0},null,null,{"$f":"$G$28*'Mischung 2'!C24","v":0}]

{"sheet":"Ausdruck","index":7,"n_rows":76,"n_cols":12,"rows_kept":76,"cut":false,"hidden":false,"merged":[[61,5,61,7],[61,8,61,11],[63,9,63,11],[64,9,64,11],[48,9,48,11],[49,9,49,11],[50,9,50,11],[51,9,51,11],[52,9,52,11],[53,9,53,11],[54,9,54,11],[55,9,55,11],[60,5,60,7],[60,8,60,11],[65,9,65,11],[71,9,71,11],[72,9,72,11],[73,9,73,11],[74,9,74,11],[66,9,66,11],[67,9,67,11],[68,9,68,11],[69,9,69,11],[70,9,70,11],[45,9,45,11],[46,9,46,11],[47,9,47,11],[29,5,30,11],[31,5,32,11],[33,5,34,11],[36,2,36,3],[37,2,37,3],[38,2,38,3],[41,0,41,3],[41,5,41,7],[41,8,41,11],[42,5,42,7],[8,1,8,2],[35,2,35,3],[24,0,24,11],[27,2,27,3],[28,2,28,3],[29,2,29,3],[30,2,30,3],[42,8,42,11],[44,9,44,11],[21,9,21,10],[21,0,21,1],[21,2,21,3],[21,4,21,5],[21,7,21,8],[26,5,27,9],[26,10,27,11],[35,5,36,11],[26,2,26,3],[18,0,18,2],[19,0,19,2],[14,1,14,2],[15,1,15,2],[9,1,9,2],[10,1,10,2],[0,0,0,11],[1,0,1,1],[1,2,1,4],[1,6,1,11],[3,1,3,2],[4,1,4,2],[5,1,5,2],[6,1,6,2],[7,1,7,2],[73,1,73,2],[74,1,74,2],[75,1,75,2],[44,1,44,2],[45,1,45,2],[46,1,46,2],[47,1,47,2],[48,1,48,2],[49,1,49,2],[50,1,50,2],[51,1,51,2],[52,1,52,2],[53,1,53,2],[54,1,54,2],[55,1,55,2],[56,1,56,2],[68,1,68,2],[69,1,69,2],[70,1,70,2],[71,1,71,2],[72,1,72,2],[63,1,63,2],[64,1,64,2],[65,1,65,2],[66,1,66,2],[67,1,67,2],[60,0,60,3],[11,1,11,2],[12,1,12,2],[13,1,13,2],[39,0,39,1],[39,2,39,3],[31,2,31,3],[32,2,32,3],[33,2,33,3],[34,2,34,3]]}
[]
[{"$f":"Einstellung!B5","v":"Tierhaltungsschule"},null,{"$f":"Einstellung!D5","v":"Triesdorf"},null,null,null,{"$f":"Ration!A2","v":"Bitte Sollwerte auswählen  !!!"}]
[]
["FM kg","Futterart",null,"TM kg","aNDFom","XP g","ME MJ","Ca g","P g","Mg g","Na g","Kosten"]
[{"$f":"Ration!E4","v":0},{"$f":"Ration!B15","v":0},null,{"$f":"IF(Ration!F15=\"TM o. FM?\",\" \",Ration!F15)","v":0},{"$f":"Ration!G15","v":0},{"$f":"Ration!H15","v":0},{"$f":"Ration!I15","v":0},{"$f":"Ration!L15","v":0},{"$f":"Ration!M15","v":0},{"$f":"Ration!N15","v":0},{"$f":"Ration!P15","v":0},{"$f":"Ration!Q15","v":0}]
[{"$f":"Ration!E5","v":0},{"$f":"Ration!B16","v":0},null,{"$f":"IF(Ration!F16=\"TM o. FM?\",\" \",Ration!F16)","v":0},{"$f":"Ration!G16","v":0},{"$f":"Ration!H16","v":0},{"$f":"Ration!I16","v":0},{"$f":"Ration!L16","v":0},{"$f":"Ration!M16","v":0},{"$f":"Ration!N16","v":0},{"$f":"Ration!P16","v":0},{"$f":"Ration!Q16","v":0}]
[{"$f":"Ration!E6","v":0},{"$f":"Ration!B17","v":0},null,{"$f":"IF(Ration!F17=\"TM o. FM?\",\" \",Ration!F17)","v":0},{"$f":"Ration!G17","v":0},{"$f":"Ration!H17","v":0},{"$f":"Ration!I17","v":0},{"$f":"Ration!L17","v":0},{"$f":"Ration!M17","v":0},{"$f":"Ration!N17","v":0},{"$f":"Ration!P17","v":0},{"$f":"Ration!Q17","v":0}]
[{"$f":"Ration!E7","v":0},{"$f":"Ration!B18","v":0},null,{"$f":"IF(Ration!F18=\"TM o. FM?\",\" \",Ration!F18)","v":0},{"$f":"Ration!G18","v":0},{"$f":"Ration!H18","v":0},{"$f":"Ration!I18","v":0},{"$f":"Ration!L18","v":0},{"$f":"Ration!M18","v":0},{"$f":"Ration!N18","v":0},{"$f":"Ration!P18","v":0},{"$f":"Ration!Q18","v":0}]
[{"$f":"Ration!E8","v":0},{"$f":"Ration!B19","v":0},null,{"$f":"IF(Ration!F19=\"TM o. FM?\",\" \",Ration!F19)","v":0},{"$f":"Ration!G19","v":0},{"$f":"Ration!H19","v":0},{"$f":"Ration!I19","v":0},{"$f":"Ration!L19","v":0},{"$f":"Ration!M19","v":0},{"$f":"Ration!N19","v":0},{"$f":"Ration!P19","v":0},{"$f":"Ration!Q19","v":0}]
[{"$f":"Ration!E9","v":0},{"$f":"Ration!B20","v":0},null,{"$f":"IF(Ration!F20=\"TM o. FM?\",\" \",Ration!F20)","v":0},{"$f":"Ration!G20","v":0},{"$f":"Ration!H20","v":0},{"$f":"Ration!I20","v":0},{"$f":"Ration!L20","v":0},{"$f":"Ration!M20","v":0},{"$f":"Ration!N20","v":0},{"$f":"Ration!P20","v":0},{"$f":"Ration!Q20","v":0}]
[{"$f":"Ration!E10","v":0},{"$f":"Ration!B21","v":0},null,{"$f":"IF(Ration!F21=\"TM o. FM?\",\" \",Ration!F21)","v":0},{"$f":"Ration!G21","v":0},{"$f":"Ration!H21","v":0},{"$f":"Ration!I21","v":0},{"$f":"Ration!L21","v":0},{"$f":"Ration!M21","v":0},{"$f":"Ration!N21","v":0},{"$f":"Ration!P21","v":0},{"$f":"Ration!Q21","v":0}]
[{"$f":"Ration!E11","v":0},{"$f":"Ration!B22","v":0},null,{"$f":"IF(Ration!F22=\"TM o. FM?\",\" \",Ration!F22)","v":0},{"$f":"Ration!G22","v":0},{"$f":"Ration!H22","v":0},{"$f":"Ration!I22","v":0},{"$f":"Ration!L22","v":0},{"$f":"Ration!M22","v":0},{"$f":"Ration!N22","v":0},{"$f":"Ration!P22","v":0},{"$f":"Ration!Q22","v":0}]
[{"$f":"Ration!E12","v":0},{"$f":"Ration!B23","v":0},null,{"$f":"IF(Ration!F23=\"TM o. FM?\",\" \",Ration!F23)","v":0},{"$f":"Ration!G23","v":0},{"$f":"Ration!H23","v":0},{"$f":"Ration!I23","v":0},{"$f":"Ration!L23","v":0},{"$f":"Ration!M23","v":0},{"$f":"Ration!N23","v":0},{"$f":"Ration!P23","v":0},{"$f":"Ration!Q23","v":0}]
[{"$f":"Ration!E13","v":0},{"$f":"Ration!B24","v":0},null,{"$f":"IF(Ration!F24=\"TM o. FM?\",\" \",Ration!F24)","v":0},{"$f":"Ration!G24","v":0},{"$f":"Ration!H24","v":0},{"$f":"Ration!I24","v":0},{"$f":"Ration!L24","v":0},{"$f":"Ration!M24","v":0},{"$f":"Ration!N24","v":0},{"$f":"Ration!P24","v":0},{"$f":"Ration!Q24","v":0}]
[{"$f":"Ration!E26","v":0},"Kraftfutter-Mischung 1",null,{"$f":"Ration!D26","v":0},{"$f":"Ration!G26","v":0},{"$f":"Ration!H26","v":0},{"$f":"Ration!I26","v":0},{"$f":"Ration!L26","v":0},{"$f":"Ration!M26","v":0},{"$f":"Ration!N26","v":0},{"$f":"Ration!P26","v":0},{"$f":"Ration!Q26","v":0}]
[{"$f":"Ration!E27","v":0},"Kraftfutter-Mischung 2",null,{"$f":"Ration!D27","v":0},{"$f":"Ration!G27","v":0},{"$f":"Ration!H27","v":0},{"$f":"Ration!I27","v":0},{"$f":"Ration!L27","v":0},{"$f":"Ration!M27","v":0},{"$f":"Ration!N27","v":0},{"$f":"Ration!P27","v":0},{"$f":"Ration!Q27","v":0}]
[{"$f":"Ration!E28","v":0},"Summe Grob- und Kraftfutter",null,{"$f":"Ration!D28","v":0},{"$f":"Ration!G28","v":0},{"$f":"Ration!H28","v":0},{"$f":"Ration!I28","v":0},{"$f":"Ration!L28","v":0},{"$f":"Ration!M28","v":0},{"$f":"Ration!N28","v":0},{"$f":"Ration!P28","v":0},{"$f":"Ration!Q28","v":0}]
[]
["Richtwerte zu Nähr- und Mineralstoffversorgung",null,null,{"$f":"Ration!D29","v":0},null,{"$f":"Ration!H29","v":0},{"$f":"Ration!I29","v":0},{"$f":"Ration!L29","v":0},{"$f":"Ration!M29","v":0},{"$f":"Ration!N29","v":0},{"$f":"Ration!P29","v":0}]
["Differenz zu den Richtwerten",null,null,{"$f":"Ration!D30","v":0},null,{"$f":"Ration!H30","v":0},{"$f":"Ration!I30","v":0},{"$f":"Ration!L30","v":0},{"$f":"Ration!M30","v":0},{"$f":"Ration!N30","v":0},{"$f":"Ration!P30","v":0}]
[]
["Berechnung - Strukturbewertung d. Ration",null,"aNDFom %:",null,{"$f":"Ration!G31","v":0},null,null,"Strukturindex:",null,{"$f":"Ration!F31","v":0}]
[]
[]
["Futtermischung - Beladung Mischwagen"]
[]
[null,"Futterart","kg",null,null,"Anzahl der Tiere, Rationen :",null,null,null,null,{"$f":"Mengenberechnung!G2","v":0}]
[1,{"$f":"Mengenberechnung!C4","v":0},{"$f":"Mengenberechnung!F4","v":0}]
[2,{"$f":"Mengenberechnung!C5","v":0},{"$f":"Mengenberechnung!F5","v":0}]
[3,{"$f":"Mengenberechnung!C6","v":0},{"$f":"Mengenberechnung!F6","v":0},null,null,"Notiz :"]
[4,{"$f":"Mengenberechnung!C7","v":0},{"$f":"Mengenberechnung!F7","v":0}]
[5,{"$f":"Mengenberechnung!C8","v":0},{"$f":"Mengenberechnung!F8","v":0}]
[6,{"$f":"Mengenberechnung!C9","v":0},{"$f":"Mengenberechnung!F9","v":0}]
[7,{"$f":"Mengenberechnung!C10","v":0},{"$f":"Mengenberechnung!F10","v":0}]
[8,{"$f":"Mengenberechnung!C11","v":0},{"$f":"Mengenberechnung!F11","v":0}]
[9,{"$f":"Mengenberechnung!C12","v":0},{"$f":"Mengenberechnung!F12","v":0}]
[10,{"$f":"Mengenberechnung!C13","v":0},{"$f":"Mengenberechnung!F13","v":0}]
[11,{"$f":"Mengenberechnung!C14","v":"Mischung 1"},{"$f":"Mengenberechnung!F14","v":0}]
[12,{"$f":"Mengenberechnung!C15","v":"Mischung 2"},{"$f":"Mengenberechnung!F15","v":0}]
["Gesamtgewicht d. Ladung in kg ",null,{"$f":"Mengenberechnung!G11","v":0}]
[]
["Kraftfutter - Mischung 1",null,null,null,null,{"$f":"Einstellung!$B$5","v":"Tierhaltungsschule"},null,null,{"$f":"Einstellung!$D$5","v":"Triesdorf"}]
[null,null,null,null,null,"Betriebsnummer",null,null,{"$f":"Einstellung!$B$8","v":"09 111 111 1111"}]
[]
["Anteil","Futterart",null,"XP g","ME MJ","Ca g","P g","Mg g","Na g","Anteil kg in der Mischung"]
[{"$f":"'Mischung 1'!C15","v":0},{"$f":"'Mischung 1'!B15","v":0},null,{"$f":"'Mischung 1'!G15","v":" "},{"$f":"'Mischung 1'!H15","v":" "},{"$f":"'Mischung 1'!K15","v":" "},{"$f":"'Mischung 1'!L15","v":" "},{"$f":"'Mischung 1'!M15","v":" "},{"$f":"'Mischung 1'!N15","v":" "},{"$f":"Mengenberechnung!F18","v":0}]
[{"$f":"'Mischung 1'!C16","v":0},{"$f":"'Mischung 1'!B16","v":0},null,{"$f":"'Mischung 1'!G16","v":" "},{"$f":"'Mischung 1'!H16","v":" "},{"$f":"'Mischung 1'!K16","v":" "},{"$f":"'Mischung 1'!L16","v":" "},{"$f":"'Mischung 1'!M16","v":" "},{"$f":"'Mischung 1'!N16","v":" "},{"$f":"Mengenberechnung!F19","v":0}]
[{"$f":"'Mischung 1'!C17","v":0},{"$f":"'Mischung 1'!B17","v":0},null,{"$f":"'Mischung 1'!G17","v":" "},{"$f":"'Mischung 1'!H17","v":" "},{"$f":"'Mischung 1'!K17","v":" "},{"$f":"'Mischung 1'!L17","v":" "},{"$f":"'Mischung 1'!M17","v":" "},{"$f":"'Mischung 1'!N17","v":" "},{"$f":"Mengenberechnung!F20","v":0}]
[{"$f":"'Mischung 1'!C18","v":0},{"$f":"'Mischung 1'!B18","v":0},null,{"$f":"'Mischung 1'!G18","v":" "},{"$f":"'Mischung 1'!H18","v":" "},{"$f":"'Mischung 1'!K18","v":" "},{"$f":"'Mischung 1'!L18","v":" "},{"$f":"'Mischung 1'!M18","v":" "},{"$f":"'Mischung 1'!N18","v":" "},{"$f":"Mengenberechnung!F21","v":0}]
[{"$f":"'Mischung 1'!C19","v":0},{"$f":"'Mischung 1'!B19","v":0},null,{"$f":"'Mischung 1'!G19","v":" "},{"$f":"'Mischung 1'!H19","v":" "},{"$f":"'Mischung 1'!K19","v":" "},{"$f":"'Mischung 1'!L19","v":" "},{"$f":"'Mischung 1'!M19","v":" "},{"$f":"'Mischung 1'!N19","v":" "},{"$f":"Mengenberechnung!F22","v":0}]
[{"$f":"'Mischung 1'!C20","v":0},{"$f":"'Mischung 1'!B20","v":0},null,{"$f":"'Mischung 1'!G20","v":" "},{"$f":"'Mischung 1'!H20","v":" "},{"$f":"'Mischung 1'!K20","v":" "},{"$f":"'Mischung 1'!L20","v":" "},{"$f":"'Mischung 1'!M20","v":" "},{"$f":"'Mischung 1'!N20","v":" "},{"$f":"Mengenberechnung!F23","v":0}]
[{"$f":"'Mischung 1'!C21","v":0},{"$f":"'Mischung 1'!B21","v":0},null,{"$f":"'Mischung 1'!G21","v":" "},{"$f":"'Mischung 1'!H21","v":" "},{"$f":"'Mischung 1'!K21","v":" "},{"$f":"'Mischung 1'!L21","v":" "},{"$f":"'Mischung 1'!M21","v":" "},{"$f":"'Mischung 1'!N21","v":" "},{"$f":"Mengenberechnung!F24","v":0}]
[{"$f":"'Mischung 1'!C22","v":0},{"$f":"'Mischung 1'!B22","v":0},null,{"$f":"'Mischung 1'!G22","v":" "},{"$f":"'Mischung 1'!H22","v":" "},{"$f":"'Mischung 1'!K22","v":" "},{"$f":"'Mischung 1'!L22","v":" "},{"$f":"'Mischung 1'!M22","v":" "},{"$f":"'Mischung 1'!N22","v":" "},{"$f":"Mengenberechnung!F25","v":0}]
[{"$f":"'Mischung 1'!C23","v":0},{"$f":"'Mischung 1'!B23","v":0},null,{"$f":"'Mischung 1'!G23","v":" "},{"$f":"'Mischung 1'!H23","v":" "},{"$f":"'Mischung 1'!K23","v":" "},{"$f":"'Mischung 1'!L23","v":" "},{"$f":"'Mischung 1'!M23","v":" "},{"$f":"'Mischung 1'!N23","v":" "},{"$f":"Mengenberechnung!F26","v":0}]
[{"$f":"'Mischung 1'!C24","v":0},{"$f":"'Mischung 1'!B24","v":0},null,{"$f":"'Mischung 1'!G24","v":" "},{"$f":"'Mischung 1'!H24","v":" "},{"$f":"'Mischung 1'!K24","v":" "},{"$f":"'Mischung 1'!L24","v":" "},{"$f":"'Mischung 1'!M24","v":" "},{"$f":"'Mischung 1'!N24","v":" "},{"$f":"Mengenberechnung!F27","v":0}]
[null,"Summe je kg FM",null,{"$f":"'Mischung 1'!G26","v":0},{"$f":"'Mischung 1'!H26","v":0},{"$f":"'Mischung 1'!K26","v":0},{"$f":"'Mischung 1'!L26","v":0},{"$f":"'Mischung 1'!M26","v":0},{"$f":"'Mischung 1'!N26","v":0},{"$f":"Mengenberechnung!G16","v":0}]
[{"$f":"'Mischung 1'!C25","v":0},"Summe je kg TM",null,{"$f":"'Mischung 1'!G25","v":0},{"$f":"'Mischung 1'!H25","v":0},{"$f":"'Mischung 1'!K25","v":0},{"$f":"'Mischung 1'!L25","v":0},{"$f":"'Mischung 1'!M25","v":0},{"$f":"'Mischung 1'!N25","v":0}]
[]
[]
[]
["Kraftfutter - Mischung 2",null,null,null,null,{"$f":"Einstellung!$B$5","v":"Tierhaltungsschule"},null,null,{"$f":"Einstellung!$D$5","v":"Triesdorf"}]
[null,null,null,null,null,"Betriebsnummer",null,null,{"$f":"Einstellung!$B$8","v":"09 111 111 1111"}]
[]
["Anteil","Futterart",null,"XP g","ME MJ","Ca g","P g","Mg g","Na g","Anteil kg in der Mischung"]
[{"$f":"'Mischung 2'!C15","v":0},{"$f":"'Mischung 2'!B15","v":0},null,{"$f":"'Mischung 2'!G15","v":" "},{"$f":"'Mischung 2'!H15","v":" "},{"$f":"'Mischung 2'!K15","v":" "},{"$f":"'Mischung 2'!L15","v":" "},{"$f":"'Mischung 2'!M15","v":" "},{"$f":"'Mischung 2'!N15","v":" "},{"$f":"Mengenberechnung!F30","v":0}]
[{"$f":"'Mischung 2'!C16","v":0},{"$f":"'Mischung 2'!B16","v":0},null,{"$f":"'Mischung 2'!G16","v":" "},{"$f":"'Mischung 2'!H16","v":" "},{"$f":"'Mischung 2'!K16","v":" "},{"$f":"'Mischung 2'!L16","v":" "},{"$f":"'Mischung 2'!M16","v":" "},{"$f":"'Mischung 2'!N16","v":" "},{"$f":"Mengenberechnung!F31","v":0}]
[{"$f":"'Mischung 2'!C17","v":0},{"$f":"'Mischung 2'!B17","v":0},null,{"$f":"'Mischung 2'!G17","v":" "},{"$f":"'Mischung 2'!H17","v":" "},{"$f":"'Mischung 2'!K17","v":" "},{"$f":"'Mischung 2'!L17","v":" "},{"$f":"'Mischung 2'!M17","v":" "},{"$f":"'Mischung 2'!N17","v":" "},{"$f":"Mengenberechnung!F32","v":0}]
[{"$f":"'Mischung 2'!C18","v":0},{"$f":"'Mischung 2'!B18","v":0},null,{"$f":"'Mischung 2'!G18","v":" "},{"$f":"'Mischung 2'!H18","v":" "},{"$f":"'Mischung 2'!K18","v":" "},{"$f":"'Mischung 2'!L18","v":" "},{"$f":"'Mischung 2'!M18","v":" "},{"$f":"'Mischung 2'!N18","v":" "},{"$f":"Mengenberechnung!F33","v":0}]
[{"$f":"'Mischung 2'!C19","v":0},{"$f":"'Mischung 2'!B19","v":0},null,{"$f":"'Mischung 2'!G19","v":" "},{"$f":"'Mischung 2'!H19","v":" "},{"$f":"'Mischung 2'!K19","v":" "},{"$f":"'Mischung 2'!L19","v":" "},{"$f":"'Mischung 2'!M19","v":" "},{"$f":"'Mischung 2'!N19","v":" "},{"$f":"Mengenberechnung!F34","v":0}]
[{"$f":"'Mischung 2'!C20","v":0},{"$f":"'Mischung 2'!B20","v":0},null,{"$f":"'Mischung 2'!G20","v":" "},{"$f":"'Mischung 2'!H20","v":" "},{"$f":"'Mischung 2'!K20","v":" "},{"$f":"'Mischung 2'!L20","v":" "},{"$f":"'Mischung 2'!M20","v":" "},{"$f":"'Mischung 2'!N20","v":" "},{"$f":"Mengenberechnung!F35","v":0}]
[{"$f":"'Mischung 2'!C21","v":0},{"$f":"'Mischung 2'!B21","v":0},null,{"$f":"'Mischung 2'!G21","v":" "},{"$f":"'Mischung 2'!H21","v":" "},{"$f":"'Mischung 2'!K21","v":" "},{"$f":"'Mischung 2'!L21","v":" "},{"$f":"'Mischung 2'!M21","v":" "},{"$f":"'Mischung 2'!N21","v":" "},{"$f":"Mengenberechnung!F36","v":0}]
[{"$f":"'Mischung 2'!C22","v":0},{"$f":"'Mischung 2'!B22","v":0},null,{"$f":"'Mischung 2'!G22","v":" "},{"$f":"'Mischung 2'!H22","v":" "},{"$f":"'Mischung 2'!K22","v":" "},{"$f":"'Mischung 2'!L22","v":" "},{"$f":"'Mischung 2'!M22","v":" "},{"$f":"'Mischung 2'!N22","v":" "},{"$f":"Mengenberechnung!F37","v":0}]
[{"$f":"'Mischung 2'!C23","v":0},{"$f":"'Mischung 2'!B23","v":0},null,{"$f":"'Mischung 2'!G23","v":" "},{"$f":"'Mischung 2'!H23","v":" "},{"$f":"'Mischung 2'!K23","v":" "},{"$f":"'Mischung 2'!L23","v":" "},{"$f":"'Mischung 2'!M23","v":" "},{"$f":"'Mischung 2'!N23","v":" "},{"$f":"Mengenberechnung!F38","v":0}]
[{"$f":"'Mischung 2'!C24","v":0},{"$f":"'Mischung 2'!B24","v":0},null,{"$f":"'Mischung 2'!G24","v":" "},{"$f":"'Mischung 2'!H24","v":" "},{"$f":"'Mischung 2'!K24","v":" "},{"$f":"'Mischung 2'!L24","v":" "},{"$f":"'Mischung 2'!M24","v":" "},{"$f":"'Mischung 2'!N24","v":" "},{"$f":"Mengenberechnung!F39","v":0}]
[null,"Summe je kg FM",null,{"$f":"'Mischung 2'!G26","v":0},{"$f":"'Mischung 2'!H26","v":0},{"$f":"'Mischung 2'!K26","v":0},{"$f":"'Mischung 2'!L26","v":0},{"$f":"'Mischung 2'!M26","v":0},{"$f":"'Mischung 2'!N26","v":0},{"$f":"Mengenberechnung!G28","v":0}]
[{"$f":"'Mischung 2'!C25","v":0},"Summe je kg TM",null,{"$f":"'Mischung 2'!G25","v":0},{"$f":"'Mischung 2'!H25","v":0},{"$f":"'Mischung 2'!K25","v":0},{"$f":"'Mischung 2'!L25","v":0},{"$f":"'Mischung 2'!M25","v":0},{"$f":"'Mischung 2'!N25","v":0}]